{"text_format":"1","workbook":"xlsx","n_sheets":97,"sheets":["AR TOC","AR1","AR2","AR2-2","AR3","AR4","AR5","AR6","AR6-2","AR7","AR7-2","AR8","AR8 (b)","AR8 (c)","AR8 (d)","AR8 (e)","AR8 (f)","AR8 (g)","AR8 (h)","AR9","AR9 (b)","AR9 (c)","AR9 (d)","AR9 (e)","AR9 (f)","AR9 (g)","AR9 (h)","AR10","AR10 (b)","AR10 (c)","AR10 (d)","AR10 (e)","AR10 (f)","AR10 (g)","AR10 (h)","Drop down lists","AR11","AR11 (b)","AR11 (c)","AR11 (d)","AR11 (e)","AR11 (f)","AR11 (g)","AR11 (h)","AR12","AR13","AR14","AR15","AR16","Sch Title","Sch 1","Sch 2","Sch 2 (b)","Sch 2 (c)","Sch 2 (d)","Sch 2 (e)","Sch 2 (f)","Sch 2 (g)","Sch 2 (h)","Sch 3","Sch 4","Sch 4b","Sch 5","Sch 5 (b)","Sch 5 (c)","Sch 5 (d)","Sch 5 (e)","Sch 5 (f)","Sch 5 (g)","Sch 5 (h)","Sch 6","Sch 7","Proof of Rev Hidden","Sch 7b","Sch 8","Sch 9","Sch 10","Sch 11","Sch 12","Sch 13","Sch 14","Sch 15","Sch 16","Sch 17","Sch 18","Sch 19","Item #4","Item #5","Item #6","Item #7","Item #8","Item #9","WP 1","WP 2","WP 3","WP 4","WP 5"],"not_rendered":{"charts":0,"images":0,"macros":1,"external_links":12,"defined_names":5621,"comments":0,"pivot_tables":0},"unopened":[],"bounds":{"document_bytes":16777216,"sheet_cells":100000,"rows_first":2000,"rows_last":500,"rows_between":2000,"halvings":0,"cell_chars":16384,"cell_head_chars":4096},"cells_cut":0,"cells_raw":0,"read":"whole","date_system":"1900"}

{"sheet":"AR TOC","index":0,"n_rows":44,"n_cols":5,"rows_kept":44,"cut":false,"hidden":false,"merged":[[12,0,12,1],[38,0,41,4],[43,0,44,4]]}
[{"$f":"'AR1'!$B$12","v":0}]
["Annual Report"]
["Table of Contents"]
[]
[]
[]
[null,"TABLE OF CONTENTS"]
[]
["Company Name:",{"$f":"IF('AR1'!B12=\"\",\"\",'AR1'!B12)","v":""}]
["Test Year:",{"$f":"IF('AR1'!B19=\"\",\"\",'AR1'!B19)","v":"12/31/20"}]
[]
[]
["Table of contents:",null,"Page No.","Complete"]
["AR 1","Cover Page 1","Page 1",{"$f":"'AR1'!N44","v":"Incomplete"}]
["AR 2","Cover Page 2",{"$f":"'AR2'!J55","v":"Page 2"},{"$f":"'AR2'!S55","v":"Incomplete"}]
["AR 2-2",{"$f":"Supp_Info","v":"Important changes during the year"},{"$f":"'AR2-2'!M42","v":"Page 3"},{"$f":"'AR2-2'!T19","v":"Incomplete"}]
["AR 3",{"$f":"'AR3'!A6","v":"Utility Plant in Service (Water)"},{"$f":"'AR3'!H47","v":"Page 4"},{"$f":"'AR3'!Q42","v":"Incomplete"}]
["AR 4",{"$f":"'AR4'!A7","v":"Depreciation Expense for the Current Year (Water)"},{"$f":"'AR4'!J59","v":"Page 5"},{"$f":"'AR4'!Q50","v":"Incomplete"}]
["AR 5",{"$f":"'AR5'!A7","v":"Balance Sheet Assets"},{"$f":"'AR5'!E44","v":"Page 6"},{"$f":"'AR5'!L55","v":"Incomplete"},{"$f":"IF('AR5'!F8=\"Does not balance\",\"Does not balance\",IF('AR5'!F9=\"Does not balance\",\"Does not balance\",\"\"))","v":""}]
["AR 6",{"$f":"'AR6'!A7","v":"Water Comparative Income Statement "},{"$f":"'AR6'!D64","v":"Page 8"},{"$f":"'AR6'!T56","v":"Incomplete"}]
["AR 6-2",{"$f":"'AR6-2'!A7","v":"Full time equivalent employees"},{"$f":"'AR6-2'!H49","v":"Page 9"},{"$f":"'AR6-2'!S21","v":"Incomplete"}]
["AR 7",{"$f":"'AR7'!A7","v":"Supplemental Financial Data (Long-Term Debt)"},{"$f":"'AR7'!E29","v":"Page 10"},{"$f":"'AR7'!N23","v":"Incomplete"}]
["AR 7-2",{"$f":"Surcharge","v":"Summary of System Improvement Surcharge"},{"$f":"'AR7-2'!G31","v":"Page 11"},{"$f":"'AR7-2'!W27","v":"Incomplete"}]
["AR 8",{"$f":"'AR8'!A3","v":"Well and Water Usage"},{"$f":"'AR8'!L70","v":"Page 11"},{"$f":"'AR8'!N139","v":"Incomplete"}]
["AR 9",{"$f":"'AR9'!A3","v":"Water Utility Plant Description"},{"$f":"'AR9'!I58","v":"Page 12"},{"$f":"'AR9'!L101","v":"Incomplete"}]
["AR 10",{"$f":"'AR10'!A3","v":"Customer and Other Information"},{"$f":"'AR10'!I59","v":"Page 14"},{"$f":"'AR10'!J89","v":"Incomplete"}]
["AR 11",{"$f":"'AR11'!AR_Page12","v":"Utility Shutoffs / Disconnects"},{"$f":"'AR11'!E38","v":"Page 15"},{"$f":"'AR11'!N28","v":"Incomplete"}]
["AR 12",{"$f":"'AR12'!A6","v":"Property Taxes"},{"$f":"'AR12'!I28","v":"Page 16"},{"$f":"'AR12'!O10","v":"Incomplete"}]
["AR 13",{"$f":"'AR13'!A6","v":"Verification and Sworn Statement (Taxes)"},{"$f":"'AR13'!I60","v":"Page 17"},{"$f":"'AR13'!O44","v":"Incomplete"}]
["AR 14",{"$f":"'AR14'!A6","v":"Verification and Sworn Statement "},{"$f":"'AR14'!I64","v":"Page 18"},{"$f":"'AR14'!M42","v":"Incomplete"}]
["AR 15",{"$f":"AR_Page13","v":"Verification and Sworn Statement (Residential Revenue)"},{"$f":"'AR15'!I65","v":"Page 19"},{"$f":"'AR15'!P47","v":"Incomplete"}]
["AR 16",{"$f":"AR15_Page17","v":" for Income Tax Statement of Certification"},{"$f":"'AR16'!I53","v":"Page 20"},{"$f":"'AR16'!N22","v":"Incomplete"}]
[]
[]
[]
[]
[]
[]
["General Instructions:  For each schedule, fill out the Grey Cells with the relevent information.  Input 0 or none if there is nothing recorded in that account or there is no applicable information to report.  This table of contents is intended to assist with the completeness of the Annual Report, and will not become part of the Annual Report that will be published on the Commission's website."]
[]
[]
[]
[]
["Note 1: the Pages highlighted in grey require input to properly complete the annual report.  The other pages are linked and therefore automatically populate."]

{"sheet":"AR1","index":1,"n_rows":48,"n_cols":14,"rows_kept":48,"cut":false,"hidden":false,"merged":[[24,0,24,8],[26,0,26,8],[28,0,28,8],[32,0,32,8],[33,0,33,8],[41,5,41,7],[34,0,34,8],[35,0,35,8],[36,0,36,8],[37,0,37,8],[17,1,17,2],[12,0,15,0],[7,0,7,8],[9,0,9,8],[11,1,11,8],[14,1,14,3],[13,1,13,8],[12,1,12,8]]}
[null,null,null,null,null,null,null,null,null,"AR 1"]
[null,null,null,null,null,null,null,null,null,{"$f":"\"Annual Report Page \"&I48","v":"Annual Report Page 1"}]
[]
[]
[]
[]
[]
["ANNUAL REPORT",null,null,null,null,null,null,null,null,null,"Table of Contents"]
[]
["Of"]
[null,null,null,null,null,null,null,null,null,null,null,"Email address:"]
["Company Name: ",null,null,null,null,null,null,null,null,null,null,{"$f":"IF(B12=\"\",\"\",VLOOKUP(B12, 'Drop down lists'!$M$2:$T$255, 8, FALSE))","v":""},{"$f":"IF(B12<>\"\",\"Complete\",\"Incomplete\")","v":"Incomplete"}]
["Mailing Address:",{"$f":"IF(B12=\"\",\"\",VLOOKUP(B12, 'Drop down lists'!$M$2:$T$255, 3, FALSE))","v":""}]
[null,{"$f":"IF(B12=\"\",\"\",VLOOKUP(B12, 'Drop down lists'!$M$2:$T$255, 4, FALSE))","v":""}]
[null,{"$f":"IF(B12=\"\",\"\",VLOOKUP(B12, 'Drop down lists'!$M$2:$T$255, 5, FALSE))","v":""},null,null,{"$f":"IF(B12=\"\",\"\",VLOOKUP(B12, 'Drop down lists'!$M$2:$T$255, 7, FALSE))","v":""}]
[null,{"$f":"IF(B12=\"\",\"\",VLOOKUP(B12, 'Drop down lists'!$M$2:$T$255, 6, FALSE))","v":""}]
[]
["Docket No.:",{"$f":"IF(B12=\"\",\"\",VLOOKUP(B12, 'Drop down lists'!$M$2:$T$255, 2, FALSE))","v":""},null,null,null,null,null,null,null,null,null,null,{"$f":"IF(B18=0,\"Incomplete\",\"Complete\")","v":"Complete"},{"$f":"IF(M12=\"Incomplete\",\"Incomplete\",IF(M18=\"Incomplete\",\"Incomplete\",IF(M19=\"Incomplete\",\"Incomplete\",\"Complete\")))","v":"Incomplete"}]
["For the Year Ended:","12/31/20",null,null,null,null,null,null,null,null,null,null,{"$f":"IF(B19=0,\"Incomplete\",\"Complete\")","v":"Complete"}]
[]
[]
[]
[]
[]
["WATER UTILITY"]
[]
["To"]
[]
["Arizona Corporation Commission"]
[]
[]
[]
["Due on April 15th"]
["Email: Util-Compliance@azcc.gov, mail or deliver the completed Annual Report to:"]
["Arizona Corporation Commission"]
["Compliance Section - Utilities Division"]
["1200 West Washington Street"]
["Phoenix, Arizona 85007"]
[]
[]
[]
[null,null,null,null,"Application Type:","Original Filing",null,null,null,null,null,null,{"$f":"IF(F42=0,\"Incomplete\",\"Complete\")","v":"Complete"}]
[null,null,null,null,"Application Date:",{"$f":"TODAY()","v":"2021-02-09"},null,null,null,null,null,null,null,{"$f":"IF(M42=\"Incomplete\",\"Incomplete\",IF(M43=\"Incomplete\",\"Incomplete\",\"Complete\"))","v":"Complete"}]
[null,null,null,null,null,null,null,null,null,null,null,null,null,{"$f":"IF(N18=\"Incomplete\",\"Incomplete\",IF(N43=\"Incomplete\",\"Incomplete\",\"Complete\"))","v":"Incomplete"}]
[]
[]
[]
[null,null,null,null,null,null,null,null,1]

{"sheet":"AR2","index":2,"n_rows":56,"n_cols":19,"rows_kept":56,"cut":false,"hidden":false,"merged":[[41,6,41,7],[27,1,27,3],[25,1,25,4],[24,1,24,4],[37,0,37,9],[30,0,30,9],[34,6,34,7],[35,1,35,6],[34,1,34,3],[33,1,33,9],[32,1,32,4],[23,0,23,9],[31,1,31,4],[27,6,27,7],[28,1,28,6],[26,1,26,9],[10,1,10,3],[10,6,10,7],[14,4,14,5],[0,0,0,9],[1,0,1,9],[2,0,2,9],[7,0,7,2],[9,1,9,9],[45,1,45,4],[12,2,12,3],[14,0,14,3],[16,0,16,9],[17,1,17,4],[18,1,18,4],[19,1,19,9],[20,1,20,3],[20,6,20,7],[21,1,21,6],[44,0,44,9],[42,1,42,6],[41,1,41,3],[40,1,40,9],[39,1,39,4],[38,1,38,4],[53,1,53,4],[46,1,46,4],[47,1,47,9],[48,1,48,3],[48,6,48,7],[49,1,49,6],[51,1,51,4]]}
["ARIZONA CORPORATION COMMISSION ",null,null,null,null,null,null,null,null,null,"AR 2"]
["WATER UTILITY ANNUAL REPORT",null,null,null,null,null,null,null,null,null,{"$f":"\"Annual Report Page \"&J56","v":"Annual Report Page 2"}]
[{"$f":"'AR1'!$B$12","v":0}]
["A Class ",{"$f":"IF('AR6'!C16>10000000,\"A\",IF('AR6'!C16>3000000,\"B\",IF('AR6'!C16>1000000,\"C\",IF('AR6'!C16>250000,\"D\", \"E\"))))","v":"E"},"Utility"]
[]
[]
[]
["For the Calendar Year Ended:",null,null,{"$f":"IF('AR1'!B19=\"\",\"\",'AR1'!B19)","v":"12/31/20"}]
[]
["Primary Address: ",null,null,null,null,null,null,null,null,null,null,"Table of Contents",null,null,{"$f":"IF(B10=0,\"Incomplete\",\"Complete\")","v":"Incomplete"}]
["City:",null,null,null,null,"State:",null,null,"Zip Code:",null,null,null,null,null,{"$f":"IF(B11=0,\"Incomplete\",\"Complete\")","v":"Incomplete"},{"$f":"IF(G11=0,\"Incomplete\",\"Complete\")","v":"Incomplete"},{"$f":"IF(J11=0,\"Incomplete\",\"Complete\")","v":"Incomplete"},{"$f":"IF(O11=\"Incomplete\",\"Incomplete\",IF(P11=\"Incomplete\",\"Incomplete\",IF(Q11=\"Incomplete\",\"Incomplete\",\"Complete\")))","v":"Incomplete"}]
[]
["Telephone Number:",null,null,null,null,null,null,null,null,null,null,null,null,null,{"$f":"IF(C13=0,\"Incomplete\",\"Complete\")","v":"Incomplete"}]
[]
["Date of Original Organization of Utility: ",null,null,null,null,null,null,null,null,null,null,null,null,null,null,{"$f":"IF(E15=0,\"Incomplete\",\"Complete\")","v":"Incomplete"},null,null,{"$f":"IF(O10=\"Incomplete\",\"Incomplete\",IF(R11=\"Incomplete\",\"Incomplete\",IF(O13=\"Incomplete\",\"Incomplete\",IF(P15=\"Incomplete\",\"Incomplete\",\"Complete\"))))","v":"Incomplete"}]
[]
["Person to whom correspondence should be addressed concerning this report:"]
["Name:",null,null,null,null,null,null,null,null,null,null,null,null,null,{"$f":"IF(B18=0,\"Incomplete\",\"Complete\")","v":"Incomplete"}]
["Telephone No. :",null,null,null,null,null,null,null,null,null,null,null,null,null,{"$f":"IF(B19=0,\"Incomplete\",\"Complete\")","v":"Incomplete"}]
["Address:",null,null,null,null,null,null,null,null,null,null,null,null,null,{"$f":"IF(B20=0,\"Incomplete\",\"Complete\")","v":"Incomplete"}]
["City:",null,null,null,null,"State:",null,null,"Zip Code:",null,null,null,null,null,{"$f":"IF(B21=0,\"Incomplete\",\"Complete\")","v":"Incomplete"},{"$f":"IF(G21=0,\"Incomplete\",\"Complete\")","v":"Incomplete"},{"$f":"IF(J21=0,\"Incomplete\",\"Complete\")","v":"Incomplete"},{"$f":"IF(O21=\"Incomplete\",\"Incomplete\",IF(P21=\"Incomplete\",\"Incomplete\",IF(Q21=\"Incomplete\",\"Incomplete\",\"Complete\")))","v":"Incomplete"}]
["Email:",null,null,null,null,null,null,null,null,null,null,null,null,null,{"$f":"IF(B22=0,\"Incomplete\",\"Complete\")","v":"Incomplete"}]
[null,null,null,null,null,null,null,null,null,null,null,null,null,null,null,null,null,null,{"$f":"IF(O18=\"Incomplete\",\"Incomplete\",IF(O19=\"Incomplete\",\"Incomplete\",IF(O20=\"Incomplete\",\"Incomplete\",IF(R21=\"Incomplete\",\"Incomplete\",IF(O22=\"Incomplete\",\"Incomplete\",\"Complete\")))))","v":"Incomplete"}]
[null,null,null,null,null,null,null,null,null,null,null,null,null,null,{"$f":"IF(A24=0,\"Incomplete\",\"Complete\")","v":"Incomplete"}]
["Name:",null,null,null,null,null,null,null,null,null,null,null,null,null,{"$f":"IF(B25=0,\"Incomplete\",\"Complete\")","v":"Incomplete"}]
["Telephone No. :",null,null,null,null,null,null,null,null,null,null,null,null,null,{"$f":"IF(B26=0,\"Incomplete\",\"Complete\")","v":"Incomplete"}]
["Address:",null,null,null,null,null,null,null,null,null,null,null,null,null,{"$f":"IF(B27=0,\"Incomplete\",\"Complete\")","v":"Incomplete"}]
["City:",null,null,null,null,"State:",null,null,"Zip Code:",null,null,null,null,null,{"$f":"IF(B28=0,\"Incomplete\",\"Complete\")","v":"Incomplete"},{"$f":"IF(G28=0,\"Incomplete\",\"Complete\")","v":"Incomplete"},{"$f":"IF(J28=0,\"Incomplete\",\"Complete\")","v":"Incomplete"},{"$f":"IF(O28=\"Incomplete\",\"Incomplete\",IF(P28=\"Incomplete\",\"Incomplete\",IF(Q28=\"Incomplete\",\"Incomplete\",\"Complete\")))","v":"Incomplete"}]
["Email:",null,null,null,null,null,null,null,null,null,null,null,null,null,{"$f":"IF(B29=0,\"Incomplete\",\"Complete\")","v":"Incomplete"},null,null,null,{"$f":"IF(O24=\"Incomplete\",\"Incomplete\",IF(O25=\"Incomplete\",\"Incomplete\",IF(O26=\"Incomplete\",\"Incomplete\",IF(R28=\"Incomplete\",\"Incomplete\",IF(O27=\"Incomplete\",\"Incomplete\",IF(O29=\"Incomplete\",\"Incomplete\",\"Complete\"))))))","v":"Incomplete"}]
[]
[null,null,null,null,null,null,null,null,null,null,null,null,null,null,{"$f":"IF(A31=0,\"Incomplete\",\"Complete\")","v":"Incomplete"}]
["Name:",null,null,null,null,null,null,null,null,null,null,null,null,null,{"$f":"IF(B32=0,\"Incomplete\",\"Complete\")","v":"Incomplete"}]
["Telephone No. :",null,null,null,null,null,null,null,null,null,null,null,null,null,{"$f":"IF(B33=0,\"Incomplete\",\"Complete\")","v":"Incomplete"}]
["Address:",null,null,null,null,null,null,null,null,null,null,null,null,null,{"$f":"IF(B34=0,\"Incomplete\",\"Complete\")","v":"Incomplete"}]
["City:",null,null,null,null,"State:",null,null,"Zip Code:",null,null,null,null,null,{"$f":"IF(B35=0,\"Incomplete\",\"Complete\")","v":"Incomplete"},{"$f":"IF(G35=0,\"Incomplete\",\"Complete\")","v":"Incomplete"},{"$f":"IF(J35=0,\"Incomplete\",\"Complete\")","v":"Incomplete"},{"$f":"IF(O35=\"Incomplete\",\"Incomplete\",IF(P35=\"Incomplete\",\"Incomplete\",IF(Q35=\"Incomplete\",\"Incomplete\",\"Complete\")))","v":"Incomplete"}]
["Email:",null,null,null,null,null,null,null,null,null,null,null,null,null,{"$f":"IF(B36=0,\"Incomplete\",\"Complete\")","v":"Incomplete"},null,null,null,{"$f":"IF(O31=\"Incomplete\",\"Incomplete\",IF(O32=\"Incomplete\",\"Incomplete\",IF(O33=\"Incomplete\",\"Incomplete\",IF(R35=\"Incomplete\",\"Incomplete\",IF(O34=\"Incomplete\",\"Incomplete\",IF(O36=\"Incomplete\",\"Incomplete\",\"Complete\"))))))","v":"Incomplete"}]
[]
[null,null,null,null,null,null,null,null,null,null,null,null,null,null,{"$f":"IF(A38=0,\"Incomplete\",\"Complete\")","v":"Incomplete"}]
["Name:",null,null,null,null,null,null,null,null,null,null,null,null,null,{"$f":"IF(B39=0,\"Incomplete\",\"Complete\")","v":"Incomplete"}]
["Telephone No. :",null,null,null,null,null,null,null,null,null,null,null,null,null,{"$f":"IF(B40=0,\"Incomplete\",\"Complete\")","v":"Incomplete"}]
["Address:",null,null,null,null,null,null,null,null,null,null,null,null,null,{"$f":"IF(B41=0,\"Incomplete\",\"Complete\")","v":"Incomplete"}]
["City:",null,null,null,null,"State:",null,null,"Zip Code:",null,null,null,null,null,{"$f":"IF(B42=0,\"Incomplete\",\"Complete\")","v":"Incomplete"},{"$f":"IF(G42=0,\"Incomplete\",\"Complete\")","v":"Incomplete"},{"$f":"IF(J42=0,\"Incomplete\",\"Complete\")","v":"Incomplete"},{"$f":"IF(O42=\"Incomplete\",\"Incomplete\",IF(P42=\"Incomplete\",\"Incomplete\",IF(Q42=\"Incomplete\",\"Incomplete\",\"Complete\")))","v":"Incomplete"}]
["Email:",null,null,null,null,null,null,null,null,null,null,null,null,null,{"$f":"IF(B43=0,\"Incomplete\",\"Complete\")","v":"Incomplete"},null,null,null,{"$f":"IF(O38=\"Incomplete\",\"Incomplete\",IF(O39=\"Incomplete\",\"Incomplete\",IF(O40=\"Incomplete\",\"Incomplete\",IF(R42=\"Incomplete\",\"Incomplete\",IF(O41=\"Incomplete\",\"Incomplete\",IF(O43=\"Incomplete\",\"Incomplete\",\"Complete\"))))))","v":"Incomplete"}]
[]
[null,null,null,null,null,null,null,null,null,null,null,null,null,null,{"$f":"IF(A45=0,\"Incomplete\",\"Complete\")","v":"Incomplete"}]
["Name:",null,null,null,null,null,null,null,null,null,null,null,null,null,{"$f":"IF(B46=0,\"Incomplete\",\"Complete\")","v":"Incomplete"}]
["Telephone No. :",null,null,null,null,null,null,null,null,null,null,null,null,null,{"$f":"IF(B47=0,\"Incomplete\",\"Complete\")","v":"Incomplete"}]
["Address:",null,null,null,null,null,null,null,null,null,null,null,null,null,{"$f":"IF(B48=0,\"Incomplete\",\"Complete\")","v":"Incomplete"}]
["City:",null,null,null,null,"State:",null,null,"Zip Code:",null,null,null,null,null,{"$f":"IF(B49=0,\"Incomplete\",\"Complete\")","v":"Incomplete"},{"$f":"IF(G49=0,\"Incomplete\",\"Complete\")","v":"Incomplete"},{"$f":"IF(J49=0,\"Incomplete\",\"Complete\")","v":"Incomplete"},{"$f":"IF(O49=\"Incomplete\",\"Incomplete\",IF(P49=\"Incomplete\",\"Incomplete\",IF(Q49=\"Incomplete\",\"Incomplete\",\"Complete\")))","v":"Incomplete"}]
["Email:",null,null,null,null,null,null,null,null,null,null,null,null,null,{"$f":"IF(B50=0,\"Incomplete\",\"Complete\")","v":"Incomplete"},null,null,null,{"$f":"IF(O45=\"Incomplete\",\"Incomplete\",IF(O46=\"Incomplete\",\"Incomplete\",IF(O47=\"Incomplete\",\"Incomplete\",IF(R49=\"Incomplete\",\"Incomplete\",IF(O48=\"Incomplete\",\"Incomplete\",IF(O50=\"Incomplete\",\"Incomplete\",\"Complete\"))))))","v":"Incomplete"}]
[]
["Ownership:",null,null,null,null,null,null,null,null,null,null,null,null,null,{"$f":"IF(B52=0,\"Incomplete\",\"Complete\")","v":"Incomplete"}]
[]
["Counties Served:",null,null,null,null,null,null,null,null,null,null,null,null,null,{"$f":"IF(B54=0,\"Incomplete\",\"Complete\")","v":"Incomplete"},null,null,null,{"$f":"IF(O52=\"Incomplete\",\"Incomplete\",IF(O54=\"Incomplete\",\"Incomplete\",\"Complete\"))","v":"Incomplete"}]
[null,null,null,null,null,null,null,null,null,{"$f":"\"Page \"&J56","v":"Page 2"},null,null,null,null,null,null,null,null,{"$f":"IF(S15=\"Incomplete\",\"Incomplete\",IF(S23=\"Incomplete\",\"Incomplete\",IF(S29=\"Incomplete\",\"Incomplete\",IF(S36=\"Incomplete\",\"Incomplete\",IF(S43=\"Incomplete\",\"Incomplete\",IF(S50=\"Incomplete\",\"Incomplete\",IF(S54=\"Incomplete\",\"Incomplete\",\"Complete\")))))))","v":"Incomplete"}]
[null,null,null,null,null,null,null,null,null,{"$f":"'AR1'!I48+1","v":2}]

{"sheet":"AR2-2","index":3,"n_rows":43,"n_cols":20,"rows_kept":43,"cut":false,"hidden":false,"merged":[[19,1,23,12],[17,1,17,12],[4,0,4,12],[18,1,18,12],[0,0,0,12],[1,0,1,12],[2,0,2,12],[9,1,13,12],[6,1,7,12],[8,1,8,12]]}
["ARIZONA CORPORATION COMMISSION ",null,null,null,null,null,null,null,null,null,null,null,null,"AR 2"]
["WATER UTILITY ANNUAL REPORT",null,null,null,null,null,null,null,null,null,null,null,null,{"$f":"\"Annual Report Page \"&M71","v":"Annual Report Page "}]
[{"$f":"'AR1'!$B$12","v":0}]
[]
["Important changes during the year"]
[]
[null,"For those companies not subject to the affiliated interest rules, has there been a change in ownership or direct control during the year?",null,null,null,null,null,null,null,null,null,null,null,null,null,null,null,{"$f":"IF(A7=0,\"Incomplete\",\"Complete\")","v":"Incomplete"},{"$f":"IF(B10=0,\"Incomplete\",\"Complete\")","v":"Incomplete"}]
[]
[null,"If yes, please provide specific details in the box below."]
[]
[]
[]
[]
[]
[]
[]
[]
[null,"Has the company been notified by any other regulatory authorities during the year, that they are out of compliance?"]
[null,"If yes, please provide specific details in the box below.",null,null,null,null,null,null,null,null,null,null,null,null,null,null,null,{"$f":"IF(A18=0,\"Incomplete\",\"Complete\")","v":"Incomplete"},{"$f":"IF(B20=0,\"Incomplete\",\"Complete\")","v":"Incomplete"},{"$f":"IF(S7=0,\"Incomplete\",IF(S19=\"Incomplete\",\"Incomplete\",\"Complete\"))","v":"Incomplete"}]
[]
[]
[]
[]
[]
[]
[]
[]
[]
[]
[]
[]
[]
[]
[]
[]
[]
[]
[]
[]
[]
[]
[null,null,null,null,null,null,null,null,null,null,null,null,{"$f":"\"Page \"&M43","v":"Page 3"}]
[null,null,null,null,null,null,null,null,null,null,null,null,{"$f":"'AR2'!J56+1","v":3}]

{"sheet":"AR3","index":4,"n_rows":52,"n_cols":17,"rows_kept":52,"cut":false,"hidden":false,"merged":[[5,0,5,7],[48,0,49,7],[51,0,52,7]]}
[{"$f":"'AR1'!$B$12","v":0},null,null,null,null,null,null,null,"AR 3"]
["Annual Report",null,null,null,null,null,null,null,{"$f":"\"Annual Report Page \"&H48","v":"Annual Report Page 4"}]
[{"$f":"A6","v":"Utility Plant in Service (Water)"}]
[{"$f":"IF('AR1'!B19=\"\",\"\",'AR1'!B19)","v":"12/31/20"}]
[]
["Utility Plant in Service (Water)"]
["Account No.","Description","Beginning Year Original Cost","Current Year Additions","Current Year Retirements","Adjusted Original Cost","Accumulated Depreciation","OCLD (OC less AD)",null,"Table of Contents"]
[301,"Organization",null,null,null,{"$f":"C8+D8-E8","v":0},null,{"$f":"F8-G8","v":0},null,null,null,{"$f":"IF(C8<>\"\",\"Complete\",\"Incomplete\")","v":"Incomplete"},{"$f":"IF(D8<>\"\",\"Complete\",\"Incomplete\")","v":"Incomplete"},{"$f":"IF(E8<>\"\",\"Complete\",\"Incomplete\")","v":"Incomplete"},{"$f":"IF(G8<>\"\",\"Complete\",\"Incomplete\")","v":"Incomplete"},{"$f":"IF(L8=\"Incomplete\",\"Incomplete\",IF(M8=\"Incomplete\",\"Incomplete\",IF(N8=\"Incomplete\",\"Incomplete\",IF(O8=\"Incomplete\",\"Incomplete\",\"Complete\"))))","v":"Incomplete"}]
[302,"Franchises",null,null,null,{"$f":"C9+D9-E9","v":0},null,{"$f":"F9-G9","v":0},null,null,null,{"$f":"IF(C9<>\"\",\"Complete\",\"Incomplete\")","v":"Incomplete"},"Incomplete",{"$f":"IF(E9<>\"\",\"Complete\",\"Incomplete\")","v":"Incomplete"},{"$f":"IF(G9<>\"\",\"Complete\",\"Incomplete\")","v":"Incomplete"},{"$f":"IF(L9=\"Incomplete\",\"Incomplete\",IF(M9=\"Incomplete\",\"Incomplete\",IF(N9=\"Incomplete\",\"Incomplete\",IF(O9=\"Incomplete\",\"Incomplete\",\"Complete\"))))","v":"Incomplete"}]
[303,"Land and Land Rights",null,null,null,{"$f":"C10+D10-E10","v":0},null,{"$f":"F10-G10","v":0},null,null,null,"Incomplete","Incomplete","Incomplete","Incomplete","Incomplete"]
[304,"Structures and Improvements",null,null,null,0,null,0,null,null,null,"Incomplete","Incomplete","Incomplete","Incomplete","Incomplete"]
[305,"Collecting & Improving Reservoirs",null,null,null,0,null,0,null,null,null,"Incomplete","Incomplete","Incomplete","Incomplete","Incomplete"]
[306,"Lake, River, Canal Intakes",null,null,null,0,null,0,null,null,null,"Incomplete","Incomplete","Incomplete","Incomplete","Incomplete",{"$f":"IF(P8=\"Incomplete\",\"Incomplete\",IF(P9=\"Incomplete\",\"Incomplete\",IF(P10=\"Incomplete\",\"Incomplete\",IF(P11=\"Incomplete\",\"Incomplete\",IF(P12=\"Incomplete\",\"Incomplete\",IF(P13=\"Incomplete\",\"Incomplete\",\"Complete\"))))))","v":"Incomplete"}]
[307,"Wells and Springs",null,null,null,0,null,0,null,null,null,"Incomplete","Incomplete","Incomplete","Incomplete","Incomplete"]
[308,"Infiltration Galleries",null,null,null,0,null,0,null,null,null,"Incomplete","Incomplete","Incomplete","Incomplete","Incomplete"]
[309,"Supply Mains",null,null,null,0,null,0,null,null,null,"Incomplete","Incomplete","Incomplete","Incomplete","Incomplete"]
[310,"Power Generation Equipment",null,null,null,0,null,0,null,null,null,"Incomplete","Incomplete","Incomplete","Incomplete","Incomplete"]
[311,"Pumping Equipment",null,null,null,0,null,0,null,null,null,"Incomplete","Incomplete","Incomplete","Incomplete","Incomplete"]
[320,"Water Treatment Equipment",null,null,null,0,null,0,null,null,null,"Incomplete","Incomplete","Incomplete","Incomplete","Incomplete",{"$f":"IF(P14=\"Incomplete\",\"Incomplete\",IF(P15=\"Incomplete\",\"Incomplete\",IF(P16=\"Incomplete\",\"Incomplete\",IF(P17=\"Incomplete\",\"Incomplete\",IF(P18=\"Incomplete\",\"Incomplete\",IF(P19=\"Incomplete\",\"Incomplete\",\"Complete\"))))))","v":"Incomplete"}]
[320.10000000000002,"Water Treatment Plants",null,null,null,0,null,0,null,null,null,"Incomplete","Incomplete","Incomplete","Incomplete","Incomplete"]
[320.2,"Solution Chemical Feeders",null,null,null,0,null,0,null,null,null,"Incomplete","Incomplete","Incomplete","Incomplete","Incomplete"]
[320.3,"Point-of-Use Treatment Devices",null,null,null,0,null,0,null,null,null,"Incomplete","Incomplete","Incomplete","Incomplete","Incomplete"]
[330,"Distribution Reservoirs and Standpipes",null,null,null,0,null,0,null,null,null,"Incomplete","Incomplete","Incomplete","Incomplete","Incomplete"]
[330.1,"Storage Tanks",null,null,null,0,null,0,null,null,null,"Incomplete","Incomplete","Incomplete","Incomplete","Incomplete"]
[330.2,"Pressure Tanks",null,null,null,0,null,0,null,null,null,"Incomplete","Incomplete","Incomplete","Incomplete","Incomplete",{"$f":"IF(P20=\"Incomplete\",\"Incomplete\",IF(P21=\"Incomplete\",\"Incomplete\",IF(P22=\"Incomplete\",\"Incomplete\",IF(P23=\"Incomplete\",\"Incomplete\",IF(P24=\"Incomplete\",\"Incomplete\",IF(P25=\"Incomplete\",\"Incomplete\",\"Complete\"))))))","v":"Incomplete"}]
[331,"Transmission and Distribution Mains",null,null,null,0,null,0,null,null,null,"Incomplete","Incomplete","Incomplete","Incomplete","Incomplete"]
[333,"Services",null,null,null,0,null,0,null,null,null,"Incomplete","Incomplete","Incomplete","Incomplete","Incomplete"]
[334,"Meters and Meter Installations",null,null,null,0,null,0,null,null,null,"Incomplete","Incomplete","Incomplete","Incomplete","Incomplete"]
[335,"Hydrants",null,null,null,0,null,0,null,null,null,"Incomplete","Incomplete","Incomplete","Incomplete","Incomplete"]
[336,"Backflow Prevention Devices",null,null,null,0,null,0,null,null,null,"Incomplete","Incomplete","Incomplete","Incomplete","Incomplete"]
[339,"Other Plant and Misc. Equipment",null,null,null,0,null,0,null,null,null,"Incomplete","Incomplete","Incomplete","Incomplete","Incomplete",{"$f":"IF(P26=\"Incomplete\",\"Incomplete\",IF(P27=\"Incomplete\",\"Incomplete\",IF(P28=\"Incomplete\",\"Incomplete\",IF(P29=\"Incomplete\",\"Incomplete\",IF(P30=\"Incomplete\",\"Incomplete\",IF(P31=\"Incomplete\",\"Incomplete\",\"Complete\"))))))","v":"Incomplete"}]
[340,"Office Furniture and Equipment",null,null,null,0,null,0,null,null,null,"Incomplete","Incomplete","Incomplete","Incomplete","Incomplete"]
[340.1,"Computer & Software",null,null,null,0,null,0,null,null,null,"Incomplete","Incomplete","Incomplete","Incomplete","Incomplete"]
[341,"Transportation Equipment",null,null,null,0,null,0,null,null,null,"Incomplete","Incomplete","Incomplete","Incomplete","Incomplete"]
[342,"Stores Equipment",null,null,null,0,null,0,null,null,null,"Incomplete","Incomplete","Incomplete","Incomplete","Incomplete"]
[343,"Tools, Shop and Garage Equipment",null,null,null,0,null,0,null,null,null,"Incomplete","Incomplete","Incomplete","Incomplete","Incomplete"]
[344,"Laboratory Equipment",null,null,null,0,null,0,null,null,null,"Incomplete","Incomplete","Incomplete","Incomplete","Incomplete",{"$f":"IF(P32=\"Incomplete\",\"Incomplete\",IF(P33=\"Incomplete\",\"Incomplete\",IF(P34=\"Incomplete\",\"Incomplete\",IF(P35=\"Incomplete\",\"Incomplete\",IF(P36=\"Incomplete\",\"Incomplete\",IF(P37=\"Incomplete\",\"Incomplete\",\"Complete\"))))))","v":"Incomplete"}]
[345,"Power Operated Equipment",null,null,null,0,null,0,null,null,null,"Incomplete","Incomplete","Incomplete","Incomplete","Incomplete"]
[346,"Communication Equipment",null,null,null,0,null,0,null,null,null,"Incomplete","Incomplete","Incomplete","Incomplete","Incomplete"]
[347,"Miscellaneous Equipment",null,null,null,0,null,0,null,null,null,"Incomplete","Incomplete","Incomplete","Incomplete","Incomplete"]
[348,"Other Tangible Plant",null,null,null,0,null,0,null,null,null,"Incomplete","Incomplete","Incomplete","Incomplete","Incomplete",{"$f":"IF(P38=\"Incomplete\",\"Incomplete\",IF(P39=\"Incomplete\",\"Incomplete\",IF(P40=\"Incomplete\",\"Incomplete\",IF(P41=\"Incomplete\",\"Incomplete\",\"Complete\"))))","v":"Incomplete"}]
[null,"Totals ",{"$f":"SUM(C8:C41)","v":0},0,0,0,0,0,null,null,null,null,null,null,null,null,{"$f":"IF(Q13=\"Incomplete\",\"Incomplete\",IF(Q19=\"Incomplete\",\"Incomplete\",IF(Q25=\"Incomplete\",\"Incomplete\",IF(Q31=\"Incomplete\",\"Incomplete\",IF(Q37=\"Incomplete\",\"Incomplete\",IF(Q41=\"Incomplete\",\"Incomplete\",\"Complete\"))))))","v":"Incomplete"}]
[]
[]
[]
[]
[null,null,null,null,null,null,null,{"$f":"\"Page \"&H48","v":"Page 4"}]
[null,null,null,null,null,null,null,{"$f":"'AR2-2'!M43+1","v":4}]
["Instructions: Fill out the Grey Cells with the relevant information.  Input 0 or none if there is nothing recorded in that account or there is no applicable information to report."]
[]
[]
["Note: Due to differences in useful lives and assocaited depreciation rates, accounts 320 and 330 should not be used, instead the more detailed sub-accounts should be used.  Contact Staff for any necessary assistance."]

{"sheet":"AR4","index":5,"n_rows":60,"n_cols":17,"rows_kept":60,"cut":false,"hidden":false,"merged":[[6,0,6,9],[61,0,61,9],[51,2,51,5],[50,2,50,5],[49,2,49,5],[48,2,48,5],[47,2,47,5],[46,2,46,5]]}
[{"$f":"'AR1'!$B$12","v":0},null,null,null,null,null,null,null,null,null,"AR 4"]
["Annual Report",null,null,null,null,null,null,null,null,null,{"$f":"\"Annual Report Page \"&J60","v":"Annual Report Page 5"}]
[{"$f":"A7","v":"Depreciation Expense for the Current Year (Water)"}]
[{"$f":"IF('AR1'!B19=\"\",\"\",'AR1'!B19)","v":"12/31/20"}]
[]
[]
["Depreciation Expense for the Current Year (Water)"]
["Account No.","Description","Beginning Year Original Cost","Current Year Additions","Current Year Retirements","Adjusted Original Cost","Fully Depreciated/Non-depreciable Plant","Depreciable Plant","Depreciation Percentages","Depreciation Expense",null,"Table of Contents"]
[{"$f":"'AR3'!A8","v":301},{"$f":"'AR3'!B8","v":"Organization"},{"$f":"'AR3'!C8","v":0},{"$f":"'AR3'!D8","v":0},{"$f":"'AR3'!E8","v":0},{"$f":"'AR3'!F8","v":0},null,{"$f":"F9-G9","v":0},null,{"$f":"((C9-G9)*I9)+((D9*I9)*0.5)-((E9*I9)*0.5)","v":0},null,null,{"$f":"IF(D9<>\"\",\"Complete\",\"Incomplete\")","v":"Complete"},{"$f":"IF(G9<>\"\",\"Complete\",\"Incomplete\")","v":"Incomplete"},{"$f":"IF(I9<>\"\",\"Complete\",\"Incomplete\")","v":"Incomplete"},{"$f":"IF(M9=\"Incomplete\",\"Incomplete\",IF(N9=\"Incomplete\",\"Incomplete\",IF(O9=\"Incomplete\",\"Incomplete\",\"Complete\")))","v":"Incomplete"}]
[{"$f":"'AR3'!A9","v":302},{"$f":"'AR3'!B9","v":"Franchises"},{"$f":"'AR3'!C9","v":0},{"$f":"'AR3'!D9","v":0},{"$f":"'AR3'!E9","v":0},{"$f":"'AR3'!F9","v":0},null,{"$f":"F10-G10","v":0},null,{"$f":"((C10-G10)*I10)+((D10*I10)*0.5)-((E10*I10)*0.5)","v":0},null,null,{"$f":"IF(D10<>\"\",\"Complete\",\"Incomplete\")","v":"Complete"},"Incomplete","Incomplete",{"$f":"IF(M10=\"Incomplete\",\"Incomplete\",IF(N10=\"Incomplete\",\"Incomplete\",IF(O10=\"Incomplete\",\"Incomplete\",\"Complete\")))","v":"Incomplete"}]
[{"$f":"'AR3'!A10","v":303},{"$f":"'AR3'!B10","v":"Land and Land Rights"},{"$f":"'AR3'!C10","v":0},{"$f":"'AR3'!D10","v":0},{"$f":"'AR3'!E10","v":0},{"$f":"'AR3'!F10","v":0},null,{"$f":"F11-G11","v":0},null,{"$f":"((C11-G11)*I11)+((D11*I11)*0.5)-((E11*I11)*0.5)","v":0},null,null,"Complete","Incomplete","Incomplete","Incomplete"]
[{"$f":"'AR3'!A11","v":304},{"$f":"'AR3'!B11","v":"Structures and Improvements"},{"$f":"'AR3'!C11","v":0},{"$f":"'AR3'!D11","v":0},{"$f":"'AR3'!E11","v":0},{"$f":"'AR3'!F11","v":0},null,0,null,0,null,null,"Complete","Incomplete","Incomplete","Incomplete"]
[{"$f":"'AR3'!A12","v":305},{"$f":"'AR3'!B12","v":"Collecting & Improving Reservoirs"},{"$f":"'AR3'!C12","v":0},{"$f":"'AR3'!D12","v":0},{"$f":"'AR3'!E12","v":0},{"$f":"'AR3'!F12","v":0},null,0,null,0,null,null,"Complete","Incomplete","Incomplete","Incomplete"]
[{"$f":"'AR3'!A13","v":306},{"$f":"'AR3'!B13","v":"Lake, River, Canal Intakes"},{"$f":"'AR3'!C13","v":0},{"$f":"'AR3'!D13","v":0},{"$f":"'AR3'!E13","v":0},{"$f":"'AR3'!F13","v":0},null,0,null,0,null,null,"Complete","Incomplete","Incomplete","Incomplete"]
[{"$f":"'AR3'!A14","v":307},{"$f":"'AR3'!B14","v":"Wells and Springs"},{"$f":"'AR3'!C14","v":0},{"$f":"'AR3'!D14","v":0},{"$f":"'AR3'!E14","v":0},{"$f":"'AR3'!F14","v":0},null,0,null,0,null,null,"Complete","Incomplete","Incomplete","Incomplete",{"$f":"IF(P9=\"Incomplete\",\"Incomplete\",IF(P10=\"Incomplete\",\"Incomplete\",IF(P11=\"Incomplete\",\"Incomplete\",IF(P12=\"Incomplete\",\"Incomplete\",IF(P13=\"Incomplete\",\"Incomplete\",IF(P13=\"Incomplete\",\"Incomplete\",IF(P14=\"Incomplete\",\"Incomplete\",IF(P15=\"Incomplete\",\"Incomplete\",\"Complete\"))))))))","v":"Incomplete"}]
[{"$f":"'AR3'!A15","v":308},{"$f":"'AR3'!B15","v":"Infiltration Galleries"},{"$f":"'AR3'!C15","v":0},{"$f":"'AR3'!D15","v":0},{"$f":"'AR3'!E15","v":0},{"$f":"'AR3'!F15","v":0},null,0,null,0,null,null,"Complete","Incomplete","Incomplete","Incomplete"]
[{"$f":"'AR3'!A16","v":309},{"$f":"'AR3'!B16","v":"Supply Mains"},{"$f":"'AR3'!C16","v":0},{"$f":"'AR3'!D16","v":0},{"$f":"'AR3'!E16","v":0},{"$f":"'AR3'!F16","v":0},null,0,null,0,null,null,"Complete","Incomplete","Incomplete","Incomplete"]
[{"$f":"'AR3'!A17","v":310},{"$f":"'AR3'!B17","v":"Power Generation Equipment"},{"$f":"'AR3'!C17","v":0},{"$f":"'AR3'!D17","v":0},{"$f":"'AR3'!E17","v":0},{"$f":"'AR3'!F17","v":0},null,0,null,0,null,null,"Complete","Incomplete","Incomplete","Incomplete"]
[{"$f":"'AR3'!A18","v":311},{"$f":"'AR3'!B18","v":"Pumping Equipment"},{"$f":"'AR3'!C18","v":0},{"$f":"'AR3'!D18","v":0},{"$f":"'AR3'!E18","v":0},{"$f":"'AR3'!F18","v":0},null,0,null,0,null,null,"Complete","Incomplete","Incomplete","Incomplete"]
[{"$f":"'AR3'!A19","v":320},{"$f":"'AR3'!B19","v":"Water Treatment Equipment"},{"$f":"'AR3'!C19","v":0},{"$f":"'AR3'!D19","v":0},{"$f":"'AR3'!E19","v":0},{"$f":"'AR3'!F19","v":0},null,0,null,0,null,null,"Complete","Incomplete","Incomplete","Incomplete"]
[{"$f":"'AR3'!A20","v":320.10000000000002},{"$f":"'AR3'!B20","v":"Water Treatment Plants"},{"$f":"'AR3'!C20","v":0},{"$f":"'AR3'!D20","v":0},{"$f":"'AR3'!E20","v":0},{"$f":"'AR3'!F20","v":0},null,0,null,0,null,null,"Complete","Incomplete","Incomplete","Incomplete",{"$f":"IF(P16=\"Incomplete\",\"Incomplete\",IF(P17=\"Incomplete\",\"Incomplete\",IF(P18=\"Incomplete\",\"Incomplete\",IF(P19=\"Incomplete\",\"Incomplete\",IF(P19=\"Incomplete\",\"Incomplete\",IF(P20=\"Incomplete\",\"Incomplete\",IF(P21=\"Incomplete\",\"Incomplete\",\"Complete\")))))))","v":"Incomplete"}]
[{"$f":"'AR3'!A21","v":320.2},{"$f":"'AR3'!B21","v":"Solution Chemical Feeders"},{"$f":"'AR3'!C21","v":0},{"$f":"'AR3'!D21","v":0},{"$f":"'AR3'!E21","v":0},{"$f":"'AR3'!F21","v":0},null,0,null,0,null,null,"Complete","Incomplete","Incomplete","Incomplete"]
[{"$f":"'AR3'!A22","v":320.3},{"$f":"'AR3'!B22","v":"Point-of-Use Treatment Devices"},{"$f":"'AR3'!C22","v":0},{"$f":"'AR3'!D22","v":0},{"$f":"'AR3'!E22","v":0},{"$f":"'AR3'!F22","v":0},null,0,null,0,null,null,"Complete","Incomplete","Incomplete","Incomplete"]
[{"$f":"'AR3'!A23","v":330},{"$f":"'AR3'!B23","v":"Distribution Reservoirs and Standpipes"},{"$f":"'AR3'!C23","v":0},{"$f":"'AR3'!D23","v":0},{"$f":"'AR3'!E23","v":0},{"$f":"'AR3'!F23","v":0},null,0,null,0,null,null,"Complete","Incomplete","Incomplete","Incomplete"]
[{"$f":"'AR3'!A24","v":330.1},{"$f":"'AR3'!B24","v":"Storage Tanks"},{"$f":"'AR3'!C24","v":0},{"$f":"'AR3'!D24","v":0},{"$f":"'AR3'!E24","v":0},{"$f":"'AR3'!F24","v":0},null,0,null,0,null,null,"Complete",{"$f":"IF(G25<>\"\",\"Complete\",\"Incomplete\")","v":"Incomplete"},{"$f":"IF(I25<>\"\",\"Complete\",\"Incomplete\")","v":"Incomplete"},"Incomplete"]
[{"$f":"'AR3'!A25","v":330.2},{"$f":"'AR3'!B25","v":"Pressure Tanks"},{"$f":"'AR3'!C25","v":0},{"$f":"'AR3'!D25","v":0},{"$f":"'AR3'!E25","v":0},{"$f":"'AR3'!F25","v":0},null,0,null,0,null,null,"Complete","Incomplete","Incomplete","Incomplete"]
[{"$f":"'AR3'!A26","v":331},{"$f":"'AR3'!B26","v":"Transmission and Distribution Mains"},{"$f":"'AR3'!C26","v":0},{"$f":"'AR3'!D26","v":0},{"$f":"'AR3'!E26","v":0},{"$f":"'AR3'!F26","v":0},null,0,null,0,null,null,"Complete","Incomplete","Incomplete","Incomplete"]
[{"$f":"'AR3'!A27","v":333},{"$f":"'AR3'!B27","v":"Services"},{"$f":"'AR3'!C27","v":0},{"$f":"'AR3'!D27","v":0},{"$f":"'AR3'!E27","v":0},{"$f":"'AR3'!F27","v":0},null,0,null,0,null,null,"Complete","Incomplete","Incomplete","Incomplete",{"$f":"IF(P22=\"Incomplete\",\"Incomplete\",IF(P23=\"Incomplete\",\"Incomplete\",IF(P24=\"Incomplete\",\"Incomplete\",IF(P25=\"Incomplete\",\"Incomplete\",IF(P26=\"Incomplete\",\"Incomplete\",IF(P26=\"Incomplete\",\"Incomplete\",IF(P27=\"Incomplete\",\"Incomplete\",IF(P28=\"Incomplete\",\"Incomplete\",\"Complete\"))))))))","v":"Incomplete"}]
[{"$f":"'AR3'!A28","v":334},{"$f":"'AR3'!B28","v":"Meters and Meter Installations"},{"$f":"'AR3'!C28","v":0},{"$f":"'AR3'!D28","v":0},{"$f":"'AR3'!E28","v":0},{"$f":"'AR3'!F28","v":0},null,0,null,0,null,null,"Complete","Incomplete","Incomplete","Incomplete"]
[{"$f":"'AR3'!A29","v":335},{"$f":"'AR3'!B29","v":"Hydrants"},{"$f":"'AR3'!C29","v":0},{"$f":"'AR3'!D29","v":0},{"$f":"'AR3'!E29","v":0},{"$f":"'AR3'!F29","v":0},null,0,null,0,null,null,"Complete","Incomplete","Incomplete","Incomplete"]
[{"$f":"'AR3'!A30","v":336},{"$f":"'AR3'!B30","v":"Backflow Prevention Devices"},{"$f":"'AR3'!C30","v":0},{"$f":"'AR3'!D30","v":0},{"$f":"'AR3'!E30","v":0},{"$f":"'AR3'!F30","v":0},null,0,null,0,null,null,"Complete","Incomplete","Incomplete","Incomplete"]
[{"$f":"'AR3'!A31","v":339},{"$f":"'AR3'!B31","v":"Other Plant and Misc. Equipment"},{"$f":"'AR3'!C31","v":0},{"$f":"'AR3'!D31","v":0},{"$f":"'AR3'!E31","v":0},{"$f":"'AR3'!F31","v":0},null,0,null,0,null,null,"Complete","Incomplete","Incomplete","Incomplete"]
[{"$f":"'AR3'!A32","v":340},{"$f":"'AR3'!B32","v":"Office Furniture and Equipment"},{"$f":"'AR3'!C32","v":0},{"$f":"'AR3'!D32","v":0},{"$f":"'AR3'!E32","v":0},{"$f":"'AR3'!F32","v":0},null,0,null,0,null,null,"Complete","Incomplete","Incomplete","Incomplete"]
[{"$f":"'AR3'!A33","v":340.1},{"$f":"'AR3'!B33","v":"Computer & Software"},{"$f":"'AR3'!C33","v":0},{"$f":"'AR3'!D33","v":0},{"$f":"'AR3'!E33","v":0},{"$f":"'AR3'!F33","v":0},null,0,null,0,null,null,"Complete","Incomplete","Incomplete","Incomplete"]
[{"$f":"'AR3'!A34","v":341},{"$f":"'AR3'!B34","v":"Transportation Equipment"},{"$f":"'AR3'!C34","v":0},{"$f":"'AR3'!D34","v":0},{"$f":"'AR3'!E34","v":0},{"$f":"'AR3'!F34","v":0},null,0,null,0,null,null,"Complete","Incomplete","Incomplete","Incomplete",{"$f":"IF(P29=\"Incomplete\",\"Incomplete\",IF(P30=\"Incomplete\",\"Incomplete\",IF(P31=\"Incomplete\",\"Incomplete\",IF(P32=\"Incomplete\",\"Incomplete\",IF(P33=\"Incomplete\",\"Incomplete\",IF(P33=\"Incomplete\",\"Incomplete\",IF(P34=\"Incomplete\",\"Incomplete\",IF(P35=\"Incomplete\",\"Incomplete\",\"Complete\"))))))))","v":"Incomplete"}]
[{"$f":"'AR3'!A35","v":342},{"$f":"'AR3'!B35","v":"Stores Equipment"},{"$f":"'AR3'!C35","v":0},{"$f":"'AR3'!D35","v":0},{"$f":"'AR3'!E35","v":0},{"$f":"'AR3'!F35","v":0},null,0,null,0,null,null,"Complete","Incomplete","Incomplete","Incomplete"]
[{"$f":"'AR3'!A36","v":343},{"$f":"'AR3'!B36","v":"Tools, Shop and Garage Equipment"},{"$f":"'AR3'!C36","v":0},{"$f":"'AR3'!D36","v":0},{"$f":"'AR3'!E36","v":0},{"$f":"'AR3'!F36","v":0},null,0,null,0,null,null,"Complete","Incomplete","Incomplete","Incomplete"]
[{"$f":"'AR3'!A37","v":344},{"$f":"'AR3'!B37","v":"Laboratory Equipment"},{"$f":"'AR3'!C37","v":0},{"$f":"'AR3'!D37","v":0},{"$f":"'AR3'!E37","v":0},{"$f":"'AR3'!F37","v":0},null,0,null,0,null,null,"Complete","Incomplete","Incomplete","Incomplete"]
[{"$f":"'AR3'!A38","v":345},{"$f":"'AR3'!B38","v":"Power Operated Equipment"},{"$f":"'AR3'!C38","v":0},{"$f":"'AR3'!D38","v":0},{"$f":"'AR3'!E38","v":0},{"$f":"'AR3'!F38","v":0},null,0,null,0,null,null,"Complete","Incomplete","Incomplete","Incomplete"]
[{"$f":"'AR3'!A39","v":346},{"$f":"'AR3'!B39","v":"Communication Equipment"},{"$f":"'AR3'!C39","v":0},{"$f":"'AR3'!D39","v":0},{"$f":"'AR3'!E39","v":0},{"$f":"'AR3'!F39","v":0},null,0,null,0,null,null,"Complete","Incomplete","Incomplete","Incomplete"]
[{"$f":"'AR3'!A40","v":347},{"$f":"'AR3'!B40","v":"Miscellaneous Equipment"},{"$f":"'AR3'!C40","v":0},{"$f":"'AR3'!D40","v":0},{"$f":"'AR3'!E40","v":0},{"$f":"'AR3'!F40","v":0},null,0,null,0,null,null,"Complete","Incomplete","Incomplete","Incomplete"]
[{"$f":"'AR3'!A41","v":348},{"$f":"'AR3'!B41","v":"Other Tangible Plant"},{"$f":"'AR3'!C41","v":0},{"$f":"'AR3'!D41","v":0},{"$f":"'AR3'!E41","v":0},{"$f":"'AR3'!F41","v":0},null,0,null,0,null,null,"Complete","Incomplete","Incomplete","Incomplete",{"$f":"IF(P36=\"Incomplete\",\"Incomplete\",IF(P37=\"Incomplete\",\"Incomplete\",IF(P38=\"Incomplete\",\"Incomplete\",IF(P39=\"Incomplete\",\"Incomplete\",IF(P40=\"Incomplete\",\"Incomplete\",IF(P40=\"Incomplete\",\"Incomplete\",IF(P41=\"Incomplete\",\"Incomplete\",IF(P42=\"Incomplete\",\"Incomplete\",\"Complete\"))))))))","v":"Incomplete"}]
[null,"Subtotal",{"$f":"SUM(C9:C42)","v":0},0,0,0,0,0,null,{"$f":"SUM(J9:J42)","v":0},{"$f":"IF(J43>0,J43/H43,\"\")","v":""},"Composite rate",null,null,null,null,{"$f":"IF(Q15=\"Incomplete\",\"Incomplete\",IF(Q21=\"Incomplete\",\"Incomplete\",IF(Q28=\"Incomplete\",\"Incomplete\",IF(Q35=\"Incomplete\",\"Incomplete\",IF(Q42=\"Incomplete\",\"Incomplete\",\"Complete\")))))","v":"Incomplete"}]
[]
[]
[]
[null,null,"Contribution(s) in Aid of Construction (Gross)",null,null,null,null,null,null,null,null,null,{"$f":"IF(G47<>\"\",\"Complete\",\"Incomplete\")","v":"Incomplete"}]
[null,null,"Less: Non Amortizable Contribution(s)",null,null,null,null,null,null,null,null,null,{"$f":"IF(G48<>\"\",\"Complete\",\"Incomplete\")","v":"Incomplete"}]
[null,null,"          Fully Amortized Contribution(s)",null,null,null,null,null,null,null,null,null,{"$f":"IF(G49<>\"\",\"Complete\",\"Incomplete\")","v":"Incomplete"},null,null,null,{"$f":"IF(M47=\"Incomplete\",\"Incomplete\",IF(M48=\"Incomplete\",\"Incomplete\",IF(M49=\"Incomplete\",\"Incomplete\",\"Complete\")))","v":"Incomplete"}]
[null,null,"     Amortizable Contribution(s)",null,null,null,{"$f":"G47-G48-G49","v":0},null,null,null,null,null,null,null,null,null,{"$f":"IF(Q43=\"Incomplete\",\"Incomplete\",IF(Q49=\"Incomplete\",\"Incomplete\",\"Complete\"))","v":"Incomplete"}]
[null,null,"     Times: Proposed Amortization Rate",null,null,null,{"$f":"K43","v":""}]
[null,null,"     Amortization of CIAC",null,null,null,{"$f":"IF(J43>0,G50*G51,\"\")","v":""}]
[]
[null,null,null,null,null,null,null,null,"Less: Amortization of CIAC",{"$f":"G52","v":""}]
[]
[null,null,null,null,null,null,null,null,"DEPRECIATION EXPENSE",{"$f":"IF(J43>0,J43-J54,\"\")","v":""}]
[]
[]
[null,null,null,null,null,null,null,null,null,{"$f":"\"Page \"&J60","v":"Page 5"}]
[null,null,null,null,null,null,null,null,null,{"$f":"'AR3'!H48+1","v":5}]

{"sheet":"AR5","index":6,"n_rows":55,"n_cols":12,"rows_kept":55,"cut":false,"hidden":false,"merged":[[40,6,40,10],[6,0,6,4],[49,0,50,4],[33,0,33,4],[6,6,6,10],[49,6,50,10]]}
[{"$f":"'AR1'!$B$12","v":0},null,null,null,null,"AR 5",{"$f":"A1","v":0},null,null,null,null,{"$f":"F1","v":"AR 5"}]
["Annual Report",null,null,null,null,{"$f":"\"Annual Report Page \"&E45","v":"Annual Report Page 6"},{"$f":"A2","v":"Annual Report"},null,null,null,null,{"$f":"\"Annual Report Page \"&K45","v":"Annual Report Page 7"}]
[{"$f":"A7","v":"Balance Sheet Assets"},null,null,null,null,null,{"$f":"G7","v":"Balance Sheet Liabilities and Owners Equity"}]
[{"$f":"IF('AR1'!B19=\"\",\"\",'AR1'!B19)","v":"12/31/20"}]
[]
[]
["Balance Sheet Assets",null,null,null,null,"Table of Contents","Balance Sheet Liabilities and Owners Equity"]
[null,"Assets",null,{"$f":"\"Balance at Beginning of Year \" &\"(\"&YEAR('AR1'!B19)&\")\"","v":"Balance at Beginning of Year (2020)"},{"$f":"\"Balance at End of Year \" &\"(\"&YEAR('AR1'!B19)&\")\"","v":"Balance at End of Year (2020)"},{"$f":"IF(D46<-5,\"Does not balance\",IF(D46>5,\"Does not balance\",\"\"))","v":""},null,"Liabilities",null,{"$f":"D8","v":"Balance at Beginning of Year (2020)"},{"$f":"E8","v":"Balance at End of Year (2020)"}]
["Account No.","Current and Accrued Assets",null,null,null,{"$f":"IF(E46<-5,\"Does not balance\",IF(E46>5,\"Does not balance\",\"\"))","v":""},"Account No.","Current Liabilities"]
[131,"Cash",null,null,null,null,231,"Accounts Payable"]
[134,"Working Funds",null,null,null,null,232,"Notes Payable (Current Portion)"]
[135,"Temporary Cash Investments",null,null,null,null,234,"Notes Payable to Associated Companies"]
[141,"Customer Accounts Receivable",null,null,null,null,235,"Customer Deposits"]
[146,"Notes Receivable from Associated Companies",null,null,null,null,236,"Accrued Taxes"]
[151,"Plant Material and Supplies",null,null,null,null,237,"Accrued Interest"]
[162,"Prepayments",null,null,null,null,242,"Miscellaneous Current and Accrued Liabilities"]
[174,"Miscellaneous Current and Accrued Assets",null,null,null,null,null,"Total Current Liabilities",null,{"$f":"SUM(J10:J16)","v":0},{"$f":"SUM(K10:K16)","v":0}]
[null,"Total Current and Accrued Assets",null,{"$f":"SUM(D10:D17)","v":0},{"$f":"SUM(E10:E17)","v":0}]
[null,null,null,null,null,null,null,"Long Term Debt"]
["Account No.","Fixed Assets",null,null,null,null,224,"Long Term Debt (Notes and Bonds)"]
[101,"Utility Plant in Service* ",null,{"$f":"'AR3'!C42","v":0},{"$f":"'AR3'!F42","v":0}]
[103,"Property Held for Future Use",null,null,null,null,null,"Deferred Credits"]
[105,"Construction Work in Progress",null,null,null,null,251,"Unamortized Premium on Debt"]
[108,"Accumulated Depreciation (enter as negative)*",null,null,{"$f":"-'AR3'!G42","v":0},null,252,"Advances in Aid of Construction"]
[121,"Non-Utility Property",null,null,null,null,255,"Accumulated Deferred Investment Tax Credits"]
[122,"Accumulated Depreciation - Non Utility",null,null,null,null,271,"Contributions in Aid of Construction"]
[null,"Total Fixed Assets",null,{"$f":"SUM(D21:D26)","v":0},{"$f":"SUM(E21:E26)","v":0},null,272,"Less: Amortization of Contributions"]
[null,"Total Assets",null,{"$f":"D18+D27","v":0},{"$f":"E18+E27","v":0},null,281,"Accumulated Deferred Income Tax"]
[null,null,null,null,null,null,null,"Total Deferred Credits",null,{"$f":"SUM(J23:J28)","v":0},{"$f":"SUM(K23:K28)","v":0}]
[null,null,null,null,null,null,null,"Total Liabilites",null,{"$f":"J17+J20+J29","v":0},{"$f":"K29+K20+K17","v":0}]
[]
[null,null,null,null,null,null,null,"Capital Accounts"]
[null,null,null,null,null,null,201,"Common Stock Issued"]
[{"$f":"\"*Note these items feed automatically from AR3 UPIS \" &'AR3'!H47","v":"*Note these items feed automatically from AR3 UPIS Page 4"},null,null,null,null,null,211,"Other Paid-In Capital"]
[null,null,null,null,null,null,215,"Retained Earnings"]
[null,null,null,null,null,null,218,"Proprietary Capital (Sole Props and Partnerships)"]
[null,null,null,null,null,null,null,"Total Capital",null,{"$f":"SUM(J33:J36)","v":0},{"$f":"SUM(K33:K36)","v":0}]
[null,null,null,null,null,null,null,"Total Liabilities and Capital",null,{"$f":"J37+J30","v":0},{"$f":"K37+K30","v":0}]
[]
[]
[null,null,null,null,null,null,"Note: Total liabilities and Capital must match total assets for the beginning and end of the year!  "]
[]
[]
[null,null,null,null,{"$f":"\"Page \"&E45","v":"Page 6"},null,null,null,null,null,{"$f":"\"Page \"&K45","v":"Page 7"}]
[null,null,null,null,{"$f":"'AR4'!J60+1","v":6},null,null,null,null,null,{"$f":"E45+1","v":7}]
[null,null,"Variances",{"$f":"D28-J38","v":0},{"$f":"E28-K38","v":0}]
[]
[]
[]
["Instructions: Fill out the Grey Cells with the relevant information.  Input 0 or none if there is nothing recorded in that account or there is no applicable information to report.",null,null,null,null,null,"Instructions: Fill out the Grey Cells with the relevant information.  Input 0 or none if there is nothing recorded in that account or there is no applicable information to report."]
[]
[]
[]
[null,null,null,{"$f":"IF(D28=0,\"Incomplete\",\"Complete\")","v":"Incomplete"},{"$f":"IF(E28=0,\"Incomplete\",\"Complete\")","v":"Incomplete"},null,null,null,null,{"$f":"IF(J38=0,\"Incomplete\",\"Complete\")","v":"Incomplete"},{"$f":"IF(K38=0,\"Incomplete\",\"Complete\")","v":"Incomplete"}]
[null,null,null,null,{"$f":"IF(D54=\"Incomplete\",\"Incomplete\",IF(E54=\"Incomplete\",\"Incomplete\",\"Complete\"))","v":"Incomplete"},null,null,null,null,null,{"$f":"IF(J54=\"Incomplete\",\"Incomplete\",IF(K54=\"Incomplete\",\"Incomplete\",\"Complete\"))","v":"Incomplete"},{"$f":"IF(E55=\"Incomplete\",\"Incomplete\",IF(K55=\"Incomplete\",\"Incomplete\",\"Complete\"))","v":"Incomplete"}]

{"sheet":"AR6","index":7,"n_rows":67,"n_cols":20,"rows_kept":67,"cut":false,"hidden":false,"merged":[[6,0,6,3],[66,0,67,3],[6,6,7,7],[16,6,17,7],[16,9,17,9],[26,6,32,11]]}
[{"$f":"'AR1'!$B$12","v":0},null,null,null,"AR 6"]
["Annual Report",null,null,null,{"$f":"\"Annual Report Page \"&D65","v":"Annual Report Page 8"}]
[{"$f":"A7","v":"Water Comparative Income Statement "}]
[{"$f":"IF('AR1'!B19=\"\",\"\",'AR1'!B19)","v":"12/31/20"}]
[]
[]
["Water Comparative Income Statement ",null,null,null,null,null,"Consider a rate case if and of the following conditions apply"]
["Account No.","Calendar Year",{"$f":"\"Current Year                            \"&\" 01/01/\"&YEAR('AR1'!B19)&\" - 12/31/\"&YEAR('AR1'!B19)","v":"Current Year                             01/01/2020 - 12/31/2020"},{"$f":"\"Last Year                            \"&\" 01/01/\"&YEAR('AR1'!B19)-1&\" - 12/31/\"&YEAR('AR1'!B19)-1","v":"Last Year                             01/01/2019 - 12/31/2019"},"Table of Contents"]
[null,"Operating Revenue",null,null,null,null,"Operating Loss",{"$f":"IF(C59<0,\"Yes\",\"\")","v":""}]
[461,"Metered Water Revenue",null,null,null,null,"Return on Equity",{"$f":"IF(C50>0,(C50/'AR5'!K37),\"\")","v":""},null,null,null,null,null,{"$f":"ISBLANK(C10)","v":true},{"$f":"ISBLANK(D10)","v":true},{"$f":"IF(N10=TRUE,\"Incomplete\",\"Complete\")","v":"Incomplete"},{"$f":"IF(O10=TRUE,\"Incomplete\",\"Complete\")","v":"Incomplete"},{"$f":"IF(P10=\"Incomplete\",\"Incomplete\",IF(Q10=\"Incomplete\",\"Incomplete\",\"Complete\"))","v":"Incomplete"}]
[460,"Unmetered Water Revenue",null,null,null,null,"Rate of Return",{"$f":"IF(I11<0,\"Yes\",\"\")","v":""},{"$f":"IF(C50>0,(C50/'AR3'!H42),\"\")","v":""},null,null,null,null,{"$f":"ISBLANK(C11)","v":true},{"$f":"ISBLANK(D11)","v":true},{"$f":"IF(N11=TRUE,\"Incomplete\",\"Complete\")","v":"Incomplete"},{"$f":"IF(O11=TRUE,\"Incomplete\",\"Complete\")","v":"Incomplete"},{"$f":"IF(P11=\"Incomplete\",\"Incomplete\",IF(Q11=\"Incomplete\",\"Incomplete\",\"Complete\"))","v":"Incomplete"}]
[462,"Fire Protection Revenue",null,null,null,null,"Operating Margin",{"$f":"IF(I12<5%,\"Yes\",\"\")","v":""},{"$f":"IF(C50>0,(C50/C16),\"\")","v":""},null,null,null,null,true,true,"Incomplete","Incomplete","Incomplete"]
[469,"Guaranteed Revenues (Surcharges)",null,null,null,null,"DSC",{"$f":"IF(I13<1.25,\"Yes\",\"\")","v":""},{"$f":"IF('AR7'!H17>0,((C50+C43+C46)/('AR7'!H17+'AR7'!H18)),\"\")","v":""},null,null,null,null,true,true,"Incomplete","Incomplete","Incomplete"]
[471,"Miscellaneous Service Revenues",null,null,null,null,"TIER",{"$f":"IF(I14<1,\"Yes\",\"\")","v":""},{"$f":"IF('AR7'!H17>0,((C50+C46)/'AR7'!H17),\"\")","v":""},null,null,null,null,true,true,"Incomplete","Incomplete","Incomplete"]
[474,"Other Water Revenue",null,null,null,null,null,null,null,null,null,null,null,{"$f":"ISBLANK(C15)","v":true},true,"Incomplete","Incomplete","Incomplete"]
[null,"Total Revenues",{"$f":"SUM(C10:C15)","v":0},{"$f":"SUM(D10:D15)","v":0}]
[null,null,null,null,null,null,"Eligible for the Short Form Rate Application?",null,null,{"$f":"IF(C16>999999,\"No\",\"Yes\")","v":"Yes"}]
[null,"Operating Expenses"]
[601,"Salaries and Wages",null,null,null,null,null,null,null,null,null,null,null,true,true,"Incomplete","Incomplete","Incomplete"]
[604,"Employee Pensions and Benefits",null,null,null,null,null,null,null,null,null,null,null,true,true,"Incomplete","Incomplete","Incomplete",{"$f":"IF(R10=\"Incomplete\",\"Incomplete\",IF(R11=\"Incomplete\",\"Incomplete\",IF(R12=\"Incomplete\",\"Incomplete\",IF(R13=\"Incomplete\",\"Incomplete\",IF(R14=\"Incomplete\",\"Incomplete\",IF(R15=\"Incomplete\",\"Incomplete\",IF(R19=\"Incomplete\",\"Incomplete\",IF(R20=\"Incomplete\",\"Incomplete\",\"Complete\"))))))))","v":"Incomplete"}]
[610,"Purchased Water",null,null,null,null,null,null,null,null,null,null,null,true,true,"Incomplete","Incomplete","Incomplete"]
[615,"Purchased Power",null,null,null,null,null,null,null,null,null,null,null,true,true,"Incomplete","Incomplete","Incomplete"]
[618,"Chemicals",null,null,null,null,null,null,null,null,null,null,null,true,true,"Incomplete","Incomplete","Incomplete"]
[620,"Materials and Supplies",null,null,null,null,null,null,null,null,null,null,null,true,true,"Incomplete","Incomplete","Incomplete"]
[620.1,"Repairs and Maintenance",null,null,null,null,null,null,null,null,null,null,null,true,true,"Incomplete","Incomplete","Incomplete"]
[620.20000000000005,"Office Supplies and Expense",null,null,null,null,null,null,null,null,null,null,null,true,true,"Incomplete","Incomplete","Incomplete"]
[630,"Contractual Services",null,null,null,null,"Note - These calculations are only intended to provide the Company with some indication that a rate case should be considered.  They do not necessarily reflect the calculations that Staff would develop using more detailed information provided during the course of a rate case.  In order to be eligible to use the Short Form Rate Application you must have less than $250,000 in total revenues.",null,null,null,null,null,null,true,true,"Incomplete","Incomplete","Incomplete"]
[631,"Contractual Services - Engineering",null,null,null,null,null,null,null,null,null,null,null,true,true,"Incomplete","Incomplete","Incomplete",{"$f":"IF(R21=\"Incomplete\",\"Incomplete\",IF(R22=\"Incomplete\",\"Incomplete\",IF(R23=\"Incomplete\",\"Incomplete\",IF(R24=\"Incomplete\",\"Incomplete\",IF(R25=\"Incomplete\",\"Incomplete\",IF(R25=\"Incomplete\",\"Incomplete\",IF(R26=\"Incomplete\",\"Incomplete\",IF(R27=\"Incomplete\",\"Incomplete\",IF(R28=\"Incomplete\",\"Incomplete\",\"Complete\")))))))))","v":"Incomplete"}]
[632,"Contractual Services - Accounting",null,null,null,null,null,null,null,null,null,null,null,true,true,"Incomplete","Incomplete","Incomplete"]
[633,"Contractual Services - Legal",null,null,null,null,null,null,null,null,null,null,null,true,true,"Incomplete","Incomplete","Incomplete"]
[634,"Contractual Services - Management Fees",null,null,null,null,null,null,null,null,null,null,null,true,true,"Incomplete","Incomplete","Incomplete"]
[635,"Contractual Services - Water Testing",null,null,null,null,null,null,null,null,null,null,null,true,true,"Incomplete","Incomplete","Incomplete"]
[636,"Contractual Services - Other",null,null,null,null,null,null,null,null,null,null,null,true,true,"Incomplete","Incomplete","Incomplete"]
[640,"Rents",null,null,null,null,null,null,null,null,null,null,null,true,true,"Incomplete","Incomplete","Incomplete"]
[641,"Rental of Building/Real Property",null,null,null,null,null,null,null,null,null,null,null,true,true,"Incomplete","Incomplete","Incomplete"]
[642,"Rental of Equipment",null,null,null,null,null,null,null,null,null,null,null,true,true,"Incomplete","Incomplete","Incomplete",{"$f":"IF(R29=\"Incomplete\",\"Incomplete\",IF(R30=\"Incomplete\",\"Incomplete\",IF(R31=\"Incomplete\",\"Incomplete\",IF(R32=\"Incomplete\",\"Incomplete\",IF(R33=\"Incomplete\",\"Incomplete\",IF(R33=\"Incomplete\",\"Incomplete\",IF(R34=\"Incomplete\",\"Incomplete\",IF(R35=\"Incomplete\",\"Incomplete\",IF(R36=\"Incomplete\",\"Incomplete\",\"Complete\")))))))))","v":"Incomplete"}]
[650,"Transportation Expenses",null,null,null,null,null,null,null,null,null,null,null,true,true,"Incomplete","Incomplete","Incomplete"]
[657,"Insurance - General Liability",null,null,null,null,null,null,null,null,null,null,null,true,true,"Incomplete","Incomplete","Incomplete"]
[657.1,"Insurance - Health and Life",null,null,null,null,null,null,null,null,null,null,null,true,true,"Incomplete","Incomplete","Incomplete"]
[665,"Regulatory Commission Expense - Rate",null,null,null,null,null,null,null,null,null,null,null,true,true,"Incomplete","Incomplete","Incomplete"]
[670,"Bad Debt Expense",null,null,null,null,null,null,null,null,null,null,null,true,true,"Incomplete","Incomplete","Incomplete"]
[675,"Miscellaneous Expense",null,null,null,null,null,null,null,null,null,null,null,true,true,"Incomplete","Incomplete","Incomplete"]
[403,"Depreciation Expense (From Schedule AR4)",{"$f":"'AR4'!J56","v":""},null,null,null,null,null,null,null,null,null,null,null,true,"Complete","Incomplete","Incomplete"]
[408,"Taxes Other Than Income",null,null,null,null,null,null,null,null,null,null,null,true,true,"Incomplete","Incomplete","Incomplete",{"$f":"IF(R37=\"Incomplete\",\"Incomplete\",IF(R38=\"Incomplete\",\"Incomplete\",IF(R39=\"Incomplete\",\"Incomplete\",IF(R40=\"Incomplete\",\"Incomplete\",IF(R41=\"Incomplete\",\"Incomplete\",IF(R41=\"Incomplete\",\"Incomplete\",IF(R42=\"Incomplete\",\"Incomplete\",IF(R43=\"Incomplete\",\"Incomplete\",IF(R44=\"Incomplete\",\"Incomplete\",\"Complete\")))))))))","v":"Incomplete"}]
[408.11,"Property Taxes",null,null,null,null,null,null,null,null,null,null,null,true,true,"Incomplete","Incomplete","Incomplete"]
[409,"Income Taxes",null,null,null,null,null,null,null,null,null,null,null,true,true,"Incomplete","Incomplete","Incomplete"]
[427.1,"Customer Security Deposit Interest",null,null,null,null,null,null,null,null,null,null,null,true,true,"Incomplete","Incomplete","Incomplete"]
[null,"Total Operating Expenses",{"$f":"SUM(C19:C47)","v":0},{"$f":"SUM(D19:D47)","v":0}]
[]
[null,"Operating Income / (Loss)",{"$f":"C16-C48","v":0},{"$f":"D16-D48","v":0}]
[]
[null,"Other Income / (Expense) "]
[419,"Interest and Dividend Income",null,null,null,null,null,null,null,null,null,null,null,{"$f":"ISBLANK(C53)","v":true},{"$f":"ISBLANK(D53)","v":true},{"$f":"IF(N53=TRUE,\"Incomplete\",\"Complete\")","v":"Incomplete"},{"$f":"IF(O53=TRUE,\"Incomplete\",\"Complete\")","v":"Incomplete"},"Incomplete"]
[421,"Non-Utility Income",null,null,null,null,null,null,null,null,null,null,null,true,true,"Incomplete","Incomplete","Incomplete"]
[426,"Miscellaneous Non-Utility (Expense)",null,null,null,null,null,null,null,null,null,null,null,true,true,"Incomplete","Incomplete","Incomplete"]
[427,"Interest (Expense)",null,null,null,null,null,null,null,null,null,null,null,true,true,"Incomplete","Incomplete","Incomplete",{"$f":"IF(R45=\"Incomplete\",\"Incomplete\",IF(R46=\"Incomplete\",\"Incomplete\",IF(R47=\"Incomplete\",\"Incomplete\",IF(R53=\"Incomplete\",\"Incomplete\",IF(R53=\"Incomplete\",\"Incomplete\",IF(R54=\"Incomplete\",\"Incomplete\",IF(R55=\"Incomplete\",\"Incomplete\",IF(R56=\"Incomplete\",\"Incomplete\",\"Complete\"))))))))","v":"Incomplete"},{"$f":"IF(S20=\"Incomplete\",\"Incomplete\",IF(S28=\"Incomplete\",\"Incomplete\",IF(S36=\"Incomplete\",\"Incomplete\",IF(S44=\"Incomplete\",\"Incomplete\",IF(S56=\"Incomplete\",\"Incomplete\",\"Complete\")))))","v":"Incomplete"}]
[null,"Total Other Income / (Expense)",{"$f":"SUM(C53:C56)","v":0},{"$f":"SUM(D53:D56)","v":0}]
[]
[null,"Net Income / (Loss) ",{"$f":"C50+C57","v":0},{"$f":"D50+D57","v":0}]
[]
[]
[]
[]
[null,null,null,{"$f":"\"Page \"&D65","v":"Page 8"}]
[null,null,null,{"$f":"'AR5'!K45+1","v":8}]
[]
["Instructions: Fill out the Grey Cells with the relevant information.  Input 0 or none if there is nothing recorded in that account or there is no applicable information to report."]

{"sheet":"AR6-2","index":8,"n_rows":53,"n_cols":21,"rows_kept":53,"cut":false,"hidden":false,"merged":[[52,0,55,7],[6,0,6,7],[11,19,11,20]]}
[{"$f":"'AR1'!$B$12","v":0},null,null,null,null,null,null,null,"AR 6"]
["Annual Report",null,null,null,null,null,null,null,{"$f":"\"Annual Report Page \"&H50","v":"Annual Report Page 9"}]
[{"$f":"A7","v":"Full time equivalent employees"}]
[{"$f":"IF('AR1'!B19=\"\",\"\",'AR1'!B19)","v":"12/31/20"}]
[]
[]
["Full time equivalent employees"]
[]
[null,null,"Direct Company","Allocated","Outside service","Total",null,null,"Table of Contents"]
[null,"President",null,null,null,{"$f":"SUM(C10:E10)","v":0},null,null,null,null,{"$f":"ISBLANK(C10)","v":true},{"$f":"ISBLANK(D10)","v":true},{"$f":"ISBLANK(E10)","v":true},{"$f":"IF(K10=TRUE,\"Incomplete\",\"Complete\")","v":"Incomplete"},{"$f":"IF(L10=TRUE,\"Incomplete\",\"Complete\")","v":"Incomplete"},{"$f":"IF(M10=TRUE,\"Incomplete\",\"Complete\")","v":"Incomplete"},{"$f":"IF(N10=\"Incomplete\",\"Incomplete\",IF(O10=\"Incomplete\",\"Incomplete\",IF(P10=\"Incomplete\",\"Incomplete\",\"Complete\")))","v":"Incomplete"}]
[null,"Vice-president",null,null,null,{"$f":"SUM(C11:E11)","v":0},null,null,null,null,{"$f":"ISBLANK(C11)","v":true},{"$f":"ISBLANK(D11)","v":true},{"$f":"ISBLANK(E11)","v":true},{"$f":"IF(K11=TRUE,\"Incomplete\",\"Complete\")","v":"Incomplete"},{"$f":"IF(L11=TRUE,\"Incomplete\",\"Complete\")","v":"Incomplete"},{"$f":"IF(M11=TRUE,\"Incomplete\",\"Complete\")","v":"Incomplete"},{"$f":"IF(N11=\"Incomplete\",\"Incomplete\",IF(O11=\"Incomplete\",\"Incomplete\",IF(P11=\"Incomplete\",\"Incomplete\",\"Complete\")))","v":"Incomplete"}]
[null,"Manager",null,null,null,0,null,null,null,null,true,true,true,"Incomplete","Incomplete","Incomplete","Incomplete",null,null,"FTE calculator"]
[null,"Engineering Staff",null,null,null,0,null,null,null,null,true,true,true,"Incomplete","Incomplete","Incomplete","Incomplete",null,null,"Total annual hours worked","FTE"]
[null,"System Operator(s)",null,null,null,0,null,null,null,null,true,true,true,"Incomplete","Incomplete","Incomplete","Incomplete",null,null,null,{"$f":"T14/2080","v":0}]
[null,"Meter reader",null,null,null,0,null,null,null,null,true,true,true,"Incomplete","Incomplete","Incomplete","Incomplete",{"$f":"IF(Q10=\"Incomplete\",\"Incomplete\",IF(Q11=\"Incomplete\",\"Incomplete\",IF(Q12=\"Incomplete\",\"Incomplete\",IF(Q13=\"Incomplete\",\"Incomplete\",IF(Q14=\"Incomplete\",\"Incomplete\",IF(Q15=\"Incomplete\",\"Incomplete\",\"Complete\"))))))","v":"Incomplete"}]
[null,"Customer Service",null,null,null,0,null,null,null,null,true,true,true,"Incomplete","Incomplete","Incomplete","Incomplete"]
[null,"Accounting",null,null,null,0,null,null,null,null,true,true,true,"Incomplete","Incomplete","Incomplete","Incomplete"]
[null,"Business Office",null,null,null,0,null,null,null,null,true,true,true,"Incomplete","Incomplete","Incomplete","Incomplete"]
[null,"Rates Department",null,null,null,0,null,null,null,null,true,true,true,"Incomplete","Incomplete","Incomplete","Incomplete"]
[null,"Administrative Staff",null,null,null,0,null,null,null,null,true,true,true,"Incomplete","Incomplete","Incomplete","Incomplete"]
[null,"Other",null,null,null,0,null,null,null,null,true,true,true,"Incomplete","Incomplete","Incomplete","Incomplete",{"$f":"IF(Q16=\"Incomplete\",\"Incomplete\",IF(Q17=\"Incomplete\",\"Incomplete\",IF(Q18=\"Incomplete\",\"Incomplete\",IF(Q19=\"Incomplete\",\"Incomplete\",IF(Q20=\"Incomplete\",\"Incomplete\",IF(Q21=\"Incomplete\",\"Incomplete\",\"Complete\"))))))","v":"Incomplete"},{"$f":"IF(R15=\"Incomplete\",\"Incomplete\",IF(R21=\"Incomplete\",\"Incomplete\",\"Complete\"))","v":"Incomplete"}]
[null,"Total",{"$f":"SUM(C10:C21)","v":0},{"$f":"SUM(D10:D21)","v":0},{"$f":"SUM(E10:E21)","v":0},{"$f":"SUM(F10:F21)","v":0}]
[]
[]
[]
[]
[]
[]
[]
[]
[]
[]
[]
[]
[]
[]
[]
[]
[]
[]
[]
[]
[]
[]
[]
[]
[]
[]
[null,null,null,null,null,null,null,{"$f":"\"Page \"&H50","v":"Page 9"}]
[null,null,null,null,null,null,null,{"$f":"'AR6'!D65+1","v":9}]
[]
[]
["Instructions: Fill out the Grey Cells with the relevant information.  Input 0 or none if there is nothing recorded in that account or there is no applicable information to report.  A full-time employee is based on 2080 total hours per year.  Please calculate partial employees using 2080 hours."]

{"sheet":"AR7","index":9,"n_rows":30,"n_cols":14,"rows_kept":30,"cut":false,"hidden":false,"merged":[[6,0,6,4],[24,0,26,4],[22,0,22,2]]}
[{"$f":"'AR1'!$B$12","v":0},null,null,null,null,"AR 7"]
["Annual Report",null,null,null,null,{"$f":"\"Annual Report Page \"&E30","v":"Annual Report Page 10"}]
[{"$f":"A7","v":"Supplemental Financial Data (Long-Term Debt)"}]
[{"$f":"IF('AR1'!B19=\"\",\"\",'AR1'!B19)","v":"12/31/20"}]
[]
[]
["Supplemental Financial Data (Long-Term Debt)",null,null,null,null,null,"Table of Contents"]
[null,"Loan #1","Loan #2","Loan #3","Loan #4"]
["Date Issued",null,null,null,null,null,null,null,{"$f":"IF(B9<>\"\",\"Complete\",\"Incomplete\")","v":"Incomplete"},{"$f":"IF(C9<>\"\",\"Complete\",\"Incomplete\")","v":"Incomplete"},{"$f":"IF(D9<>\"\",\"Complete\",\"Incomplete\")","v":"Incomplete"},{"$f":"IF(E9<>\"\",\"Complete\",\"Incomplete\")","v":"Incomplete"},{"$f":"IF(I9=\"Incomplete\",\"Incomplete\",IF(J9=\"Incomplete\",\"Incomplete\",IF(K9=\"Incomplete\",\"Incomplete\",IF(L9=\"Incomplete\",\"Incomplete\",\"Complete\"))))","v":"Incomplete"}]
["Source of Loan",null,null,null,null,null,null,null,{"$f":"IF(B10<>\"\",\"Complete\",\"Incomplete\")","v":"Incomplete"},{"$f":"IF(C10<>\"\",\"Complete\",\"Incomplete\")","v":"Incomplete"},{"$f":"IF(D10<>\"\",\"Complete\",\"Incomplete\")","v":"Incomplete"},{"$f":"IF(E10<>\"\",\"Complete\",\"Incomplete\")","v":"Incomplete"},{"$f":"IF(I10=\"Incomplete\",\"Incomplete\",IF(J10=\"Incomplete\",\"Incomplete\",IF(K10=\"Incomplete\",\"Incomplete\",IF(L10=\"Incomplete\",\"Incomplete\",\"Complete\"))))","v":"Incomplete"}]
["ACC Decision No.",null,null,null,null,null,null,null,"Incomplete","Incomplete","Incomplete","Incomplete","Incomplete"]
["Reason for Loan",null,null,null,null,null,null,null,"Incomplete","Incomplete","Incomplete","Incomplete","Incomplete"]
["Dollar Amt. Issued",null,null,null,null,null,null,null,"Incomplete","Incomplete","Incomplete","Incomplete","Incomplete"]
["Amount Outstanding",null,null,null,null,null,null,null,"Incomplete","Incomplete","Incomplete","Incomplete","Incomplete"]
["Date of Maturity",null,null,null,null,null,null,null,"Incomplete","Incomplete","Incomplete","Incomplete","Incomplete",{"$f":"IF(M9=\"Incomplete\",\"Incomplete\",IF(M10=\"Incomplete\",\"Incomplete\",IF(M11=\"Incomplete\",\"Incomplete\",IF(M12=\"Incomplete\",\"Incomplete\",IF(M13=\"Incomplete\",\"Incomplete\",IF(M13=\"Incomplete\",\"Incomplete\",IF(M14=\"Incomplete\",\"Incomplete\",IF(M15=\"Incomplete\",\"Incomplete\",\"Complete\"))))))))","v":"Incomplete"}]
["Interest Rate",null,null,null,null,null,null,null,"Incomplete","Incomplete","Incomplete","Incomplete","Incomplete"]
["Current Year Interest",null,null,null,null,null,null,{"$f":"SUM(B17:E17)","v":0},"Incomplete","Incomplete","Incomplete","Incomplete","Incomplete"]
["Current Year Principal",null,null,null,null,null,null,{"$f":"SUM(B18:E18)","v":0},"Incomplete","Incomplete","Incomplete","Incomplete","Incomplete",{"$f":"IF(M16=\"Incomplete\",\"Incomplete\",IF(M17=\"Incomplete\",\"Incomplete\",IF(M18=\"Incomplete\",\"Incomplete\",\"Complete\")))","v":"Incomplete"}]
[]
[]
["Meter Deposit Balance at Test Year End:",null,null,null,null,null,null,null,null,null,null,null,null,{"$f":"IF(C21<>\"\",\"Complete\",\"Incomplete\")","v":"Incomplete"}]
[null,null,null,null,null,null,null,null,null,null,null,null,null,{"$f":"IF(D23<>\"\",\"Complete\",\"Incomplete\")","v":"Incomplete"}]
["Meter Deposits Refunded During the Test Year:",null,null,null,null,null,null,null,null,null,null,null,null,{"$f":"IF(N15=\"Incomplete\",\"Incomplete\",IF(N18=\"Incomplete\",\"Incomplete\",IF(N21=\"Incomplete\",\"Incomplete\",IF(N22=\"Incomplete\",\"Incomplete\",\"Complete\"))))","v":"Incomplete"}]
[]
["List all bonds, notes, loans, and other types of indebtedness in which the proceeds were used in the provision of public utility service.  Indebtedness incurred for personal uses by the owner of the utility should not be listed.  Input 0 or none if there is nothing to report for that cell."]
[]
[]
[]
[null,null,null,null,{"$f":"\"Page \"&E30","v":"Page 10"}]
[null,null,null,null,{"$f":"'AR6-2'!H50+1","v":10}]

{"sheet":"AR7-2","index":10,"n_rows":32,"n_cols":23,"rows_kept":32,"cut":false,"hidden":true,"merged":[[6,0,6,6],[26,0,26,2],[22,0,22,2]]}
[{"$f":"'AR1'!$B$12","v":0},null,null,null,null,null,null,"AR 7"]
["Annual Report",null,null,null,null,null,null,{"$f":"\"Annual Report Page \"&G32","v":"Annual Report Page 11"}]
[{"$f":"A7","v":"Summary of System Improvement Surcharge"}]
[{"$f":"IF('AR1'!B19=\"\",\"\",'AR1'!B19)","v":"12/31/20"}]
[]
[]
[{"$f":"\"Summary of \"&K7&\" Surcharge\"","v":"Summary of System Improvement Surcharge"},null,null,null,null,null,null,null,null,null,"System Improvement","Select the surcharge as approved by the ACC.  If none, so state.  If there is more than 1 surcharged approved click on the box for two surcharges.",null,null,null,{"$f":"ISBLANK(K7)","v":false},null,null,null,null,{"$f":"IF(P7=TRUE,\"Incomplete\",\"Complete\")","v":"Complete"}]
[]
[]
["Month","Surcharge Amount","Number of Customers","Total Billed","Total Collected","Total Deposited","Difference"]
["January",null,null,{"$f":"B11*C11","v":0},null,null,{"$f":"F11-E11","v":0},null,null,null,null,null,{"$f":"ISBLANK(B11)","v":true},{"$f":"ISBLANK(C11)","v":true},{"$f":"ISBLANK(E11)","v":true},{"$f":"ISBLANK(F11)","v":true},{"$f":"IF(M11=TRUE,\"Incomplete\",\"Complete\")","v":"Incomplete"},{"$f":"IF(N11=TRUE,\"Incomplete\",\"Complete\")","v":"Incomplete"},{"$f":"IF(O11=TRUE,\"Incomplete\",\"Complete\")","v":"Incomplete"},{"$f":"IF(P11=TRUE,\"Incomplete\",\"Complete\")","v":"Incomplete"},{"$f":"IF(Q11=\"Incomplete\",\"Incomplete\",IF(R11=\"Incomplete\",\"Incomplete\",IF(S11=\"Incomplete\",\"Incomplete\",IF(T11=\"Incomplete\",\"Incomplete\",\"Complete\"))))","v":"Incomplete"}]
["February",null,null,{"$f":"B12*C12","v":0},null,null,{"$f":"F12-E12","v":0},null,null,null,null,null,{"$f":"ISBLANK(B12)","v":true},{"$f":"ISBLANK(C12)","v":true},{"$f":"ISBLANK(E12)","v":true},{"$f":"ISBLANK(F12)","v":true},{"$f":"IF(M12=TRUE,\"Incomplete\",\"Complete\")","v":"Incomplete"},{"$f":"IF(N12=TRUE,\"Incomplete\",\"Complete\")","v":"Incomplete"},{"$f":"IF(O12=TRUE,\"Incomplete\",\"Complete\")","v":"Incomplete"},{"$f":"IF(P12=TRUE,\"Incomplete\",\"Complete\")","v":"Incomplete"},{"$f":"IF(Q12=\"Incomplete\",\"Incomplete\",IF(R12=\"Incomplete\",\"Incomplete\",IF(S12=\"Incomplete\",\"Incomplete\",IF(T12=\"Incomplete\",\"Incomplete\",\"Complete\"))))","v":"Incomplete"}]
["March",null,null,{"$f":"B13*C13","v":0},null,null,0,null,null,null,null,null,true,true,true,true,"Incomplete","Incomplete","Incomplete","Incomplete","Incomplete"]
["April",null,null,0,null,null,0,null,null,null,null,null,true,true,true,true,"Incomplete","Incomplete","Incomplete","Incomplete","Incomplete"]
["May",null,null,0,null,null,0,null,null,null,null,null,true,true,true,true,"Incomplete","Incomplete","Incomplete","Incomplete","Incomplete"]
["June",null,null,0,null,null,0,null,null,null,null,null,true,true,true,true,"Incomplete","Incomplete","Incomplete","Incomplete","Incomplete"]
["July",null,null,0,null,null,0,null,null,null,null,null,true,true,true,true,"Incomplete","Incomplete","Incomplete","Incomplete","Incomplete"]
["August",null,null,0,null,null,0,null,null,null,null,null,true,true,true,true,"Incomplete","Incomplete","Incomplete","Incomplete","Incomplete",{"$f":"IF(U7=\"Incomplete\",\"Incomplete\",IF(U11=\"Incomplete\",\"Incomplete\",IF(U12=\"Incomplete\",\"Incomplete\",IF(U13=\"Incomplete\",\"Incomplete\",IF(U14=\"Incomplete\",\"Incomplete\",IF(U15=\"Incomplete\",\"Incomplete\",IF(U16=\"Incomplete\",\"Incomplete\",IF(U17=\"Incomplete\",\"Incomplete\",IF(U18=\"Incomplete\",\"Incomplete\",\"Complete\")))))))))","v":"Incomplete"}]
["September",null,null,0,null,null,0,null,null,null,null,null,true,true,true,true,"Incomplete","Incomplete","Incomplete","Incomplete","Incomplete"]
["October",null,null,0,null,null,0,null,null,null,null,null,true,true,true,true,"Incomplete","Incomplete","Incomplete","Incomplete","Incomplete"]
["November",null,null,0,null,null,0,null,null,null,null,null,true,true,true,true,"Incomplete","Incomplete","Incomplete","Incomplete","Incomplete"]
["December",null,null,0,null,null,0,null,null,null,null,null,true,true,true,true,"Incomplete","Incomplete","Incomplete","Incomplete","Incomplete"]
["Total for the year",null,null,{"$f":"SUM(D11:D22)","v":0},{"$f":"SUM(E11:E22)","v":0},{"$f":"SUM(F11:F22)","v":0},{"$f":"SUM(G11:G22)","v":0}]
[]
[null,null,null,null,"Interest earned this year",null,null,null,null,null,null,null,null,null,null,{"$f":"ISBLANK(F25)","v":true},null,null,null,null,{"$f":"IF(P25=TRUE,\"Incomplete\",\"Complete\")","v":"Incomplete"}]
[]
["Decision No. approving the mechanism",null,null,null,null,null,null,null,null,null,null,null,null,null,null,{"$f":"ISBLANK(D27)","v":true},null,null,null,null,{"$f":"IF(P27=TRUE,\"Incomplete\",\"Complete\")","v":"Incomplete"},{"$f":"IF(U19=\"Incomplete\",\"Incomplete\",IF(U20=\"Incomplete\",\"Incomplete\",IF(U21=\"Incomplete\",\"Incomplete\",IF(U22=\"Incomplete\",\"Incomplete\",IF(U25=\"Incomplete\",\"Incomplete\",IF(U27=\"Incomplete\",\"Incomplete\",\"Complete\"))))))","v":"Incomplete"},{"$f":"IF(V18=\"Incomplete\",\"Incomplete\",IF(V27=\"Incomplete\",\"Incomplete\",\"Complete\"))","v":"Incomplete"}]
[]
[]
[]
[null,null,null,null,null,null,{"$f":"\"Page \"&G32","v":"Page 11"}]
[null,null,null,null,null,null,{"$f":"'AR7'!E30+1","v":11}]

{"sheet":"AR8","index":11,"n_rows":144,"n_cols":17,"rows_kept":144,"cut":false,"hidden":false,"merged":[[5,0,5,11],[8,0,8,2],[8,3,8,4],[6,0,6,1],[6,2,6,6],[7,0,7,2],[7,3,7,4],[143,0,143,11],[140,0,140,11],[27,0,27,1],[27,2,27,6],[28,0,28,2],[28,3,28,4],[29,0,29,1],[31,0,31,1],[31,2,31,6],[32,0,32,2],[32,3,32,4],[33,0,33,1],[34,0,34,1],[34,2,34,3],[52,0,52,11],[53,0,57,11],[61,0,61,11],[60,0,60,11],[64,0,65,11],[71,0,71,11],[67,0,67,11],[66,0,66,11],[63,0,63,11],[62,0,62,11]]}
[{"$f":"'AR1'!B12","v":0},null,null,null,null,null,null,null,null,null,null,null,null,"AR8"]
["Annual Report",null,null,null,null,null,null,null,null,null,null,null,null,{"$f":"\"Annual Report page \"&L71","v":"Annual Report page 11"}]
[{"$f":"A6","v":"Well and Water Usage"}]
[{"$f":"IF('AR1'!B19=\"\",\"\",'AR1'!B19)","v":"12/31/20"}]
[]
["Well and Water Usage"]
["Name of the System:"]
["ADEQ Public Water System Number:",null,null,{"$f":"IF(C7=\"\",\"\",VLOOKUP(C7, 'Drop down lists'!$AD$2:$AJ$902, 2, FALSE))","v":""}]
["ADWR PCC Number:",null,null,{"$f":"IF(C7=\"\",\"\",VLOOKUP(C7, 'Drop down lists'!$AD$2:$AJ$902, 3, FALSE))","v":""}]
["Well registry 55# (55-XXXXXX):","Pump Horsepower","Pump Yield (gpm)","Casing Depth (feet)","Casing Diameter (inches)","Pump Motor Type **","Year Drilled","Water level 2010","Water level 2020","Meter Size (inches)","How measured:","Active"]
[]
[]
[]
[]
[]
[]
[]
[]
[]
[]
[]
[]
[]
[]
[]
[]
[]
["Name of system water delivered to:"]
["ADWR PCC Number:",null,null,{"$f":"IF(C28=\"\",\"\",VLOOKUP(C28, 'Drop down lists'!$AM$2:$AS$905, 3, FALSE))","v":""}]
["Source of water delivered to another system"]
[]
["Name of system water received from:"]
["ADWR PCC Number:",null,null,{"$f":"IF(C32=\"\",\"\",VLOOKUP(C32, 'Drop down lists'!$AM$2:$AS$905, 3, FALSE))","v":""}]
["Source of water received"]
["Well registry 55# (55-XXXXXX):"]
[]
["Month",{"$f":"\"Water withdrawn (\"&O38&\")1\"","v":"Water withdrawn (gallons)1"},{"$f":"\"Water sold (\"&O38&\")2\"","v":"Water sold (gallons)2"},{"$f":"\"Water delivered (sold) to other systems (\"&O38&\")3\"","v":"Water delivered (sold) to other systems (gallons)3"},{"$f":"\"Water received (purchased) from other systems (\"&O38&\")4\"","v":"Water received (purchased) from other systems (gallons)4"},{"$f":"\"Estimated authorized use (\"&O38&\")5\"","v":"Estimated authorized use (gallons)5"},"Purchased Power Expense6","Purchased Power (kWh)7",null,null,null,null,null,null,"Water use reported in:","Table of Contents"]
["January",null,null,null,null,null,null,null,null,null,null,null,null,null,"gallons","Gallons","Acre feet"]
["February",null,null,null,null,null,null,null,null,null,null,null,null,null,null,null,{"$f":"P39/325850.943","v":0}]
["March"]
["April"]
["May"]
["June"]
["July"]
["August"]
["September"]
["October"]
["November"]
["December"]
["Totals",{"$f":"SUM(B38:B49)","v":0},0,{"$f":"SUM(D38:D49)","v":0},{"$f":"SUM(E38:E49)","v":0},{"$f":"SUM(F38:F49)","v":0},{"$f":"SUM(G38:G49)","v":0},{"$f":"SUM(H38:H49)","v":0}]
[]
[]
["If applicable, in the space below please provide a description for all un-metered water use along with amounts:"]
[]
[]
[]
[]
[]
[]
[]
[{"$f":"\"1 Water withdrawn - Total \"&O38&\" of water withdrawn from pumped sources.\"","v":"1 Water withdrawn - Total gallons of water withdrawn from pumped sources."}]
[{"$f":"\"2 Water sold - Total \"&O38&\" from customer meters, and other sales such as construction water.\"","v":"2 Water sold - Total gallons from customer meters, and other sales such as construction water."}]
[{"$f":"\"3 Water delivered (sold) to other systems - Total \"&O38&\" of water delivered to other systems.\"","v":"3 Water delivered (sold) to other systems - Total gallons of water delivered to other systems."}]
[{"$f":"\"4 Water received (purchased) from other systems - Total \"&O38&\" of water purchased/received from other systems.\"","v":"4 Water received (purchased) from other systems - Total gallons of water purchased/received from other systems."}]
[{"$f":"CONCATENATE(O65,O38,O66)","v":"5 Estimated authorized use - Total estimated gallons from authorized metered or unmetered use.  Authorized uses such as flushing (mains, services and hydrants) draining/cleaning tanks, process, construction, fire fighting, etc.  Non-authorized use (real losses) are service line breaks and leaks, water main breaks, meter inaccuracies and theft."},null,null,null,null,null,null,null,null,null,null,null,null,null,"5 Estimated authorized use - Total estimated "]
[null,null,null,null,null,null,null,null,null,null,null,null,null,null," from authorized metered or unmetered use.  Authorized uses such as flushing (mains, services and hydrants) draining/cleaning tanks, process, construction, fire fighting, etc.  Non-authorized use (real losses) are service line breaks and leaks, water main breaks, meter inaccuracies and theft."]
["6 Enter the total purchased power costs for the power meters associated with this system."]
["7 Enter the total purchased kWh used by the power meters associated with this system."]
[]
[null,null,null,null,null,null,null,null,null,null,null,{"$f":"\"Page \"&L71","v":"Page 11"}]
[null,null,null,null,null,null,null,null,null,null,null,{"$f":"'AR7'!E30+1","v":11}]
["Instructions: Fill out the Grey Cells with the relevant information.  Input 0 or none if there is nothing recorded in that account or there is no applicable information to report."]
[]
[null,{"$f":"IF(C7=0,\"Incomplete\",\"Complete\")","v":"Incomplete"},{"$f":"IF(C28=0,\"Incomplete\",\"Complete\")","v":"Incomplete"},{"$f":"IF(C30=0,\"Incomplete\",\"Complete\")","v":"Incomplete"},{"$f":"IF(C32=0,\"Incomplete\",\"Complete\")","v":"Incomplete"},{"$f":"IF(C34=0,\"Incomplete\",\"Complete\")","v":"Incomplete"},{"$f":"IF(C35=0,\"Incomplete\",\"Complete\")","v":"Incomplete"},null,null,null,null,null,null,{"$f":"IF(B74=\"Incomplete\",\"Incomplete\",IF(C74=\"Incomplete\",\"Incomplete\",IF(D74=\"Incomplete\",\"Incomplete\",IF(E74=\"Incomplete\",\"Incomplete\",IF(F74=\"Incomplete\",\"Incomplete\",IF(G74=\"Incomplete\",\"Incomplete\",\"Complete\"))))))","v":"Incomplete"}]
[]
[]
[]
[{"$f":"ISBLANK(A11)","v":true},true,true,true,true,true,true,true,true,true,true,true,{"$f":"ISBLANK(O38)","v":false},{"$f":"IF(M78=TRUE,\"Incomplete\",\"Complete\")","v":"Complete"}]
[{"$f":"ISBLANK(A12)","v":true},true,true,true,true,true,true,true,true,true,true,true]
[{"$f":"ISBLANK(A13)","v":true},true,true,true,true,true,true,true,true,true,true,true]
[{"$f":"ISBLANK(A14)","v":true},true,true,true,true,true,true,true,true,true,true,true]
[{"$f":"ISBLANK(A15)","v":true},true,true,true,true,true,true,true,true,true,true,true]
[{"$f":"ISBLANK(A16)","v":true},true,true,true,true,true,true,true,true,true,true,true]
[{"$f":"ISBLANK(A17)","v":true},true,true,true,true,true,true,true,true,true,true,true]
[{"$f":"ISBLANK(A18)","v":true},true,true,true,true,true,true,true,true,true,true,true]
[{"$f":"ISBLANK(A19)","v":true},true,true,true,true,true,true,true,true,true,true,true]
[{"$f":"ISBLANK(A20)","v":true},true,true,true,true,true,true,true,true,true,true,true]
[{"$f":"ISBLANK(A21)","v":true},true,true,true,true,true,true,true,true,true,true,true]
[{"$f":"ISBLANK(A22)","v":true},true,true,true,true,true,true,true,true,true,true,true]
[{"$f":"ISBLANK(A23)","v":true},true,true,true,true,true,true,true,true,true,true,true]
[{"$f":"ISBLANK(A24)","v":true},true,true,true,true,true,true,true,true,true,true,true]
[{"$f":"ISBLANK(A25)","v":true},true,true,true,true,true,true,true,true,true,true,true]
[{"$f":"ISBLANK(A26)","v":true},true,true,true,true,true,true,true,true,true,true,true]
[]
[{"$f":"IF(A78=TRUE,\"Incomplete\",\"Complete\")","v":"Incomplete"},{"$f":"IF(B78=TRUE,\"Incomplete\",\"Complete\")","v":"Incomplete"},{"$f":"IF(C78=TRUE,\"Incomplete\",\"Complete\")","v":"Incomplete"},"Incomplete","Incomplete","Incomplete","Incomplete",{"$f":"IF(H78=TRUE,\"Incomplete\",\"Complete\")","v":"Incomplete"},"Incomplete","Incomplete",{"$f":"IF(K78=TRUE,\"Incomplete\",\"Complete\")","v":"Incomplete"},{"$f":"IF(L78=TRUE,\"Incomplete\",\"Complete\")","v":"Incomplete"},{"$f":"IF(A95=\"Incomplete\",\"Incomplete\",IF(B95=\"Incomplete\",\"Incomplete\",IF(C95=\"Incomplete\",\"Incomplete\",IF(D95=\"Incomplete\",\"Incomplete\",IF(E95=\"Incomplete\",\"Incomplete\",IF(F95=\"Incomplete\",\"Incomplete\",IF(G95=\"Incomplete\",\"Incomplete\",IF(H95=\"Incomplete\",\"Incomplete\",IF(I95=\"Incomplete\",\"Incomplete\",IF(J95=\"Incomplete\",\"Incomplete\",IF(K95=\"Incomplete\",\"Incomplete\",IF(L95=\"Incomplete\",\"Incomplete\",\"Complete\"))))))))))))","v":"Incomplete"}]
[{"$f":"IF(A79=TRUE,\"Incomplete\",\"Complete\")","v":"Incomplete"},"Incomplete",{"$f":"IF(C79=TRUE,\"Incomplete\",\"Complete\")","v":"Incomplete"},"Incomplete","Incomplete","Incomplete","Incomplete",{"$f":"IF(H79=TRUE,\"Incomplete\",\"Complete\")","v":"Incomplete"},"Incomplete","Incomplete","Incomplete","Incomplete",{"$f":"IF(A96=\"Incomplete\",\"Incomplete\",IF(B96=\"Incomplete\",\"Incomplete\",IF(C96=\"Incomplete\",\"Incomplete\",IF(D96=\"Incomplete\",\"Incomplete\",IF(E96=\"Incomplete\",\"Incomplete\",IF(F96=\"Incomplete\",\"Incomplete\",IF(G96=\"Incomplete\",\"Incomplete\",IF(H96=\"Incomplete\",\"Incomplete\",IF(I96=\"Incomplete\",\"Incomplete\",IF(J96=\"Incomplete\",\"Incomplete\",IF(K96=\"Incomplete\",\"Incomplete\",IF(L96=\"Incomplete\",\"Incomplete\",\"Complete\"))))))))))))","v":"Incomplete"}]
["Incomplete","Incomplete",{"$f":"IF(C80=TRUE,\"Incomplete\",\"Complete\")","v":"Incomplete"},"Incomplete","Incomplete","Incomplete","Incomplete",{"$f":"IF(H80=TRUE,\"Incomplete\",\"Complete\")","v":"Incomplete"},"Incomplete","Incomplete","Incomplete","Incomplete","Incomplete"]
["Incomplete","Incomplete",{"$f":"IF(C81=TRUE,\"Incomplete\",\"Complete\")","v":"Incomplete"},"Incomplete","Incomplete","Incomplete","Incomplete",{"$f":"IF(H81=TRUE,\"Incomplete\",\"Complete\")","v":"Incomplete"},"Incomplete","Incomplete","Incomplete","Incomplete","Incomplete"]
["Incomplete","Incomplete",{"$f":"IF(C82=TRUE,\"Incomplete\",\"Complete\")","v":"Incomplete"},"Incomplete","Incomplete","Incomplete","Incomplete",{"$f":"IF(H82=TRUE,\"Incomplete\",\"Complete\")","v":"Incomplete"},"Incomplete","Incomplete","Incomplete","Incomplete","Incomplete"]
["Incomplete","Incomplete",{"$f":"IF(C83=TRUE,\"Incomplete\",\"Complete\")","v":"Incomplete"},"Incomplete","Incomplete","Incomplete","Incomplete",{"$f":"IF(H83=TRUE,\"Incomplete\",\"Complete\")","v":"Incomplete"},"Incomplete","Incomplete","Incomplete","Incomplete","Incomplete"]
["Incomplete","Incomplete",{"$f":"IF(C84=TRUE,\"Incomplete\",\"Complete\")","v":"Incomplete"},"Incomplete","Incomplete","Incomplete","Incomplete",{"$f":"IF(H84=TRUE,\"Incomplete\",\"Complete\")","v":"Incomplete"},"Incomplete","Incomplete","Incomplete","Incomplete","Incomplete"]
["Incomplete","Incomplete",{"$f":"IF(C85=TRUE,\"Incomplete\",\"Complete\")","v":"Incomplete"},"Incomplete","Incomplete","Incomplete","Incomplete",{"$f":"IF(H85=TRUE,\"Incomplete\",\"Complete\")","v":"Incomplete"},"Incomplete","Incomplete","Incomplete","Incomplete","Incomplete",{"$f":"IF(M95=\"Incomplete\",\"Incomplete\",IF(M96=\"Incomplete\",\"Incomplete\",IF(M97=\"Incomplete\",\"Incomplete\",IF(M98=\"Incomplete\",\"Incomplete\",IF(M99=\"Incomplete\",\"Incomplete\",IF(M99=\"Incomplete\",\"Incomplete\",IF(M100=\"Incomplete\",\"Incomplete\",IF(M101=\"Incomplete\",\"Incomplete\",IF(M102=\"Incomplete\",\"Incomplete\",\"Complete\")))))))))","v":"Incomplete"}]
["Incomplete","Incomplete",{"$f":"IF(C86=TRUE,\"Incomplete\",\"Complete\")","v":"Incomplete"},"Incomplete","Incomplete","Incomplete","Incomplete",{"$f":"IF(H86=TRUE,\"Incomplete\",\"Complete\")","v":"Incomplete"},"Incomplete","Incomplete","Incomplete","Incomplete","Incomplete"]
["Incomplete","Incomplete",{"$f":"IF(C87=TRUE,\"Incomplete\",\"Complete\")","v":"Incomplete"},"Incomplete","Incomplete","Incomplete","Incomplete",{"$f":"IF(H87=TRUE,\"Incomplete\",\"Complete\")","v":"Incomplete"},"Incomplete","Incomplete","Incomplete","Incomplete","Incomplete"]
["Incomplete","Incomplete",{"$f":"IF(C88=TRUE,\"Incomplete\",\"Complete\")","v":"Incomplete"},"Incomplete","Incomplete","Incomplete","Incomplete",{"$f":"IF(H88=TRUE,\"Incomplete\",\"Complete\")","v":"Incomplete"},"Incomplete","Incomplete","Incomplete","Incomplete","Incomplete"]
["Incomplete","Incomplete",{"$f":"IF(C89=TRUE,\"Incomplete\",\"Complete\")","v":"Incomplete"},"Incomplete","Incomplete","Incomplete","Incomplete",{"$f":"IF(H89=TRUE,\"Incomplete\",\"Complete\")","v":"Incomplete"},"Incomplete","Incomplete","Incomplete","Incomplete","Incomplete"]
["Incomplete","Incomplete",{"$f":"IF(C90=TRUE,\"Incomplete\",\"Complete\")","v":"Incomplete"},"Incomplete","Incomplete","Incomplete","Incomplete",{"$f":"IF(H90=TRUE,\"Incomplete\",\"Complete\")","v":"Incomplete"},"Incomplete","Incomplete","Incomplete","Incomplete","Incomplete"]
[{"$f":"IF(A91=TRUE,\"Incomplete\",\"Complete\")","v":"Incomplete"},{"$f":"IF(B91=TRUE,\"Incomplete\",\"Complete\")","v":"Incomplete"},{"$f":"IF(C91=TRUE,\"Incomplete\",\"Complete\")","v":"Incomplete"},"Incomplete","Incomplete","Incomplete","Incomplete",{"$f":"IF(H91=TRUE,\"Incomplete\",\"Complete\")","v":"Incomplete"},"Incomplete","Incomplete",{"$f":"IF(K91=TRUE,\"Incomplete\",\"Complete\")","v":"Incomplete"},{"$f":"IF(L91=TRUE,\"Incomplete\",\"Complete\")","v":"Incomplete"},"Incomplete"]
[{"$f":"IF(A92=TRUE,\"Incomplete\",\"Complete\")","v":"Incomplete"},"Incomplete",{"$f":"IF(C92=TRUE,\"Incomplete\",\"Complete\")","v":"Incomplete"},"Incomplete","Incomplete","Incomplete","Incomplete",{"$f":"IF(H92=TRUE,\"Incomplete\",\"Complete\")","v":"Incomplete"},"Incomplete","Incomplete","Incomplete","Incomplete","Incomplete"]
[{"$f":"IF(A93=TRUE,\"Incomplete\",\"Complete\")","v":"Incomplete"},{"$f":"IF(B93=TRUE,\"Incomplete\",\"Complete\")","v":"Incomplete"},{"$f":"IF(C93=TRUE,\"Incomplete\",\"Complete\")","v":"Incomplete"},"Incomplete","Incomplete","Incomplete","Incomplete",{"$f":"IF(H93=TRUE,\"Incomplete\",\"Complete\")","v":"Incomplete"},"Incomplete","Incomplete",{"$f":"IF(K93=TRUE,\"Incomplete\",\"Complete\")","v":"Incomplete"},{"$f":"IF(L93=TRUE,\"Incomplete\",\"Complete\")","v":"Incomplete"},"Incomplete",{"$f":"IF(M103=\"Incomplete\",\"Incomplete\",IF(M104=\"Incomplete\",\"Incomplete\",IF(M105=\"Incomplete\",\"Incomplete\",IF(M106=\"Incomplete\",\"Incomplete\",IF(M107=\"Incomplete\",\"Incomplete\",IF(M107=\"Incomplete\",\"Incomplete\",IF(M108=\"Incomplete\",\"Incomplete\",IF(M109=\"Incomplete\",\"Incomplete\",IF(M110=\"Incomplete\",\"Incomplete\",\"Complete\")))))))))","v":"Incomplete"}]
[]
[]
[null,{"$f":"ISBLANK(B38)","v":true},true,true,true,true,true,null,null,{"$f":"ISBLANK(H38)","v":true}]
[null,true,true,true,true,true,true,null,null,true]
[null,true,true,true,true,true,true,null,null,true]
[null,true,true,true,true,true,true,null,null,true]
[null,true,true,true,true,true,true,null,null,true]
[null,true,true,true,true,true,true,null,null,true]
[null,true,true,true,true,true,true,null,null,true]
[null,true,true,true,true,true,true,null,null,true]
[null,true,true,true,true,true,true,null,null,true]
[null,true,true,true,true,true,true,null,null,true]
[null,true,true,true,true,true,true,null,null,true]
[null,true,true,true,true,true,true,null,null,true]
[]
[null,{"$f":"IF(B113=TRUE,\"Incomplete\",\"Complete\")","v":"Incomplete"},{"$f":"IF(C113=TRUE,\"Incomplete\",\"Complete\")","v":"Incomplete"},{"$f":"IF(D113=TRUE,\"Incomplete\",\"Complete\")","v":"Incomplete"},{"$f":"IF(E113=TRUE,\"Incomplete\",\"Complete\")","v":"Incomplete"},{"$f":"IF(F113=TRUE,\"Incomplete\",\"Complete\")","v":"Incomplete"},{"$f":"IF(G113=TRUE,\"Incomplete\",\"Complete\")","v":"Incomplete"},null,null,"Incomplete",null,null,{"$f":"IF(B126=\"Incomplete\",\"Incomplete\",IF(C126=\"Incomplete\",\"Incomplete\",IF(D126=\"Incomplete\",\"Incomplete\",IF(E126=\"Incomplete\",\"Incomplete\",IF(F126=\"Incomplete\",\"Incomplete\",IF(G126=\"Incomplete\",\"Incomplete\",IF(J126=\"Incomplete\",\"Incomplete\",IF(K126=\"Incomplete\",\"Incomplete\",\"Complete\"))))))))","v":"Incomplete"}]
[null,{"$f":"IF(B114=TRUE,\"Incomplete\",\"Complete\")","v":"Incomplete"},"Incomplete",{"$f":"IF(D114=TRUE,\"Incomplete\",\"Complete\")","v":"Incomplete"},"Incomplete",{"$f":"IF(F114=TRUE,\"Incomplete\",\"Complete\")","v":"Incomplete"},"Incomplete",null,null,"Incomplete",null,null,{"$f":"IF(B127=\"Incomplete\",\"Incomplete\",IF(C127=\"Incomplete\",\"Incomplete\",IF(D127=\"Incomplete\",\"Incomplete\",IF(E127=\"Incomplete\",\"Incomplete\",IF(F127=\"Incomplete\",\"Incomplete\",IF(G127=\"Incomplete\",\"Incomplete\",IF(J127=\"Incomplete\",\"Incomplete\",IF(K127=\"Incomplete\",\"Incomplete\",\"Complete\"))))))))","v":"Incomplete"}]
[null,"Incomplete","Incomplete",{"$f":"IF(D115=TRUE,\"Incomplete\",\"Complete\")","v":"Incomplete"},"Incomplete",{"$f":"IF(F115=TRUE,\"Incomplete\",\"Complete\")","v":"Incomplete"},"Incomplete",null,null,"Incomplete",null,null,"Incomplete"]
[null,"Incomplete","Incomplete",{"$f":"IF(D116=TRUE,\"Incomplete\",\"Complete\")","v":"Incomplete"},"Incomplete",{"$f":"IF(F116=TRUE,\"Incomplete\",\"Complete\")","v":"Incomplete"},"Incomplete",null,null,"Incomplete",null,null,"Incomplete"]
[null,"Incomplete","Incomplete",{"$f":"IF(D117=TRUE,\"Incomplete\",\"Complete\")","v":"Incomplete"},"Incomplete",{"$f":"IF(F117=TRUE,\"Incomplete\",\"Complete\")","v":"Incomplete"},"Incomplete",null,null,"Incomplete",null,null,"Incomplete",{"$f":"IF(N74=\"Incomplete\",\"Incomplete\",IF(M126=\"Incomplete\",\"Incomplete\",IF(M127=\"Incomplete\",\"Incomplete\",IF(M128=\"Incomplete\",\"Incomplete\",IF(M128=\"Incomplete\",\"Incomplete\",IF(M129=\"Incomplete\",\"Incomplete\",IF(M130=\"Incomplete\",\"Incomplete\",\"Complete\")))))))","v":"Incomplete"}]
[null,"Incomplete","Incomplete",{"$f":"IF(D118=TRUE,\"Incomplete\",\"Complete\")","v":"Incomplete"},"Incomplete",{"$f":"IF(F118=TRUE,\"Incomplete\",\"Complete\")","v":"Incomplete"},"Incomplete",null,null,"Incomplete",null,null,"Incomplete"]
[null,"Incomplete","Incomplete",{"$f":"IF(D119=TRUE,\"Incomplete\",\"Complete\")","v":"Incomplete"},"Incomplete",{"$f":"IF(F119=TRUE,\"Incomplete\",\"Complete\")","v":"Incomplete"},"Incomplete",null,null,"Incomplete",null,null,"Incomplete"]
[null,"Incomplete","Incomplete",{"$f":"IF(D120=TRUE,\"Incomplete\",\"Complete\")","v":"Incomplete"},"Incomplete",{"$f":"IF(F120=TRUE,\"Incomplete\",\"Complete\")","v":"Incomplete"},"Incomplete",null,null,"Incomplete",null,null,"Incomplete"]
[null,"Incomplete","Incomplete",{"$f":"IF(D121=TRUE,\"Incomplete\",\"Complete\")","v":"Incomplete"},"Incomplete",{"$f":"IF(F121=TRUE,\"Incomplete\",\"Complete\")","v":"Incomplete"},"Incomplete",null,null,"Incomplete",null,null,"Incomplete"]
[null,{"$f":"IF(B122=TRUE,\"Incomplete\",\"Complete\")","v":"Incomplete"},"Incomplete",{"$f":"IF(D122=TRUE,\"Incomplete\",\"Complete\")","v":"Incomplete"},"Incomplete",{"$f":"IF(F122=TRUE,\"Incomplete\",\"Complete\")","v":"Incomplete"},"Incomplete",null,null,"Incomplete",null,null,"Incomplete"]
[null,{"$f":"IF(B123=TRUE,\"Incomplete\",\"Complete\")","v":"Incomplete"},"Incomplete",{"$f":"IF(D123=TRUE,\"Incomplete\",\"Complete\")","v":"Incomplete"},"Incomplete",{"$f":"IF(F123=TRUE,\"Incomplete\",\"Complete\")","v":"Incomplete"},"Incomplete",null,null,"Incomplete",null,null,"Incomplete"]
[null,"Incomplete","Incomplete",{"$f":"IF(D124=TRUE,\"Incomplete\",\"Complete\")","v":"Incomplete"},"Incomplete",{"$f":"IF(F124=TRUE,\"Incomplete\",\"Complete\")","v":"Incomplete"},"Incomplete",null,null,"Incomplete",null,null,"Incomplete",{"$f":"IF(M131=\"Incomplete\",\"Incomplete\",IF(M132=\"Incomplete\",\"Incomplete\",IF(M133=\"Incomplete\",\"Incomplete\",IF(M134=\"Incomplete\",\"Incomplete\",IF(M135=\"Incomplete\",\"Incomplete\",IF(M135=\"Incomplete\",\"Incomplete\",IF(M136=\"Incomplete\",\"Incomplete\",IF(M137=\"Incomplete\",\"Incomplete\",\"Complete\"))))))))","v":"Incomplete"}]
[null,null,"Sold","Total"]
[null,null,{"$f":"C50","v":0},{"$f":"B50+E50-F50","v":0},null,null,null,null,null,null,null,null,null,{"$f":"IF(N74=\"Incomplete\",\"Incomplete\",IF(N78=\"Incomplete\",\"Incomplete\",IF(N102=\"Incomplete\",\"Incomplete\",IF(N110=\"Incomplete\",\"Incomplete\",IF(N130=\"Incomplete\",\"Incomplete\",IF(N137=\"Incomplete\",\"Incomplete\",\"Complete\"))))))","v":"Incomplete"}]
[]
[{"$f":"IF(C139=D139,\"The Gallons pumped should not be equal to the gallons sold.  There is a potentially significant problem, please investigate and explain.\",IF(D139<C139,\"The Gallons pumped should not be less than the gallons sold.  There is a potentially significant problem, please investigate and explain..\",\"\"))","v":"The Gallons pumped should not be equal to the gallons sold.  There is a potentially significant problem, please investigate and explain."}]
[]
[]
["Note:  If you are filing for more than one system, please provide a separate data sheet for each system."]

{"sheet":"AR8 (b)","index":12,"n_rows":147,"n_cols":17,"rows_kept":147,"cut":false,"hidden":true,"merged":[[31,0,31,1],[31,2,31,6],[5,0,5,11],[6,0,6,1],[6,2,6,6],[7,0,7,2],[7,3,7,4],[8,0,8,2],[8,3,8,4],[27,0,27,1],[27,2,27,6],[28,0,28,2],[28,3,28,4],[29,0,29,1],[66,0,66,11],[32,0,32,2],[32,3,32,4],[33,0,33,1],[34,0,34,1],[34,2,34,3],[52,0,52,11],[53,0,57,11],[59,0,59,11],[63,0,63,11],[64,0,64,11],[65,0,65,11],[67,0,68,11],[69,0,69,11],[70,0,70,11],[143,0,143,11],[146,0,146,11]]}
[{"$f":"'AR1'!B12","v":0},null,null,null,null,null,null,null,null,null,null,null,null,null,"AR8b"]
["Annual Report",null,null,null,null,null,null,null,null,null,null,null,null,null,{"$f":"\"Annual Report page \"&M74","v":"Annual Report page 11b"}]
[{"$f":"A6","v":"Well and Water Usage"}]
[{"$f":"IF('AR1'!B19=\"\",\"\",'AR1'!B19)","v":"12/31/20"}]
[]
["Well and Water Usage"]
["Name of the System:"]
["ADEQ Public Water System Number:",null,null,{"$f":"IF(C7=\"\",\"\",VLOOKUP(C7, 'Drop down lists'!$AD$2:$AJ$902, 2, FALSE))","v":""}]
["ADWR PCC Number:",null,null,{"$f":"IF(C7=\"\",\"\",VLOOKUP(C7, 'Drop down lists'!$AD$2:$AJ$902, 3, FALSE))","v":""}]
["Well registry 55# (55-XXXXXX):","Pump Horsepower","Pump Yield (gpm)","Casing Depth (feet)","Casing Diameter (inches)","Pump Motor Type **","Year Drilled",{"$f":"'AR8'!H10","v":"Water level 2010"},{"$f":"'AR8'!I10","v":"Water level 2020"},"Meter Size (inches)","How measured:","Active"]
[]
[]
[]
[]
[]
[]
[]
[]
[]
[]
[]
[]
[]
[]
[]
[]
[]
["Name of system water delivered to:"]
["ADWR PCC Number:",null,null,{"$f":"IF(C28=\"\",\"\",VLOOKUP(C28, 'Drop down lists'!$AM$2:$AS$905, 3, FALSE))","v":""}]
["Source of water delivered to another system"]
[]
["Name of system water received from:"]
["ADWR PCC Number:",null,null,{"$f":"IF(C32=\"\",\"\",VLOOKUP(C32, 'Drop down lists'!$AM$2:$AS$905, 3, FALSE))","v":""}]
["Source of water received"]
["Well registry 55# (55-XXXXXX):"]
[]
["Month",{"$f":"\"Water withdrawn (\"&'AR8'!O38&\")1\"","v":"Water withdrawn (gallons)1"},{"$f":"\"Water sold (\"&'AR8'!O38&\")2\"","v":"Water sold (gallons)2"},{"$f":"\"Water delivered (sold) to other systems (\"&'AR8'!O38&\")3\"","v":"Water delivered (sold) to other systems (gallons)3"},{"$f":"\"Water received (purchased) from other systems (\"&'AR8'!O38&\")4\"","v":"Water received (purchased) from other systems (gallons)4"},{"$f":"\"Estimated authorized use (\"&'AR8'!O38&\")5\"","v":"Estimated authorized use (gallons)5"},"Purchased Power Expense6","Purchased Power (kWh)7",null,null,null,null,null,null,null,"Table of Contents"]
["January",null,null,null,null,null,null,null,null,null,null,null,null,null,null,"Gallons","Acre feet"]
["February",null,null,null,null,null,null,null,null,null,null,null,null,null,null,null,{"$f":"P39/325850.943","v":0}]
["March"]
["April"]
["May"]
["June"]
["July"]
["August"]
["September"]
["October"]
["November"]
["December"]
["Totals",{"$f":"SUM(B38:B49)","v":0},0,{"$f":"SUM(D38:D49)","v":0},{"$f":"SUM(E38:E49)","v":0},{"$f":"SUM(F38:F49)","v":0},{"$f":"SUM(G38:G49)","v":0},{"$f":"SUM(H38:H49)","v":0}]
[]
[]
["If applicable, in the space below please provide a description for all un-metered water use along with amounts:"]
[]
[]
[]
[]
[]
[]
["Instructions: Fill out the Grey Cells with the relevant information.  Input 0 or none if there is nothing recorded in that account or there is no applicable information to report."]
[]
[]
[]
[{"$f":"'AR8'!A61:L61","v":"1 Water withdrawn - Total gallons of water withdrawn from pumped sources."}]
[{"$f":"'AR8'!A62:L62","v":"2 Water sold - Total gallons from customer meters, and other sales such as construction water."}]
[{"$f":"'AR8'!A63:L63","v":"3 Water delivered (sold) to other systems - Total gallons of water delivered to other systems."}]
[{"$f":"'AR8'!A64:L64","v":"4 Water received (purchased) from other systems - Total gallons of water purchased/received from other systems."}]
[{"$f":"'AR8'!A65:L66","v":{"$error":"#VALUE!"}}]
[]
[{"$f":"'AR8'!A67:L67","v":"6 Enter the total purchased power costs for the power meters associated with this system."}]
[{"$f":"'AR8'!A68:L68","v":"7 Enter the total purchased kWh used by the power meters associated with this system."}]
[]
[null,null,null,null,null,null,null,null,null,null,null,{"$f":"\"Page \"&M74","v":"Page 11b"}]
[null,null,null,null,null,null,null,null,null,null,null,null,{"$f":"'AR7'!E30+1&\"b\"","v":"11b"}]
[]
[]
[null,{"$f":"IF(C7=0,\"Incomplete\",\"Complete\")","v":"Incomplete"},{"$f":"IF(C28=0,\"Incomplete\",\"Complete\")","v":"Incomplete"},{"$f":"IF(C30=0,\"Incomplete\",\"Complete\")","v":"Incomplete"},{"$f":"IF(C32=0,\"Incomplete\",\"Complete\")","v":"Incomplete"},{"$f":"IF(C34=0,\"Incomplete\",\"Complete\")","v":"Incomplete"},{"$f":"IF(C35=0,\"Incomplete\",\"Complete\")","v":"Incomplete"},null,null,null,null,null,null,{"$f":"IF(B77=\"Incomplete\",\"Incomplete\",IF(C77=\"Incomplete\",\"Incomplete\",IF(D77=\"Incomplete\",\"Incomplete\",IF(E77=\"Incomplete\",\"Incomplete\",IF(F77=\"Incomplete\",\"Incomplete\",IF(G77=\"Incomplete\",\"Incomplete\",\"Complete\"))))))","v":"Incomplete"}]
[]
[]
[]
[{"$f":"ISBLANK(A11)","v":true},{"$f":"ISBLANK(B11)","v":true},{"$f":"ISBLANK(C11)","v":true},true,true,true,true,null,null,true,{"$f":"ISBLANK(K11)","v":true},{"$f":"ISBLANK(L11)","v":true}]
[{"$f":"ISBLANK(A12)","v":true},true,true,true,true,true,true,null,null,true,true,true]
[true,true,true,true,true,true,true,null,null,true,true,true]
[true,true,true,true,true,true,true,null,null,true,true,true]
[true,true,true,true,true,true,true,null,null,true,true,true]
[true,true,true,true,true,true,true,null,null,true,true,true]
[true,true,true,true,true,true,true,null,null,true,true,true]
[true,true,true,true,true,true,true,null,null,true,true,true]
[true,true,true,true,true,true,true,null,null,true,true,true]
[true,true,true,true,true,true,true,null,null,true,true,true]
[true,true,true,true,true,true,true,null,null,true,true,true]
[true,true,true,true,true,true,true,null,null,true,true,true]
[true,true,true,true,true,true,true,null,null,true,true,true]
[true,true,true,true,true,true,true,null,null,true,true,true]
[true,true,true,true,true,true,true,null,null,true,true,true]
[true,true,true,true,true,true,true,null,null,true,true,true]
[]
[{"$f":"IF(A81=TRUE,\"Incomplete\",\"Complete\")","v":"Incomplete"},{"$f":"IF(B81=TRUE,\"Incomplete\",\"Complete\")","v":"Incomplete"},{"$f":"IF(C81=TRUE,\"Incomplete\",\"Complete\")","v":"Incomplete"},"Incomplete","Incomplete","Incomplete","Incomplete",null,null,"Incomplete",{"$f":"IF(K81=TRUE,\"Incomplete\",\"Complete\")","v":"Incomplete"},{"$f":"IF(L81=TRUE,\"Incomplete\",\"Complete\")","v":"Incomplete"},{"$f":"IF(A98=\"Incomplete\",\"Incomplete\",IF(B98=\"Incomplete\",\"Incomplete\",IF(C98=\"Incomplete\",\"Incomplete\",IF(D98=\"Incomplete\",\"Incomplete\",IF(E98=\"Incomplete\",\"Incomplete\",IF(F98=\"Incomplete\",\"Incomplete\",IF(G98=\"Incomplete\",\"Incomplete\",IF(J98=\"Incomplete\",\"Incomplete\",IF(K98=\"Incomplete\",\"Incomplete\",IF(L98=\"Incomplete\",\"Incomplete\",\"Complete\"))))))))))","v":"Incomplete"}]
[{"$f":"IF(A82=TRUE,\"Incomplete\",\"Complete\")","v":"Incomplete"},"Incomplete","Incomplete","Incomplete","Incomplete","Incomplete","Incomplete",null,null,"Incomplete","Incomplete","Incomplete",{"$f":"IF(A99=\"Incomplete\",\"Incomplete\",IF(B99=\"Incomplete\",\"Incomplete\",IF(C99=\"Incomplete\",\"Incomplete\",IF(D99=\"Incomplete\",\"Incomplete\",IF(E99=\"Incomplete\",\"Incomplete\",IF(F99=\"Incomplete\",\"Incomplete\",IF(G99=\"Incomplete\",\"Incomplete\",IF(J99=\"Incomplete\",\"Incomplete\",IF(K99=\"Incomplete\",\"Incomplete\",IF(L99=\"Incomplete\",\"Incomplete\",\"Complete\"))))))))))","v":"Incomplete"}]
["Incomplete","Incomplete","Incomplete","Incomplete","Incomplete","Incomplete","Incomplete",null,null,"Incomplete","Incomplete","Incomplete","Incomplete"]
["Incomplete","Incomplete","Incomplete","Incomplete","Incomplete","Incomplete","Incomplete",null,null,"Incomplete","Incomplete","Incomplete","Incomplete"]
["Incomplete","Incomplete","Incomplete","Incomplete","Incomplete","Incomplete","Incomplete",null,null,"Incomplete","Incomplete","Incomplete","Incomplete"]
["Incomplete","Incomplete","Incomplete","Incomplete","Incomplete","Incomplete","Incomplete",null,null,"Incomplete","Incomplete","Incomplete","Incomplete"]
["Incomplete","Incomplete","Incomplete","Incomplete","Incomplete","Incomplete","Incomplete",null,null,"Incomplete","Incomplete","Incomplete","Incomplete"]
["Incomplete","Incomplete","Incomplete","Incomplete","Incomplete","Incomplete","Incomplete",null,null,"Incomplete","Incomplete","Incomplete","Incomplete",{"$f":"IF(M98=\"Incomplete\",\"Incomplete\",IF(M99=\"Incomplete\",\"Incomplete\",IF(M100=\"Incomplete\",\"Incomplete\",IF(M101=\"Incomplete\",\"Incomplete\",IF(M102=\"Incomplete\",\"Incomplete\",IF(M102=\"Incomplete\",\"Incomplete\",IF(M103=\"Incomplete\",\"Incomplete\",IF(M104=\"Incomplete\",\"Incomplete\",IF(M105=\"Incomplete\",\"Incomplete\",\"Complete\")))))))))","v":"Incomplete"}]
["Incomplete","Incomplete","Incomplete","Incomplete","Incomplete","Incomplete","Incomplete",null,null,"Incomplete","Incomplete","Incomplete","Incomplete"]
["Incomplete","Incomplete","Incomplete","Incomplete","Incomplete","Incomplete","Incomplete",null,null,"Incomplete","Incomplete","Incomplete","Incomplete"]
["Incomplete","Incomplete","Incomplete","Incomplete","Incomplete","Incomplete","Incomplete",null,null,"Incomplete","Incomplete","Incomplete","Incomplete"]
["Incomplete","Incomplete","Incomplete","Incomplete","Incomplete","Incomplete","Incomplete",null,null,"Incomplete","Incomplete","Incomplete","Incomplete"]
["Incomplete","Incomplete","Incomplete","Incomplete","Incomplete","Incomplete","Incomplete",null,null,"Incomplete","Incomplete","Incomplete","Incomplete"]
[{"$f":"IF(A94=TRUE,\"Incomplete\",\"Complete\")","v":"Incomplete"},{"$f":"IF(B94=TRUE,\"Incomplete\",\"Complete\")","v":"Incomplete"},"Incomplete","Incomplete","Incomplete","Incomplete","Incomplete",null,null,"Incomplete",{"$f":"IF(K94=TRUE,\"Incomplete\",\"Complete\")","v":"Incomplete"},{"$f":"IF(L94=TRUE,\"Incomplete\",\"Complete\")","v":"Incomplete"},"Incomplete"]
[{"$f":"IF(A95=TRUE,\"Incomplete\",\"Complete\")","v":"Incomplete"},"Incomplete","Incomplete","Incomplete","Incomplete","Incomplete","Incomplete",null,null,"Incomplete","Incomplete","Incomplete","Incomplete"]
[{"$f":"IF(A96=TRUE,\"Incomplete\",\"Complete\")","v":"Incomplete"},{"$f":"IF(B96=TRUE,\"Incomplete\",\"Complete\")","v":"Incomplete"},"Incomplete","Incomplete","Incomplete","Incomplete","Incomplete",null,null,"Incomplete",{"$f":"IF(K96=TRUE,\"Incomplete\",\"Complete\")","v":"Incomplete"},{"$f":"IF(L96=TRUE,\"Incomplete\",\"Complete\")","v":"Incomplete"},"Incomplete",{"$f":"IF(M106=\"Incomplete\",\"Incomplete\",IF(M107=\"Incomplete\",\"Incomplete\",IF(M108=\"Incomplete\",\"Incomplete\",IF(M109=\"Incomplete\",\"Incomplete\",IF(M110=\"Incomplete\",\"Incomplete\",IF(M110=\"Incomplete\",\"Incomplete\",IF(M111=\"Incomplete\",\"Incomplete\",IF(M112=\"Incomplete\",\"Incomplete\",IF(M113=\"Incomplete\",\"Incomplete\",\"Complete\")))))))))","v":"Incomplete"}]
[]
[]
[null,{"$f":"ISBLANK(B38)","v":true},true,true,true,true,true,null,null,{"$f":"ISBLANK(H38)","v":true}]
[null,true,true,true,true,true,true,null,null,true]
[null,true,true,true,true,true,true,null,null,true]
[null,true,true,true,true,true,true,null,null,true]
[null,true,true,true,true,true,true,null,null,true]
[null,true,true,true,true,true,true,null,null,true]
[null,true,true,true,true,true,true,null,null,true]
[null,true,true,true,true,true,true,null,null,true]
[null,true,true,true,true,true,true,null,null,true]
[null,true,true,true,true,true,true,null,null,true]
[null,true,true,true,true,true,true,null,null,true]
[null,true,true,true,true,true,true,null,null,true]
[]
[null,{"$f":"IF(B116=TRUE,\"Incomplete\",\"Complete\")","v":"Incomplete"},{"$f":"IF(C116=TRUE,\"Incomplete\",\"Complete\")","v":"Incomplete"},"Incomplete",{"$f":"IF(E116=TRUE,\"Incomplete\",\"Complete\")","v":"Incomplete"},{"$f":"IF(F116=TRUE,\"Incomplete\",\"Complete\")","v":"Incomplete"},{"$f":"IF(G116=TRUE,\"Incomplete\",\"Complete\")","v":"Incomplete"},null,null,"Incomplete",null,null,{"$f":"IF(B129=\"Incomplete\",\"Incomplete\",IF(C129=\"Incomplete\",\"Incomplete\",IF(D129=\"Incomplete\",\"Incomplete\",IF(E129=\"Incomplete\",\"Incomplete\",IF(F129=\"Incomplete\",\"Incomplete\",IF(G129=\"Incomplete\",\"Incomplete\",IF(J129=\"Incomplete\",\"Incomplete\",IF(K129=\"Incomplete\",\"Incomplete\",\"Complete\"))))))))","v":"Incomplete"}]
[null,{"$f":"IF(B117=TRUE,\"Incomplete\",\"Complete\")","v":"Incomplete"},"Incomplete","Incomplete","Incomplete","Incomplete","Incomplete",null,null,"Incomplete",null,null,{"$f":"IF(B130=\"Incomplete\",\"Incomplete\",IF(C130=\"Incomplete\",\"Incomplete\",IF(D130=\"Incomplete\",\"Incomplete\",IF(E130=\"Incomplete\",\"Incomplete\",IF(F130=\"Incomplete\",\"Incomplete\",IF(G130=\"Incomplete\",\"Incomplete\",IF(J130=\"Incomplete\",\"Incomplete\",IF(K130=\"Incomplete\",\"Incomplete\",\"Complete\"))))))))","v":"Incomplete"}]
[null,"Incomplete","Incomplete","Incomplete","Incomplete","Incomplete","Incomplete",null,null,"Incomplete",null,null,"Incomplete"]
[null,"Incomplete","Incomplete","Incomplete","Incomplete","Incomplete","Incomplete",null,null,"Incomplete",null,null,"Incomplete"]
[null,"Incomplete","Incomplete","Incomplete","Incomplete","Incomplete","Incomplete",null,null,"Incomplete",null,null,"Incomplete",{"$f":"IF(N77=\"Incomplete\",\"Incomplete\",IF(M129=\"Incomplete\",\"Incomplete\",IF(M130=\"Incomplete\",\"Incomplete\",IF(M131=\"Incomplete\",\"Incomplete\",IF(M131=\"Incomplete\",\"Incomplete\",IF(M132=\"Incomplete\",\"Incomplete\",IF(M133=\"Incomplete\",\"Incomplete\",\"Complete\")))))))","v":"Incomplete"}]
[null,"Incomplete","Incomplete","Incomplete","Incomplete","Incomplete","Incomplete",null,null,"Incomplete",null,null,"Incomplete"]
[null,"Incomplete","Incomplete","Incomplete","Incomplete","Incomplete","Incomplete",null,null,"Incomplete",null,null,"Incomplete"]
[null,"Incomplete","Incomplete","Incomplete","Incomplete","Incomplete","Incomplete",null,null,"Incomplete",null,null,"Incomplete"]
[null,"Incomplete","Incomplete","Incomplete","Incomplete","Incomplete","Incomplete",null,null,"Incomplete",null,null,"Incomplete"]
[null,{"$f":"IF(B125=TRUE,\"Incomplete\",\"Complete\")","v":"Incomplete"},"Incomplete","Incomplete","Incomplete","Incomplete","Incomplete",null,null,"Incomplete",null,null,"Incomplete"]
[null,{"$f":"IF(B126=TRUE,\"Incomplete\",\"Complete\")","v":"Incomplete"},"Incomplete","Incomplete","Incomplete","Incomplete","Incomplete",null,null,"Incomplete",null,null,"Incomplete"]
[null,"Incomplete","Incomplete","Incomplete","Incomplete","Incomplete","Incomplete",null,null,"Incomplete",null,null,"Incomplete",{"$f":"IF(M134=\"Incomplete\",\"Incomplete\",IF(M135=\"Incomplete\",\"Incomplete\",IF(M136=\"Incomplete\",\"Incomplete\",IF(M137=\"Incomplete\",\"Incomplete\",IF(M138=\"Incomplete\",\"Incomplete\",IF(M138=\"Incomplete\",\"Incomplete\",IF(M139=\"Incomplete\",\"Incomplete\",IF(M140=\"Incomplete\",\"Incomplete\",\"Complete\"))))))))","v":"Incomplete"}]
[null,null,"Sold","Total"]
[null,null,{"$f":"C50","v":0},{"$f":"B50+E50-F50","v":0},null,null,null,null,null,null,null,null,null,{"$f":"IF(N77=\"Incomplete\",\"Incomplete\",IF(N105=\"Incomplete\",\"Incomplete\",IF(N113=\"Incomplete\",\"Incomplete\",IF(N133=\"Incomplete\",\"Incomplete\",IF(N140=\"Incomplete\",\"Incomplete\",\"Complete\")))))","v":"Incomplete"}]
[]
[{"$f":"IF(C142=D142,\"The Gallons pumped should not be equal to the gallons sold.  There is a potentially significant problem, please investigate and explain.\",IF(D142<C142,\"The Gallons pumped should not be less than the gallons sold.  There is a potentially significant problem, please investigate and explain..\",\"\"))","v":"The Gallons pumped should not be equal to the gallons sold.  There is a potentially significant problem, please investigate and explain."}]
[]
[]
["Note:  If you are filing for more than two systems, please click on the button below."]

{"sheet":"AR8 (c)","index":13,"n_rows":147,"n_cols":16,"rows_kept":147,"cut":false,"hidden":true,"merged":[[31,0,31,1],[31,2,31,6],[5,0,5,11],[6,0,6,1],[6,2,6,6],[7,0,7,2],[7,3,7,4],[8,0,8,2],[8,3,8,4],[27,0,27,1],[27,2,27,6],[28,0,28,2],[28,3,28,4],[29,0,29,1],[66,0,66,11],[32,0,32,2],[32,3,32,4],[33,0,33,1],[34,0,34,1],[34,2,34,3],[52,0,52,11],[53,0,57,11],[59,0,59,11],[63,0,63,11],[64,0,64,11],[65,0,65,11],[67,0,68,11],[69,0,69,11],[70,0,70,11],[143,0,143,11],[146,0,146,11]]}
[{"$f":"'AR1'!B12","v":0},null,null,null,null,null,null,null,null,null,null,null,null,"AR8b"]
["Annual Report",null,null,null,null,null,null,null,null,null,null,null,null,{"$f":"\"Annual Report page \"&L74","v":"Annual Report page 11c"}]
[{"$f":"A6","v":"Well and Water Usage"}]
[{"$f":"IF('AR1'!B19=\"\",\"\",'AR1'!B19)","v":"12/31/20"}]
[]
["Well and Water Usage"]
["Name of the System:"]
["ADEQ Public Water System Number:",null,null,{"$f":"IF(C7=\"\",\"\",VLOOKUP(C7, 'Drop down lists'!$AD$2:$AJ$902, 2, FALSE))","v":""}]
["ADWR PCC Number:",null,null,{"$f":"IF(C7=\"\",\"\",VLOOKUP(C7, 'Drop down lists'!$AD$2:$AJ$902, 3, FALSE))","v":""}]
["Well registry 55# (55-XXXXXX):","Pump Horsepower","Pump Yield (gpm)","Casing Depth (feet)","Casing Diameter (inches)","Pump Motor Type **","Year Drilled",{"$f":"'AR8'!H10","v":"Water level 2010"},{"$f":"'AR8'!I10","v":"Water level 2020"},"Meter Size (inches)","How measured:","Active"]
[]
[]
[]
[]
[]
[]
[]
[]
[]
[]
[]
[]
[]
[]
[]
[]
[]
["Name of system water delivered to:"]
["ADWR PCC Number:",null,null,{"$f":"IF(C28=\"\",\"\",VLOOKUP(C28, 'Drop down lists'!$AM$2:$AS$905, 3, FALSE))","v":""}]
["Source of water delivered to another system"]
[]
["Name of system water received from:"]
["ADWR PCC Number:",null,null,{"$f":"IF(C32=\"\",\"\",VLOOKUP(C32, 'Drop down lists'!$AM$2:$AS$905, 3, FALSE))","v":""}]
["Source of water received"]
["Well registry 55# (55-XXXXXX):"]
[]
["Month",{"$f":"\"Water withdrawn (\"&'AR8'!O38&\")1\"","v":"Water withdrawn (gallons)1"},{"$f":"\"Water sold (\"&'AR8'!O38&\")2\"","v":"Water sold (gallons)2"},{"$f":"\"Water delivered (sold) to other systems (\"&'AR8'!O38&\")3\"","v":"Water delivered (sold) to other systems (gallons)3"},{"$f":"\"Water received (purchased) from other systems (\"&'AR8'!O38&\")4\"","v":"Water received (purchased) from other systems (gallons)4"},{"$f":"\"Estimated authorized use (\"&'AR8'!O38&\")5\"","v":"Estimated authorized use (gallons)5"},"Purchased Power Expense6","Purchased Power (kWh)7",null,null,null,null,null,null,"Table of Contents"]
["January",null,null,null,null,null,null,null,null,null,null,null,null,null,"Gallons","Acre feet"]
["February",null,null,null,null,null,null,null,null,null,null,null,null,null,null,{"$f":"O39/325850.943","v":0}]
["March"]
["April"]
["May"]
["June"]
["July"]
["August"]
["September"]
["October"]
["November"]
["December"]
["Totals",{"$f":"SUM(B38:B49)","v":0},0,{"$f":"SUM(D38:D49)","v":0},{"$f":"SUM(E38:E49)","v":0},{"$f":"SUM(F38:F49)","v":0},{"$f":"SUM(G38:G49)","v":0},{"$f":"SUM(H38:H49)","v":0}]
[]
[]
["If applicable, in the space below please provide a description for all un-metered water use along with amounts:"]
[]
[]
[]
[]
[]
[]
["Instructions: Fill out the Grey Cells with the relevant information.  Input 0 or none if there is nothing recorded in that account or there is no applicable information to report."]
[]
[]
[]
[{"$f":"'AR8'!A61:L61","v":"1 Water withdrawn - Total gallons of water withdrawn from pumped sources."}]
[{"$f":"'AR8'!A62:L62","v":"2 Water sold - Total gallons from customer meters, and other sales such as construction water."}]
[{"$f":"'AR8'!A63:L63","v":"3 Water delivered (sold) to other systems - Total gallons of water delivered to other systems."}]
[{"$f":"'AR8'!A64:L64","v":"4 Water received (purchased) from other systems - Total gallons of water purchased/received from other systems."}]
[{"$f":"'AR8'!A65:L66","v":{"$error":"#VALUE!"}}]
[]
[{"$f":"'AR8'!A67:L67","v":"6 Enter the total purchased power costs for the power meters associated with this system."}]
[{"$f":"'AR8'!A68:L68","v":"7 Enter the total purchased kWh used by the power meters associated with this system."}]
[]
[null,null,null,null,null,null,null,null,null,null,null,{"$f":"\"Page \"&L74","v":"Page 11c"}]
[null,null,null,null,null,null,null,null,null,null,null,{"$f":"'AR7'!E30+1&\"c\"","v":"11c"}]
[]
[]
[null,{"$f":"IF(C7=0,\"Incomplete\",\"Complete\")","v":"Incomplete"},{"$f":"IF(C28=0,\"Incomplete\",\"Complete\")","v":"Incomplete"},{"$f":"IF(C30=0,\"Incomplete\",\"Complete\")","v":"Incomplete"},{"$f":"IF(C32=0,\"Incomplete\",\"Complete\")","v":"Incomplete"},{"$f":"IF(C34=0,\"Incomplete\",\"Complete\")","v":"Incomplete"},{"$f":"IF(C35=0,\"Incomplete\",\"Complete\")","v":"Incomplete"},null,null,null,null,null,{"$f":"IF(B77=\"Incomplete\",\"Incomplete\",IF(C77=\"Incomplete\",\"Incomplete\",IF(D77=\"Incomplete\",\"Incomplete\",IF(E77=\"Incomplete\",\"Incomplete\",IF(F77=\"Incomplete\",\"Incomplete\",IF(G77=\"Incomplete\",\"Incomplete\",\"Complete\"))))))","v":"Incomplete"}]
[]
[]
[]
[{"$f":"ISBLANK(A11)","v":true},{"$f":"ISBLANK(B11)","v":true},{"$f":"ISBLANK(C11)","v":true},true,true,true,true,null,null,true,{"$f":"ISBLANK(K11)","v":true},{"$f":"ISBLANK(L11)","v":true}]
[{"$f":"ISBLANK(A12)","v":true},true,true,true,true,true,true,null,null,true,true,true]
[true,true,true,true,true,true,true,null,null,true,true,true]
[true,true,true,true,true,true,true,null,null,true,true,true]
[true,true,true,true,true,true,true,null,null,true,true,true]
[true,true,true,true,true,true,true,null,null,true,true,true]
[true,true,true,true,true,true,true,null,null,true,true,true]
[true,true,true,true,true,true,true,null,null,true,true,true]
[true,true,true,true,true,true,true,null,null,true,true,true]
[true,true,true,true,true,true,true,null,null,true,true,true]
[true,true,true,true,true,true,true,null,null,true,true,true]
[true,true,true,true,true,true,true,null,null,true,true,true]
[true,true,true,true,true,true,true,null,null,true,true,true]
[true,true,true,true,true,true,true,null,null,true,true,true]
[true,true,true,true,true,true,true,null,null,true,true,true]
[true,true,true,true,true,true,true,null,null,true,true,true]
[]
[{"$f":"IF(A81=TRUE,\"Incomplete\",\"Complete\")","v":"Incomplete"},{"$f":"IF(B81=TRUE,\"Incomplete\",\"Complete\")","v":"Incomplete"},{"$f":"IF(C81=TRUE,\"Incomplete\",\"Complete\")","v":"Incomplete"},"Incomplete","Incomplete","Incomplete","Incomplete",null,null,"Incomplete",{"$f":"IF(K81=TRUE,\"Incomplete\",\"Complete\")","v":"Incomplete"},{"$f":"IF(L81=TRUE,\"Incomplete\",\"Complete\")","v":"Incomplete"}]
[{"$f":"IF(A82=TRUE,\"Incomplete\",\"Complete\")","v":"Incomplete"},"Incomplete","Incomplete","Incomplete","Incomplete","Incomplete","Incomplete",null,null,"Incomplete","Incomplete","Incomplete"]
["Incomplete","Incomplete","Incomplete","Incomplete","Incomplete","Incomplete","Incomplete",null,null,"Incomplete","Incomplete","Incomplete"]
["Incomplete","Incomplete","Incomplete","Incomplete","Incomplete","Incomplete","Incomplete",null,null,"Incomplete","Incomplete","Incomplete"]
["Incomplete","Incomplete","Incomplete","Incomplete","Incomplete","Incomplete","Incomplete",null,null,"Incomplete","Incomplete","Incomplete"]
["Incomplete","Incomplete","Incomplete","Incomplete","Incomplete","Incomplete","Incomplete",null,null,"Incomplete","Incomplete","Incomplete"]
["Incomplete","Incomplete","Incomplete","Incomplete","Incomplete","Incomplete","Incomplete",null,null,"Incomplete","Incomplete","Incomplete"]
["Incomplete","Incomplete","Incomplete","Incomplete","Incomplete","Incomplete","Incomplete",null,null,"Incomplete","Incomplete","Incomplete",{"$f":"IF(#REF!=\"Incomplete\",\"Incomplete\",IF(#REF!=\"Incomplete\",\"Incomplete\",IF(#REF!=\"Incomplete\",\"Incomplete\",IF(#REF!=\"Incomplete\",\"Incomplete\",IF(#REF!=\"Incomplete\",\"Incomplete\",IF(#REF!=\"Incomplete\",\"Incomplete\",IF(#REF!=\"Incomplete\",\"Incomplete\",IF(#REF!=\"Incomplete\",\"Incomplete\",IF(#REF!=\"Incomplete\",\"Incomplete\",\"Complete\")))))))))","v":{"$error":"#REF!"}}]
["Incomplete","Incomplete","Incomplete","Incomplete","Incomplete","Incomplete","Incomplete",null,null,"Incomplete","Incomplete","Incomplete"]
["Incomplete","Incomplete","Incomplete","Incomplete","Incomplete","Incomplete","Incomplete",null,null,"Incomplete","Incomplete","Incomplete"]
["Incomplete","Incomplete","Incomplete","Incomplete","Incomplete","Incomplete","Incomplete",null,null,"Incomplete","Incomplete","Incomplete"]
["Incomplete","Incomplete","Incomplete","Incomplete","Incomplete","Incomplete","Incomplete",null,null,"Incomplete","Incomplete","Incomplete"]
["Incomplete","Incomplete","Incomplete","Incomplete","Incomplete","Incomplete","Incomplete",null,null,"Incomplete","Incomplete","Incomplete"]
[{"$f":"IF(A94=TRUE,\"Incomplete\",\"Complete\")","v":"Incomplete"},{"$f":"IF(B94=TRUE,\"Incomplete\",\"Complete\")","v":"Incomplete"},"Incomplete","Incomplete","Incomplete","Incomplete","Incomplete",null,null,"Incomplete",{"$f":"IF(K94=TRUE,\"Incomplete\",\"Complete\")","v":"Incomplete"},{"$f":"IF(L94=TRUE,\"Incomplete\",\"Complete\")","v":"Incomplete"}]
[{"$f":"IF(A95=TRUE,\"Incomplete\",\"Complete\")","v":"Incomplete"},"Incomplete","Incomplete","Incomplete","Incomplete","Incomplete","Incomplete",null,null,"Incomplete","Incomplete","Incomplete"]
[{"$f":"IF(A96=TRUE,\"Incomplete\",\"Complete\")","v":"Incomplete"},{"$f":"IF(B96=TRUE,\"Incomplete\",\"Complete\")","v":"Incomplete"},"Incomplete","Incomplete","Incomplete","Incomplete","Incomplete",null,null,"Incomplete",{"$f":"IF(K96=TRUE,\"Incomplete\",\"Complete\")","v":"Incomplete"},{"$f":"IF(L96=TRUE,\"Incomplete\",\"Complete\")","v":"Incomplete"},{"$f":"IF(#REF!=\"Incomplete\",\"Incomplete\",IF(#REF!=\"Incomplete\",\"Incomplete\",IF(#REF!=\"Incomplete\",\"Incomplete\",IF(#REF!=\"Incomplete\",\"Incomplete\",IF(#REF!=\"Incomplete\",\"Incomplete\",IF(#REF!=\"Incomplete\",\"Incomplete\",IF(#REF!=\"Incomplete\",\"Incomplete\",IF(#REF!=\"Incomplete\",\"Incomplete\",IF(#REF!=\"Incomplete\",\"Incomplete\",\"Complete\")))))))))","v":{"$error":"#REF!"}}]
[]
[]
[null,{"$f":"ISBLANK(B38)","v":true},true,true,true,true,true,null,null,{"$f":"ISBLANK(H38)","v":true}]
[null,true,true,true,true,true,true,null,null,true]
[null,true,true,true,true,true,true,null,null,true]
[null,true,true,true,true,true,true,null,null,true]
[null,true,true,true,true,true,true,null,null,true]
[null,true,true,true,true,true,true,null,null,true]
[null,true,true,true,true,true,true,null,null,true]
[null,true,true,true,true,true,true,null,null,true]
[null,true,true,true,true,true,true,null,null,true]
[null,true,true,true,true,true,true,null,null,true]
[null,true,true,true,true,true,true,null,null,true]
[null,true,true,true,true,true,true,null,null,true]
[]
[null,{"$f":"IF(B116=TRUE,\"Incomplete\",\"Complete\")","v":"Incomplete"},{"$f":"IF(C116=TRUE,\"Incomplete\",\"Complete\")","v":"Incomplete"},"Incomplete",{"$f":"IF(E116=TRUE,\"Incomplete\",\"Complete\")","v":"Incomplete"},{"$f":"IF(F116=TRUE,\"Incomplete\",\"Complete\")","v":"Incomplete"},{"$f":"IF(G116=TRUE,\"Incomplete\",\"Complete\")","v":"Incomplete"},null,null,"Incomplete"]
[null,{"$f":"IF(B117=TRUE,\"Incomplete\",\"Complete\")","v":"Incomplete"},"Incomplete","Incomplete","Incomplete","Incomplete","Incomplete",null,null,"Incomplete"]
[null,"Incomplete","Incomplete","Incomplete","Incomplete","Incomplete","Incomplete",null,null,"Incomplete"]
[null,"Incomplete","Incomplete","Incomplete","Incomplete","Incomplete","Incomplete",null,null,"Incomplete"]
[null,"Incomplete","Incomplete","Incomplete","Incomplete","Incomplete","Incomplete",null,null,"Incomplete",null,null,{"$f":"IF(M77=\"Incomplete\",\"Incomplete\",IF(#REF!=\"Incomplete\",\"Incomplete\",IF(#REF!=\"Incomplete\",\"Incomplete\",IF(#REF!=\"Incomplete\",\"Incomplete\",IF(#REF!=\"Incomplete\",\"Incomplete\",IF(#REF!=\"Incomplete\",\"Incomplete\",IF(#REF!=\"Incomplete\",\"Incomplete\",\"Complete\")))))))","v":"Incomplete"}]
[null,"Incomplete","Incomplete","Incomplete","Incomplete","Incomplete","Incomplete",null,null,"Incomplete"]
[null,"Incomplete","Incomplete","Incomplete","Incomplete","Incomplete","Incomplete",null,null,"Incomplete"]
[null,"Incomplete","Incomplete","Incomplete","Incomplete","Incomplete","Incomplete",null,null,"Incomplete"]
[null,"Incomplete","Incomplete","Incomplete","Incomplete","Incomplete","Incomplete",null,null,"Incomplete"]
[null,{"$f":"IF(B125=TRUE,\"Incomplete\",\"Complete\")","v":"Incomplete"},"Incomplete","Incomplete","Incomplete","Incomplete","Incomplete",null,null,"Incomplete"]
[null,{"$f":"IF(B126=TRUE,\"Incomplete\",\"Complete\")","v":"Incomplete"},"Incomplete","Incomplete","Incomplete","Incomplete","Incomplete",null,null,"Incomplete"]
[null,"Incomplete","Incomplete","Incomplete","Incomplete","Incomplete","Incomplete",null,null,"Incomplete",null,null,{"$f":"IF(#REF!=\"Incomplete\",\"Incomplete\",IF(#REF!=\"Incomplete\",\"Incomplete\",IF(#REF!=\"Incomplete\",\"Incomplete\",IF(#REF!=\"Incomplete\",\"Incomplete\",IF(#REF!=\"Incomplete\",\"Incomplete\",IF(#REF!=\"Incomplete\",\"Incomplete\",IF(#REF!=\"Incomplete\",\"Incomplete\",IF(#REF!=\"Incomplete\",\"Incomplete\",\"Complete\"))))))))","v":{"$error":"#REF!"}}]
[null,null,"Sold","Total"]
[null,null,{"$f":"C50","v":0},{"$f":"B50+E50-F50","v":0},null,null,null,null,null,null,null,null,{"$f":"IF(M77=\"Incomplete\",\"Incomplete\",IF(M105=\"Incomplete\",\"Incomplete\",IF(M113=\"Incomplete\",\"Incomplete\",IF(M133=\"Incomplete\",\"Incomplete\",IF(M140=\"Incomplete\",\"Incomplete\",\"Complete\")))))","v":"Incomplete"}]
[]
[{"$f":"IF(C142=D142,\"The Gallons pumped should not be equal to the gallons sold.  There is a potentially significant problem, please investigate and explain.\",IF(D142<C142,\"The Gallons pumped should not be less than the gallons sold.  There is a potentially significant problem, please investigate and explain..\",\"\"))","v":"The Gallons pumped should not be equal to the gallons sold.  There is a potentially significant problem, please investigate and explain."}]
[]
[]
["Note:  If you are filing for more than three systems, please click on the button below."]

{"sheet":"AR8 (d)","index":14,"n_rows":147,"n_cols":17,"rows_kept":147,"cut":false,"hidden":true,"merged":[[31,0,31,1],[31,2,31,6],[5,0,5,11],[6,0,6,1],[6,2,6,6],[7,0,7,2],[7,3,7,4],[8,0,8,2],[8,3,8,4],[27,0,27,1],[27,2,27,6],[28,0,28,2],[28,3,28,4],[29,0,29,1],[66,0,66,11],[32,0,32,2],[32,3,32,4],[33,0,33,1],[34,0,34,1],[34,2,34,3],[52,0,52,11],[53,0,57,11],[59,0,59,11],[63,0,63,11],[64,0,64,11],[65,0,65,11],[67,0,68,11],[69,0,69,11],[70,0,70,11],[143,0,143,11],[146,0,146,11]]}
[{"$f":"'AR1'!B12","v":0},null,null,null,null,null,null,null,null,null,null,null,null,null,"AR8"]
["Annual Report",null,null,null,null,null,null,null,null,null,null,null,null,null,{"$f":"\"Annual Report page \"&M74","v":"Annual Report page 11d"}]
[{"$f":"A6","v":"Well and Water Usage"}]
[{"$f":"IF('AR1'!B19=\"\",\"\",'AR1'!B19)","v":"12/31/20"}]
[]
["Well and Water Usage"]
["Name of the System:"]
["ADEQ Public Water System Number:",null,null,{"$f":"IF(C7=\"\",\"\",VLOOKUP(C7, 'Drop down lists'!$AD$2:$AJ$902, 2, FALSE))","v":""}]
["ADWR PCC Number:",null,null,{"$f":"IF(C7=\"\",\"\",VLOOKUP(C7, 'Drop down lists'!$AD$2:$AJ$902, 3, FALSE))","v":""}]
["Well registry 55# (55-XXXXXX):","Pump Horsepower","Pump Yield (gpm)","Casing Depth (feet)","Casing Diameter (inches)","Pump Motor Type **","Year Drilled",{"$f":"'AR8'!H10","v":"Water level 2010"},{"$f":"'AR8'!I10","v":"Water level 2020"},"Meter Size (inches)","How measured:","Active"]
[]
[]
[]
[]
[]
[]
[]
[]
[]
[]
[]
[]
[]
[]
[]
[]
[]
["Name of system water delivered to:"]
["ADWR PCC Number:",null,null,{"$f":"IF(C28=\"\",\"\",VLOOKUP(C28, 'Drop down lists'!$AM$2:$AS$905, 3, FALSE))","v":""}]
["Source of water delivered to another system"]
[]
["Name of system water received from:"]
["ADWR PCC Number:",null,null,{"$f":"IF(C32=\"\",\"\",VLOOKUP(C32, 'Drop down lists'!$AM$2:$AS$905, 3, FALSE))","v":""}]
["Source of water received"]
["Well registry 55# (55-XXXXXX):"]
[]
["Month",{"$f":"\"Water withdrawn (\"&'AR8'!O38&\")1\"","v":"Water withdrawn (gallons)1"},{"$f":"\"Water sold (\"&'AR8'!O38&\")2\"","v":"Water sold (gallons)2"},{"$f":"\"Water delivered (sold) to other systems (\"&'AR8'!O38&\")3\"","v":"Water delivered (sold) to other systems (gallons)3"},{"$f":"\"Water received (purchased) from other systems (\"&'AR8'!O38&\")4\"","v":"Water received (purchased) from other systems (gallons)4"},{"$f":"\"Estimated authorized use (\"&'AR8'!O38&\")5\"","v":"Estimated authorized use (gallons)5"},"Purchased Power Expense6","Purchased Power (kWh)7",null,null,null,null,null,null,null,"Table of Contents"]
["January",null,null,null,null,null,null,null,null,null,null,null,null,null,null,"Gallons","Acre feet"]
["February",null,null,null,null,null,null,null,null,null,null,null,null,null,null,null,{"$f":"P39/325850.943","v":0}]
["March"]
["April"]
["May"]
["June"]
["July"]
["August"]
["September"]
["October"]
["November"]
["December"]
["Totals",{"$f":"SUM(B38:B49)","v":0},0,{"$f":"SUM(D38:D49)","v":0},{"$f":"SUM(E38:E49)","v":0},{"$f":"SUM(F38:F49)","v":0},{"$f":"SUM(G38:G49)","v":0},{"$f":"SUM(H38:H49)","v":0}]
[]
[]
["If applicable, in the space below please provide a description for all un-metered water use along with amounts:"]
[]
[]
[]
[]
[]
[]
["Instructions: Fill out the Grey Cells with the relevant information.  Input 0 or none if there is nothing recorded in that account or there is no applicable information to report."]
[]
[]
[]
[{"$f":"'AR8'!A61:L61","v":"1 Water withdrawn - Total gallons of water withdrawn from pumped sources."}]
[{"$f":"'AR8'!A62:L62","v":"2 Water sold - Total gallons from customer meters, and other sales such as construction water."}]
[{"$f":"'AR8'!A63:L63","v":"3 Water delivered (sold) to other systems - Total gallons of water delivered to other systems."}]
[{"$f":"'AR8'!A64:L64","v":"4 Water received (purchased) from other systems - Total gallons of water purchased/received from other systems."}]
[{"$f":"'AR8'!A65:L66","v":{"$error":"#VALUE!"}}]
[]
[{"$f":"'AR8'!A67:L67","v":"6 Enter the total purchased power costs for the power meters associated with this system."}]
[{"$f":"'AR8'!A68:L68","v":"7 Enter the total purchased kWh used by the power meters associated with this system."}]
[]
[null,null,null,null,null,null,null,null,null,null,null,null,{"$f":"\"Page \"&M74","v":"Page 11d"}]
[null,null,null,null,null,null,null,null,null,null,null,null,{"$f":"'AR7'!E30+1&\"d\"","v":"11d"}]
[]
[]
[null,{"$f":"IF(C7=0,\"Incomplete\",\"Complete\")","v":"Incomplete"},{"$f":"IF(C28=0,\"Incomplete\",\"Complete\")","v":"Incomplete"},{"$f":"IF(C30=0,\"Incomplete\",\"Complete\")","v":"Incomplete"},{"$f":"IF(C32=0,\"Incomplete\",\"Complete\")","v":"Incomplete"},{"$f":"IF(C34=0,\"Incomplete\",\"Complete\")","v":"Incomplete"},{"$f":"IF(C35=0,\"Incomplete\",\"Complete\")","v":"Incomplete"},null,null,null,null,null,null,{"$f":"IF(B77=\"Incomplete\",\"Incomplete\",IF(C77=\"Incomplete\",\"Incomplete\",IF(D77=\"Incomplete\",\"Incomplete\",IF(E77=\"Incomplete\",\"Incomplete\",IF(F77=\"Incomplete\",\"Incomplete\",IF(G77=\"Incomplete\",\"Incomplete\",\"Complete\"))))))","v":"Incomplete"}]
[]
[]
[]
[{"$f":"ISBLANK(A11)","v":true},{"$f":"ISBLANK(B11)","v":true},{"$f":"ISBLANK(C11)","v":true},true,true,true,true,null,null,true,{"$f":"ISBLANK(K11)","v":true},{"$f":"ISBLANK(L11)","v":true}]
[{"$f":"ISBLANK(A12)","v":true},true,true,true,true,true,true,null,null,true,true,true]
[true,true,true,true,true,true,true,null,null,true,true,true]
[true,true,true,true,true,true,true,null,null,true,true,true]
[true,true,true,true,true,true,true,null,null,true,true,true]
[true,true,true,true,true,true,true,null,null,true,true,true]
[true,true,true,true,true,true,true,null,null,true,true,true]
[true,true,true,true,true,true,true,null,null,true,true,true]
[true,true,true,true,true,true,true,null,null,true,true,true]
[true,true,true,true,true,true,true,null,null,true,true,true]
[true,true,true,true,true,true,true,null,null,true,true,true]
[true,true,true,true,true,true,true,null,null,true,true,true]
[true,true,true,true,true,true,true,null,null,true,true,true]
[true,true,true,true,true,true,true,null,null,true,true,true]
[true,true,true,true,true,true,true,null,null,true,true,true]
[true,true,true,true,true,true,true,null,null,true,true,true]
[]
[{"$f":"IF(A81=TRUE,\"Incomplete\",\"Complete\")","v":"Incomplete"},{"$f":"IF(B81=TRUE,\"Incomplete\",\"Complete\")","v":"Incomplete"},{"$f":"IF(C81=TRUE,\"Incomplete\",\"Complete\")","v":"Incomplete"},"Incomplete","Incomplete","Incomplete","Incomplete",null,null,"Incomplete",{"$f":"IF(K81=TRUE,\"Incomplete\",\"Complete\")","v":"Incomplete"},{"$f":"IF(L81=TRUE,\"Incomplete\",\"Complete\")","v":"Incomplete"},{"$f":"IF(A98=\"Incomplete\",\"Incomplete\",IF(B98=\"Incomplete\",\"Incomplete\",IF(C98=\"Incomplete\",\"Incomplete\",IF(D98=\"Incomplete\",\"Incomplete\",IF(E98=\"Incomplete\",\"Incomplete\",IF(F98=\"Incomplete\",\"Incomplete\",IF(G98=\"Incomplete\",\"Incomplete\",IF(J98=\"Incomplete\",\"Incomplete\",IF(K98=\"Incomplete\",\"Incomplete\",IF(L98=\"Incomplete\",\"Incomplete\",\"Complete\"))))))))))","v":"Incomplete"}]
[{"$f":"IF(A82=TRUE,\"Incomplete\",\"Complete\")","v":"Incomplete"},"Incomplete","Incomplete","Incomplete","Incomplete","Incomplete","Incomplete",null,null,"Incomplete","Incomplete","Incomplete",{"$f":"IF(A99=\"Incomplete\",\"Incomplete\",IF(B99=\"Incomplete\",\"Incomplete\",IF(C99=\"Incomplete\",\"Incomplete\",IF(D99=\"Incomplete\",\"Incomplete\",IF(E99=\"Incomplete\",\"Incomplete\",IF(F99=\"Incomplete\",\"Incomplete\",IF(G99=\"Incomplete\",\"Incomplete\",IF(J99=\"Incomplete\",\"Incomplete\",IF(K99=\"Incomplete\",\"Incomplete\",IF(L99=\"Incomplete\",\"Incomplete\",\"Complete\"))))))))))","v":"Incomplete"}]
["Incomplete","Incomplete","Incomplete","Incomplete","Incomplete","Incomplete","Incomplete",null,null,"Incomplete","Incomplete","Incomplete","Incomplete"]
["Incomplete","Incomplete","Incomplete","Incomplete","Incomplete","Incomplete","Incomplete",null,null,"Incomplete","Incomplete","Incomplete","Incomplete"]
["Incomplete","Incomplete","Incomplete","Incomplete","Incomplete","Incomplete","Incomplete",null,null,"Incomplete","Incomplete","Incomplete","Incomplete"]
["Incomplete","Incomplete","Incomplete","Incomplete","Incomplete","Incomplete","Incomplete",null,null,"Incomplete","Incomplete","Incomplete","Incomplete"]
["Incomplete","Incomplete","Incomplete","Incomplete","Incomplete","Incomplete","Incomplete",null,null,"Incomplete","Incomplete","Incomplete","Incomplete"]
["Incomplete","Incomplete","Incomplete","Incomplete","Incomplete","Incomplete","Incomplete",null,null,"Incomplete","Incomplete","Incomplete","Incomplete",{"$f":"IF(M98=\"Incomplete\",\"Incomplete\",IF(M99=\"Incomplete\",\"Incomplete\",IF(M100=\"Incomplete\",\"Incomplete\",IF(M101=\"Incomplete\",\"Incomplete\",IF(M102=\"Incomplete\",\"Incomplete\",IF(M102=\"Incomplete\",\"Incomplete\",IF(M103=\"Incomplete\",\"Incomplete\",IF(M104=\"Incomplete\",\"Incomplete\",IF(M105=\"Incomplete\",\"Incomplete\",\"Complete\")))))))))","v":"Incomplete"}]
["Incomplete","Incomplete","Incomplete","Incomplete","Incomplete","Incomplete","Incomplete",null,null,"Incomplete","Incomplete","Incomplete","Incomplete"]
["Incomplete","Incomplete","Incomplete","Incomplete","Incomplete","Incomplete","Incomplete",null,null,"Incomplete","Incomplete","Incomplete","Incomplete"]
["Incomplete","Incomplete","Incomplete","Incomplete","Incomplete","Incomplete","Incomplete",null,null,"Incomplete","Incomplete","Incomplete","Incomplete"]
["Incomplete","Incomplete","Incomplete","Incomplete","Incomplete","Incomplete","Incomplete",null,null,"Incomplete","Incomplete","Incomplete","Incomplete"]
["Incomplete","Incomplete","Incomplete","Incomplete","Incomplete","Incomplete","Incomplete",null,null,"Incomplete","Incomplete","Incomplete","Incomplete"]
[{"$f":"IF(A94=TRUE,\"Incomplete\",\"Complete\")","v":"Incomplete"},{"$f":"IF(B94=TRUE,\"Incomplete\",\"Complete\")","v":"Incomplete"},"Incomplete","Incomplete","Incomplete","Incomplete","Incomplete",null,null,"Incomplete",{"$f":"IF(K94=TRUE,\"Incomplete\",\"Complete\")","v":"Incomplete"},{"$f":"IF(L94=TRUE,\"Incomplete\",\"Complete\")","v":"Incomplete"},"Incomplete"]
[{"$f":"IF(A95=TRUE,\"Incomplete\",\"Complete\")","v":"Incomplete"},"Incomplete","Incomplete","Incomplete","Incomplete","Incomplete","Incomplete",null,null,"Incomplete","Incomplete","Incomplete","Incomplete"]
[{"$f":"IF(A96=TRUE,\"Incomplete\",\"Complete\")","v":"Incomplete"},{"$f":"IF(B96=TRUE,\"Incomplete\",\"Complete\")","v":"Incomplete"},"Incomplete","Incomplete","Incomplete","Incomplete","Incomplete",null,null,"Incomplete",{"$f":"IF(K96=TRUE,\"Incomplete\",\"Complete\")","v":"Incomplete"},{"$f":"IF(L96=TRUE,\"Incomplete\",\"Complete\")","v":"Incomplete"},"Incomplete",{"$f":"IF(M106=\"Incomplete\",\"Incomplete\",IF(M107=\"Incomplete\",\"Incomplete\",IF(M108=\"Incomplete\",\"Incomplete\",IF(M109=\"Incomplete\",\"Incomplete\",IF(M110=\"Incomplete\",\"Incomplete\",IF(M110=\"Incomplete\",\"Incomplete\",IF(M111=\"Incomplete\",\"Incomplete\",IF(M112=\"Incomplete\",\"Incomplete\",IF(M113=\"Incomplete\",\"Incomplete\",\"Complete\")))))))))","v":"Incomplete"}]
[]
[]
[null,{"$f":"ISBLANK(B38)","v":true},true,true,true,true,true,null,null,{"$f":"ISBLANK(H38)","v":true}]
[null,true,true,true,true,true,true,null,null,true]
[null,true,true,true,true,true,true,null,null,true]
[null,true,true,true,true,true,true,null,null,true]
[null,true,true,true,true,true,true,null,null,true]
[null,true,true,true,true,true,true,null,null,true]
[null,true,true,true,true,true,true,null,null,true]
[null,true,true,true,true,true,true,null,null,true]
[null,true,true,true,true,true,true,null,null,true]
[null,true,true,true,true,true,true,null,null,true]
[null,true,true,true,true,true,true,null,null,true]
[null,true,true,true,true,true,true,null,null,true]
[]
[null,{"$f":"IF(B116=TRUE,\"Incomplete\",\"Complete\")","v":"Incomplete"},{"$f":"IF(C116=TRUE,\"Incomplete\",\"Complete\")","v":"Incomplete"},"Incomplete",{"$f":"IF(E116=TRUE,\"Incomplete\",\"Complete\")","v":"Incomplete"},{"$f":"IF(F116=TRUE,\"Incomplete\",\"Complete\")","v":"Incomplete"},{"$f":"IF(G116=TRUE,\"Incomplete\",\"Complete\")","v":"Incomplete"},null,null,"Incomplete",null,null,{"$f":"IF(B129=\"Incomplete\",\"Incomplete\",IF(C129=\"Incomplete\",\"Incomplete\",IF(D129=\"Incomplete\",\"Incomplete\",IF(E129=\"Incomplete\",\"Incomplete\",IF(F129=\"Incomplete\",\"Incomplete\",IF(G129=\"Incomplete\",\"Incomplete\",IF(J129=\"Incomplete\",\"Incomplete\",IF(K129=\"Incomplete\",\"Incomplete\",\"Complete\"))))))))","v":"Incomplete"}]
[null,{"$f":"IF(B117=TRUE,\"Incomplete\",\"Complete\")","v":"Incomplete"},"Incomplete","Incomplete","Incomplete","Incomplete","Incomplete",null,null,"Incomplete",null,null,{"$f":"IF(B130=\"Incomplete\",\"Incomplete\",IF(C130=\"Incomplete\",\"Incomplete\",IF(D130=\"Incomplete\",\"Incomplete\",IF(E130=\"Incomplete\",\"Incomplete\",IF(F130=\"Incomplete\",\"Incomplete\",IF(G130=\"Incomplete\",\"Incomplete\",IF(J130=\"Incomplete\",\"Incomplete\",IF(K130=\"Incomplete\",\"Incomplete\",\"Complete\"))))))))","v":"Incomplete"}]
[null,"Incomplete","Incomplete","Incomplete","Incomplete","Incomplete","Incomplete",null,null,"Incomplete",null,null,"Incomplete"]
[null,"Incomplete","Incomplete","Incomplete","Incomplete","Incomplete","Incomplete",null,null,"Incomplete",null,null,"Incomplete"]
[null,"Incomplete","Incomplete","Incomplete","Incomplete","Incomplete","Incomplete",null,null,"Incomplete",null,null,"Incomplete",{"$f":"IF(N77=\"Incomplete\",\"Incomplete\",IF(M129=\"Incomplete\",\"Incomplete\",IF(M130=\"Incomplete\",\"Incomplete\",IF(M131=\"Incomplete\",\"Incomplete\",IF(M131=\"Incomplete\",\"Incomplete\",IF(M132=\"Incomplete\",\"Incomplete\",IF(M133=\"Incomplete\",\"Incomplete\",\"Complete\")))))))","v":"Incomplete"}]
[null,"Incomplete","Incomplete","Incomplete","Incomplete","Incomplete","Incomplete",null,null,"Incomplete",null,null,"Incomplete"]
[null,"Incomplete","Incomplete","Incomplete","Incomplete","Incomplete","Incomplete",null,null,"Incomplete",null,null,"Incomplete"]
[null,"Incomplete","Incomplete","Incomplete","Incomplete","Incomplete","Incomplete",null,null,"Incomplete",null,null,"Incomplete"]
[null,"Incomplete","Incomplete","Incomplete","Incomplete","Incomplete","Incomplete",null,null,"Incomplete",null,null,"Incomplete"]
[null,{"$f":"IF(B125=TRUE,\"Incomplete\",\"Complete\")","v":"Incomplete"},"Incomplete","Incomplete","Incomplete","Incomplete","Incomplete",null,null,"Incomplete",null,null,"Incomplete"]
[null,{"$f":"IF(B126=TRUE,\"Incomplete\",\"Complete\")","v":"Incomplete"},"Incomplete","Incomplete","Incomplete","Incomplete","Incomplete",null,null,"Incomplete",null,null,"Incomplete"]
[null,"Incomplete","Incomplete","Incomplete","Incomplete","Incomplete","Incomplete",null,null,"Incomplete",null,null,"Incomplete",{"$f":"IF(M134=\"Incomplete\",\"Incomplete\",IF(M135=\"Incomplete\",\"Incomplete\",IF(M136=\"Incomplete\",\"Incomplete\",IF(M137=\"Incomplete\",\"Incomplete\",IF(M138=\"Incomplete\",\"Incomplete\",IF(M138=\"Incomplete\",\"Incomplete\",IF(M139=\"Incomplete\",\"Incomplete\",IF(M140=\"Incomplete\",\"Incomplete\",\"Complete\"))))))))","v":"Incomplete"}]
[null,null,"Sold","Total"]
[null,null,{"$f":"C50","v":0},{"$f":"B50+E50-F50","v":0},null,null,null,null,null,null,null,null,null,{"$f":"IF(N77=\"Incomplete\",\"Incomplete\",IF(N105=\"Incomplete\",\"Incomplete\",IF(N113=\"Incomplete\",\"Incomplete\",IF(N133=\"Incomplete\",\"Incomplete\",IF(N140=\"Incomplete\",\"Incomplete\",\"Complete\")))))","v":"Incomplete"}]
[]
[{"$f":"IF(C142=D142,\"The Gallons pumped should not be equal to the gallons sold.  There is a potentially significant problem, please investigate and explain.\",IF(D142<C142,\"The Gallons pumped should not be less than the gallons sold.  There is a potentially significant problem, please investigate and explain..\",\"\"))","v":"The Gallons pumped should not be equal to the gallons sold.  There is a potentially significant problem, please investigate and explain."}]
[]
[]
["Note:  If you are filing for more than four systems, please click on the button below."]

{"sheet":"AR8 (e)","index":15,"n_rows":147,"n_cols":17,"rows_kept":147,"cut":false,"hidden":true,"merged":[[31,0,31,1],[31,2,31,6],[5,0,5,11],[6,0,6,1],[6,2,6,6],[7,0,7,2],[7,3,7,4],[8,0,8,2],[8,3,8,4],[27,0,27,1],[27,2,27,6],[28,0,28,2],[28,3,28,4],[29,0,29,1],[66,0,66,11],[32,0,32,2],[32,3,32,4],[33,0,33,1],[34,0,34,1],[34,2,34,3],[52,0,52,11],[53,0,57,11],[59,0,59,11],[63,0,63,11],[64,0,64,11],[65,0,65,11],[67,0,68,11],[69,0,69,11],[70,0,70,11],[143,0,143,11],[146,0,146,11]]}
[{"$f":"'AR1'!B12","v":0},null,null,null,null,null,null,null,null,null,null,null,null,null,"AR8"]
["Annual Report",null,null,null,null,null,null,null,null,null,null,null,null,null,{"$f":"\"Annual Report page \"&M74","v":"Annual Report page 11e"}]
[{"$f":"A6","v":"Well and Water Usage"}]
[{"$f":"IF('AR1'!B19=\"\",\"\",'AR1'!B19)","v":"12/31/20"}]
[]
["Well and Water Usage"]
["Name of the System:"]
["ADEQ Public Water System Number:",null,null,{"$f":"IF(C7=\"\",\"\",VLOOKUP(C7, 'Drop down lists'!$AD$2:$AJ$902, 2, FALSE))","v":""}]
["ADWR PCC Number:",null,null,{"$f":"IF(C7=\"\",\"\",VLOOKUP(C7, 'Drop down lists'!$AD$2:$AJ$902, 3, FALSE))","v":""}]
["Well registry 55# (55-XXXXXX):","Pump Horsepower","Pump Yield (gpm)","Casing Depth (feet)","Casing Diameter (inches)","Pump Motor Type **","Year Drilled",{"$f":"'AR8'!H10","v":"Water level 2010"},{"$f":"'AR8'!I10","v":"Water level 2020"},"Meter Size (inches)","How measured:","Active"]
[]
[]
[]
[]
[]
[]
[]
[]
[]
[]
[]
[]
[]
[]
[]
[]
[]
["Name of system water delivered to:"]
["ADWR PCC Number:",null,null,{"$f":"IF(C28=\"\",\"\",VLOOKUP(C28, 'Drop down lists'!$AM$2:$AS$905, 3, FALSE))","v":""}]
["Source of water delivered to another system"]
[]
["Name of system water received from:"]
["ADWR PCC Number:",null,null,{"$f":"IF(C32=\"\",\"\",VLOOKUP(C32, 'Drop down lists'!$AM$2:$AS$905, 3, FALSE))","v":""}]
["Source of water received"]
["Well registry 55# (55-XXXXXX):"]
[]
["Month",{"$f":"\"Water withdrawn (\"&'AR8'!O38&\")1\"","v":"Water withdrawn (gallons)1"},{"$f":"\"Water sold (\"&'AR8'!O38&\")2\"","v":"Water sold (gallons)2"},{"$f":"\"Water delivered (sold) to other systems (\"&'AR8'!O38&\")3\"","v":"Water delivered (sold) to other systems (gallons)3"},{"$f":"\"Water received (purchased) from other systems (\"&'AR8'!O38&\")4\"","v":"Water received (purchased) from other systems (gallons)4"},{"$f":"\"Estimated authorized use (\"&'AR8'!O38&\")5\"","v":"Estimated authorized use (gallons)5"},"Purchased Power Expense6","Purchased Power (kWh)7",null,null,null,null,null,null,null,"Table of Contents"]
["January",null,null,null,null,null,null,null,null,null,null,null,null,null,null,"Gallons","Acre feet"]
["February",null,null,null,null,null,null,null,null,null,null,null,null,null,null,null,{"$f":"P39/325850.943","v":0}]
["March"]
["April"]
["May"]
["June"]
["July"]
["August"]
["September"]
["October"]
["November"]
["December"]
["Totals",{"$f":"SUM(B38:B49)","v":0},0,{"$f":"SUM(D38:D49)","v":0},{"$f":"SUM(E38:E49)","v":0},{"$f":"SUM(F38:F49)","v":0},{"$f":"SUM(G38:G49)","v":0},{"$f":"SUM(H38:H49)","v":0}]
[]
[]
["If applicable, in the space below please provide a description for all un-metered water use along with amounts:"]
[]
[]
[]
[]
[]
[]
["Instructions: Fill out the Grey Cells with the relevant information.  Input 0 or none if there is nothing recorded in that account or there is no applicable information to report."]
[]
[]
[]
[{"$f":"'AR8'!A61:L61","v":"1 Water withdrawn - Total gallons of water withdrawn from pumped sources."}]
[{"$f":"'AR8'!A62:L62","v":"2 Water sold - Total gallons from customer meters, and other sales such as construction water."}]
[{"$f":"'AR8'!A63:L63","v":"3 Water delivered (sold) to other systems - Total gallons of water delivered to other systems."}]
[{"$f":"'AR8'!A64:L64","v":"4 Water received (purchased) from other systems - Total gallons of water purchased/received from other systems."}]
[{"$f":"'AR8'!A65:L66","v":{"$error":"#VALUE!"}}]
[]
[{"$f":"'AR8'!A67:L67","v":"6 Enter the total purchased power costs for the power meters associated with this system."}]
[{"$f":"'AR8'!A68:L68","v":"7 Enter the total purchased kWh used by the power meters associated with this system."}]
[]
[null,null,null,null,null,null,null,null,null,null,null,null,{"$f":"\"Page \"&M74","v":"Page 11e"}]
[null,null,null,null,null,null,null,null,null,null,null,null,{"$f":"'AR7'!E30+1&\"e\"","v":"11e"}]
[]
[]
[null,{"$f":"IF(C7=0,\"Incomplete\",\"Complete\")","v":"Incomplete"},{"$f":"IF(C28=0,\"Incomplete\",\"Complete\")","v":"Incomplete"},{"$f":"IF(C30=0,\"Incomplete\",\"Complete\")","v":"Incomplete"},{"$f":"IF(C32=0,\"Incomplete\",\"Complete\")","v":"Incomplete"},{"$f":"IF(C34=0,\"Incomplete\",\"Complete\")","v":"Incomplete"},{"$f":"IF(C35=0,\"Incomplete\",\"Complete\")","v":"Incomplete"},null,null,null,null,null,null,{"$f":"IF(B77=\"Incomplete\",\"Incomplete\",IF(C77=\"Incomplete\",\"Incomplete\",IF(D77=\"Incomplete\",\"Incomplete\",IF(E77=\"Incomplete\",\"Incomplete\",IF(F77=\"Incomplete\",\"Incomplete\",IF(G77=\"Incomplete\",\"Incomplete\",\"Complete\"))))))","v":"Incomplete"}]
[]
[]
[]
[{"$f":"ISBLANK(A11)","v":true},{"$f":"ISBLANK(B11)","v":true},{"$f":"ISBLANK(C11)","v":true},true,true,true,true,null,null,true,{"$f":"ISBLANK(K11)","v":true},{"$f":"ISBLANK(L11)","v":true}]
[{"$f":"ISBLANK(A12)","v":true},true,true,true,true,true,true,null,null,true,true,true]
[true,true,true,true,true,true,true,null,null,true,true,true]
[true,true,true,true,true,true,true,null,null,true,true,true]
[true,true,true,true,true,true,true,null,null,true,true,true]
[true,true,true,true,true,true,true,null,null,true,true,true]
[true,true,true,true,true,true,true,null,null,true,true,true]
[true,true,true,true,true,true,true,null,null,true,true,true]
[true,true,true,true,true,true,true,null,null,true,true,true]
[true,true,true,true,true,true,true,null,null,true,true,true]
[true,true,true,true,true,true,true,null,null,true,true,true]
[true,true,true,true,true,true,true,null,null,true,true,true]
[true,true,true,true,true,true,true,null,null,true,true,true]
[true,true,true,true,true,true,true,null,null,true,true,true]
[true,true,true,true,true,true,true,null,null,true,true,true]
[true,true,true,true,true,true,true,null,null,true,true,true]
[]
[{"$f":"IF(A81=TRUE,\"Incomplete\",\"Complete\")","v":"Incomplete"},{"$f":"IF(B81=TRUE,\"Incomplete\",\"Complete\")","v":"Incomplete"},{"$f":"IF(C81=TRUE,\"Incomplete\",\"Complete\")","v":"Incomplete"},"Incomplete","Incomplete","Incomplete","Incomplete",null,null,"Incomplete",{"$f":"IF(K81=TRUE,\"Incomplete\",\"Complete\")","v":"Incomplete"},{"$f":"IF(L81=TRUE,\"Incomplete\",\"Complete\")","v":"Incomplete"},{"$f":"IF(A98=\"Incomplete\",\"Incomplete\",IF(B98=\"Incomplete\",\"Incomplete\",IF(C98=\"Incomplete\",\"Incomplete\",IF(D98=\"Incomplete\",\"Incomplete\",IF(E98=\"Incomplete\",\"Incomplete\",IF(F98=\"Incomplete\",\"Incomplete\",IF(G98=\"Incomplete\",\"Incomplete\",IF(J98=\"Incomplete\",\"Incomplete\",IF(K98=\"Incomplete\",\"Incomplete\",IF(L98=\"Incomplete\",\"Incomplete\",\"Complete\"))))))))))","v":"Incomplete"}]
[{"$f":"IF(A82=TRUE,\"Incomplete\",\"Complete\")","v":"Incomplete"},"Incomplete","Incomplete","Incomplete","Incomplete","Incomplete","Incomplete",null,null,"Incomplete","Incomplete","Incomplete",{"$f":"IF(A99=\"Incomplete\",\"Incomplete\",IF(B99=\"Incomplete\",\"Incomplete\",IF(C99=\"Incomplete\",\"Incomplete\",IF(D99=\"Incomplete\",\"Incomplete\",IF(E99=\"Incomplete\",\"Incomplete\",IF(F99=\"Incomplete\",\"Incomplete\",IF(G99=\"Incomplete\",\"Incomplete\",IF(J99=\"Incomplete\",\"Incomplete\",IF(K99=\"Incomplete\",\"Incomplete\",IF(L99=\"Incomplete\",\"Incomplete\",\"Complete\"))))))))))","v":"Incomplete"}]
["Incomplete","Incomplete","Incomplete","Incomplete","Incomplete","Incomplete","Incomplete",null,null,"Incomplete","Incomplete","Incomplete","Incomplete"]
["Incomplete","Incomplete","Incomplete","Incomplete","Incomplete","Incomplete","Incomplete",null,null,"Incomplete","Incomplete","Incomplete","Incomplete"]
["Incomplete","Incomplete","Incomplete","Incomplete","Incomplete","Incomplete","Incomplete",null,null,"Incomplete","Incomplete","Incomplete","Incomplete"]
["Incomplete","Incomplete","Incomplete","Incomplete","Incomplete","Incomplete","Incomplete",null,null,"Incomplete","Incomplete","Incomplete","Incomplete"]
["Incomplete","Incomplete","Incomplete","Incomplete","Incomplete","Incomplete","Incomplete",null,null,"Incomplete","Incomplete","Incomplete","Incomplete"]
["Incomplete","Incomplete","Incomplete","Incomplete","Incomplete","Incomplete","Incomplete",null,null,"Incomplete","Incomplete","Incomplete","Incomplete",{"$f":"IF(M98=\"Incomplete\",\"Incomplete\",IF(M99=\"Incomplete\",\"Incomplete\",IF(M100=\"Incomplete\",\"Incomplete\",IF(M101=\"Incomplete\",\"Incomplete\",IF(M102=\"Incomplete\",\"Incomplete\",IF(M102=\"Incomplete\",\"Incomplete\",IF(M103=\"Incomplete\",\"Incomplete\",IF(M104=\"Incomplete\",\"Incomplete\",IF(M105=\"Incomplete\",\"Incomplete\",\"Complete\")))))))))","v":"Incomplete"}]
["Incomplete","Incomplete","Incomplete","Incomplete","Incomplete","Incomplete","Incomplete",null,null,"Incomplete","Incomplete","Incomplete","Incomplete"]
["Incomplete","Incomplete","Incomplete","Incomplete","Incomplete","Incomplete","Incomplete",null,null,"Incomplete","Incomplete","Incomplete","Incomplete"]
["Incomplete","Incomplete","Incomplete","Incomplete","Incomplete","Incomplete","Incomplete",null,null,"Incomplete","Incomplete","Incomplete","Incomplete"]
["Incomplete","Incomplete","Incomplete","Incomplete","Incomplete","Incomplete","Incomplete",null,null,"Incomplete","Incomplete","Incomplete","Incomplete"]
["Incomplete","Incomplete","Incomplete","Incomplete","Incomplete","Incomplete","Incomplete",null,null,"Incomplete","Incomplete","Incomplete","Incomplete"]
[{"$f":"IF(A94=TRUE,\"Incomplete\",\"Complete\")","v":"Incomplete"},{"$f":"IF(B94=TRUE,\"Incomplete\",\"Complete\")","v":"Incomplete"},"Incomplete","Incomplete","Incomplete","Incomplete","Incomplete",null,null,"Incomplete",{"$f":"IF(K94=TRUE,\"Incomplete\",\"Complete\")","v":"Incomplete"},{"$f":"IF(L94=TRUE,\"Incomplete\",\"Complete\")","v":"Incomplete"},"Incomplete"]
[{"$f":"IF(A95=TRUE,\"Incomplete\",\"Complete\")","v":"Incomplete"},"Incomplete","Incomplete","Incomplete","Incomplete","Incomplete","Incomplete",null,null,"Incomplete","Incomplete","Incomplete","Incomplete"]
[{"$f":"IF(A96=TRUE,\"Incomplete\",\"Complete\")","v":"Incomplete"},{"$f":"IF(B96=TRUE,\"Incomplete\",\"Complete\")","v":"Incomplete"},"Incomplete","Incomplete","Incomplete","Incomplete","Incomplete",null,null,"Incomplete",{"$f":"IF(K96=TRUE,\"Incomplete\",\"Complete\")","v":"Incomplete"},{"$f":"IF(L96=TRUE,\"Incomplete\",\"Complete\")","v":"Incomplete"},"Incomplete",{"$f":"IF(M106=\"Incomplete\",\"Incomplete\",IF(M107=\"Incomplete\",\"Incomplete\",IF(M108=\"Incomplete\",\"Incomplete\",IF(M109=\"Incomplete\",\"Incomplete\",IF(M110=\"Incomplete\",\"Incomplete\",IF(M110=\"Incomplete\",\"Incomplete\",IF(M111=\"Incomplete\",\"Incomplete\",IF(M112=\"Incomplete\",\"Incomplete\",IF(M113=\"Incomplete\",\"Incomplete\",\"Complete\")))))))))","v":"Incomplete"}]
[]
[]
[null,{"$f":"ISBLANK(B38)","v":true},true,true,true,true,true,null,null,{"$f":"ISBLANK(H38)","v":true}]
[null,true,true,true,true,true,true,null,null,true]
[null,true,true,true,true,true,true,null,null,true]
[null,true,true,true,true,true,true,null,null,true]
[null,true,true,true,true,true,true,null,null,true]
[null,true,true,true,true,true,true,null,null,true]
[null,true,true,true,true,true,true,null,null,true]
[null,true,true,true,true,true,true,null,null,true]
[null,true,true,true,true,true,true,null,null,true]
[null,true,true,true,true,true,true,null,null,true]
[null,true,true,true,true,true,true,null,null,true]
[null,true,true,true,true,true,true,null,null,true]
[]
[null,{"$f":"IF(B116=TRUE,\"Incomplete\",\"Complete\")","v":"Incomplete"},{"$f":"IF(C116=TRUE,\"Incomplete\",\"Complete\")","v":"Incomplete"},"Incomplete",{"$f":"IF(E116=TRUE,\"Incomplete\",\"Complete\")","v":"Incomplete"},{"$f":"IF(F116=TRUE,\"Incomplete\",\"Complete\")","v":"Incomplete"},{"$f":"IF(G116=TRUE,\"Incomplete\",\"Complete\")","v":"Incomplete"},null,null,"Incomplete",null,null,{"$f":"IF(B129=\"Incomplete\",\"Incomplete\",IF(C129=\"Incomplete\",\"Incomplete\",IF(D129=\"Incomplete\",\"Incomplete\",IF(E129=\"Incomplete\",\"Incomplete\",IF(F129=\"Incomplete\",\"Incomplete\",IF(G129=\"Incomplete\",\"Incomplete\",IF(J129=\"Incomplete\",\"Incomplete\",IF(K129=\"Incomplete\",\"Incomplete\",\"Complete\"))))))))","v":"Incomplete"}]
[null,{"$f":"IF(B117=TRUE,\"Incomplete\",\"Complete\")","v":"Incomplete"},"Incomplete","Incomplete","Incomplete","Incomplete","Incomplete",null,null,"Incomplete",null,null,{"$f":"IF(B130=\"Incomplete\",\"Incomplete\",IF(C130=\"Incomplete\",\"Incomplete\",IF(D130=\"Incomplete\",\"Incomplete\",IF(E130=\"Incomplete\",\"Incomplete\",IF(F130=\"Incomplete\",\"Incomplete\",IF(G130=\"Incomplete\",\"Incomplete\",IF(J130=\"Incomplete\",\"Incomplete\",IF(K130=\"Incomplete\",\"Incomplete\",\"Complete\"))))))))","v":"Incomplete"}]
[null,"Incomplete","Incomplete","Incomplete","Incomplete","Incomplete","Incomplete",null,null,"Incomplete",null,null,"Incomplete"]
[null,"Incomplete","Incomplete","Incomplete","Incomplete","Incomplete","Incomplete",null,null,"Incomplete",null,null,"Incomplete"]
[null,"Incomplete","Incomplete","Incomplete","Incomplete","Incomplete","Incomplete",null,null,"Incomplete",null,null,"Incomplete",{"$f":"IF(N77=\"Incomplete\",\"Incomplete\",IF(M129=\"Incomplete\",\"Incomplete\",IF(M130=\"Incomplete\",\"Incomplete\",IF(M131=\"Incomplete\",\"Incomplete\",IF(M131=\"Incomplete\",\"Incomplete\",IF(M132=\"Incomplete\",\"Incomplete\",IF(M133=\"Incomplete\",\"Incomplete\",\"Complete\")))))))","v":"Incomplete"}]
[null,"Incomplete","Incomplete","Incomplete","Incomplete","Incomplete","Incomplete",null,null,"Incomplete",null,null,"Incomplete"]
[null,"Incomplete","Incomplete","Incomplete","Incomplete","Incomplete","Incomplete",null,null,"Incomplete",null,null,"Incomplete"]
[null,"Incomplete","Incomplete","Incomplete","Incomplete","Incomplete","Incomplete",null,null,"Incomplete",null,null,"Incomplete"]
[null,"Incomplete","Incomplete","Incomplete","Incomplete","Incomplete","Incomplete",null,null,"Incomplete",null,null,"Incomplete"]
[null,{"$f":"IF(B125=TRUE,\"Incomplete\",\"Complete\")","v":"Incomplete"},"Incomplete","Incomplete","Incomplete","Incomplete","Incomplete",null,null,"Incomplete",null,null,"Incomplete"]
[null,{"$f":"IF(B126=TRUE,\"Incomplete\",\"Complete\")","v":"Incomplete"},"Incomplete","Incomplete","Incomplete","Incomplete","Incomplete",null,null,"Incomplete",null,null,"Incomplete"]
[null,"Incomplete","Incomplete","Incomplete","Incomplete","Incomplete","Incomplete",null,null,"Incomplete",null,null,"Incomplete",{"$f":"IF(M134=\"Incomplete\",\"Incomplete\",IF(M135=\"Incomplete\",\"Incomplete\",IF(M136=\"Incomplete\",\"Incomplete\",IF(M137=\"Incomplete\",\"Incomplete\",IF(M138=\"Incomplete\",\"Incomplete\",IF(M138=\"Incomplete\",\"Incomplete\",IF(M139=\"Incomplete\",\"Incomplete\",IF(M140=\"Incomplete\",\"Incomplete\",\"Complete\"))))))))","v":"Incomplete"}]
[null,null,"Sold","Total"]
[null,null,{"$f":"C50","v":0},{"$f":"B50+E50-F50","v":0},null,null,null,null,null,null,null,null,null,{"$f":"IF(N77=\"Incomplete\",\"Incomplete\",IF(N105=\"Incomplete\",\"Incomplete\",IF(N113=\"Incomplete\",\"Incomplete\",IF(N133=\"Incomplete\",\"Incomplete\",IF(N140=\"Incomplete\",\"Incomplete\",\"Complete\")))))","v":"Incomplete"}]
[]
[{"$f":"IF(C142=D142,\"The Gallons pumped should not be equal to the gallons sold.  There is a potentially significant problem, please investigate and explain.\",IF(D142<C142,\"The Gallons pumped should not be less than the gallons sold.  There is a potentially significant problem, please investigate and explain..\",\"\"))","v":"The Gallons pumped should not be equal to the gallons sold.  There is a potentially significant problem, please investigate and explain."}]
[]
[]
["Note:  If you are filing for more than five systems, please click on the button below."]

{"sheet":"AR8 (f)","index":16,"n_rows":147,"n_cols":17,"rows_kept":147,"cut":false,"hidden":true,"merged":[[31,0,31,1],[31,2,31,6],[5,0,5,11],[6,0,6,1],[6,2,6,6],[7,0,7,2],[7,3,7,4],[8,0,8,2],[8,3,8,4],[27,0,27,1],[27,2,27,6],[28,0,28,2],[28,3,28,4],[29,0,29,1],[66,0,66,11],[32,0,32,2],[32,3,32,4],[33,0,33,1],[34,0,34,1],[34,2,34,3],[52,0,52,11],[53,0,57,11],[59,0,59,11],[63,0,63,11],[64,0,64,11],[65,0,65,11],[67,0,68,11],[69,0,69,11],[70,0,70,11],[143,0,143,11],[146,0,146,11]]}
[{"$f":"'AR1'!B12","v":0},null,null,null,null,null,null,null,null,null,null,null,null,null,"AR8"]
["Annual Report",null,null,null,null,null,null,null,null,null,null,null,null,null,{"$f":"\"Annual Report page \"&M74","v":"Annual Report page 11f"}]
[{"$f":"A6","v":"Well and Water Usage"}]
[{"$f":"IF('AR1'!B19=\"\",\"\",'AR1'!B19)","v":"12/31/20"}]
[]
["Well and Water Usage"]
["Name of the System:"]
["ADEQ Public Water System Number:",null,null,{"$f":"IF(C7=\"\",\"\",VLOOKUP(C7, 'Drop down lists'!$AD$2:$AJ$902, 2, FALSE))","v":""}]
["ADWR PCC Number:",null,null,{"$f":"IF(C7=\"\",\"\",VLOOKUP(C7, 'Drop down lists'!$AD$2:$AJ$902, 3, FALSE))","v":""}]
["Well registry 55# (55-XXXXXX):","Pump Horsepower","Pump Yield (gpm)","Casing Depth (feet)","Casing Diameter (inches)","Pump Motor Type **","Year Drilled",{"$f":"'AR8'!H10","v":"Water level 2010"},{"$f":"'AR8'!I10","v":"Water level 2020"},"Meter Size (inches)","How measured:","Active"]
[]
[]
[]
[]
[]
[]
[]
[]
[]
[]
[]
[]
[]
[]
[]
[]
[]
["Name of system water delivered to:"]
["ADWR PCC Number:",null,null,{"$f":"IF(C28=\"\",\"\",VLOOKUP(C28, 'Drop down lists'!$AM$2:$AS$905, 3, FALSE))","v":""}]
["Source of water delivered to another system"]
[]
["Name of system water received from:"]
["ADWR PCC Number:",null,null,{"$f":"IF(C32=\"\",\"\",VLOOKUP(C32, 'Drop down lists'!$AM$2:$AS$905, 3, FALSE))","v":""}]
["Source of water received"]
["Well registry 55# (55-XXXXXX):"]
[]
["Month",{"$f":"\"Water withdrawn (\"&'AR8'!O38&\")1\"","v":"Water withdrawn (gallons)1"},{"$f":"\"Water sold (\"&'AR8'!O38&\")2\"","v":"Water sold (gallons)2"},{"$f":"\"Water delivered (sold) to other systems (\"&'AR8'!O38&\")3\"","v":"Water delivered (sold) to other systems (gallons)3"},{"$f":"\"Water received (purchased) from other systems (\"&'AR8'!O38&\")4\"","v":"Water received (purchased) from other systems (gallons)4"},{"$f":"\"Estimated authorized use (\"&'AR8'!O38&\")5\"","v":"Estimated authorized use (gallons)5"},"Purchased Power Expense6","Purchased Power (kWh)7",null,null,null,null,null,null,null,"Table of Contents"]
["January",null,null,null,null,null,null,null,null,null,null,null,null,null,null,"Gallons","Acre feet"]
["February",null,null,null,null,null,null,null,null,null,null,null,null,null,null,null,{"$f":"P39/325850.943","v":0}]
["March"]
["April"]
["May"]
["June"]
["July"]
["August"]
["September"]
["October"]
["November"]
["December"]
["Totals",{"$f":"SUM(B38:B49)","v":0},0,{"$f":"SUM(D38:D49)","v":0},{"$f":"SUM(E38:E49)","v":0},{"$f":"SUM(F38:F49)","v":0},{"$f":"SUM(G38:G49)","v":0},{"$f":"SUM(H38:H49)","v":0}]
[]
[]
["If applicable, in the space below please provide a description for all un-metered water use along with amounts:"]
[]
[]
[]
[]
[]
[]
["Instructions: Fill out the Grey Cells with the relevant information.  Input 0 or none if there is nothing recorded in that account or there is no applicable information to report."]
[]
[]
[]
[{"$f":"'AR8'!A61:L61","v":"1 Water withdrawn - Total gallons of water withdrawn from pumped sources."}]
[{"$f":"'AR8'!A62:L62","v":"2 Water sold - Total gallons from customer meters, and other sales such as construction water."}]
[{"$f":"'AR8'!A63:L63","v":"3 Water delivered (sold) to other systems - Total gallons of water delivered to other systems."}]
[{"$f":"'AR8'!A64:L64","v":"4 Water received (purchased) from other systems - Total gallons of water purchased/received from other systems."}]
[{"$f":"'AR8'!A65:L66","v":{"$error":"#VALUE!"}}]
[]
[{"$f":"'AR8'!A67:L67","v":"6 Enter the total purchased power costs for the power meters associated with this system."}]
[{"$f":"'AR8'!A68:L68","v":"7 Enter the total purchased kWh used by the power meters associated with this system."}]
[]
[null,null,null,null,null,null,null,null,null,null,null,null,{"$f":"\"Page \"&M74","v":"Page 11f"}]
[null,null,null,null,null,null,null,null,null,null,null,null,{"$f":"'AR7'!E30+1&\"f\"","v":"11f"}]
[]
[]
[null,{"$f":"IF(C7=0,\"Incomplete\",\"Complete\")","v":"Incomplete"},{"$f":"IF(C28=0,\"Incomplete\",\"Complete\")","v":"Incomplete"},{"$f":"IF(C30=0,\"Incomplete\",\"Complete\")","v":"Incomplete"},{"$f":"IF(C32=0,\"Incomplete\",\"Complete\")","v":"Incomplete"},{"$f":"IF(C34=0,\"Incomplete\",\"Complete\")","v":"Incomplete"},{"$f":"IF(C35=0,\"Incomplete\",\"Complete\")","v":"Incomplete"},null,null,null,null,null,null,{"$f":"IF(B77=\"Incomplete\",\"Incomplete\",IF(C77=\"Incomplete\",\"Incomplete\",IF(D77=\"Incomplete\",\"Incomplete\",IF(E77=\"Incomplete\",\"Incomplete\",IF(F77=\"Incomplete\",\"Incomplete\",IF(G77=\"Incomplete\",\"Incomplete\",\"Complete\"))))))","v":"Incomplete"}]
[]
[]
[]
[{"$f":"ISBLANK(A11)","v":true},{"$f":"ISBLANK(B11)","v":true},{"$f":"ISBLANK(C11)","v":true},true,true,true,true,null,null,true,{"$f":"ISBLANK(K11)","v":true},{"$f":"ISBLANK(L11)","v":true}]
[{"$f":"ISBLANK(A12)","v":true},true,true,true,true,true,true,null,null,true,true,true]
[true,true,true,true,true,true,true,null,null,true,true,true]
[true,true,true,true,true,true,true,null,null,true,true,true]
[true,true,true,true,true,true,true,null,null,true,true,true]
[true,true,true,true,true,true,true,null,null,true,true,true]
[true,true,true,true,true,true,true,null,null,true,true,true]
[true,true,true,true,true,true,true,null,null,true,true,true]
[true,true,true,true,true,true,true,null,null,true,true,true]
[true,true,true,true,true,true,true,null,null,true,true,true]
[true,true,true,true,true,true,true,null,null,true,true,true]
[true,true,true,true,true,true,true,null,null,true,true,true]
[true,true,true,true,true,true,true,null,null,true,true,true]
[true,true,true,true,true,true,true,null,null,true,true,true]
[true,true,true,true,true,true,true,null,null,true,true,true]
[true,true,true,true,true,true,true,null,null,true,true,true]
[]
[{"$f":"IF(A81=TRUE,\"Incomplete\",\"Complete\")","v":"Incomplete"},{"$f":"IF(B81=TRUE,\"Incomplete\",\"Complete\")","v":"Incomplete"},{"$f":"IF(C81=TRUE,\"Incomplete\",\"Complete\")","v":"Incomplete"},"Incomplete","Incomplete","Incomplete","Incomplete",null,null,"Incomplete",{"$f":"IF(K81=TRUE,\"Incomplete\",\"Complete\")","v":"Incomplete"},{"$f":"IF(L81=TRUE,\"Incomplete\",\"Complete\")","v":"Incomplete"},{"$f":"IF(A98=\"Incomplete\",\"Incomplete\",IF(B98=\"Incomplete\",\"Incomplete\",IF(C98=\"Incomplete\",\"Incomplete\",IF(D98=\"Incomplete\",\"Incomplete\",IF(E98=\"Incomplete\",\"Incomplete\",IF(F98=\"Incomplete\",\"Incomplete\",IF(G98=\"Incomplete\",\"Incomplete\",IF(J98=\"Incomplete\",\"Incomplete\",IF(K98=\"Incomplete\",\"Incomplete\",IF(L98=\"Incomplete\",\"Incomplete\",\"Complete\"))))))))))","v":"Incomplete"}]
[{"$f":"IF(A82=TRUE,\"Incomplete\",\"Complete\")","v":"Incomplete"},"Incomplete","Incomplete","Incomplete","Incomplete","Incomplete","Incomplete",null,null,"Incomplete","Incomplete","Incomplete",{"$f":"IF(A99=\"Incomplete\",\"Incomplete\",IF(B99=\"Incomplete\",\"Incomplete\",IF(C99=\"Incomplete\",\"Incomplete\",IF(D99=\"Incomplete\",\"Incomplete\",IF(E99=\"Incomplete\",\"Incomplete\",IF(F99=\"Incomplete\",\"Incomplete\",IF(G99=\"Incomplete\",\"Incomplete\",IF(J99=\"Incomplete\",\"Incomplete\",IF(K99=\"Incomplete\",\"Incomplete\",IF(L99=\"Incomplete\",\"Incomplete\",\"Complete\"))))))))))","v":"Incomplete"}]
["Incomplete","Incomplete","Incomplete","Incomplete","Incomplete","Incomplete","Incomplete",null,null,"Incomplete","Incomplete","Incomplete","Incomplete"]
["Incomplete","Incomplete","Incomplete","Incomplete","Incomplete","Incomplete","Incomplete",null,null,"Incomplete","Incomplete","Incomplete","Incomplete"]
["Incomplete","Incomplete","Incomplete","Incomplete","Incomplete","Incomplete","Incomplete",null,null,"Incomplete","Incomplete","Incomplete","Incomplete"]
["Incomplete","Incomplete","Incomplete","Incomplete","Incomplete","Incomplete","Incomplete",null,null,"Incomplete","Incomplete","Incomplete","Incomplete"]
["Incomplete","Incomplete","Incomplete","Incomplete","Incomplete","Incomplete","Incomplete",null,null,"Incomplete","Incomplete","Incomplete","Incomplete"]
["Incomplete","Incomplete","Incomplete","Incomplete","Incomplete","Incomplete","Incomplete",null,null,"Incomplete","Incomplete","Incomplete","Incomplete",{"$f":"IF(M98=\"Incomplete\",\"Incomplete\",IF(M99=\"Incomplete\",\"Incomplete\",IF(M100=\"Incomplete\",\"Incomplete\",IF(M101=\"Incomplete\",\"Incomplete\",IF(M102=\"Incomplete\",\"Incomplete\",IF(M102=\"Incomplete\",\"Incomplete\",IF(M103=\"Incomplete\",\"Incomplete\",IF(M104=\"Incomplete\",\"Incomplete\",IF(M105=\"Incomplete\",\"Incomplete\",\"Complete\")))))))))","v":"Incomplete"}]
["Incomplete","Incomplete","Incomplete","Incomplete","Incomplete","Incomplete","Incomplete",null,null,"Incomplete","Incomplete","Incomplete","Incomplete"]
["Incomplete","Incomplete","Incomplete","Incomplete","Incomplete","Incomplete","Incomplete",null,null,"Incomplete","Incomplete","Incomplete","Incomplete"]
["Incomplete","Incomplete","Incomplete","Incomplete","Incomplete","Incomplete","Incomplete",null,null,"Incomplete","Incomplete","Incomplete","Incomplete"]
["Incomplete","Incomplete","Incomplete","Incomplete","Incomplete","Incomplete","Incomplete",null,null,"Incomplete","Incomplete","Incomplete","Incomplete"]
["Incomplete","Incomplete","Incomplete","Incomplete","Incomplete","Incomplete","Incomplete",null,null,"Incomplete","Incomplete","Incomplete","Incomplete"]
[{"$f":"IF(A94=TRUE,\"Incomplete\",\"Complete\")","v":"Incomplete"},{"$f":"IF(B94=TRUE,\"Incomplete\",\"Complete\")","v":"Incomplete"},"Incomplete","Incomplete","Incomplete","Incomplete","Incomplete",null,null,"Incomplete",{"$f":"IF(K94=TRUE,\"Incomplete\",\"Complete\")","v":"Incomplete"},{"$f":"IF(L94=TRUE,\"Incomplete\",\"Complete\")","v":"Incomplete"},"Incomplete"]
[{"$f":"IF(A95=TRUE,\"Incomplete\",\"Complete\")","v":"Incomplete"},"Incomplete","Incomplete","Incomplete","Incomplete","Incomplete","Incomplete",null,null,"Incomplete","Incomplete","Incomplete","Incomplete"]
[{"$f":"IF(A96=TRUE,\"Incomplete\",\"Complete\")","v":"Incomplete"},{"$f":"IF(B96=TRUE,\"Incomplete\",\"Complete\")","v":"Incomplete"},"Incomplete","Incomplete","Incomplete","Incomplete","Incomplete",null,null,"Incomplete",{"$f":"IF(K96=TRUE,\"Incomplete\",\"Complete\")","v":"Incomplete"},{"$f":"IF(L96=TRUE,\"Incomplete\",\"Complete\")","v":"Incomplete"},"Incomplete",{"$f":"IF(M106=\"Incomplete\",\"Incomplete\",IF(M107=\"Incomplete\",\"Incomplete\",IF(M108=\"Incomplete\",\"Incomplete\",IF(M109=\"Incomplete\",\"Incomplete\",IF(M110=\"Incomplete\",\"Incomplete\",IF(M110=\"Incomplete\",\"Incomplete\",IF(M111=\"Incomplete\",\"Incomplete\",IF(M112=\"Incomplete\",\"Incomplete\",IF(M113=\"Incomplete\",\"Incomplete\",\"Complete\")))))))))","v":"Incomplete"}]
[]
[]
[null,{"$f":"ISBLANK(B38)","v":true},true,true,true,true,true,null,null,{"$f":"ISBLANK(H38)","v":true}]
[null,true,true,true,true,true,true,null,null,true]
[null,true,true,true,true,true,true,null,null,true]
[null,true,true,true,true,true,true,null,null,true]
[null,true,true,true,true,true,true,null,null,true]
[null,true,true,true,true,true,true,null,null,true]
[null,true,true,true,true,true,true,null,null,true]
[null,true,true,true,true,true,true,null,null,true]
[null,true,true,true,true,true,true,null,null,true]
[null,true,true,true,true,true,true,null,null,true]
[null,true,true,true,true,true,true,null,null,true]
[null,true,true,true,true,true,true,null,null,true]
[]
[null,{"$f":"IF(B116=TRUE,\"Incomplete\",\"Complete\")","v":"Incomplete"},{"$f":"IF(C116=TRUE,\"Incomplete\",\"Complete\")","v":"Incomplete"},"Incomplete",{"$f":"IF(E116=TRUE,\"Incomplete\",\"Complete\")","v":"Incomplete"},{"$f":"IF(F116=TRUE,\"Incomplete\",\"Complete\")","v":"Incomplete"},{"$f":"IF(G116=TRUE,\"Incomplete\",\"Complete\")","v":"Incomplete"},null,null,"Incomplete",null,null,{"$f":"IF(B129=\"Incomplete\",\"Incomplete\",IF(C129=\"Incomplete\",\"Incomplete\",IF(D129=\"Incomplete\",\"Incomplete\",IF(E129=\"Incomplete\",\"Incomplete\",IF(F129=\"Incomplete\",\"Incomplete\",IF(G129=\"Incomplete\",\"Incomplete\",IF(J129=\"Incomplete\",\"Incomplete\",IF(K129=\"Incomplete\",\"Incomplete\",\"Complete\"))))))))","v":"Incomplete"}]
[null,{"$f":"IF(B117=TRUE,\"Incomplete\",\"Complete\")","v":"Incomplete"},"Incomplete","Incomplete","Incomplete","Incomplete","Incomplete",null,null,"Incomplete",null,null,{"$f":"IF(B130=\"Incomplete\",\"Incomplete\",IF(C130=\"Incomplete\",\"Incomplete\",IF(D130=\"Incomplete\",\"Incomplete\",IF(E130=\"Incomplete\",\"Incomplete\",IF(F130=\"Incomplete\",\"Incomplete\",IF(G130=\"Incomplete\",\"Incomplete\",IF(J130=\"Incomplete\",\"Incomplete\",IF(K130=\"Incomplete\",\"Incomplete\",\"Complete\"))))))))","v":"Incomplete"}]
[null,"Incomplete","Incomplete","Incomplete","Incomplete","Incomplete","Incomplete",null,null,"Incomplete",null,null,"Incomplete"]
[null,"Incomplete","Incomplete","Incomplete","Incomplete","Incomplete","Incomplete",null,null,"Incomplete",null,null,"Incomplete"]
[null,"Incomplete","Incomplete","Incomplete","Incomplete","Incomplete","Incomplete",null,null,"Incomplete",null,null,"Incomplete",{"$f":"IF(N77=\"Incomplete\",\"Incomplete\",IF(M129=\"Incomplete\",\"Incomplete\",IF(M130=\"Incomplete\",\"Incomplete\",IF(M131=\"Incomplete\",\"Incomplete\",IF(M131=\"Incomplete\",\"Incomplete\",IF(M132=\"Incomplete\",\"Incomplete\",IF(M133=\"Incomplete\",\"Incomplete\",\"Complete\")))))))","v":"Incomplete"}]
[null,"Incomplete","Incomplete","Incomplete","Incomplete","Incomplete","Incomplete",null,null,"Incomplete",null,null,"Incomplete"]
[null,"Incomplete","Incomplete","Incomplete","Incomplete","Incomplete","Incomplete",null,null,"Incomplete",null,null,"Incomplete"]
[null,"Incomplete","Incomplete","Incomplete","Incomplete","Incomplete","Incomplete",null,null,"Incomplete",null,null,"Incomplete"]
[null,"Incomplete","Incomplete","Incomplete","Incomplete","Incomplete","Incomplete",null,null,"Incomplete",null,null,"Incomplete"]
[null,{"$f":"IF(B125=TRUE,\"Incomplete\",\"Complete\")","v":"Incomplete"},"Incomplete","Incomplete","Incomplete","Incomplete","Incomplete",null,null,"Incomplete",null,null,"Incomplete"]
[null,{"$f":"IF(B126=TRUE,\"Incomplete\",\"Complete\")","v":"Incomplete"},"Incomplete","Incomplete","Incomplete","Incomplete","Incomplete",null,null,"Incomplete",null,null,"Incomplete"]
[null,"Incomplete","Incomplete","Incomplete","Incomplete","Incomplete","Incomplete",null,null,"Incomplete",null,null,"Incomplete",{"$f":"IF(M134=\"Incomplete\",\"Incomplete\",IF(M135=\"Incomplete\",\"Incomplete\",IF(M136=\"Incomplete\",\"Incomplete\",IF(M137=\"Incomplete\",\"Incomplete\",IF(M138=\"Incomplete\",\"Incomplete\",IF(M138=\"Incomplete\",\"Incomplete\",IF(M139=\"Incomplete\",\"Incomplete\",IF(M140=\"Incomplete\",\"Incomplete\",\"Complete\"))))))))","v":"Incomplete"}]
[null,null,"Sold","Total"]
[null,null,{"$f":"C50","v":0},{"$f":"B50+E50-F50","v":0},null,null,null,null,null,null,null,null,null,{"$f":"IF(N77=\"Incomplete\",\"Incomplete\",IF(N105=\"Incomplete\",\"Incomplete\",IF(N113=\"Incomplete\",\"Incomplete\",IF(N133=\"Incomplete\",\"Incomplete\",IF(N140=\"Incomplete\",\"Incomplete\",\"Complete\")))))","v":"Incomplete"}]
[]
[{"$f":"IF(C142=D142,\"The Gallons pumped should not be equal to the gallons sold.  There is a potentially significant problem, please investigate and explain.\",IF(D142<C142,\"The Gallons pumped should not be less than the gallons sold.  There is a potentially significant problem, please investigate and explain..\",\"\"))","v":"The Gallons pumped should not be equal to the gallons sold.  There is a potentially significant problem, please investigate and explain."}]
[]
[]
["Note:  If you are filing for more than six systems, please click on the button below."]

{"sheet":"AR8 (g)","index":17,"n_rows":147,"n_cols":17,"rows_kept":147,"cut":false,"hidden":true,"merged":[[31,0,31,1],[31,2,31,6],[5,0,5,11],[6,0,6,1],[6,2,6,6],[7,0,7,2],[7,3,7,4],[8,0,8,2],[8,3,8,4],[27,0,27,1],[27,2,27,6],[28,0,28,2],[28,3,28,4],[29,0,29,1],[66,0,66,11],[32,0,32,2],[32,3,32,4],[33,0,33,1],[34,0,34,1],[34,2,34,3],[52,0,52,11],[53,0,57,11],[59,0,59,11],[63,0,63,11],[64,0,64,11],[65,0,65,11],[67,0,68,11],[69,0,69,11],[70,0,70,11],[143,0,143,11],[146,0,146,11]]}
[{"$f":"'AR1'!B12","v":0},null,null,null,null,null,null,null,null,null,null,null,null,null,"AR8"]
["Annual Report",null,null,null,null,null,null,null,null,null,null,null,null,null,{"$f":"\"Annual Report page \"&M74","v":"Annual Report page 11g"}]
[{"$f":"A6","v":"Well and Water Usage"}]
[{"$f":"IF('AR1'!B19=\"\",\"\",'AR1'!B19)","v":"12/31/20"}]
[]
["Well and Water Usage"]
["Name of the System:"]
["ADEQ Public Water System Number:",null,null,{"$f":"IF(C7=\"\",\"\",VLOOKUP(C7, 'Drop down lists'!$AD$2:$AJ$902, 2, FALSE))","v":""}]
["ADWR PCC Number:",null,null,{"$f":"IF(C7=\"\",\"\",VLOOKUP(C7, 'Drop down lists'!$AD$2:$AJ$902, 3, FALSE))","v":""}]
["Well registry 55# (55-XXXXXX):","Pump Horsepower","Pump Yield (gpm)","Casing Depth (feet)","Casing Diameter (inches)","Pump Motor Type **","Year Drilled",{"$f":"'AR8'!H10","v":"Water level 2010"},{"$f":"'AR8'!I10","v":"Water level 2020"},"Meter Size (inches)","How measured:","Active"]
[]
[]
[]
[]
[]
[]
[]
[]
[]
[]
[]
[]
[]
[]
[]
[]
[]
["Name of system water delivered to:"]
["ADWR PCC Number:",null,null,{"$f":"IF(C28=\"\",\"\",VLOOKUP(C28, 'Drop down lists'!$AM$2:$AS$905, 3, FALSE))","v":""}]
["Source of water delivered to another system"]
[]
["Name of system water received from:"]
["ADWR PCC Number:",null,null,{"$f":"IF(C32=\"\",\"\",VLOOKUP(C32, 'Drop down lists'!$AM$2:$AS$905, 3, FALSE))","v":""}]
["Source of water received"]
["Well registry 55# (55-XXXXXX):"]
[]
["Month",{"$f":"\"Water withdrawn (\"&'AR8'!O38&\")1\"","v":"Water withdrawn (gallons)1"},{"$f":"\"Water sold (\"&'AR8'!O38&\")2\"","v":"Water sold (gallons)2"},{"$f":"\"Water delivered (sold) to other systems (\"&'AR8'!O38&\")3\"","v":"Water delivered (sold) to other systems (gallons)3"},{"$f":"\"Water received (purchased) from other systems (\"&'AR8'!O38&\")4\"","v":"Water received (purchased) from other systems (gallons)4"},{"$f":"\"Estimated authorized use (\"&'AR8'!O38&\")5\"","v":"Estimated authorized use (gallons)5"},"Purchased Power Expense6","Purchased Power (kWh)7",null,null,null,null,null,null,null,"Table of Contents"]
["January",null,null,null,null,null,null,null,null,null,null,null,null,null,null,"Gallons","Acre feet"]
["February",null,null,null,null,null,null,null,null,null,null,null,null,null,null,null,{"$f":"P39/325850.943","v":0}]
["March"]
["April"]
["May"]
["June"]
["July"]
["August"]
["September"]
["October"]
["November"]
["December"]
["Totals",{"$f":"SUM(B38:B49)","v":0},0,{"$f":"SUM(D38:D49)","v":0},{"$f":"SUM(E38:E49)","v":0},{"$f":"SUM(F38:F49)","v":0},{"$f":"SUM(G38:G49)","v":0},{"$f":"SUM(H38:H49)","v":0}]
[]
[]
["If applicable, in the space below please provide a description for all un-metered water use along with amounts:"]
[]
[]
[]
[]
[]
[]
["Instructions: Fill out the Grey Cells with the relevant information.  Input 0 or none if there is nothing recorded in that account or there is no applicable information to report."]
[]
[]
[]
[{"$f":"'AR8'!A61:L61","v":"1 Water withdrawn - Total gallons of water withdrawn from pumped sources."}]
[{"$f":"'AR8'!A62:L62","v":"2 Water sold - Total gallons from customer meters, and other sales such as construction water."}]
[{"$f":"'AR8'!A63:L63","v":"3 Water delivered (sold) to other systems - Total gallons of water delivered to other systems."}]
[{"$f":"'AR8'!A64:L64","v":"4 Water received (purchased) from other systems - Total gallons of water purchased/received from other systems."}]
[{"$f":"'AR8'!A65:L66","v":{"$error":"#VALUE!"}}]
[]
[{"$f":"'AR8'!A67:L67","v":"6 Enter the total purchased power costs for the power meters associated with this system."}]
[{"$f":"'AR8'!A68:L68","v":"7 Enter the total purchased kWh used by the power meters associated with this system."}]
[]
[null,null,null,null,null,null,null,null,null,null,null,null,{"$f":"\"Page \"&M74","v":"Page 11g"}]
[null,null,null,null,null,null,null,null,null,null,null,null,{"$f":"'AR7'!E30+1&\"g\"","v":"11g"}]
[]
[]
[null,{"$f":"IF(C7=0,\"Incomplete\",\"Complete\")","v":"Incomplete"},{"$f":"IF(C28=0,\"Incomplete\",\"Complete\")","v":"Incomplete"},{"$f":"IF(C30=0,\"Incomplete\",\"Complete\")","v":"Incomplete"},{"$f":"IF(C32=0,\"Incomplete\",\"Complete\")","v":"Incomplete"},{"$f":"IF(C34=0,\"Incomplete\",\"Complete\")","v":"Incomplete"},{"$f":"IF(C35=0,\"Incomplete\",\"Complete\")","v":"Incomplete"},null,null,null,null,null,null,{"$f":"IF(B77=\"Incomplete\",\"Incomplete\",IF(C77=\"Incomplete\",\"Incomplete\",IF(D77=\"Incomplete\",\"Incomplete\",IF(E77=\"Incomplete\",\"Incomplete\",IF(F77=\"Incomplete\",\"Incomplete\",IF(G77=\"Incomplete\",\"Incomplete\",\"Complete\"))))))","v":"Incomplete"}]
[]
[]
[]
[{"$f":"ISBLANK(A11)","v":true},{"$f":"ISBLANK(B11)","v":true},{"$f":"ISBLANK(C11)","v":true},true,true,true,true,null,null,true,{"$f":"ISBLANK(K11)","v":true},{"$f":"ISBLANK(L11)","v":true}]
[{"$f":"ISBLANK(A12)","v":true},true,true,true,true,true,true,null,null,true,true,true]
[true,true,true,true,true,true,true,null,null,true,true,true]
[true,true,true,true,true,true,true,null,null,true,true,true]
[true,true,true,true,true,true,true,null,null,true,true,true]
[true,true,true,true,true,true,true,null,null,true,true,true]
[true,true,true,true,true,true,true,null,null,true,true,true]
[true,true,true,true,true,true,true,null,null,true,true,true]
[true,true,true,true,true,true,true,null,null,true,true,true]
[true,true,true,true,true,true,true,null,null,true,true,true]
[true,true,true,true,true,true,true,null,null,true,true,true]
[true,true,true,true,true,true,true,null,null,true,true,true]
[true,true,true,true,true,true,true,null,null,true,true,true]
[true,true,true,true,true,true,true,null,null,true,true,true]
[true,true,true,true,true,true,true,null,null,true,true,true]
[true,true,true,true,true,true,true,null,null,true,true,true]
[]
[{"$f":"IF(A81=TRUE,\"Incomplete\",\"Complete\")","v":"Incomplete"},{"$f":"IF(B81=TRUE,\"Incomplete\",\"Complete\")","v":"Incomplete"},{"$f":"IF(C81=TRUE,\"Incomplete\",\"Complete\")","v":"Incomplete"},"Incomplete","Incomplete","Incomplete","Incomplete",null,null,"Incomplete",{"$f":"IF(K81=TRUE,\"Incomplete\",\"Complete\")","v":"Incomplete"},{"$f":"IF(L81=TRUE,\"Incomplete\",\"Complete\")","v":"Incomplete"},{"$f":"IF(A98=\"Incomplete\",\"Incomplete\",IF(B98=\"Incomplete\",\"Incomplete\",IF(C98=\"Incomplete\",\"Incomplete\",IF(D98=\"Incomplete\",\"Incomplete\",IF(E98=\"Incomplete\",\"Incomplete\",IF(F98=\"Incomplete\",\"Incomplete\",IF(G98=\"Incomplete\",\"Incomplete\",IF(J98=\"Incomplete\",\"Incomplete\",IF(K98=\"Incomplete\",\"Incomplete\",IF(L98=\"Incomplete\",\"Incomplete\",\"Complete\"))))))))))","v":"Incomplete"}]
[{"$f":"IF(A82=TRUE,\"Incomplete\",\"Complete\")","v":"Incomplete"},"Incomplete","Incomplete","Incomplete","Incomplete","Incomplete","Incomplete",null,null,"Incomplete","Incomplete","Incomplete",{"$f":"IF(A99=\"Incomplete\",\"Incomplete\",IF(B99=\"Incomplete\",\"Incomplete\",IF(C99=\"Incomplete\",\"Incomplete\",IF(D99=\"Incomplete\",\"Incomplete\",IF(E99=\"Incomplete\",\"Incomplete\",IF(F99=\"Incomplete\",\"Incomplete\",IF(G99=\"Incomplete\",\"Incomplete\",IF(J99=\"Incomplete\",\"Incomplete\",IF(K99=\"Incomplete\",\"Incomplete\",IF(L99=\"Incomplete\",\"Incomplete\",\"Complete\"))))))))))","v":"Incomplete"}]
["Incomplete","Incomplete","Incomplete","Incomplete","Incomplete","Incomplete","Incomplete",null,null,"Incomplete","Incomplete","Incomplete","Incomplete"]
["Incomplete","Incomplete","Incomplete","Incomplete","Incomplete","Incomplete","Incomplete",null,null,"Incomplete","Incomplete","Incomplete","Incomplete"]
["Incomplete","Incomplete","Incomplete","Incomplete","Incomplete","Incomplete","Incomplete",null,null,"Incomplete","Incomplete","Incomplete","Incomplete"]
["Incomplete","Incomplete","Incomplete","Incomplete","Incomplete","Incomplete","Incomplete",null,null,"Incomplete","Incomplete","Incomplete","Incomplete"]
["Incomplete","Incomplete","Incomplete","Incomplete","Incomplete","Incomplete","Incomplete",null,null,"Incomplete","Incomplete","Incomplete","Incomplete"]
["Incomplete","Incomplete","Incomplete","Incomplete","Incomplete","Incomplete","Incomplete",null,null,"Incomplete","Incomplete","Incomplete","Incomplete",{"$f":"IF(M98=\"Incomplete\",\"Incomplete\",IF(M99=\"Incomplete\",\"Incomplete\",IF(M100=\"Incomplete\",\"Incomplete\",IF(M101=\"Incomplete\",\"Incomplete\",IF(M102=\"Incomplete\",\"Incomplete\",IF(M102=\"Incomplete\",\"Incomplete\",IF(M103=\"Incomplete\",\"Incomplete\",IF(M104=\"Incomplete\",\"Incomplete\",IF(M105=\"Incomplete\",\"Incomplete\",\"Complete\")))))))))","v":"Incomplete"}]
["Incomplete","Incomplete","Incomplete","Incomplete","Incomplete","Incomplete","Incomplete",null,null,"Incomplete","Incomplete","Incomplete","Incomplete"]
["Incomplete","Incomplete","Incomplete","Incomplete","Incomplete","Incomplete","Incomplete",null,null,"Incomplete","Incomplete","Incomplete","Incomplete"]
["Incomplete","Incomplete","Incomplete","Incomplete","Incomplete","Incomplete","Incomplete",null,null,"Incomplete","Incomplete","Incomplete","Incomplete"]
["Incomplete","Incomplete","Incomplete","Incomplete","Incomplete","Incomplete","Incomplete",null,null,"Incomplete","Incomplete","Incomplete","Incomplete"]
["Incomplete","Incomplete","Incomplete","Incomplete","Incomplete","Incomplete","Incomplete",null,null,"Incomplete","Incomplete","Incomplete","Incomplete"]
[{"$f":"IF(A94=TRUE,\"Incomplete\",\"Complete\")","v":"Incomplete"},{"$f":"IF(B94=TRUE,\"Incomplete\",\"Complete\")","v":"Incomplete"},"Incomplete","Incomplete","Incomplete","Incomplete","Incomplete",null,null,"Incomplete",{"$f":"IF(K94=TRUE,\"Incomplete\",\"Complete\")","v":"Incomplete"},{"$f":"IF(L94=TRUE,\"Incomplete\",\"Complete\")","v":"Incomplete"},"Incomplete"]
[{"$f":"IF(A95=TRUE,\"Incomplete\",\"Complete\")","v":"Incomplete"},"Incomplete","Incomplete","Incomplete","Incomplete","Incomplete","Incomplete",null,null,"Incomplete","Incomplete","Incomplete","Incomplete"]
[{"$f":"IF(A96=TRUE,\"Incomplete\",\"Complete\")","v":"Incomplete"},{"$f":"IF(B96=TRUE,\"Incomplete\",\"Complete\")","v":"Incomplete"},"Incomplete","Incomplete","Incomplete","Incomplete","Incomplete",null,null,"Incomplete",{"$f":"IF(K96=TRUE,\"Incomplete\",\"Complete\")","v":"Incomplete"},{"$f":"IF(L96=TRUE,\"Incomplete\",\"Complete\")","v":"Incomplete"},"Incomplete",{"$f":"IF(M106=\"Incomplete\",\"Incomplete\",IF(M107=\"Incomplete\",\"Incomplete\",IF(M108=\"Incomplete\",\"Incomplete\",IF(M109=\"Incomplete\",\"Incomplete\",IF(M110=\"Incomplete\",\"Incomplete\",IF(M110=\"Incomplete\",\"Incomplete\",IF(M111=\"Incomplete\",\"Incomplete\",IF(M112=\"Incomplete\",\"Incomplete\",IF(M113=\"Incomplete\",\"Incomplete\",\"Complete\")))))))))","v":"Incomplete"}]
[]
[]
[null,{"$f":"ISBLANK(B38)","v":true},true,true,true,true,true,null,null,{"$f":"ISBLANK(H38)","v":true}]
[null,true,true,true,true,true,true,null,null,true]
[null,true,true,true,true,true,true,null,null,true]
[null,true,true,true,true,true,true,null,null,true]
[null,true,true,true,true,true,true,null,null,true]
[null,true,true,true,true,true,true,null,null,true]
[null,true,true,true,true,true,true,null,null,true]
[null,true,true,true,true,true,true,null,null,true]
[null,true,true,true,true,true,true,null,null,true]
[null,true,true,true,true,true,true,null,null,true]
[null,true,true,true,true,true,true,null,null,true]
[null,true,true,true,true,true,true,null,null,true]
[]
[null,{"$f":"IF(B116=TRUE,\"Incomplete\",\"Complete\")","v":"Incomplete"},{"$f":"IF(C116=TRUE,\"Incomplete\",\"Complete\")","v":"Incomplete"},"Incomplete",{"$f":"IF(E116=TRUE,\"Incomplete\",\"Complete\")","v":"Incomplete"},{"$f":"IF(F116=TRUE,\"Incomplete\",\"Complete\")","v":"Incomplete"},{"$f":"IF(G116=TRUE,\"Incomplete\",\"Complete\")","v":"Incomplete"},null,null,"Incomplete",null,null,{"$f":"IF(B129=\"Incomplete\",\"Incomplete\",IF(C129=\"Incomplete\",\"Incomplete\",IF(D129=\"Incomplete\",\"Incomplete\",IF(E129=\"Incomplete\",\"Incomplete\",IF(F129=\"Incomplete\",\"Incomplete\",IF(G129=\"Incomplete\",\"Incomplete\",IF(J129=\"Incomplete\",\"Incomplete\",IF(K129=\"Incomplete\",\"Incomplete\",\"Complete\"))))))))","v":"Incomplete"}]
[null,{"$f":"IF(B117=TRUE,\"Incomplete\",\"Complete\")","v":"Incomplete"},"Incomplete","Incomplete","Incomplete","Incomplete","Incomplete",null,null,"Incomplete",null,null,{"$f":"IF(B130=\"Incomplete\",\"Incomplete\",IF(C130=\"Incomplete\",\"Incomplete\",IF(D130=\"Incomplete\",\"Incomplete\",IF(E130=\"Incomplete\",\"Incomplete\",IF(F130=\"Incomplete\",\"Incomplete\",IF(G130=\"Incomplete\",\"Incomplete\",IF(J130=\"Incomplete\",\"Incomplete\",IF(K130=\"Incomplete\",\"Incomplete\",\"Complete\"))))))))","v":"Incomplete"}]
[null,"Incomplete","Incomplete","Incomplete","Incomplete","Incomplete","Incomplete",null,null,"Incomplete",null,null,"Incomplete"]
[null,"Incomplete","Incomplete","Incomplete","Incomplete","Incomplete","Incomplete",null,null,"Incomplete",null,null,"Incomplete"]
[null,"Incomplete","Incomplete","Incomplete","Incomplete","Incomplete","Incomplete",null,null,"Incomplete",null,null,"Incomplete",{"$f":"IF(N77=\"Incomplete\",\"Incomplete\",IF(M129=\"Incomplete\",\"Incomplete\",IF(M130=\"Incomplete\",\"Incomplete\",IF(M131=\"Incomplete\",\"Incomplete\",IF(M131=\"Incomplete\",\"Incomplete\",IF(M132=\"Incomplete\",\"Incomplete\",IF(M133=\"Incomplete\",\"Incomplete\",\"Complete\")))))))","v":"Incomplete"}]
[null,"Incomplete","Incomplete","Incomplete","Incomplete","Incomplete","Incomplete",null,null,"Incomplete",null,null,"Incomplete"]
[null,"Incomplete","Incomplete","Incomplete","Incomplete","Incomplete","Incomplete",null,null,"Incomplete",null,null,"Incomplete"]
[null,"Incomplete","Incomplete","Incomplete","Incomplete","Incomplete","Incomplete",null,null,"Incomplete",null,null,"Incomplete"]
[null,"Incomplete","Incomplete","Incomplete","Incomplete","Incomplete","Incomplete",null,null,"Incomplete",null,null,"Incomplete"]
[null,{"$f":"IF(B125=TRUE,\"Incomplete\",\"Complete\")","v":"Incomplete"},"Incomplete","Incomplete","Incomplete","Incomplete","Incomplete",null,null,"Incomplete",null,null,"Incomplete"]
[null,{"$f":"IF(B126=TRUE,\"Incomplete\",\"Complete\")","v":"Incomplete"},"Incomplete","Incomplete","Incomplete","Incomplete","Incomplete",null,null,"Incomplete",null,null,"Incomplete"]
[null,"Incomplete","Incomplete","Incomplete","Incomplete","Incomplete","Incomplete",null,null,"Incomplete",null,null,"Incomplete",{"$f":"IF(M134=\"Incomplete\",\"Incomplete\",IF(M135=\"Incomplete\",\"Incomplete\",IF(M136=\"Incomplete\",\"Incomplete\",IF(M137=\"Incomplete\",\"Incomplete\",IF(M138=\"Incomplete\",\"Incomplete\",IF(M138=\"Incomplete\",\"Incomplete\",IF(M139=\"Incomplete\",\"Incomplete\",IF(M140=\"Incomplete\",\"Incomplete\",\"Complete\"))))))))","v":"Incomplete"}]
[null,null,"Sold","Total"]
[null,null,{"$f":"C50","v":0},{"$f":"B50+E50-F50","v":0},null,null,null,null,null,null,null,null,null,{"$f":"IF(N77=\"Incomplete\",\"Incomplete\",IF(N105=\"Incomplete\",\"Incomplete\",IF(N113=\"Incomplete\",\"Incomplete\",IF(N133=\"Incomplete\",\"Incomplete\",IF(N140=\"Incomplete\",\"Incomplete\",\"Complete\")))))","v":"Incomplete"}]
[]
[{"$f":"IF(C142=D142,\"The Gallons pumped should not be equal to the gallons sold.  There is a potentially significant problem, please investigate and explain.\",IF(D142<C142,\"The Gallons pumped should not be less than the gallons sold.  There is a potentially significant problem, please investigate and explain..\",\"\"))","v":"The Gallons pumped should not be equal to the gallons sold.  There is a potentially significant problem, please investigate and explain."}]
[]
[]
["Note:  If you are filing for more than seven systems, please click on the button below."]

{"sheet":"AR8 (h)","index":18,"n_rows":144,"n_cols":17,"rows_kept":144,"cut":false,"hidden":true,"merged":[[8,0,8,2],[8,3,8,4],[5,0,5,11],[6,0,6,1],[6,2,6,6],[7,0,7,2],[7,3,7,4],[52,0,52,11],[27,0,27,1],[27,2,27,6],[28,0,28,2],[28,3,28,4],[29,0,29,1],[31,0,31,1],[31,2,31,6],[32,0,32,2],[32,3,32,4],[33,0,33,1],[34,0,34,1],[34,2,34,3],[67,0,68,11],[69,0,69,11],[70,0,70,11],[143,0,143,11],[53,0,57,11],[59,0,59,11],[63,0,63,11],[64,0,64,11],[65,0,65,11],[66,0,66,11]]}
[{"$f":"'AR1'!B12","v":0},null,null,null,null,null,null,null,null,null,null,null,null,null,"AR8"]
["Annual Report",null,null,null,null,null,null,null,null,null,null,null,null,null,{"$f":"\"Annual Report page \"&M74","v":"Annual Report page 11h"}]
[{"$f":"A6","v":"Well and Water Usage"}]
[{"$f":"IF('AR1'!B19=\"\",\"\",'AR1'!B19)","v":"12/31/20"}]
[]
["Well and Water Usage"]
["Name of the System:"]
["ADEQ Public Water System Number:",null,null,{"$f":"IF(C7=\"\",\"\",VLOOKUP(C7, 'Drop down lists'!$AD$2:$AJ$902, 2, FALSE))","v":""}]
["ADWR PCC Number:",null,null,{"$f":"IF(C7=\"\",\"\",VLOOKUP(C7, 'Drop down lists'!$AD$2:$AJ$902, 3, FALSE))","v":""}]
["Well registry 55# (55-XXXXXX):","Pump Horsepower","Pump Yield (gpm)","Casing Depth (feet)","Casing Diameter (inches)","Pump Motor Type **","Year Drilled",{"$f":"'AR8'!H10","v":"Water level 2010"},{"$f":"'AR8'!I10","v":"Water level 2020"},"Meter Size (inches)","How measured:","Active"]
[]
[]
[]
[]
[]
[]
[]
[]
[]
[]
[]
[]
[]
[]
[]
[]
[]
["Name of system water delivered to:"]
["ADWR PCC Number:",null,null,{"$f":"IF(C28=\"\",\"\",VLOOKUP(C28, 'Drop down lists'!$AM$2:$AS$905, 3, FALSE))","v":""}]
["Source of water delivered to another system"]
[]
["Name of system water received from:"]
["ADWR PCC Number:",null,null,{"$f":"IF(C32=\"\",\"\",VLOOKUP(C32, 'Drop down lists'!$AM$2:$AS$905, 3, FALSE))","v":""}]
["Source of water received"]
["Well registry 55# (55-XXXXXX):"]
[]
["Month",{"$f":"\"Water withdrawn (\"&'AR8'!O38&\")1\"","v":"Water withdrawn (gallons)1"},{"$f":"\"Water sold (\"&'AR8'!O38&\")2\"","v":"Water sold (gallons)2"},{"$f":"\"Water delivered (sold) to other systems (\"&'AR8'!O38&\")3\"","v":"Water delivered (sold) to other systems (gallons)3"},{"$f":"\"Water received (purchased) from other systems (\"&'AR8'!O38&\")4\"","v":"Water received (purchased) from other systems (gallons)4"},{"$f":"\"Estimated authorized use (\"&'AR8'!O38&\")5\"","v":"Estimated authorized use (gallons)5"},"Purchased Power Expense6","Purchased Power (kWh)7",null,null,null,null,null,null,null,"Table of Contents"]
["January",null,null,null,null,null,null,null,null,null,null,null,null,null,null,"Gallons","Acre feet"]
["February",null,null,null,null,null,null,null,null,null,null,null,null,null,null,null,{"$f":"P39/325850.943","v":0}]
["March"]
["April"]
["May"]
["June"]
["July"]
["August"]
["September"]
["October"]
["November"]
["December"]
["Totals",{"$f":"SUM(B38:B49)","v":0},0,{"$f":"SUM(D38:D49)","v":0},{"$f":"SUM(E38:E49)","v":0},{"$f":"SUM(F38:F49)","v":0},{"$f":"SUM(G38:G49)","v":0},{"$f":"SUM(H38:H49)","v":0}]
[]
[]
["If applicable, in the space below please provide a description for all un-metered water use along with amounts:"]
[]
[]
[]
[]
[]
[]
["Instructions: Fill out the Grey Cells with the relevant information.  Input 0 or none if there is nothing recorded in that account or there is no applicable information to report."]
[]
[]
[]
[{"$f":"'AR8'!A61:L61","v":"1 Water withdrawn - Total gallons of water withdrawn from pumped sources."}]
[{"$f":"'AR8'!A62:L62","v":"2 Water sold - Total gallons from customer meters, and other sales such as construction water."}]
[{"$f":"'AR8'!A63:L63","v":"3 Water delivered (sold) to other systems - Total gallons of water delivered to other systems."}]
[{"$f":"'AR8'!A64:L64","v":"4 Water received (purchased) from other systems - Total gallons of water purchased/received from other systems."}]
[{"$f":"'AR8'!A65:L66","v":{"$error":"#VALUE!"}}]
[]
[{"$f":"'AR8'!A67:L67","v":"6 Enter the total purchased power costs for the power meters associated with this system."}]
[{"$f":"'AR8'!A68:L68","v":"7 Enter the total purchased kWh used by the power meters associated with this system."}]
[]
[null,null,null,null,null,null,null,null,null,null,null,null,{"$f":"\"Page \"&M74","v":"Page 11h"}]
[null,null,null,null,null,null,null,null,null,null,null,null,{"$f":"'AR7'!E30+1&\"h\"","v":"11h"}]
[]
[]
[null,{"$f":"IF(C7=0,\"Incomplete\",\"Complete\")","v":"Incomplete"},{"$f":"IF(C28=0,\"Incomplete\",\"Complete\")","v":"Incomplete"},{"$f":"IF(C30=0,\"Incomplete\",\"Complete\")","v":"Incomplete"},{"$f":"IF(C32=0,\"Incomplete\",\"Complete\")","v":"Incomplete"},{"$f":"IF(C34=0,\"Incomplete\",\"Complete\")","v":"Incomplete"},{"$f":"IF(C35=0,\"Incomplete\",\"Complete\")","v":"Incomplete"},null,null,null,null,null,null,{"$f":"IF(B77=\"Incomplete\",\"Incomplete\",IF(C77=\"Incomplete\",\"Incomplete\",IF(D77=\"Incomplete\",\"Incomplete\",IF(E77=\"Incomplete\",\"Incomplete\",IF(F77=\"Incomplete\",\"Incomplete\",IF(G77=\"Incomplete\",\"Incomplete\",\"Complete\"))))))","v":"Incomplete"}]
[]
[]
[]
[{"$f":"ISBLANK(A11)","v":true},{"$f":"ISBLANK(B11)","v":true},{"$f":"ISBLANK(C11)","v":true},true,true,true,true,null,null,true,{"$f":"ISBLANK(K11)","v":true},{"$f":"ISBLANK(L11)","v":true}]
[{"$f":"ISBLANK(A12)","v":true},true,true,true,true,true,true,null,null,true,true,true]
[true,true,true,true,true,true,true,null,null,true,true,true]
[true,true,true,true,true,true,true,null,null,true,true,true]
[true,true,true,true,true,true,true,null,null,true,true,true]
[true,true,true,true,true,true,true,null,null,true,true,true]
[true,true,true,true,true,true,true,null,null,true,true,true]
[true,true,true,true,true,true,true,null,null,true,true,true]
[true,true,true,true,true,true,true,null,null,true,true,true]
[true,true,true,true,true,true,true,null,null,true,true,true]
[true,true,true,true,true,true,true,null,null,true,true,true]
[true,true,true,true,true,true,true,null,null,true,true,true]
[true,true,true,true,true,true,true,null,null,true,true,true]
[true,true,true,true,true,true,true,null,null,true,true,true]
[true,true,true,true,true,true,true,null,null,true,true,true]
[true,true,true,true,true,true,true,null,null,true,true,true]
[]
[{"$f":"IF(A81=TRUE,\"Incomplete\",\"Complete\")","v":"Incomplete"},{"$f":"IF(B81=TRUE,\"Incomplete\",\"Complete\")","v":"Incomplete"},{"$f":"IF(C81=TRUE,\"Incomplete\",\"Complete\")","v":"Incomplete"},"Incomplete","Incomplete","Incomplete","Incomplete",null,null,"Incomplete",{"$f":"IF(K81=TRUE,\"Incomplete\",\"Complete\")","v":"Incomplete"},{"$f":"IF(L81=TRUE,\"Incomplete\",\"Complete\")","v":"Incomplete"},{"$f":"IF(A98=\"Incomplete\",\"Incomplete\",IF(B98=\"Incomplete\",\"Incomplete\",IF(C98=\"Incomplete\",\"Incomplete\",IF(D98=\"Incomplete\",\"Incomplete\",IF(E98=\"Incomplete\",\"Incomplete\",IF(F98=\"Incomplete\",\"Incomplete\",IF(G98=\"Incomplete\",\"Incomplete\",IF(J98=\"Incomplete\",\"Incomplete\",IF(K98=\"Incomplete\",\"Incomplete\",IF(L98=\"Incomplete\",\"Incomplete\",\"Complete\"))))))))))","v":"Incomplete"}]
[{"$f":"IF(A82=TRUE,\"Incomplete\",\"Complete\")","v":"Incomplete"},"Incomplete","Incomplete","Incomplete","Incomplete","Incomplete","Incomplete",null,null,"Incomplete","Incomplete","Incomplete",{"$f":"IF(A99=\"Incomplete\",\"Incomplete\",IF(B99=\"Incomplete\",\"Incomplete\",IF(C99=\"Incomplete\",\"Incomplete\",IF(D99=\"Incomplete\",\"Incomplete\",IF(E99=\"Incomplete\",\"Incomplete\",IF(F99=\"Incomplete\",\"Incomplete\",IF(G99=\"Incomplete\",\"Incomplete\",IF(J99=\"Incomplete\",\"Incomplete\",IF(K99=\"Incomplete\",\"Incomplete\",IF(L99=\"Incomplete\",\"Incomplete\",\"Complete\"))))))))))","v":"Incomplete"}]
["Incomplete","Incomplete","Incomplete","Incomplete","Incomplete","Incomplete","Incomplete",null,null,"Incomplete","Incomplete","Incomplete","Incomplete"]
["Incomplete","Incomplete","Incomplete","Incomplete","Incomplete","Incomplete","Incomplete",null,null,"Incomplete","Incomplete","Incomplete","Incomplete"]
["Incomplete","Incomplete","Incomplete","Incomplete","Incomplete","Incomplete","Incomplete",null,null,"Incomplete","Incomplete","Incomplete","Incomplete"]
["Incomplete","Incomplete","Incomplete","Incomplete","Incomplete","Incomplete","Incomplete",null,null,"Incomplete","Incomplete","Incomplete","Incomplete"]
["Incomplete","Incomplete","Incomplete","Incomplete","Incomplete","Incomplete","Incomplete",null,null,"Incomplete","Incomplete","Incomplete","Incomplete"]
["Incomplete","Incomplete","Incomplete","Incomplete","Incomplete","Incomplete","Incomplete",null,null,"Incomplete","Incomplete","Incomplete","Incomplete",{"$f":"IF(M98=\"Incomplete\",\"Incomplete\",IF(M99=\"Incomplete\",\"Incomplete\",IF(M100=\"Incomplete\",\"Incomplete\",IF(M101=\"Incomplete\",\"Incomplete\",IF(M102=\"Incomplete\",\"Incomplete\",IF(M102=\"Incomplete\",\"Incomplete\",IF(M103=\"Incomplete\",\"Incomplete\",IF(M104=\"Incomplete\",\"Incomplete\",IF(M105=\"Incomplete\",\"Incomplete\",\"Complete\")))))))))","v":"Incomplete"}]
["Incomplete","Incomplete","Incomplete","Incomplete","Incomplete","Incomplete","Incomplete",null,null,"Incomplete","Incomplete","Incomplete","Incomplete"]
["Incomplete","Incomplete","Incomplete","Incomplete","Incomplete","Incomplete","Incomplete",null,null,"Incomplete","Incomplete","Incomplete","Incomplete"]
["Incomplete","Incomplete","Incomplete","Incomplete","Incomplete","Incomplete","Incomplete",null,null,"Incomplete","Incomplete","Incomplete","Incomplete"]
["Incomplete","Incomplete","Incomplete","Incomplete","Incomplete","Incomplete","Incomplete",null,null,"Incomplete","Incomplete","Incomplete","Incomplete"]
["Incomplete","Incomplete","Incomplete","Incomplete","Incomplete","Incomplete","Incomplete",null,null,"Incomplete","Incomplete","Incomplete","Incomplete"]
[{"$f":"IF(A94=TRUE,\"Incomplete\",\"Complete\")","v":"Incomplete"},{"$f":"IF(B94=TRUE,\"Incomplete\",\"Complete\")","v":"Incomplete"},"Incomplete","Incomplete","Incomplete","Incomplete","Incomplete",null,null,"Incomplete",{"$f":"IF(K94=TRUE,\"Incomplete\",\"Complete\")","v":"Incomplete"},{"$f":"IF(L94=TRUE,\"Incomplete\",\"Complete\")","v":"Incomplete"},"Incomplete"]
[{"$f":"IF(A95=TRUE,\"Incomplete\",\"Complete\")","v":"Incomplete"},"Incomplete","Incomplete","Incomplete","Incomplete","Incomplete","Incomplete",null,null,"Incomplete","Incomplete","Incomplete","Incomplete"]
[{"$f":"IF(A96=TRUE,\"Incomplete\",\"Complete\")","v":"Incomplete"},{"$f":"IF(B96=TRUE,\"Incomplete\",\"Complete\")","v":"Incomplete"},"Incomplete","Incomplete","Incomplete","Incomplete","Incomplete",null,null,"Incomplete",{"$f":"IF(K96=TRUE,\"Incomplete\",\"Complete\")","v":"Incomplete"},{"$f":"IF(L96=TRUE,\"Incomplete\",\"Complete\")","v":"Incomplete"},"Incomplete",{"$f":"IF(M106=\"Incomplete\",\"Incomplete\",IF(M107=\"Incomplete\",\"Incomplete\",IF(M108=\"Incomplete\",\"Incomplete\",IF(M109=\"Incomplete\",\"Incomplete\",IF(M110=\"Incomplete\",\"Incomplete\",IF(M110=\"Incomplete\",\"Incomplete\",IF(M111=\"Incomplete\",\"Incomplete\",IF(M112=\"Incomplete\",\"Incomplete\",IF(M113=\"Incomplete\",\"Incomplete\",\"Complete\")))))))))","v":"Incomplete"}]
[]
[]
[null,{"$f":"ISBLANK(B38)","v":true},true,true,true,true,true,null,null,{"$f":"ISBLANK(H38)","v":true}]
[null,true,true,true,true,true,true,null,null,true]
[null,true,true,true,true,true,true,null,null,true]
[null,true,true,true,true,true,true,null,null,true]
[null,true,true,true,true,true,true,null,null,true]
[null,true,true,true,true,true,true,null,null,true]
[null,true,true,true,true,true,true,null,null,true]
[null,true,true,true,true,true,true,null,null,true]
[null,true,true,true,true,true,true,null,null,true]
[null,true,true,true,true,true,true,null,null,true]
[null,true,true,true,true,true,true,null,null,true]
[null,true,true,true,true,true,true,null,null,true]
[]
[null,{"$f":"IF(B116=TRUE,\"Incomplete\",\"Complete\")","v":"Incomplete"},{"$f":"IF(C116=TRUE,\"Incomplete\",\"Complete\")","v":"Incomplete"},"Incomplete",{"$f":"IF(E116=TRUE,\"Incomplete\",\"Complete\")","v":"Incomplete"},{"$f":"IF(F116=TRUE,\"Incomplete\",\"Complete\")","v":"Incomplete"},{"$f":"IF(G116=TRUE,\"Incomplete\",\"Complete\")","v":"Incomplete"},null,null,"Incomplete",null,null,{"$f":"IF(B129=\"Incomplete\",\"Incomplete\",IF(C129=\"Incomplete\",\"Incomplete\",IF(D129=\"Incomplete\",\"Incomplete\",IF(E129=\"Incomplete\",\"Incomplete\",IF(F129=\"Incomplete\",\"Incomplete\",IF(G129=\"Incomplete\",\"Incomplete\",IF(J129=\"Incomplete\",\"Incomplete\",IF(K129=\"Incomplete\",\"Incomplete\",\"Complete\"))))))))","v":"Incomplete"}]
[null,{"$f":"IF(B117=TRUE,\"Incomplete\",\"Complete\")","v":"Incomplete"},"Incomplete","Incomplete","Incomplete","Incomplete","Incomplete",null,null,"Incomplete",null,null,{"$f":"IF(B130=\"Incomplete\",\"Incomplete\",IF(C130=\"Incomplete\",\"Incomplete\",IF(D130=\"Incomplete\",\"Incomplete\",IF(E130=\"Incomplete\",\"Incomplete\",IF(F130=\"Incomplete\",\"Incomplete\",IF(G130=\"Incomplete\",\"Incomplete\",IF(J130=\"Incomplete\",\"Incomplete\",IF(K130=\"Incomplete\",\"Incomplete\",\"Complete\"))))))))","v":"Incomplete"}]
[null,"Incomplete","Incomplete","Incomplete","Incomplete","Incomplete","Incomplete",null,null,"Incomplete",null,null,"Incomplete"]
[null,"Incomplete","Incomplete","Incomplete","Incomplete","Incomplete","Incomplete",null,null,"Incomplete",null,null,"Incomplete"]
[null,"Incomplete","Incomplete","Incomplete","Incomplete","Incomplete","Incomplete",null,null,"Incomplete",null,null,"Incomplete",{"$f":"IF(N77=\"Incomplete\",\"Incomplete\",IF(M129=\"Incomplete\",\"Incomplete\",IF(M130=\"Incomplete\",\"Incomplete\",IF(M131=\"Incomplete\",\"Incomplete\",IF(M131=\"Incomplete\",\"Incomplete\",IF(M132=\"Incomplete\",\"Incomplete\",IF(M133=\"Incomplete\",\"Incomplete\",\"Complete\")))))))","v":"Incomplete"}]
[null,"Incomplete","Incomplete","Incomplete","Incomplete","Incomplete","Incomplete",null,null,"Incomplete",null,null,"Incomplete"]
[null,"Incomplete","Incomplete","Incomplete","Incomplete","Incomplete","Incomplete",null,null,"Incomplete",null,null,"Incomplete"]
[null,"Incomplete","Incomplete","Incomplete","Incomplete","Incomplete","Incomplete",null,null,"Incomplete",null,null,"Incomplete"]
[null,"Incomplete","Incomplete","Incomplete","Incomplete","Incomplete","Incomplete",null,null,"Incomplete",null,null,"Incomplete"]
[null,{"$f":"IF(B125=TRUE,\"Incomplete\",\"Complete\")","v":"Incomplete"},"Incomplete","Incomplete","Incomplete","Incomplete","Incomplete",null,null,"Incomplete",null,null,"Incomplete"]
[null,{"$f":"IF(B126=TRUE,\"Incomplete\",\"Complete\")","v":"Incomplete"},"Incomplete","Incomplete","Incomplete","Incomplete","Incomplete",null,null,"Incomplete",null,null,"Incomplete"]
[null,"Incomplete","Incomplete","Incomplete","Incomplete","Incomplete","Incomplete",null,null,"Incomplete",null,null,"Incomplete",{"$f":"IF(M134=\"Incomplete\",\"Incomplete\",IF(M135=\"Incomplete\",\"Incomplete\",IF(M136=\"Incomplete\",\"Incomplete\",IF(M137=\"Incomplete\",\"Incomplete\",IF(M138=\"Incomplete\",\"Incomplete\",IF(M138=\"Incomplete\",\"Incomplete\",IF(M139=\"Incomplete\",\"Incomplete\",IF(M140=\"Incomplete\",\"Incomplete\",\"Complete\"))))))))","v":"Incomplete"}]
[null,null,"Sold","Total"]
[null,null,{"$f":"C50","v":0},{"$f":"B50+E50-F50","v":0},null,null,null,null,null,null,null,null,null,{"$f":"IF(N77=\"Incomplete\",\"Incomplete\",IF(N105=\"Incomplete\",\"Incomplete\",IF(N113=\"Incomplete\",\"Incomplete\",IF(N133=\"Incomplete\",\"Incomplete\",IF(N140=\"Incomplete\",\"Incomplete\",\"Complete\")))))","v":"Incomplete"}]
[]
[{"$f":"IF(C142=D142,\"The Gallons pumped should not be equal to the gallons sold.  There is a potentially significant problem, please investigate and explain.\",IF(D142<C142,\"The Gallons pumped should not be less than the gallons sold.  There is a potentially significant problem, please investigate and explain..\",\"\"))","v":"The Gallons pumped should not be equal to the gallons sold.  There is a potentially significant problem, please investigate and explain."}]

{"sheet":"AR9","index":19,"n_rows":103,"n_cols":20,"rows_kept":103,"cut":false,"hidden":false,"merged":[[31,11,32,11],[31,12,32,18],[33,11,34,11],[33,12,33,18],[10,12,14,18],[10,0,10,2],[10,11,14,11],[5,0,5,8],[6,2,6,8],[10,5,10,8],[8,3,8,5],[7,3,7,5],[5,11,5,18],[6,0,6,1],[7,0,7,2],[7,11,7,18],[8,0,8,2],[60,0,61,8],[54,0,54,8],[102,0,102,8],[16,11,20,11],[16,12,20,18],[22,11,26,11],[22,12,26,18],[36,0,36,2],[36,5,36,6],[60,11,61,18],[43,5,43,8],[43,0,43,3],[27,1,27,3],[34,12,34,18],[29,11,29,18],[30,11,30,18]]}
[{"$f":"'AR1'!B12","v":0},null,null,null,null,null,null,null,null,"AR9",null,{"$f":"A1","v":0},null,null,null,null,null,null,null,"AR9"]
["Annual Report",null,null,null,null,null,null,null,null,{"$f":"\"Annual Report \"&I58","v":"Annual Report Page 12"},null,"Annual Report",null,null,null,null,null,null,null,{"$f":"\"Annual Report page \"&S58","v":"Annual Report page Page 13"}]
[{"$f":"A6","v":"Water Utility Plant Description"},null,null,null,null,null,null,null,null,null,null,{"$f":"L6","v":"Water Utility Plant Description (Continued)"}]
[{"$f":"IF('AR1'!B19=\"\",\"\",'AR1'!B19)","v":"12/31/20"},null,null,null,null,null,null,null,null,null,null,{"$f":"A4","v":"12/31/20"}]
[]
["Water Utility Plant Description",null,null,null,null,null,null,null,null,"Table of Contents",null,"Water Utility Plant Description (Continued)"]
["Name of the System:",null,{"$f":"'AR8'!C7","v":0}]
["ADEQ Public Water System Number:",null,null,{"$f":"'AR8'!D8","v":""},null,null,null,null,null,null,{"$f":"L101","v":"Incomplete"},"For the following three items, list the utility owned assets in each category for each system."]
["ADWR PCC Number:",null,null,{"$f":"'AR8'!D9","v":""}]
[]
["MAINS",null,null,null,null,"CUSTOMER METERS",null,null,null,null,null,"TREATMENT EQUIPMENT:"]
["Sizes (inches)","Material","Length (feet)",null,null,"Size (inches)","Quantity","Percent over 1,000,000 gallons","Percent over 10 years old"]
[]
[]
[]
[]
[null,null,null,null,null,null,null,null,null,null,null,"STRUCTURES:"]
[]
[]
[]
[]
[]
[null,null,null,null,null,null,null,null,null,null,null,"OTHER:"]
[]
[]
[]
[]
[null,"SERVICE LINES"]
[null,"Material","Percent of system","Year installed"]
[null,null,null,null,null,null,null,null,null,null,null,"Provide a calculation used to determine the value of one water equivalent residential connection (ERC)."]
[null,null,null,null,null,null,null,null,null,null,null,"Use one of the following methods:"]
[null,null,null,null,null,null,null,null,null,null,null,"(a)","If actual flow data are available from the preceding 12 months, divide the total annual single family residence (SFR) gallons sold by the average number of single family residence customers for the same period and divide the result by 365 days. "]
[]
[null,null,null,null,null,null,null,null,null,null,null,"(b)","If no historical flow data are available, use:"]
[null,null,null,null,null,null,null,null,null,null,null,null,"ERC = ( Total SFR gallons sold (Omit 000) / 365 days / 350 gallons per day )"]
[]
["BOOSTER PUMPS",null,null,null,null,"FIRE HYDRANTS"]
["Horsepower","GPM","Quantity",null,null,"Type","Quantity",null,null,null,null,"ERC"]
[null,null,null,null,null,"Standard *",null,null,null,null,null,"Method used:"]
[null,null,null,null,null,"Other"]
[]
[]
[]
["STORAGE TANKS",null,null,null,null,"PRESSURE/BLADDER TANKS"]
["Capacity (gallons)","Material","Quantity","Year installed",null,"Capacity (gallons)","Material","Quantity","Year installed"]
[]
[]
[]
[]
[]
[]
[]
[]
[]
["* A standard fire hydrant has two 2.5 inch hose connection nozzles with 7.5 threads per inch, and one 4.5 inch pumper connection nozzle with 4 threads per inch."]
[]
[]
[null,null,null,null,null,null,null,null,{"$f":"\"Page \"&I59","v":"Page 12"},null,null,null,null,null,null,null,null,null,{"$f":"\"Page \"&S59","v":"Page 13"}]
[null,null,null,null,null,null,null,null,{"$f":"'AR8'!L71+1","v":12},null,null,null,null,null,null,null,null,null,{"$f":"I59+1","v":13}]
[]
["Instructions: Fill out the Grey Cells with the relevant information.  Input 0 or none if there is nothing recorded in that account or there is no applicable information to report.  Copy and paste this sheet as many times as is necessary.",null,null,null,null,null,null,null,null,null,null,"Instructions: Fill out the Grey Cells with the relevant information.  Input 0 or none if there is nothing recorded in that account or there is no applicable information to report.  Copy and paste this sheet as many times as is necessary."]
[]
[]
[{"$f":"IF(A13<>\"\",\"Complete\",\"Incomplete\")","v":"Incomplete"},"Incomplete","Incomplete",null,null,{"$f":"IF(F17<>\"\",\"Complete\",\"Incomplete\")","v":"Incomplete"},{"$f":"IF(G13<>\"\",\"Complete\",\"Incomplete\")","v":"Incomplete"},{"$f":"IF(H13<>\"\",\"Complete\",\"Incomplete\")","v":"Incomplete"},"Incomplete",{"$f":"IF(A64=\"Incomplete\",\"Incomplete\",IF(B64=\"Incomplete\",\"Incomplete\",IF(C64=\"Incomplete\",\"Incomplete\",IF(F64=\"Incomplete\",\"Incomplete\",IF(G64=\"Incomplete\",\"Incomplete\",IF(H64=\"Incomplete\",\"Incomplete\",IF(I64=\"Incomplete\",\"Incomplete\",\"Complete\")))))))","v":"Incomplete"}]
["Incomplete","Incomplete","Incomplete",null,null,"Incomplete","Incomplete",{"$f":"IF(H14<>\"\",\"Complete\",\"Incomplete\")","v":"Incomplete"},"Incomplete",{"$f":"IF(A65=\"Incomplete\",\"Incomplete\",IF(B65=\"Incomplete\",\"Incomplete\",IF(C65=\"Incomplete\",\"Incomplete\",IF(F65=\"Incomplete\",\"Incomplete\",IF(G65=\"Incomplete\",\"Incomplete\",IF(H65=\"Incomplete\",\"Incomplete\",IF(I65=\"Incomplete\",\"Incomplete\",\"Complete\")))))))","v":"Incomplete"}]
["Incomplete","Incomplete","Incomplete",null,null,"Incomplete","Incomplete",{"$f":"IF(H15<>\"\",\"Complete\",\"Incomplete\")","v":"Incomplete"},"Incomplete","Incomplete"]
["Incomplete","Incomplete","Incomplete",null,null,"Incomplete","Incomplete",{"$f":"IF(H16<>\"\",\"Complete\",\"Incomplete\")","v":"Incomplete"},"Incomplete","Incomplete"]
["Incomplete","Incomplete","Incomplete",null,null,"Incomplete","Incomplete",{"$f":"IF(H17<>\"\",\"Complete\",\"Incomplete\")","v":"Incomplete"},"Incomplete","Incomplete"]
["Incomplete","Incomplete","Incomplete",null,null,"Incomplete","Incomplete",{"$f":"IF(H18<>\"\",\"Complete\",\"Incomplete\")","v":"Incomplete"},"Incomplete","Incomplete"]
["Incomplete","Incomplete","Incomplete",null,null,"Incomplete","Incomplete",{"$f":"IF(H19<>\"\",\"Complete\",\"Incomplete\")","v":"Incomplete"},"Incomplete","Incomplete"]
["Incomplete","Incomplete","Incomplete",null,null,"Incomplete","Incomplete",{"$f":"IF(H20<>\"\",\"Complete\",\"Incomplete\")","v":"Incomplete"},"Incomplete","Incomplete"]
["Incomplete","Incomplete","Incomplete",null,null,"Incomplete","Incomplete",{"$f":"IF(H21<>\"\",\"Complete\",\"Incomplete\")","v":"Incomplete"},"Incomplete","Incomplete"]
["Incomplete","Incomplete","Incomplete",null,null,"Incomplete","Incomplete",{"$f":"IF(H22<>\"\",\"Complete\",\"Incomplete\")","v":"Incomplete"},"Incomplete","Incomplete"]
["Incomplete","Incomplete","Incomplete",null,null,"Incomplete","Incomplete",{"$f":"IF(H23<>\"\",\"Complete\",\"Incomplete\")","v":"Incomplete"},{"$f":"IF(I23<>\"\",\"Complete\",\"Incomplete\")","v":"Incomplete"},"Incomplete"]
["Incomplete","Incomplete","Incomplete",null,null,"Incomplete",{"$f":"IF(G27<>\"\",\"Complete\",\"Incomplete\")","v":"Incomplete"},{"$f":"IF(H27<>\"\",\"Complete\",\"Incomplete\")","v":"Incomplete"},"Incomplete","Incomplete"]
[{"$f":"IF(A26<>\"\",\"Complete\",\"Incomplete\")","v":"Incomplete"},{"$f":"IF(B26<>\"\",\"Complete\",\"Incomplete\")","v":"Incomplete"},{"$f":"IF(C26<>\"\",\"Complete\",\"Incomplete\")","v":"Incomplete"},null,null,"Incomplete",{"$f":"IF(G29<>\"\",\"Complete\",\"Incomplete\")","v":"Incomplete"},{"$f":"IF(H29<>\"\",\"Complete\",\"Incomplete\")","v":"Incomplete"},{"$f":"IF(I29<>\"\",\"Complete\",\"Incomplete\")","v":"Incomplete"},"Incomplete"]
[]
[null,{"$f":"IF(B30<>\"\",\"Complete\",\"Incomplete\")","v":"Incomplete"},"Incomplete",null,null,null,null,null,null,{"$f":"IF(B78=\"Incomplete\",\"Incomplete\",IF(C78=\"Incomplete\",\"Incomplete\",\"Complete\"))","v":"Incomplete"}]
[null,"Incomplete","Incomplete",null,null,null,null,null,null,{"$f":"IF(B79=\"Incomplete\",\"Incomplete\",IF(C79=\"Incomplete\",\"Incomplete\",\"Complete\"))","v":"Incomplete"}]
[null,"Incomplete","Incomplete",null,null,null,null,null,null,"Incomplete"]
[null,"Incomplete","Incomplete",null,null,null,null,null,null,"Incomplete"]
[null,"Incomplete","Incomplete",null,null,null,null,null,null,"Incomplete"]
[null,null,null,null,null,null,null,null,null,null,null,null,{"$f":"IF(M11<>\"\",\"Complete\",\"Incomplete\")","v":"Incomplete"}]
[{"$f":"IF(A39<>\"\",\"Complete\",\"Incomplete\")","v":"Incomplete"},"Incomplete","Incomplete",null,null,null,{"$f":"IF(G39<>\"\",\"Complete\",\"Incomplete\")","v":"Incomplete"},null,null,{"$f":"IF(A84=\"Incomplete\",\"Incomplete\",IF(B84=\"Incomplete\",\"Incomplete\",IF(C84=\"Incomplete\",\"Incomplete\",IF(G84=\"Incomplete\",\"Incomplete\",\"Complete\"))))","v":"Incomplete"},null,null,{"$f":"IF(M17<>\"\",\"Complete\",\"Incomplete\")","v":"Incomplete"}]
["Incomplete","Incomplete","Incomplete",null,null,null,{"$f":"IF(G40<>\"\",\"Complete\",\"Incomplete\")","v":"Incomplete"},null,null,{"$f":"IF(A85=\"Incomplete\",\"Incomplete\",IF(B85=\"Incomplete\",\"Incomplete\",IF(C85=\"Incomplete\",\"Incomplete\",IF(G85=\"Incomplete\",\"Incomplete\",\"Complete\"))))","v":"Incomplete"},null,null,{"$f":"IF(M23<>\"\",\"Complete\",\"Incomplete\")","v":"Incomplete"}]
["Incomplete","Incomplete","Incomplete",null,null,{"$f":"IF(F46<>\"\",\"Complete\",\"Incomplete\")","v":"Incomplete"},{"$f":"IF(G46<>\"\",\"Complete\",\"Incomplete\")","v":"Incomplete"},"Incomplete","Incomplete",{"$f":"IF(A86=\"Incomplete\",\"Incomplete\",IF(B86=\"Incomplete\",\"Incomplete\",IF(C86=\"Incomplete\",\"Incomplete\",IF(F86=\"Incomplete\",\"Incomplete\",IF(G86=\"Incomplete\",\"Incomplete\",IF(H86=\"Incomplete\",\"Incomplete\",IF(I86=\"Incomplete\",\"Incomplete\",\"Complete\")))))))","v":"Incomplete"},null,null,{"$f":"IF(M38<>\"\",\"Complete\",\"Incomplete\")","v":"Incomplete"}]
["Incomplete","Incomplete","Incomplete",null,null,"Incomplete",{"$f":"IF(G47<>\"\",\"Complete\",\"Incomplete\")","v":"Incomplete"},"Incomplete","Incomplete",{"$f":"IF(A87=\"Incomplete\",\"Incomplete\",IF(B87=\"Incomplete\",\"Incomplete\",IF(C87=\"Incomplete\",\"Incomplete\",IF(F87=\"Incomplete\",\"Incomplete\",IF(G87=\"Incomplete\",\"Incomplete\",IF(H87=\"Incomplete\",\"Incomplete\",IF(I87=\"Incomplete\",\"Incomplete\",\"Complete\")))))))","v":"Incomplete"},null,null,{"$f":"IF(M39<>\"\",\"Complete\",\"Incomplete\")","v":"Incomplete"}]
[{"$f":"IF(A46<>\"\",\"Complete\",\"Incomplete\")","v":"Incomplete"},"Incomplete","Incomplete","Incomplete",null,"Incomplete",{"$f":"IF(G48<>\"\",\"Complete\",\"Incomplete\")","v":"Incomplete"},"Incomplete","Incomplete",{"$f":"IF(A88=\"Incomplete\",\"Incomplete\",IF(B88=\"Incomplete\",\"Incomplete\",IF(C88=\"Incomplete\",\"Incomplete\",IF(D88=\"Incomplete\",\"Incomplete\",IF(F88=\"Incomplete\",\"Incomplete\",IF(G88=\"Incomplete\",\"Incomplete\",IF(H88=\"Incomplete\",\"Incomplete\",IF(I88=\"Incomplete\",\"Incomplete\",\"Complete\"))))))))","v":"Incomplete"}]
["Incomplete","Incomplete","Incomplete","Incomplete",null,"Incomplete",{"$f":"IF(G49<>\"\",\"Complete\",\"Incomplete\")","v":"Incomplete"},"Incomplete","Incomplete",{"$f":"IF(A89=\"Incomplete\",\"Incomplete\",IF(B89=\"Incomplete\",\"Incomplete\",IF(C89=\"Incomplete\",\"Incomplete\",IF(D89=\"Incomplete\",\"Incomplete\",IF(F89=\"Incomplete\",\"Incomplete\",IF(G89=\"Incomplete\",\"Incomplete\",IF(H89=\"Incomplete\",\"Incomplete\",IF(I89=\"Incomplete\",\"Incomplete\",\"Complete\"))))))))","v":"Incomplete"}]
["Incomplete","Incomplete","Incomplete","Incomplete",null,"Incomplete",{"$f":"IF(G50<>\"\",\"Complete\",\"Incomplete\")","v":"Incomplete"},"Incomplete","Incomplete",{"$f":"IF(A90=\"Incomplete\",\"Incomplete\",IF(B90=\"Incomplete\",\"Incomplete\",IF(C90=\"Incomplete\",\"Incomplete\",IF(D90=\"Incomplete\",\"Incomplete\",IF(F90=\"Incomplete\",\"Incomplete\",IF(G90=\"Incomplete\",\"Incomplete\",IF(H90=\"Incomplete\",\"Incomplete\",IF(I90=\"Incomplete\",\"Incomplete\",\"Complete\"))))))))","v":"Incomplete"}]
["Incomplete","Incomplete","Incomplete","Incomplete",null,"Incomplete",{"$f":"IF(G51<>\"\",\"Complete\",\"Incomplete\")","v":"Incomplete"},"Incomplete","Incomplete",{"$f":"IF(A91=\"Incomplete\",\"Incomplete\",IF(B91=\"Incomplete\",\"Incomplete\",IF(C91=\"Incomplete\",\"Incomplete\",IF(D91=\"Incomplete\",\"Incomplete\",IF(F91=\"Incomplete\",\"Incomplete\",IF(G91=\"Incomplete\",\"Incomplete\",IF(H91=\"Incomplete\",\"Incomplete\",IF(I91=\"Incomplete\",\"Incomplete\",\"Complete\"))))))))","v":"Incomplete"}]
["Incomplete","Incomplete","Incomplete","Incomplete",null,null,null,null,null,{"$f":"IF(A92=\"Incomplete\",\"Incomplete\",IF(B92=\"Incomplete\",\"Incomplete\",IF(C92=\"Incomplete\",\"Incomplete\",IF(D92=\"Incomplete\",\"Incomplete\",\"Complete\"))))","v":"Incomplete"}]
["Incomplete","Incomplete","Incomplete","Incomplete",null,null,null,null,null,{"$f":"IF(A93=\"Incomplete\",\"Incomplete\",IF(B93=\"Incomplete\",\"Incomplete\",IF(C93=\"Incomplete\",\"Incomplete\",IF(D93=\"Incomplete\",\"Incomplete\",\"Complete\"))))","v":"Incomplete"}]
[]
[null,null,null,null,null,null,null,null,null,{"$f":"IF(J64=\"Incomplete\",\"Incomplete\",IF(J65=\"Incomplete\",\"Incomplete\",IF(J66=\"Incomplete\",\"Incomplete\",IF(J67=\"Incomplete\",\"Incomplete\",IF(J67=\"Incomplete\",\"Incomplete\",IF(J68=\"Incomplete\",\"Incomplete\",IF(J69=\"Incomplete\",\"Incomplete\",\"Complete\")))))))","v":"Incomplete"}]
[null,null,null,null,null,null,null,null,null,{"$f":"IF(J70=\"Incomplete\",\"Incomplete\",IF(J71=\"Incomplete\",\"Incomplete\",IF(J72=\"Incomplete\",\"Incomplete\",IF(J73=\"Incomplete\",\"Incomplete\",IF(J73=\"Incomplete\",\"Incomplete\",IF(J74=\"Incomplete\",\"Incomplete\",IF(J75=\"Incomplete\",\"Incomplete\",\"Complete\")))))))","v":"Incomplete"}]
[null,null,null,null,null,null,null,null,null,{"$f":"IF(J76=\"Incomplete\",\"Incomplete\",IF(J78=\"Incomplete\",\"Incomplete\",IF(J79=\"Incomplete\",\"Incomplete\",IF(J80=\"Incomplete\",\"Incomplete\",IF(J81=\"Incomplete\",\"Incomplete\",IF(J82=\"Incomplete\",\"Incomplete\",\"Complete\"))))))","v":"Incomplete"}]
[null,null,null,null,null,null,null,null,null,{"$f":"IF(J84=\"Incomplete\",\"Incomplete\",IF(J85=\"Incomplete\",\"Incomplete\",IF(J86=\"Incomplete\",\"Incomplete\",IF(J87=\"Incomplete\",\"Incomplete\",IF(J88=\"Incomplete\",\"Incomplete\",\"Complete\")))))","v":"Incomplete"}]
[null,null,null,null,null,null,null,null,null,{"$f":"IF(J89=\"Incomplete\",\"Incomplete\",IF(J90=\"Incomplete\",\"Incomplete\",IF(J91=\"Incomplete\",\"Incomplete\",IF(J92=\"Incomplete\",\"Incomplete\",IF(J93=\"Incomplete\",\"Incomplete\",\"Complete\")))))","v":"Incomplete"}]
[null,null,null,null,null,null,null,null,null,{"$f":"IF(J95=\"Incomplete\",\"Incomplete\",IF(J96=\"Incomplete\",\"Incomplete\",IF(J97=\"Incomplete\",\"Incomplete\",IF(J98=\"Incomplete\",\"Incomplete\",IF(J99=\"Incomplete\",\"Incomplete\"\"Complete\")))))","v":"Incomplete"},null,{"$f":"IF(M83=\"Incomplete\",\"Incomplete\",IF(M84=\"Incomplete\",\"Incomplete\",IF(M85=\"Incomplete\",\"Incomplete\",IF(M86=\"Incomplete\",\"Incomplete\",IF(M87=\"Incomplete\",\"Incomplete\"\"Complete\")))))","v":"Incomplete"}]
[null,null,null,null,null,null,null,null,null,null,null,{"$f":"IF(J100=\"Incomplete\",\"Incomplete\",IF(L100=\"Incomplete\",\"Incomplete\",\"Complete\"))","v":"Incomplete"}]
[]
["Note:  If you are filing for more than one system, please click on the two systems button below."]

{"sheet":"AR9 (b)","index":20,"n_rows":103,"n_cols":20,"rows_kept":103,"cut":false,"hidden":true,"merged":[[31,11,32,11],[31,12,32,18],[33,11,34,11],[33,12,33,18],[10,12,14,18],[5,0,5,8],[5,11,5,18],[6,0,6,1],[6,2,6,8],[7,0,7,2],[7,3,7,5],[7,11,7,18],[8,0,8,2],[8,3,8,5],[10,0,10,2],[10,5,10,8],[10,11,14,11],[102,0,102,8],[16,11,20,11],[16,12,20,18],[22,11,26,11],[22,12,26,18],[36,0,36,2],[60,0,61,8],[60,11,61,18],[54,0,54,8],[27,1,27,3],[36,5,36,6],[43,0,43,3],[43,5,43,8],[29,11,29,18],[30,11,30,18],[34,12,34,18]]}
[{"$f":"'AR1'!B12","v":0},null,null,null,null,null,null,null,null,"AR9",null,{"$f":"'[9]Part I page 1'!$B$11","v":0},null,null,null,null,null,null,null,"AR9"]
["Annual Report",null,null,null,null,null,null,null,null,{"$f":"\"Annual Report \"&I58","v":"Annual Report Page 12b"},null,"Annual Report",null,null,null,null,null,null,null,{"$f":"\"Annual Report page \"&S58","v":"Annual Report page Page 13b"}]
[{"$f":"A6","v":"Water Utility Plant Description"},null,null,null,null,null,null,null,null,null,null,{"$f":"L6","v":"Water Utility Plant Description (Continued)"}]
[{"$f":"IF('AR1'!B19=\"\",\"\",'AR1'!B19)","v":"12/31/20"},null,null,null,null,null,null,null,null,null,null,{"$f":"A4","v":"12/31/20"}]
[]
["Water Utility Plant Description",null,null,null,null,null,null,null,null,"Table of Contents",null,"Water Utility Plant Description (Continued)"]
["Name of the System:",null,{"$f":"'AR8 (b)'!$C$7:$G$7","v":0}]
["ADEQ Public Water System Number:",null,null,{"$f":"'AR8 (b)'!$D$8:$E$8","v":""},null,null,null,null,null,null,{"$f":"L101","v":"Incomplete"},"For the following three items, list the utility owned assets in each category for each system."]
["ADWR PCC Number:",null,null,{"$f":"'AR8 (b)'!$D$9:$E$9","v":""}]
[]
["MAINS",null,null,null,null,"CUSTOMER METERS",null,null,null,null,null,"TREATMENT EQUIPMENT:"]
["Sizes (inches)","Material","Length (feet)",null,null,"Size (inches)","Quantity","Percent over 1,000,000 gallons","Percent over 10 years old"]
[]
[]
[]
[]
[null,null,null,null,null,null,null,null,null,null,null,"STRUCTURES:"]
[]
[]
[]
[]
[]
[null,null,null,null,null,null,null,null,null,null,null,"OTHER:"]
[]
[]
[]
[]
[null,"SERVICE LINES"]
[null,"Material","Percent of system","Year installed"]
[null,null,null,null,null,null,null,null,null,null,null,"Provide a calculation used to determine the value of one water equivalent residential connection (ERC)."]
[null,null,null,null,null,null,null,null,null,null,null,"Use one of the following methods:"]
[null,null,null,null,null,null,null,null,null,null,null,"(a)","If actual flow data are available from the preceding 12 months, divide the total annual single family residence (SFR) gallons sold by the average number of single family residence customers for the same period and divide the result by 365 days. "]
[]
[null,null,null,null,null,null,null,null,null,null,null,"(b)","If no historical flow data are available, use:"]
[null,null,null,null,null,null,null,null,null,null,null,null,"ERC = ( Total SFR gallons sold (Omit 000) / 365 days / 350 gallons per day )"]
[]
["BOOSTER PUMPS",null,null,null,null,"FIRE HYDRANTS"]
["Horsepower","GPM","Quantity",null,null,"Type","Quantity",null,null,null,null,"ERC"]
[null,null,null,null,null,"Standard *",null,null,null,null,null,"Method used:"]
[null,null,null,null,null,"Other"]
[]
[]
[]
["STORAGE TANKS",null,null,null,null,"PRESSURE/BLADDER TANKS"]
["Capacity (gallons)","Material","Quantity","Year installed",null,"Capacity (gallons)","Material","Quantity","Year installed"]
[]
[]
[]
[]
[]
[]
[]
[]
[]
["* A standard fire hydrant has two 2.5 inch hose connection nozzles with 7.5 threads per inch, and one 4.5 inch pumper connection nozzle with 4 threads per inch."]
[]
[]
[null,null,null,null,null,null,null,null,{"$f":"\"Page \"&I60&\"b\"","v":"Page 12b"},null,null,null,null,null,null,null,null,null,{"$f":"\"Page \"&S60&\"b\"","v":"Page 13b"}]
[]
[null,null,null,null,null,null,null,null,{"$f":"'AR8'!L71+1","v":12},null,null,null,null,null,null,null,null,null,{"$f":"I60+1","v":13}]
["Instructions: Fill out the Grey Cells with the relevant information.  Input 0 or none if there is nothing recorded in that account or there is no applicable information to report.  Copy and paste this sheet as many times as is necessary.",null,null,null,null,null,null,null,null,null,null,"Instructions: Fill out the Grey Cells with the relevant information.  Input 0 or none if there is nothing recorded in that account or there is no applicable information to report.  Copy and paste this sheet as many times as is necessary."]
[]
[]
[{"$f":"IF(A13<>\"\",\"Complete\",\"Incomplete\")","v":"Incomplete"},"Incomplete","Incomplete",null,null,{"$f":"IF(F17<>\"\",\"Complete\",\"Incomplete\")","v":"Incomplete"},{"$f":"IF(G13<>\"\",\"Complete\",\"Incomplete\")","v":"Incomplete"},"Incomplete","Incomplete",{"$f":"IF(A64=\"Incomplete\",\"Incomplete\",IF(B64=\"Incomplete\",\"Incomplete\",IF(C64=\"Incomplete\",\"Incomplete\",IF(F64=\"Incomplete\",\"Incomplete\",IF(G64=\"Incomplete\",\"Incomplete\",IF(H64=\"Incomplete\",\"Incomplete\",IF(I64=\"Incomplete\",\"Incomplete\",\"Complete\")))))))","v":"Incomplete"}]
["Incomplete","Incomplete","Incomplete",null,null,"Incomplete","Incomplete","Incomplete","Incomplete",{"$f":"IF(A65=\"Incomplete\",\"Incomplete\",IF(B65=\"Incomplete\",\"Incomplete\",IF(C65=\"Incomplete\",\"Incomplete\",IF(F65=\"Incomplete\",\"Incomplete\",IF(G65=\"Incomplete\",\"Incomplete\",IF(H65=\"Incomplete\",\"Incomplete\",IF(I65=\"Incomplete\",\"Incomplete\",\"Complete\")))))))","v":"Incomplete"}]
["Incomplete","Incomplete","Incomplete",null,null,"Incomplete","Incomplete","Incomplete","Incomplete","Incomplete"]
["Incomplete","Incomplete","Incomplete",null,null,"Incomplete","Incomplete","Incomplete","Incomplete","Incomplete"]
["Incomplete","Incomplete","Incomplete",null,null,"Incomplete","Incomplete","Incomplete","Incomplete","Incomplete"]
["Incomplete","Incomplete","Incomplete",null,null,"Incomplete","Incomplete","Incomplete","Incomplete","Incomplete"]
["Incomplete","Incomplete","Incomplete",null,null,"Incomplete","Incomplete","Incomplete","Incomplete","Incomplete"]
["Incomplete","Incomplete","Incomplete",null,null,"Incomplete","Incomplete","Incomplete","Incomplete","Incomplete"]
["Incomplete","Incomplete","Incomplete",null,null,"Incomplete","Incomplete","Incomplete","Incomplete","Incomplete"]
["Incomplete","Incomplete","Incomplete",null,null,"Incomplete","Incomplete","Incomplete","Incomplete","Incomplete"]
["Incomplete","Incomplete","Incomplete",null,null,"Incomplete","Incomplete","Incomplete",{"$f":"IF(I23<>\"\",\"Complete\",\"Incomplete\")","v":"Incomplete"},"Incomplete"]
["Incomplete","Incomplete","Incomplete",null,null,"Incomplete",{"$f":"IF(G27<>\"\",\"Complete\",\"Incomplete\")","v":"Incomplete"},{"$f":"IF(H27<>\"\",\"Complete\",\"Incomplete\")","v":"Incomplete"},"Incomplete","Incomplete"]
[{"$f":"IF(A26<>\"\",\"Complete\",\"Incomplete\")","v":"Incomplete"},{"$f":"IF(B26<>\"\",\"Complete\",\"Incomplete\")","v":"Incomplete"},{"$f":"IF(C26<>\"\",\"Complete\",\"Incomplete\")","v":"Incomplete"},null,null,"Incomplete",{"$f":"IF(G29<>\"\",\"Complete\",\"Incomplete\")","v":"Incomplete"},{"$f":"IF(H29<>\"\",\"Complete\",\"Incomplete\")","v":"Incomplete"},{"$f":"IF(I29<>\"\",\"Complete\",\"Incomplete\")","v":"Incomplete"},"Incomplete"]
[]
[null,{"$f":"IF(B30<>\"\",\"Complete\",\"Incomplete\")","v":"Incomplete"},"Incomplete",null,null,null,null,null,null,{"$f":"IF(B78=\"Incomplete\",\"Incomplete\",IF(C78=\"Incomplete\",\"Incomplete\",\"Complete\"))","v":"Incomplete"}]
[null,"Incomplete","Incomplete",null,null,null,null,null,null,{"$f":"IF(B79=\"Incomplete\",\"Incomplete\",IF(C79=\"Incomplete\",\"Incomplete\",\"Complete\"))","v":"Incomplete"}]
[null,"Incomplete","Incomplete",null,null,null,null,null,null,"Incomplete"]
[null,"Incomplete","Incomplete",null,null,null,null,null,null,"Incomplete"]
[null,"Incomplete","Incomplete",null,null,null,null,null,null,"Incomplete"]
[null,null,null,null,null,null,null,null,null,null,null,null,{"$f":"IF(M11<>\"\",\"Complete\",\"Incomplete\")","v":"Incomplete"}]
[{"$f":"IF(A39<>\"\",\"Complete\",\"Incomplete\")","v":"Incomplete"},"Incomplete","Incomplete",null,null,null,{"$f":"IF(G39<>\"\",\"Complete\",\"Incomplete\")","v":"Incomplete"},null,null,{"$f":"IF(A84=\"Incomplete\",\"Incomplete\",IF(B84=\"Incomplete\",\"Incomplete\",IF(C84=\"Incomplete\",\"Incomplete\",IF(G84=\"Incomplete\",\"Incomplete\",\"Complete\"))))","v":"Incomplete"},null,null,{"$f":"IF(M17<>\"\",\"Complete\",\"Incomplete\")","v":"Incomplete"}]
["Incomplete","Incomplete","Incomplete",null,null,null,{"$f":"IF(G40<>\"\",\"Complete\",\"Incomplete\")","v":"Incomplete"},null,null,{"$f":"IF(A85=\"Incomplete\",\"Incomplete\",IF(B85=\"Incomplete\",\"Incomplete\",IF(C85=\"Incomplete\",\"Incomplete\",IF(G85=\"Incomplete\",\"Incomplete\",\"Complete\"))))","v":"Incomplete"},null,null,{"$f":"IF(M23<>\"\",\"Complete\",\"Incomplete\")","v":"Incomplete"}]
["Incomplete","Incomplete","Incomplete",null,null,{"$f":"IF(F46<>\"\",\"Complete\",\"Incomplete\")","v":"Incomplete"},"Incomplete","Incomplete","Incomplete",{"$f":"IF(A86=\"Incomplete\",\"Incomplete\",IF(B86=\"Incomplete\",\"Incomplete\",IF(C86=\"Incomplete\",\"Incomplete\",IF(F86=\"Incomplete\",\"Incomplete\",IF(G86=\"Incomplete\",\"Incomplete\",IF(H86=\"Incomplete\",\"Incomplete\",IF(I86=\"Incomplete\",\"Incomplete\",\"Complete\")))))))","v":"Incomplete"},null,null,{"$f":"IF(M38<>\"\",\"Complete\",\"Incomplete\")","v":"Incomplete"}]
["Incomplete","Incomplete","Incomplete",null,null,"Incomplete","Incomplete","Incomplete","Incomplete",{"$f":"IF(A87=\"Incomplete\",\"Incomplete\",IF(B87=\"Incomplete\",\"Incomplete\",IF(C87=\"Incomplete\",\"Incomplete\",IF(F87=\"Incomplete\",\"Incomplete\",IF(G87=\"Incomplete\",\"Incomplete\",IF(H87=\"Incomplete\",\"Incomplete\",IF(I87=\"Incomplete\",\"Incomplete\",\"Complete\")))))))","v":"Incomplete"},null,null,{"$f":"IF(M39<>\"\",\"Complete\",\"Incomplete\")","v":"Incomplete"}]
[{"$f":"IF(A46<>\"\",\"Complete\",\"Incomplete\")","v":"Incomplete"},"Incomplete","Incomplete","Incomplete",null,"Incomplete","Incomplete","Incomplete","Incomplete",{"$f":"IF(A88=\"Incomplete\",\"Incomplete\",IF(B88=\"Incomplete\",\"Incomplete\",IF(C88=\"Incomplete\",\"Incomplete\",IF(D88=\"Incomplete\",\"Incomplete\",IF(F88=\"Incomplete\",\"Incomplete\",IF(G88=\"Incomplete\",\"Incomplete\",IF(H88=\"Incomplete\",\"Incomplete\",IF(I88=\"Incomplete\",\"Incomplete\",\"Complete\"))))))))","v":"Incomplete"}]
["Incomplete","Incomplete","Incomplete","Incomplete",null,"Incomplete","Incomplete","Incomplete","Incomplete",{"$f":"IF(A89=\"Incomplete\",\"Incomplete\",IF(B89=\"Incomplete\",\"Incomplete\",IF(C89=\"Incomplete\",\"Incomplete\",IF(D89=\"Incomplete\",\"Incomplete\",IF(F89=\"Incomplete\",\"Incomplete\",IF(G89=\"Incomplete\",\"Incomplete\",IF(H89=\"Incomplete\",\"Incomplete\",IF(I89=\"Incomplete\",\"Incomplete\",\"Complete\"))))))))","v":"Incomplete"}]
["Incomplete","Incomplete","Incomplete","Incomplete",null,"Incomplete","Incomplete","Incomplete","Incomplete",{"$f":"IF(A90=\"Incomplete\",\"Incomplete\",IF(B90=\"Incomplete\",\"Incomplete\",IF(C90=\"Incomplete\",\"Incomplete\",IF(D90=\"Incomplete\",\"Incomplete\",IF(F90=\"Incomplete\",\"Incomplete\",IF(G90=\"Incomplete\",\"Incomplete\",IF(H90=\"Incomplete\",\"Incomplete\",IF(I90=\"Incomplete\",\"Incomplete\",\"Complete\"))))))))","v":"Incomplete"}]
["Incomplete","Incomplete","Incomplete","Incomplete",null,"Incomplete","Incomplete","Incomplete","Incomplete",{"$f":"IF(A91=\"Incomplete\",\"Incomplete\",IF(B91=\"Incomplete\",\"Incomplete\",IF(C91=\"Incomplete\",\"Incomplete\",IF(D91=\"Incomplete\",\"Incomplete\",IF(F91=\"Incomplete\",\"Incomplete\",IF(G91=\"Incomplete\",\"Incomplete\",IF(H91=\"Incomplete\",\"Incomplete\",IF(I91=\"Incomplete\",\"Incomplete\",\"Complete\"))))))))","v":"Incomplete"}]
["Incomplete","Incomplete","Incomplete","Incomplete",null,null,null,null,null,{"$f":"IF(A92=\"Incomplete\",\"Incomplete\",IF(B92=\"Incomplete\",\"Incomplete\",IF(C92=\"Incomplete\",\"Incomplete\",IF(D92=\"Incomplete\",\"Incomplete\",\"Complete\"))))","v":"Incomplete"}]
["Incomplete","Incomplete","Incomplete","Incomplete",null,null,null,null,null,{"$f":"IF(A93=\"Incomplete\",\"Incomplete\",IF(B93=\"Incomplete\",\"Incomplete\",IF(C93=\"Incomplete\",\"Incomplete\",IF(D93=\"Incomplete\",\"Incomplete\",\"Complete\"))))","v":"Incomplete"}]
[]
[null,null,null,null,null,null,null,null,null,{"$f":"IF(J64=\"Incomplete\",\"Incomplete\",IF(J65=\"Incomplete\",\"Incomplete\",IF(J66=\"Incomplete\",\"Incomplete\",IF(J67=\"Incomplete\",\"Incomplete\",IF(J67=\"Incomplete\",\"Incomplete\",IF(J68=\"Incomplete\",\"Incomplete\",IF(J69=\"Incomplete\",\"Incomplete\",\"Complete\")))))))","v":"Incomplete"}]
[null,null,null,null,null,null,null,null,null,{"$f":"IF(J70=\"Incomplete\",\"Incomplete\",IF(J71=\"Incomplete\",\"Incomplete\",IF(J72=\"Incomplete\",\"Incomplete\",IF(J73=\"Incomplete\",\"Incomplete\",IF(J73=\"Incomplete\",\"Incomplete\",IF(J74=\"Incomplete\",\"Incomplete\",IF(J75=\"Incomplete\",\"Incomplete\",\"Complete\")))))))","v":"Incomplete"}]
[null,null,null,null,null,null,null,null,null,{"$f":"IF(J76=\"Incomplete\",\"Incomplete\",IF(J78=\"Incomplete\",\"Incomplete\",IF(J79=\"Incomplete\",\"Incomplete\",IF(J80=\"Incomplete\",\"Incomplete\",IF(J81=\"Incomplete\",\"Incomplete\",IF(J82=\"Incomplete\",\"Incomplete\",\"Complete\"))))))","v":"Incomplete"}]
[null,null,null,null,null,null,null,null,null,{"$f":"IF(J84=\"Incomplete\",\"Incomplete\",IF(J85=\"Incomplete\",\"Incomplete\",IF(J86=\"Incomplete\",\"Incomplete\",IF(J87=\"Incomplete\",\"Incomplete\",IF(J88=\"Incomplete\",\"Incomplete\",\"Complete\")))))","v":"Incomplete"}]
[null,null,null,null,null,null,null,null,null,{"$f":"IF(J89=\"Incomplete\",\"Incomplete\",IF(J90=\"Incomplete\",\"Incomplete\",IF(J91=\"Incomplete\",\"Incomplete\",IF(J92=\"Incomplete\",\"Incomplete\",IF(J93=\"Incomplete\",\"Incomplete\",\"Complete\")))))","v":"Incomplete"}]
[null,null,null,null,null,null,null,null,null,{"$f":"IF(J95=\"Incomplete\",\"Incomplete\",IF(J96=\"Incomplete\",\"Incomplete\",IF(J97=\"Incomplete\",\"Incomplete\",IF(J98=\"Incomplete\",\"Incomplete\",IF(J99=\"Incomplete\",\"Incomplete\"\"Complete\")))))","v":"Incomplete"},null,{"$f":"IF(M83=\"Incomplete\",\"Incomplete\",IF(M84=\"Incomplete\",\"Incomplete\",IF(M85=\"Incomplete\",\"Incomplete\",IF(M86=\"Incomplete\",\"Incomplete\",IF(M87=\"Incomplete\",\"Incomplete\"\"Complete\")))))","v":"Incomplete"}]
[null,null,null,null,null,null,null,null,null,null,null,{"$f":"IF(J100=\"Incomplete\",\"Incomplete\",IF(L100=\"Incomplete\",\"Incomplete\",\"Complete\"))","v":"Incomplete"}]
[]
["Note:  If you are filing for more than two systems, please click on the button below."]

{"sheet":"AR9 (c)","index":21,"n_rows":103,"n_cols":20,"rows_kept":103,"cut":false,"hidden":true,"merged":[[31,11,32,11],[31,12,32,18],[33,11,34,11],[33,12,33,18],[10,12,14,18],[5,0,5,8],[5,11,5,18],[6,0,6,1],[6,2,6,8],[7,0,7,2],[7,3,7,5],[7,11,7,18],[8,0,8,2],[8,3,8,5],[10,0,10,2],[10,5,10,8],[10,11,14,11],[102,0,102,8],[16,11,20,11],[16,12,20,18],[22,11,26,11],[22,12,26,18],[36,0,36,2],[60,0,61,8],[60,11,61,18],[54,0,54,8],[27,1,27,3],[36,5,36,6],[43,0,43,3],[43,5,43,8],[29,11,29,18],[30,11,30,18],[34,12,34,18]]}
[{"$f":"'AR1'!B12","v":0},null,null,null,null,null,null,null,null,"AR9",null,{"$f":"'[9]Part I page 1'!$B$11","v":0},null,null,null,null,null,null,null,"AR9"]
["Annual Report",null,null,null,null,null,null,null,null,{"$f":"\"Annual Report \"&I58","v":"Annual Report Page 12c"},null,"Annual Report",null,null,null,null,null,null,null,{"$f":"\"Annual Report page \"&S58","v":{"$error":"#REF!"}}]
[{"$f":"A6","v":"Water Utility Plant Description"},null,null,null,null,null,null,null,null,null,null,{"$f":"L6","v":"Water Utility Plant Description (Continued)"}]
[{"$f":"IF('AR1'!B19=\"\",\"\",'AR1'!B19)","v":"12/31/20"},null,null,null,null,null,null,null,null,null,null,{"$f":"A4","v":"12/31/20"}]
[]
["Water Utility Plant Description",null,null,null,null,null,null,null,null,"Table of Contents",null,"Water Utility Plant Description (Continued)"]
["Name of the System:",null,{"$f":"'AR8 (c)'!$C$7","v":0}]
["ADEQ Public Water System Number:",null,null,{"$f":"'AR8 (c)'!$D$8","v":""},null,null,null,null,null,null,{"$f":"L101","v":"Incomplete"},"For the following three items, list the utility owned assets in each category for each system."]
["ADWR PCC Number:",null,null,{"$f":"'AR8 (c)'!$D$9","v":""}]
[]
["MAINS",null,null,null,null,"CUSTOMER METERS",null,null,null,null,null,"TREATMENT EQUIPMENT:"]
["Sizes (inches)","Material","Length (feet)",null,null,"Size (inches)","Quantity","Percent over 1,000,000 gallons","Percent over 10 years old"]
[]
[]
[]
[]
[null,null,null,null,null,null,null,null,null,null,null,"STRUCTURES:"]
[]
[]
[]
[]
[]
[null,null,null,null,null,null,null,null,null,null,null,"OTHER:"]
[]
[]
[]
[]
[null,"SERVICE LINES"]
[null,"Material","Percent of system","Year installed"]
[null,null,null,null,null,null,null,null,null,null,null,"Provide a calculation used to determine the value of one water equivalent residential connection (ERC)."]
[null,null,null,null,null,null,null,null,null,null,null,"Use one of the following methods:"]
[null,null,null,null,null,null,null,null,null,null,null,"(a)","If actual flow data are available from the preceding 12 months, divide the total annual single family residence (SFR) gallons sold by the average number of single family residence customers for the same period and divide the result by 365 days. "]
[]
[null,null,null,null,null,null,null,null,null,null,null,"(b)","If no historical flow data are available, use:"]
[null,null,null,null,null,null,null,null,null,null,null,null,"ERC = ( Total SFR gallons sold (Omit 000) / 365 days / 350 gallons per day )"]
[]
["BOOSTER PUMPS",null,null,null,null,"FIRE HYDRANTS"]
["Horsepower","GPM","Quantity",null,null,"Type","Quantity",null,null,null,null,"ERC"]
[null,null,null,null,null,"Standard *",null,null,null,null,null,"Method used:"]
[null,null,null,null,null,"Other"]
[]
[]
[]
["STORAGE TANKS",null,null,null,null,"PRESSURE/BLADDER TANKS"]
["Capacity (gallons)","Material","Quantity","Year installed",null,"Capacity (gallons)","Material","Quantity","Year installed"]
[]
[]
[]
[]
[]
[]
[]
[]
[]
["* A standard fire hydrant has two 2.5 inch hose connection nozzles with 7.5 threads per inch, and one 4.5 inch pumper connection nozzle with 4 threads per inch."]
[]
[]
[null,null,null,null,null,null,null,null,{"$f":"\"Page \"&I60&\"c\"","v":"Page 12c"},null,null,null,null,null,null,null,null,null,{"$f":"\"Page \"&S60&\"c\"","v":{"$error":"#REF!"}}]
[]
[null,null,null,null,null,null,null,null,{"$f":"'AR8'!L71+1","v":12},null,null,null,null,null,null,null,null,null,{"$f":"#REF!+1","v":{"$error":"#REF!"}}]
["Instructions: Fill out the Grey Cells with the relevant information.  Input 0 or none if there is nothing recorded in that account or there is no applicable information to report.  Copy and paste this sheet as many times as is necessary.",null,null,null,null,null,null,null,null,null,null,"Instructions: Fill out the Grey Cells with the relevant information.  Input 0 or none if there is nothing recorded in that account or there is no applicable information to report.  Copy and paste this sheet as many times as is necessary."]
[]
[]
[{"$f":"IF(A13<>\"\",\"Complete\",\"Incomplete\")","v":"Incomplete"},"Incomplete","Incomplete",null,null,{"$f":"IF(F17<>\"\",\"Complete\",\"Incomplete\")","v":"Incomplete"},{"$f":"IF(G13<>\"\",\"Complete\",\"Incomplete\")","v":"Incomplete"},"Incomplete","Incomplete",{"$f":"IF(A64=\"Incomplete\",\"Incomplete\",IF(B64=\"Incomplete\",\"Incomplete\",IF(C64=\"Incomplete\",\"Incomplete\",IF(F64=\"Incomplete\",\"Incomplete\",IF(G64=\"Incomplete\",\"Incomplete\",IF(H64=\"Incomplete\",\"Incomplete\",IF(I64=\"Incomplete\",\"Incomplete\",\"Complete\")))))))","v":"Incomplete"}]
["Incomplete","Incomplete","Incomplete",null,null,"Incomplete","Incomplete","Incomplete","Incomplete",{"$f":"IF(A65=\"Incomplete\",\"Incomplete\",IF(B65=\"Incomplete\",\"Incomplete\",IF(C65=\"Incomplete\",\"Incomplete\",IF(F65=\"Incomplete\",\"Incomplete\",IF(G65=\"Incomplete\",\"Incomplete\",IF(H65=\"Incomplete\",\"Incomplete\",IF(I65=\"Incomplete\",\"Incomplete\",\"Complete\")))))))","v":"Incomplete"}]
["Incomplete","Incomplete","Incomplete",null,null,"Incomplete","Incomplete","Incomplete","Incomplete","Incomplete"]
["Incomplete","Incomplete","Incomplete",null,null,"Incomplete","Incomplete","Incomplete","Incomplete","Incomplete"]
["Incomplete","Incomplete","Incomplete",null,null,"Incomplete","Incomplete","Incomplete","Incomplete","Incomplete"]
["Incomplete","Incomplete","Incomplete",null,null,"Incomplete","Incomplete","Incomplete","Incomplete","Incomplete"]
["Incomplete","Incomplete","Incomplete",null,null,"Incomplete","Incomplete","Incomplete","Incomplete","Incomplete"]
["Incomplete","Incomplete","Incomplete",null,null,"Incomplete","Incomplete","Incomplete","Incomplete","Incomplete"]
["Incomplete","Incomplete","Incomplete",null,null,"Incomplete","Incomplete","Incomplete","Incomplete","Incomplete"]
["Incomplete","Incomplete","Incomplete",null,null,"Incomplete","Incomplete","Incomplete","Incomplete","Incomplete"]
["Incomplete","Incomplete","Incomplete",null,null,"Incomplete","Incomplete","Incomplete",{"$f":"IF(I23<>\"\",\"Complete\",\"Incomplete\")","v":"Incomplete"},"Incomplete"]
["Incomplete","Incomplete","Incomplete",null,null,"Incomplete",{"$f":"IF(G27<>\"\",\"Complete\",\"Incomplete\")","v":"Incomplete"},{"$f":"IF(H27<>\"\",\"Complete\",\"Incomplete\")","v":"Incomplete"},"Incomplete","Incomplete"]
[{"$f":"IF(A26<>\"\",\"Complete\",\"Incomplete\")","v":"Incomplete"},{"$f":"IF(B26<>\"\",\"Complete\",\"Incomplete\")","v":"Incomplete"},{"$f":"IF(C26<>\"\",\"Complete\",\"Incomplete\")","v":"Incomplete"},null,null,"Incomplete",{"$f":"IF(G29<>\"\",\"Complete\",\"Incomplete\")","v":"Incomplete"},{"$f":"IF(H29<>\"\",\"Complete\",\"Incomplete\")","v":"Incomplete"},{"$f":"IF(I29<>\"\",\"Complete\",\"Incomplete\")","v":"Incomplete"},"Incomplete"]
[]
[null,{"$f":"IF(B30<>\"\",\"Complete\",\"Incomplete\")","v":"Incomplete"},"Incomplete",null,null,null,null,null,null,{"$f":"IF(B78=\"Incomplete\",\"Incomplete\",IF(C78=\"Incomplete\",\"Incomplete\",\"Complete\"))","v":"Incomplete"}]
[null,"Incomplete","Incomplete",null,null,null,null,null,null,{"$f":"IF(B79=\"Incomplete\",\"Incomplete\",IF(C79=\"Incomplete\",\"Incomplete\",\"Complete\"))","v":"Incomplete"}]
[null,"Incomplete","Incomplete",null,null,null,null,null,null,"Incomplete"]
[null,"Incomplete","Incomplete",null,null,null,null,null,null,"Incomplete"]
[null,"Incomplete","Incomplete",null,null,null,null,null,null,"Incomplete"]
[null,null,null,null,null,null,null,null,null,null,null,null,{"$f":"IF(M11<>\"\",\"Complete\",\"Incomplete\")","v":"Incomplete"}]
[{"$f":"IF(A39<>\"\",\"Complete\",\"Incomplete\")","v":"Incomplete"},"Incomplete","Incomplete",null,null,null,{"$f":"IF(G39<>\"\",\"Complete\",\"Incomplete\")","v":"Incomplete"},null,null,{"$f":"IF(A84=\"Incomplete\",\"Incomplete\",IF(B84=\"Incomplete\",\"Incomplete\",IF(C84=\"Incomplete\",\"Incomplete\",IF(G84=\"Incomplete\",\"Incomplete\",\"Complete\"))))","v":"Incomplete"},null,null,{"$f":"IF(M17<>\"\",\"Complete\",\"Incomplete\")","v":"Incomplete"}]
["Incomplete","Incomplete","Incomplete",null,null,null,{"$f":"IF(G40<>\"\",\"Complete\",\"Incomplete\")","v":"Incomplete"},null,null,{"$f":"IF(A85=\"Incomplete\",\"Incomplete\",IF(B85=\"Incomplete\",\"Incomplete\",IF(C85=\"Incomplete\",\"Incomplete\",IF(G85=\"Incomplete\",\"Incomplete\",\"Complete\"))))","v":"Incomplete"},null,null,{"$f":"IF(M23<>\"\",\"Complete\",\"Incomplete\")","v":"Incomplete"}]
["Incomplete","Incomplete","Incomplete",null,null,{"$f":"IF(F46<>\"\",\"Complete\",\"Incomplete\")","v":"Incomplete"},"Incomplete","Incomplete","Incomplete",{"$f":"IF(A86=\"Incomplete\",\"Incomplete\",IF(B86=\"Incomplete\",\"Incomplete\",IF(C86=\"Incomplete\",\"Incomplete\",IF(F86=\"Incomplete\",\"Incomplete\",IF(G86=\"Incomplete\",\"Incomplete\",IF(H86=\"Incomplete\",\"Incomplete\",IF(I86=\"Incomplete\",\"Incomplete\",\"Complete\")))))))","v":"Incomplete"},null,null,{"$f":"IF(M38<>\"\",\"Complete\",\"Incomplete\")","v":"Incomplete"}]
["Incomplete","Incomplete","Incomplete",null,null,"Incomplete","Incomplete","Incomplete","Incomplete",{"$f":"IF(A87=\"Incomplete\",\"Incomplete\",IF(B87=\"Incomplete\",\"Incomplete\",IF(C87=\"Incomplete\",\"Incomplete\",IF(F87=\"Incomplete\",\"Incomplete\",IF(G87=\"Incomplete\",\"Incomplete\",IF(H87=\"Incomplete\",\"Incomplete\",IF(I87=\"Incomplete\",\"Incomplete\",\"Complete\")))))))","v":"Incomplete"},null,null,{"$f":"IF(M39<>\"\",\"Complete\",\"Incomplete\")","v":"Incomplete"}]
[{"$f":"IF(A46<>\"\",\"Complete\",\"Incomplete\")","v":"Incomplete"},"Incomplete","Incomplete","Incomplete",null,"Incomplete","Incomplete","Incomplete","Incomplete",{"$f":"IF(A88=\"Incomplete\",\"Incomplete\",IF(B88=\"Incomplete\",\"Incomplete\",IF(C88=\"Incomplete\",\"Incomplete\",IF(D88=\"Incomplete\",\"Incomplete\",IF(F88=\"Incomplete\",\"Incomplete\",IF(G88=\"Incomplete\",\"Incomplete\",IF(H88=\"Incomplete\",\"Incomplete\",IF(I88=\"Incomplete\",\"Incomplete\",\"Complete\"))))))))","v":"Incomplete"}]
["Incomplete","Incomplete","Incomplete","Incomplete",null,"Incomplete","Incomplete","Incomplete","Incomplete",{"$f":"IF(A89=\"Incomplete\",\"Incomplete\",IF(B89=\"Incomplete\",\"Incomplete\",IF(C89=\"Incomplete\",\"Incomplete\",IF(D89=\"Incomplete\",\"Incomplete\",IF(F89=\"Incomplete\",\"Incomplete\",IF(G89=\"Incomplete\",\"Incomplete\",IF(H89=\"Incomplete\",\"Incomplete\",IF(I89=\"Incomplete\",\"Incomplete\",\"Complete\"))))))))","v":"Incomplete"}]
["Incomplete","Incomplete","Incomplete","Incomplete",null,"Incomplete","Incomplete","Incomplete","Incomplete",{"$f":"IF(A90=\"Incomplete\",\"Incomplete\",IF(B90=\"Incomplete\",\"Incomplete\",IF(C90=\"Incomplete\",\"Incomplete\",IF(D90=\"Incomplete\",\"Incomplete\",IF(F90=\"Incomplete\",\"Incomplete\",IF(G90=\"Incomplete\",\"Incomplete\",IF(H90=\"Incomplete\",\"Incomplete\",IF(I90=\"Incomplete\",\"Incomplete\",\"Complete\"))))))))","v":"Incomplete"}]
["Incomplete","Incomplete","Incomplete","Incomplete",null,"Incomplete","Incomplete","Incomplete","Incomplete",{"$f":"IF(A91=\"Incomplete\",\"Incomplete\",IF(B91=\"Incomplete\",\"Incomplete\",IF(C91=\"Incomplete\",\"Incomplete\",IF(D91=\"Incomplete\",\"Incomplete\",IF(F91=\"Incomplete\",\"Incomplete\",IF(G91=\"Incomplete\",\"Incomplete\",IF(H91=\"Incomplete\",\"Incomplete\",IF(I91=\"Incomplete\",\"Incomplete\",\"Complete\"))))))))","v":"Incomplete"}]
["Incomplete","Incomplete","Incomplete","Incomplete",null,null,null,null,null,{"$f":"IF(A92=\"Incomplete\",\"Incomplete\",IF(B92=\"Incomplete\",\"Incomplete\",IF(C92=\"Incomplete\",\"Incomplete\",IF(D92=\"Incomplete\",\"Incomplete\",\"Complete\"))))","v":"Incomplete"}]
["Incomplete","Incomplete","Incomplete","Incomplete",null,null,null,null,null,{"$f":"IF(A93=\"Incomplete\",\"Incomplete\",IF(B93=\"Incomplete\",\"Incomplete\",IF(C93=\"Incomplete\",\"Incomplete\",IF(D93=\"Incomplete\",\"Incomplete\",\"Complete\"))))","v":"Incomplete"}]
[]
[null,null,null,null,null,null,null,null,null,{"$f":"IF(J64=\"Incomplete\",\"Incomplete\",IF(J65=\"Incomplete\",\"Incomplete\",IF(J66=\"Incomplete\",\"Incomplete\",IF(J67=\"Incomplete\",\"Incomplete\",IF(J67=\"Incomplete\",\"Incomplete\",IF(J68=\"Incomplete\",\"Incomplete\",IF(J69=\"Incomplete\",\"Incomplete\",\"Complete\")))))))","v":"Incomplete"}]
[null,null,null,null,null,null,null,null,null,{"$f":"IF(J70=\"Incomplete\",\"Incomplete\",IF(J71=\"Incomplete\",\"Incomplete\",IF(J72=\"Incomplete\",\"Incomplete\",IF(J73=\"Incomplete\",\"Incomplete\",IF(J73=\"Incomplete\",\"Incomplete\",IF(J74=\"Incomplete\",\"Incomplete\",IF(J75=\"Incomplete\",\"Incomplete\",\"Complete\")))))))","v":"Incomplete"}]
[null,null,null,null,null,null,null,null,null,{"$f":"IF(J76=\"Incomplete\",\"Incomplete\",IF(J78=\"Incomplete\",\"Incomplete\",IF(J79=\"Incomplete\",\"Incomplete\",IF(J80=\"Incomplete\",\"Incomplete\",IF(J81=\"Incomplete\",\"Incomplete\",IF(J82=\"Incomplete\",\"Incomplete\",\"Complete\"))))))","v":"Incomplete"}]
[null,null,null,null,null,null,null,null,null,{"$f":"IF(J84=\"Incomplete\",\"Incomplete\",IF(J85=\"Incomplete\",\"Incomplete\",IF(J86=\"Incomplete\",\"Incomplete\",IF(J87=\"Incomplete\",\"Incomplete\",IF(J88=\"Incomplete\",\"Incomplete\",\"Complete\")))))","v":"Incomplete"}]
[null,null,null,null,null,null,null,null,null,{"$f":"IF(J89=\"Incomplete\",\"Incomplete\",IF(J90=\"Incomplete\",\"Incomplete\",IF(J91=\"Incomplete\",\"Incomplete\",IF(J92=\"Incomplete\",\"Incomplete\",IF(J93=\"Incomplete\",\"Incomplete\",\"Complete\")))))","v":"Incomplete"}]
[null,null,null,null,null,null,null,null,null,{"$f":"IF(J95=\"Incomplete\",\"Incomplete\",IF(J96=\"Incomplete\",\"Incomplete\",IF(J97=\"Incomplete\",\"Incomplete\",IF(J98=\"Incomplete\",\"Incomplete\",IF(J99=\"Incomplete\",\"Incomplete\"\"Complete\")))))","v":"Incomplete"},null,{"$f":"IF(M83=\"Incomplete\",\"Incomplete\",IF(M84=\"Incomplete\",\"Incomplete\",IF(M85=\"Incomplete\",\"Incomplete\",IF(M86=\"Incomplete\",\"Incomplete\",IF(M87=\"Incomplete\",\"Incomplete\"\"Complete\")))))","v":"Incomplete"}]
[null,null,null,null,null,null,null,null,null,null,null,{"$f":"IF(J100=\"Incomplete\",\"Incomplete\",IF(L100=\"Incomplete\",\"Incomplete\",\"Complete\"))","v":"Incomplete"}]
[]
["Note:  If you are filing for more than three systems, please click on the button below."]

{"sheet":"AR9 (d)","index":22,"n_rows":103,"n_cols":20,"rows_kept":103,"cut":false,"hidden":true,"merged":[[31,11,32,11],[31,12,32,18],[33,11,34,11],[33,12,33,18],[10,12,14,18],[5,0,5,8],[5,11,5,18],[6,0,6,1],[6,2,6,8],[7,0,7,2],[7,3,7,5],[7,11,7,18],[8,0,8,2],[8,3,8,5],[10,0,10,2],[10,5,10,8],[10,11,14,11],[102,0,102,8],[16,11,20,11],[16,12,20,18],[22,11,26,11],[22,12,26,18],[36,0,36,2],[60,0,61,8],[60,11,61,18],[54,0,54,8],[27,1,27,3],[36,5,36,6],[43,0,43,3],[43,5,43,8],[29,11,29,18],[30,11,30,18],[34,12,34,18]]}
[{"$f":"'AR1'!B12","v":0},null,null,null,null,null,null,null,null,"AR9",null,{"$f":"'[9]Part I page 1'!$B$11","v":0},null,null,null,null,null,null,null,"AR9"]
["Annual Report",null,null,null,null,null,null,null,null,{"$f":"\"Annual Report \"&I58","v":"Annual Report Page 12d"},null,"Annual Report",null,null,null,null,null,null,null,{"$f":"\"Annual Report page \"&S58","v":"Annual Report page Page 13d"}]
[{"$f":"A6","v":"Water Utility Plant Description"},null,null,null,null,null,null,null,null,null,null,{"$f":"L6","v":"Water Utility Plant Description (Continued)"}]
[{"$f":"IF('AR1'!B19=\"\",\"\",'AR1'!B19)","v":"12/31/20"},null,null,null,null,null,null,null,null,null,null,{"$f":"A4","v":"12/31/20"}]
[]
["Water Utility Plant Description",null,null,null,null,null,null,null,null,"Table of Contents",null,"Water Utility Plant Description (Continued)"]
["Name of the System:",null,{"$f":"'AR8 (d)'!C7","v":0}]
["ADEQ Public Water System Number:",null,null,{"$f":"'AR8 (d)'!D8","v":""},null,null,null,null,null,null,{"$f":"L101","v":"Incomplete"},"For the following three items, list the utility owned assets in each category for each system."]
["ADWR PCC Number:",null,null,{"$f":"'AR8 (d)'!D9","v":""}]
[]
["MAINS",null,null,null,null,"CUSTOMER METERS",null,null,null,null,null,"TREATMENT EQUIPMENT:"]
["Sizes (inches)","Material","Length (feet)",null,null,"Size (inches)","Quantity","Percent over 1,000,000 gallons","Percent over 10 years old"]
[]
[]
[]
[]
[null,null,null,null,null,null,null,null,null,null,null,"STRUCTURES:"]
[]
[]
[]
[]
[]
[null,null,null,null,null,null,null,null,null,null,null,"OTHER:"]
[]
[]
[]
[]
[null,"SERVICE LINES"]
[null,"Material","Percent of system","Year installed"]
[null,null,null,null,null,null,null,null,null,null,null,"Provide a calculation used to determine the value of one water equivalent residential connection (ERC)."]
[null,null,null,null,null,null,null,null,null,null,null,"Use one of the following methods:"]
[null,null,null,null,null,null,null,null,null,null,null,"(a)","If actual flow data are available from the preceding 12 months, divide the total annual single family residence (SFR) gallons sold by the average number of single family residence customers for the same period and divide the result by 365 days. "]
[]
[null,null,null,null,null,null,null,null,null,null,null,"(b)","If no historical flow data are available, use:"]
[null,null,null,null,null,null,null,null,null,null,null,null,"ERC = ( Total SFR gallons sold (Omit 000) / 365 days / 350 gallons per day )"]
[]
["BOOSTER PUMPS",null,null,null,null,"FIRE HYDRANTS"]
["Horsepower","GPM","Quantity",null,null,"Type","Quantity",null,null,null,null,"ERC"]
[null,null,null,null,null,"Standard *",null,null,null,null,null,"Method used:"]
[null,null,null,null,null,"Other"]
[]
[]
[]
["STORAGE TANKS",null,null,null,null,"PRESSURE/BLADDER TANKS"]
["Capacity (gallons)","Material","Quantity","Year installed",null,"Capacity (gallons)","Material","Quantity","Year installed"]
[]
[]
[]
[]
[]
[]
[]
[]
[]
["* A standard fire hydrant has two 2.5 inch hose connection nozzles with 7.5 threads per inch, and one 4.5 inch pumper connection nozzle with 4 threads per inch."]
[]
[]
[null,null,null,null,null,null,null,null,{"$f":"\"Page \"&I60&\"d\"","v":"Page 12d"},null,null,null,null,null,null,null,null,null,{"$f":"\"Page \"&S60&\"d\"","v":"Page 13d"}]
[]
[null,null,null,null,null,null,null,null,{"$f":"'AR8'!L71+1","v":12},null,null,null,null,null,null,null,null,null,{"$f":"I60+1","v":13}]
["Instructions: Fill out the Grey Cells with the relevant information.  Input 0 or none if there is nothing recorded in that account or there is no applicable information to report.  Copy and paste this sheet as many times as is necessary.",null,null,null,null,null,null,null,null,null,null,"Instructions: Fill out the Grey Cells with the relevant information.  Input 0 or none if there is nothing recorded in that account or there is no applicable information to report.  Copy and paste this sheet as many times as is necessary."]
[]
[]
[{"$f":"IF(A13<>\"\",\"Complete\",\"Incomplete\")","v":"Incomplete"},"Incomplete","Incomplete",null,null,{"$f":"IF(F17<>\"\",\"Complete\",\"Incomplete\")","v":"Incomplete"},{"$f":"IF(G13<>\"\",\"Complete\",\"Incomplete\")","v":"Incomplete"},"Incomplete","Incomplete",{"$f":"IF(A64=\"Incomplete\",\"Incomplete\",IF(B64=\"Incomplete\",\"Incomplete\",IF(C64=\"Incomplete\",\"Incomplete\",IF(F64=\"Incomplete\",\"Incomplete\",IF(G64=\"Incomplete\",\"Incomplete\",IF(H64=\"Incomplete\",\"Incomplete\",IF(I64=\"Incomplete\",\"Incomplete\",\"Complete\")))))))","v":"Incomplete"}]
["Incomplete","Incomplete","Incomplete",null,null,"Incomplete","Incomplete","Incomplete","Incomplete",{"$f":"IF(A65=\"Incomplete\",\"Incomplete\",IF(B65=\"Incomplete\",\"Incomplete\",IF(C65=\"Incomplete\",\"Incomplete\",IF(F65=\"Incomplete\",\"Incomplete\",IF(G65=\"Incomplete\",\"Incomplete\",IF(H65=\"Incomplete\",\"Incomplete\",IF(I65=\"Incomplete\",\"Incomplete\",\"Complete\")))))))","v":"Incomplete"}]
["Incomplete","Incomplete","Incomplete",null,null,"Incomplete","Incomplete","Incomplete","Incomplete","Incomplete"]
["Incomplete","Incomplete","Incomplete",null,null,"Incomplete","Incomplete","Incomplete","Incomplete","Incomplete"]
["Incomplete","Incomplete","Incomplete",null,null,"Incomplete","Incomplete","Incomplete","Incomplete","Incomplete"]
["Incomplete","Incomplete","Incomplete",null,null,"Incomplete","Incomplete","Incomplete","Incomplete","Incomplete"]
["Incomplete","Incomplete","Incomplete",null,null,"Incomplete","Incomplete","Incomplete","Incomplete","Incomplete"]
["Incomplete","Incomplete","Incomplete",null,null,"Incomplete","Incomplete","Incomplete","Incomplete","Incomplete"]
["Incomplete","Incomplete","Incomplete",null,null,"Incomplete","Incomplete","Incomplete","Incomplete","Incomplete"]
["Incomplete","Incomplete","Incomplete",null,null,"Incomplete","Incomplete","Incomplete","Incomplete","Incomplete"]
["Incomplete","Incomplete","Incomplete",null,null,"Incomplete","Incomplete","Incomplete",{"$f":"IF(I23<>\"\",\"Complete\",\"Incomplete\")","v":"Incomplete"},"Incomplete"]
["Incomplete","Incomplete","Incomplete",null,null,"Incomplete",{"$f":"IF(G27<>\"\",\"Complete\",\"Incomplete\")","v":"Incomplete"},{"$f":"IF(H27<>\"\",\"Complete\",\"Incomplete\")","v":"Incomplete"},"Incomplete","Incomplete"]
[{"$f":"IF(A26<>\"\",\"Complete\",\"Incomplete\")","v":"Incomplete"},{"$f":"IF(B26<>\"\",\"Complete\",\"Incomplete\")","v":"Incomplete"},{"$f":"IF(C26<>\"\",\"Complete\",\"Incomplete\")","v":"Incomplete"},null,null,"Incomplete",{"$f":"IF(G29<>\"\",\"Complete\",\"Incomplete\")","v":"Incomplete"},{"$f":"IF(H29<>\"\",\"Complete\",\"Incomplete\")","v":"Incomplete"},{"$f":"IF(I29<>\"\",\"Complete\",\"Incomplete\")","v":"Incomplete"},"Incomplete"]
[]
[null,{"$f":"IF(B30<>\"\",\"Complete\",\"Incomplete\")","v":"Incomplete"},"Incomplete",null,null,null,null,null,null,{"$f":"IF(B78=\"Incomplete\",\"Incomplete\",IF(C78=\"Incomplete\",\"Incomplete\",\"Complete\"))","v":"Incomplete"}]
[null,"Incomplete","Incomplete",null,null,null,null,null,null,{"$f":"IF(B79=\"Incomplete\",\"Incomplete\",IF(C79=\"Incomplete\",\"Incomplete\",\"Complete\"))","v":"Incomplete"}]
[null,"Incomplete","Incomplete",null,null,null,null,null,null,"Incomplete"]
[null,"Incomplete","Incomplete",null,null,null,null,null,null,"Incomplete"]
[null,"Incomplete","Incomplete",null,null,null,null,null,null,"Incomplete"]
[null,null,null,null,null,null,null,null,null,null,null,null,{"$f":"IF(M11<>\"\",\"Complete\",\"Incomplete\")","v":"Incomplete"}]
[{"$f":"IF(A39<>\"\",\"Complete\",\"Incomplete\")","v":"Incomplete"},"Incomplete","Incomplete",null,null,null,{"$f":"IF(G39<>\"\",\"Complete\",\"Incomplete\")","v":"Incomplete"},null,null,{"$f":"IF(A84=\"Incomplete\",\"Incomplete\",IF(B84=\"Incomplete\",\"Incomplete\",IF(C84=\"Incomplete\",\"Incomplete\",IF(G84=\"Incomplete\",\"Incomplete\",\"Complete\"))))","v":"Incomplete"},null,null,{"$f":"IF(M17<>\"\",\"Complete\",\"Incomplete\")","v":"Incomplete"}]
["Incomplete","Incomplete","Incomplete",null,null,null,{"$f":"IF(G40<>\"\",\"Complete\",\"Incomplete\")","v":"Incomplete"},null,null,{"$f":"IF(A85=\"Incomplete\",\"Incomplete\",IF(B85=\"Incomplete\",\"Incomplete\",IF(C85=\"Incomplete\",\"Incomplete\",IF(G85=\"Incomplete\",\"Incomplete\",\"Complete\"))))","v":"Incomplete"},null,null,{"$f":"IF(M23<>\"\",\"Complete\",\"Incomplete\")","v":"Incomplete"}]
["Incomplete","Incomplete","Incomplete",null,null,{"$f":"IF(F46<>\"\",\"Complete\",\"Incomplete\")","v":"Incomplete"},"Incomplete","Incomplete","Incomplete",{"$f":"IF(A86=\"Incomplete\",\"Incomplete\",IF(B86=\"Incomplete\",\"Incomplete\",IF(C86=\"Incomplete\",\"Incomplete\",IF(F86=\"Incomplete\",\"Incomplete\",IF(G86=\"Incomplete\",\"Incomplete\",IF(H86=\"Incomplete\",\"Incomplete\",IF(I86=\"Incomplete\",\"Incomplete\",\"Complete\")))))))","v":"Incomplete"},null,null,{"$f":"IF(M38<>\"\",\"Complete\",\"Incomplete\")","v":"Incomplete"}]
["Incomplete","Incomplete","Incomplete",null,null,"Incomplete","Incomplete","Incomplete","Incomplete",{"$f":"IF(A87=\"Incomplete\",\"Incomplete\",IF(B87=\"Incomplete\",\"Incomplete\",IF(C87=\"Incomplete\",\"Incomplete\",IF(F87=\"Incomplete\",\"Incomplete\",IF(G87=\"Incomplete\",\"Incomplete\",IF(H87=\"Incomplete\",\"Incomplete\",IF(I87=\"Incomplete\",\"Incomplete\",\"Complete\")))))))","v":"Incomplete"},null,null,{"$f":"IF(M39<>\"\",\"Complete\",\"Incomplete\")","v":"Incomplete"}]
[{"$f":"IF(A46<>\"\",\"Complete\",\"Incomplete\")","v":"Incomplete"},"Incomplete","Incomplete","Incomplete",null,"Incomplete","Incomplete","Incomplete","Incomplete",{"$f":"IF(A88=\"Incomplete\",\"Incomplete\",IF(B88=\"Incomplete\",\"Incomplete\",IF(C88=\"Incomplete\",\"Incomplete\",IF(D88=\"Incomplete\",\"Incomplete\",IF(F88=\"Incomplete\",\"Incomplete\",IF(G88=\"Incomplete\",\"Incomplete\",IF(H88=\"Incomplete\",\"Incomplete\",IF(I88=\"Incomplete\",\"Incomplete\",\"Complete\"))))))))","v":"Incomplete"}]
["Incomplete","Incomplete","Incomplete","Incomplete",null,"Incomplete","Incomplete","Incomplete","Incomplete",{"$f":"IF(A89=\"Incomplete\",\"Incomplete\",IF(B89=\"Incomplete\",\"Incomplete\",IF(C89=\"Incomplete\",\"Incomplete\",IF(D89=\"Incomplete\",\"Incomplete\",IF(F89=\"Incomplete\",\"Incomplete\",IF(G89=\"Incomplete\",\"Incomplete\",IF(H89=\"Incomplete\",\"Incomplete\",IF(I89=\"Incomplete\",\"Incomplete\",\"Complete\"))))))))","v":"Incomplete"}]
["Incomplete","Incomplete","Incomplete","Incomplete",null,"Incomplete","Incomplete","Incomplete","Incomplete",{"$f":"IF(A90=\"Incomplete\",\"Incomplete\",IF(B90=\"Incomplete\",\"Incomplete\",IF(C90=\"Incomplete\",\"Incomplete\",IF(D90=\"Incomplete\",\"Incomplete\",IF(F90=\"Incomplete\",\"Incomplete\",IF(G90=\"Incomplete\",\"Incomplete\",IF(H90=\"Incomplete\",\"Incomplete\",IF(I90=\"Incomplete\",\"Incomplete\",\"Complete\"))))))))","v":"Incomplete"}]
["Incomplete","Incomplete","Incomplete","Incomplete",null,"Incomplete","Incomplete","Incomplete","Incomplete",{"$f":"IF(A91=\"Incomplete\",\"Incomplete\",IF(B91=\"Incomplete\",\"Incomplete\",IF(C91=\"Incomplete\",\"Incomplete\",IF(D91=\"Incomplete\",\"Incomplete\",IF(F91=\"Incomplete\",\"Incomplete\",IF(G91=\"Incomplete\",\"Incomplete\",IF(H91=\"Incomplete\",\"Incomplete\",IF(I91=\"Incomplete\",\"Incomplete\",\"Complete\"))))))))","v":"Incomplete"}]
["Incomplete","Incomplete","Incomplete","Incomplete",null,null,null,null,null,{"$f":"IF(A92=\"Incomplete\",\"Incomplete\",IF(B92=\"Incomplete\",\"Incomplete\",IF(C92=\"Incomplete\",\"Incomplete\",IF(D92=\"Incomplete\",\"Incomplete\",\"Complete\"))))","v":"Incomplete"}]
["Incomplete","Incomplete","Incomplete","Incomplete",null,null,null,null,null,{"$f":"IF(A93=\"Incomplete\",\"Incomplete\",IF(B93=\"Incomplete\",\"Incomplete\",IF(C93=\"Incomplete\",\"Incomplete\",IF(D93=\"Incomplete\",\"Incomplete\",\"Complete\"))))","v":"Incomplete"}]
[]
[null,null,null,null,null,null,null,null,null,{"$f":"IF(J64=\"Incomplete\",\"Incomplete\",IF(J65=\"Incomplete\",\"Incomplete\",IF(J66=\"Incomplete\",\"Incomplete\",IF(J67=\"Incomplete\",\"Incomplete\",IF(J67=\"Incomplete\",\"Incomplete\",IF(J68=\"Incomplete\",\"Incomplete\",IF(J69=\"Incomplete\",\"Incomplete\",\"Complete\")))))))","v":"Incomplete"}]
[null,null,null,null,null,null,null,null,null,{"$f":"IF(J70=\"Incomplete\",\"Incomplete\",IF(J71=\"Incomplete\",\"Incomplete\",IF(J72=\"Incomplete\",\"Incomplete\",IF(J73=\"Incomplete\",\"Incomplete\",IF(J73=\"Incomplete\",\"Incomplete\",IF(J74=\"Incomplete\",\"Incomplete\",IF(J75=\"Incomplete\",\"Incomplete\",\"Complete\")))))))","v":"Incomplete"}]
[null,null,null,null,null,null,null,null,null,{"$f":"IF(J76=\"Incomplete\",\"Incomplete\",IF(J78=\"Incomplete\",\"Incomplete\",IF(J79=\"Incomplete\",\"Incomplete\",IF(J80=\"Incomplete\",\"Incomplete\",IF(J81=\"Incomplete\",\"Incomplete\",IF(J82=\"Incomplete\",\"Incomplete\",\"Complete\"))))))","v":"Incomplete"}]
[null,null,null,null,null,null,null,null,null,{"$f":"IF(J84=\"Incomplete\",\"Incomplete\",IF(J85=\"Incomplete\",\"Incomplete\",IF(J86=\"Incomplete\",\"Incomplete\",IF(J87=\"Incomplete\",\"Incomplete\",IF(J88=\"Incomplete\",\"Incomplete\",\"Complete\")))))","v":"Incomplete"}]
[null,null,null,null,null,null,null,null,null,{"$f":"IF(J89=\"Incomplete\",\"Incomplete\",IF(J90=\"Incomplete\",\"Incomplete\",IF(J91=\"Incomplete\",\"Incomplete\",IF(J92=\"Incomplete\",\"Incomplete\",IF(J93=\"Incomplete\",\"Incomplete\",\"Complete\")))))","v":"Incomplete"}]
[null,null,null,null,null,null,null,null,null,{"$f":"IF(J95=\"Incomplete\",\"Incomplete\",IF(J96=\"Incomplete\",\"Incomplete\",IF(J97=\"Incomplete\",\"Incomplete\",IF(J98=\"Incomplete\",\"Incomplete\",IF(J99=\"Incomplete\",\"Incomplete\"\"Complete\")))))","v":"Incomplete"},null,{"$f":"IF(M83=\"Incomplete\",\"Incomplete\",IF(M84=\"Incomplete\",\"Incomplete\",IF(M85=\"Incomplete\",\"Incomplete\",IF(M86=\"Incomplete\",\"Incomplete\",IF(M87=\"Incomplete\",\"Incomplete\"\"Complete\")))))","v":"Incomplete"}]
[null,null,null,null,null,null,null,null,null,null,null,{"$f":"IF(J100=\"Incomplete\",\"Incomplete\",IF(L100=\"Incomplete\",\"Incomplete\",\"Complete\"))","v":"Incomplete"}]
[]
["Note:  If you are filing for more than four systems, please click on the button below."]

{"sheet":"AR9 (e)","index":23,"n_rows":103,"n_cols":20,"rows_kept":103,"cut":false,"hidden":true,"merged":[[31,11,32,11],[31,12,32,18],[33,11,34,11],[33,12,33,18],[10,12,14,18],[5,0,5,8],[5,11,5,18],[6,0,6,1],[6,2,6,8],[7,0,7,2],[7,3,7,5],[7,11,7,18],[8,0,8,2],[8,3,8,5],[10,0,10,2],[10,5,10,8],[10,11,14,11],[102,0,102,8],[16,11,20,11],[16,12,20,18],[22,11,26,11],[22,12,26,18],[36,0,36,2],[60,0,61,8],[60,11,61,18],[54,0,54,8],[27,1,27,3],[36,5,36,6],[43,0,43,3],[43,5,43,8],[29,11,29,18],[30,11,30,18],[34,12,34,18]]}
[{"$f":"'AR1'!B12","v":0},null,null,null,null,null,null,null,null,"AR9",null,{"$f":"'[9]Part I page 1'!$B$11","v":0},null,null,null,null,null,null,null,"AR9"]
["Annual Report",null,null,null,null,null,null,null,null,{"$f":"\"Annual Report \"&I58","v":"Annual Report Page 12e"},null,"Annual Report",null,null,null,null,null,null,null,{"$f":"\"Annual Report page \"&S58","v":"Annual Report page Page 13e"}]
[{"$f":"A6","v":"Water Utility Plant Description"},null,null,null,null,null,null,null,null,null,null,{"$f":"L6","v":"Water Utility Plant Description (Continued)"}]
[{"$f":"IF('AR1'!B19=\"\",\"\",'AR1'!B19)","v":"12/31/20"},null,null,null,null,null,null,null,null,null,null,{"$f":"A4","v":"12/31/20"}]
[]
["Water Utility Plant Description",null,null,null,null,null,null,null,null,"Table of Contents",null,"Water Utility Plant Description (Continued)"]
["Name of the System:",null,{"$f":"'AR8 (e)'!C7","v":0}]
["ADEQ Public Water System Number:",null,null,{"$f":"'AR8 (e)'!D8","v":""},null,null,null,null,null,null,{"$f":"L101","v":"Incomplete"},"For the following three items, list the utility owned assets in each category for each system."]
["ADWR PCC Number:",null,null,{"$f":"'AR8 (e)'!D9","v":""}]
[]
["MAINS",null,null,null,null,"CUSTOMER METERS",null,null,null,null,null,"TREATMENT EQUIPMENT:"]
["Sizes (inches)","Material","Length (feet)",null,null,"Size (inches)","Quantity","Percent over 1,000,000 gallons","Percent over 10 years old"]
[]
[]
[]
[]
[null,null,null,null,null,null,null,null,null,null,null,"STRUCTURES:"]
[]
[]
[]
[]
[]
[null,null,null,null,null,null,null,null,null,null,null,"OTHER:"]
[]
[]
[]
[]
[null,"SERVICE LINES"]
[null,"Material","Percent of system","Year installed"]
[null,null,null,null,null,null,null,null,null,null,null,"Provide a calculation used to determine the value of one water equivalent residential connection (ERC)."]
[null,null,null,null,null,null,null,null,null,null,null,"Use one of the following methods:"]
[null,null,null,null,null,null,null,null,null,null,null,"(a)","If actual flow data are available from the preceding 12 months, divide the total annual single family residence (SFR) gallons sold by the average number of single family residence customers for the same period and divide the result by 365 days. "]
[]
[null,null,null,null,null,null,null,null,null,null,null,"(b)","If no historical flow data are available, use:"]
[null,null,null,null,null,null,null,null,null,null,null,null,"ERC = ( Total SFR gallons sold (Omit 000) / 365 days / 350 gallons per day )"]
[]
["BOOSTER PUMPS",null,null,null,null,"FIRE HYDRANTS"]
["Horsepower","GPM","Quantity",null,null,"Type","Quantity",null,null,null,null,"ERC"]
[null,null,null,null,null,"Standard *",null,null,null,null,null,"Method used:"]
[null,null,null,null,null,"Other"]
[]
[]
[]
["STORAGE TANKS",null,null,null,null,"PRESSURE/BLADDER TANKS"]
["Capacity (gallons)","Material","Quantity","Year installed",null,"Capacity (gallons)","Material","Quantity","Year installed"]
[]
[]
[]
[]
[]
[]
[]
[]
[]
["* A standard fire hydrant has two 2.5 inch hose connection nozzles with 7.5 threads per inch, and one 4.5 inch pumper connection nozzle with 4 threads per inch."]
[]
[]
[null,null,null,null,null,null,null,null,{"$f":"\"Page \"&I59&\"e\"","v":"Page 12e"},null,null,null,null,null,null,null,null,null,{"$f":"\"Page \"&S59&\"e\"","v":"Page 13e"}]
[null,null,null,null,null,null,null,null,{"$f":"'AR8'!L71+1","v":12},null,null,null,null,null,null,null,null,null,{"$f":"I59+1","v":13}]
[]
["Instructions: Fill out the Grey Cells with the relevant information.  Input 0 or none if there is nothing recorded in that account or there is no applicable information to report.  Copy and paste this sheet as many times as is necessary.",null,null,null,null,null,null,null,null,null,null,"Instructions: Fill out the Grey Cells with the relevant information.  Input 0 or none if there is nothing recorded in that account or there is no applicable information to report.  Copy and paste this sheet as many times as is necessary."]
[]
[]
[{"$f":"IF(A13<>\"\",\"Complete\",\"Incomplete\")","v":"Incomplete"},"Incomplete","Incomplete",null,null,{"$f":"IF(F17<>\"\",\"Complete\",\"Incomplete\")","v":"Incomplete"},{"$f":"IF(G13<>\"\",\"Complete\",\"Incomplete\")","v":"Incomplete"},"Incomplete","Incomplete",{"$f":"IF(A64=\"Incomplete\",\"Incomplete\",IF(B64=\"Incomplete\",\"Incomplete\",IF(C64=\"Incomplete\",\"Incomplete\",IF(F64=\"Incomplete\",\"Incomplete\",IF(G64=\"Incomplete\",\"Incomplete\",IF(H64=\"Incomplete\",\"Incomplete\",IF(I64=\"Incomplete\",\"Incomplete\",\"Complete\")))))))","v":"Incomplete"}]
["Incomplete","Incomplete","Incomplete",null,null,"Incomplete","Incomplete","Incomplete","Incomplete",{"$f":"IF(A65=\"Incomplete\",\"Incomplete\",IF(B65=\"Incomplete\",\"Incomplete\",IF(C65=\"Incomplete\",\"Incomplete\",IF(F65=\"Incomplete\",\"Incomplete\",IF(G65=\"Incomplete\",\"Incomplete\",IF(H65=\"Incomplete\",\"Incomplete\",IF(I65=\"Incomplete\",\"Incomplete\",\"Complete\")))))))","v":"Incomplete"}]
["Incomplete","Incomplete","Incomplete",null,null,"Incomplete","Incomplete","Incomplete","Incomplete","Incomplete"]
["Incomplete","Incomplete","Incomplete",null,null,"Incomplete","Incomplete","Incomplete","Incomplete","Incomplete"]
["Incomplete","Incomplete","Incomplete",null,null,"Incomplete","Incomplete","Incomplete","Incomplete","Incomplete"]
["Incomplete","Incomplete","Incomplete",null,null,"Incomplete","Incomplete","Incomplete","Incomplete","Incomplete"]
["Incomplete","Incomplete","Incomplete",null,null,"Incomplete","Incomplete","Incomplete","Incomplete","Incomplete"]
["Incomplete","Incomplete","Incomplete",null,null,"Incomplete","Incomplete","Incomplete","Incomplete","Incomplete"]
["Incomplete","Incomplete","Incomplete",null,null,"Incomplete","Incomplete","Incomplete","Incomplete","Incomplete"]
["Incomplete","Incomplete","Incomplete",null,null,"Incomplete","Incomplete","Incomplete","Incomplete","Incomplete"]
["Incomplete","Incomplete","Incomplete",null,null,"Incomplete","Incomplete","Incomplete",{"$f":"IF(I23<>\"\",\"Complete\",\"Incomplete\")","v":"Incomplete"},"Incomplete"]
["Incomplete","Incomplete","Incomplete",null,null,"Incomplete",{"$f":"IF(G27<>\"\",\"Complete\",\"Incomplete\")","v":"Incomplete"},{"$f":"IF(H27<>\"\",\"Complete\",\"Incomplete\")","v":"Incomplete"},"Incomplete","Incomplete"]
[{"$f":"IF(A26<>\"\",\"Complete\",\"Incomplete\")","v":"Incomplete"},{"$f":"IF(B26<>\"\",\"Complete\",\"Incomplete\")","v":"Incomplete"},{"$f":"IF(C26<>\"\",\"Complete\",\"Incomplete\")","v":"Incomplete"},null,null,"Incomplete",{"$f":"IF(G29<>\"\",\"Complete\",\"Incomplete\")","v":"Incomplete"},{"$f":"IF(H29<>\"\",\"Complete\",\"Incomplete\")","v":"Incomplete"},{"$f":"IF(I29<>\"\",\"Complete\",\"Incomplete\")","v":"Incomplete"},"Incomplete"]
[]
[null,{"$f":"IF(B30<>\"\",\"Complete\",\"Incomplete\")","v":"Incomplete"},"Incomplete",null,null,null,null,null,null,{"$f":"IF(B78=\"Incomplete\",\"Incomplete\",IF(C78=\"Incomplete\",\"Incomplete\",\"Complete\"))","v":"Incomplete"}]
[null,"Incomplete","Incomplete",null,null,null,null,null,null,{"$f":"IF(B79=\"Incomplete\",\"Incomplete\",IF(C79=\"Incomplete\",\"Incomplete\",\"Complete\"))","v":"Incomplete"}]
[null,"Incomplete","Incomplete",null,null,null,null,null,null,"Incomplete"]
[null,"Incomplete","Incomplete",null,null,null,null,null,null,"Incomplete"]
[null,"Incomplete","Incomplete",null,null,null,null,null,null,"Incomplete"]
[null,null,null,null,null,null,null,null,null,null,null,null,{"$f":"IF(M11<>\"\",\"Complete\",\"Incomplete\")","v":"Incomplete"}]
[{"$f":"IF(A39<>\"\",\"Complete\",\"Incomplete\")","v":"Incomplete"},"Incomplete","Incomplete",null,null,null,{"$f":"IF(G39<>\"\",\"Complete\",\"Incomplete\")","v":"Incomplete"},null,null,{"$f":"IF(A84=\"Incomplete\",\"Incomplete\",IF(B84=\"Incomplete\",\"Incomplete\",IF(C84=\"Incomplete\",\"Incomplete\",IF(G84=\"Incomplete\",\"Incomplete\",\"Complete\"))))","v":"Incomplete"},null,null,{"$f":"IF(M17<>\"\",\"Complete\",\"Incomplete\")","v":"Incomplete"}]
["Incomplete","Incomplete","Incomplete",null,null,null,{"$f":"IF(G40<>\"\",\"Complete\",\"Incomplete\")","v":"Incomplete"},null,null,{"$f":"IF(A85=\"Incomplete\",\"Incomplete\",IF(B85=\"Incomplete\",\"Incomplete\",IF(C85=\"Incomplete\",\"Incomplete\",IF(G85=\"Incomplete\",\"Incomplete\",\"Complete\"))))","v":"Incomplete"},null,null,{"$f":"IF(M23<>\"\",\"Complete\",\"Incomplete\")","v":"Incomplete"}]
["Incomplete","Incomplete","Incomplete",null,null,{"$f":"IF(F46<>\"\",\"Complete\",\"Incomplete\")","v":"Incomplete"},"Incomplete","Incomplete","Incomplete",{"$f":"IF(A86=\"Incomplete\",\"Incomplete\",IF(B86=\"Incomplete\",\"Incomplete\",IF(C86=\"Incomplete\",\"Incomplete\",IF(F86=\"Incomplete\",\"Incomplete\",IF(G86=\"Incomplete\",\"Incomplete\",IF(H86=\"Incomplete\",\"Incomplete\",IF(I86=\"Incomplete\",\"Incomplete\",\"Complete\")))))))","v":"Incomplete"},null,null,{"$f":"IF(M38<>\"\",\"Complete\",\"Incomplete\")","v":"Incomplete"}]
["Incomplete","Incomplete","Incomplete",null,null,"Incomplete","Incomplete","Incomplete","Incomplete",{"$f":"IF(A87=\"Incomplete\",\"Incomplete\",IF(B87=\"Incomplete\",\"Incomplete\",IF(C87=\"Incomplete\",\"Incomplete\",IF(F87=\"Incomplete\",\"Incomplete\",IF(G87=\"Incomplete\",\"Incomplete\",IF(H87=\"Incomplete\",\"Incomplete\",IF(I87=\"Incomplete\",\"Incomplete\",\"Complete\")))))))","v":"Incomplete"},null,null,{"$f":"IF(M39<>\"\",\"Complete\",\"Incomplete\")","v":"Incomplete"}]
[{"$f":"IF(A46<>\"\",\"Complete\",\"Incomplete\")","v":"Incomplete"},"Incomplete","Incomplete","Incomplete",null,"Incomplete","Incomplete","Incomplete","Incomplete",{"$f":"IF(A88=\"Incomplete\",\"Incomplete\",IF(B88=\"Incomplete\",\"Incomplete\",IF(C88=\"Incomplete\",\"Incomplete\",IF(D88=\"Incomplete\",\"Incomplete\",IF(F88=\"Incomplete\",\"Incomplete\",IF(G88=\"Incomplete\",\"Incomplete\",IF(H88=\"Incomplete\",\"Incomplete\",IF(I88=\"Incomplete\",\"Incomplete\",\"Complete\"))))))))","v":"Incomplete"}]
["Incomplete","Incomplete","Incomplete","Incomplete",null,"Incomplete","Incomplete","Incomplete","Incomplete",{"$f":"IF(A89=\"Incomplete\",\"Incomplete\",IF(B89=\"Incomplete\",\"Incomplete\",IF(C89=\"Incomplete\",\"Incomplete\",IF(D89=\"Incomplete\",\"Incomplete\",IF(F89=\"Incomplete\",\"Incomplete\",IF(G89=\"Incomplete\",\"Incomplete\",IF(H89=\"Incomplete\",\"Incomplete\",IF(I89=\"Incomplete\",\"Incomplete\",\"Complete\"))))))))","v":"Incomplete"}]
["Incomplete","Incomplete","Incomplete","Incomplete",null,"Incomplete","Incomplete","Incomplete","Incomplete",{"$f":"IF(A90=\"Incomplete\",\"Incomplete\",IF(B90=\"Incomplete\",\"Incomplete\",IF(C90=\"Incomplete\",\"Incomplete\",IF(D90=\"Incomplete\",\"Incomplete\",IF(F90=\"Incomplete\",\"Incomplete\",IF(G90=\"Incomplete\",\"Incomplete\",IF(H90=\"Incomplete\",\"Incomplete\",IF(I90=\"Incomplete\",\"Incomplete\",\"Complete\"))))))))","v":"Incomplete"}]
["Incomplete","Incomplete","Incomplete","Incomplete",null,"Incomplete","Incomplete","Incomplete","Incomplete",{"$f":"IF(A91=\"Incomplete\",\"Incomplete\",IF(B91=\"Incomplete\",\"Incomplete\",IF(C91=\"Incomplete\",\"Incomplete\",IF(D91=\"Incomplete\",\"Incomplete\",IF(F91=\"Incomplete\",\"Incomplete\",IF(G91=\"Incomplete\",\"Incomplete\",IF(H91=\"Incomplete\",\"Incomplete\",IF(I91=\"Incomplete\",\"Incomplete\",\"Complete\"))))))))","v":"Incomplete"}]
["Incomplete","Incomplete","Incomplete","Incomplete",null,null,null,null,null,{"$f":"IF(A92=\"Incomplete\",\"Incomplete\",IF(B92=\"Incomplete\",\"Incomplete\",IF(C92=\"Incomplete\",\"Incomplete\",IF(D92=\"Incomplete\",\"Incomplete\",\"Complete\"))))","v":"Incomplete"}]
["Incomplete","Incomplete","Incomplete","Incomplete",null,null,null,null,null,{"$f":"IF(A93=\"Incomplete\",\"Incomplete\",IF(B93=\"Incomplete\",\"Incomplete\",IF(C93=\"Incomplete\",\"Incomplete\",IF(D93=\"Incomplete\",\"Incomplete\",\"Complete\"))))","v":"Incomplete"}]
[]
[null,null,null,null,null,null,null,null,null,{"$f":"IF(J64=\"Incomplete\",\"Incomplete\",IF(J65=\"Incomplete\",\"Incomplete\",IF(J66=\"Incomplete\",\"Incomplete\",IF(J67=\"Incomplete\",\"Incomplete\",IF(J67=\"Incomplete\",\"Incomplete\",IF(J68=\"Incomplete\",\"Incomplete\",IF(J69=\"Incomplete\",\"Incomplete\",\"Complete\")))))))","v":"Incomplete"}]
[null,null,null,null,null,null,null,null,null,{"$f":"IF(J70=\"Incomplete\",\"Incomplete\",IF(J71=\"Incomplete\",\"Incomplete\",IF(J72=\"Incomplete\",\"Incomplete\",IF(J73=\"Incomplete\",\"Incomplete\",IF(J73=\"Incomplete\",\"Incomplete\",IF(J74=\"Incomplete\",\"Incomplete\",IF(J75=\"Incomplete\",\"Incomplete\",\"Complete\")))))))","v":"Incomplete"}]
[null,null,null,null,null,null,null,null,null,{"$f":"IF(J76=\"Incomplete\",\"Incomplete\",IF(J78=\"Incomplete\",\"Incomplete\",IF(J79=\"Incomplete\",\"Incomplete\",IF(J80=\"Incomplete\",\"Incomplete\",IF(J81=\"Incomplete\",\"Incomplete\",IF(J82=\"Incomplete\",\"Incomplete\",\"Complete\"))))))","v":"Incomplete"}]
[null,null,null,null,null,null,null,null,null,{"$f":"IF(J84=\"Incomplete\",\"Incomplete\",IF(J85=\"Incomplete\",\"Incomplete\",IF(J86=\"Incomplete\",\"Incomplete\",IF(J87=\"Incomplete\",\"Incomplete\",IF(J88=\"Incomplete\",\"Incomplete\",\"Complete\")))))","v":"Incomplete"}]
[null,null,null,null,null,null,null,null,null,{"$f":"IF(J89=\"Incomplete\",\"Incomplete\",IF(J90=\"Incomplete\",\"Incomplete\",IF(J91=\"Incomplete\",\"Incomplete\",IF(J92=\"Incomplete\",\"Incomplete\",IF(J93=\"Incomplete\",\"Incomplete\",\"Complete\")))))","v":"Incomplete"}]
[null,null,null,null,null,null,null,null,null,{"$f":"IF(J95=\"Incomplete\",\"Incomplete\",IF(J96=\"Incomplete\",\"Incomplete\",IF(J97=\"Incomplete\",\"Incomplete\",IF(J98=\"Incomplete\",\"Incomplete\",IF(J99=\"Incomplete\",\"Incomplete\"\"Complete\")))))","v":"Incomplete"},null,{"$f":"IF(M83=\"Incomplete\",\"Incomplete\",IF(M84=\"Incomplete\",\"Incomplete\",IF(M85=\"Incomplete\",\"Incomplete\",IF(M86=\"Incomplete\",\"Incomplete\",IF(M87=\"Incomplete\",\"Incomplete\"\"Complete\")))))","v":"Incomplete"}]
[null,null,null,null,null,null,null,null,null,null,null,{"$f":"IF(J100=\"Incomplete\",\"Incomplete\",IF(L100=\"Incomplete\",\"Incomplete\",\"Complete\"))","v":"Incomplete"}]
[]
["Note:  If you are filing for more than five systems, please click on the button below."]

{"sheet":"AR9 (f)","index":24,"n_rows":103,"n_cols":20,"rows_kept":103,"cut":false,"hidden":true,"merged":[[31,11,32,11],[31,12,32,18],[33,11,34,11],[33,12,33,18],[10,12,14,18],[5,0,5,8],[5,11,5,18],[6,0,6,1],[6,2,6,8],[7,0,7,2],[7,3,7,5],[7,11,7,18],[8,0,8,2],[8,3,8,5],[10,0,10,2],[10,5,10,8],[10,11,14,11],[102,0,102,8],[16,11,20,11],[16,12,20,18],[22,11,26,11],[22,12,26,18],[36,0,36,2],[60,0,61,8],[60,11,61,18],[54,0,54,8],[27,1,27,3],[36,5,36,6],[43,0,43,3],[43,5,43,8],[29,11,29,18],[30,11,30,18],[34,12,34,18]]}
[{"$f":"'AR1'!B12","v":0},null,null,null,null,null,null,null,null,"AR9",null,{"$f":"'[9]Part I page 1'!$B$11","v":0},null,null,null,null,null,null,null,"AR9"]
["Annual Report",null,null,null,null,null,null,null,null,{"$f":"\"Annual Report \"&I58","v":"Annual Report Page 12f"},null,"Annual Report",null,null,null,null,null,null,null,{"$f":"\"Annual Report page \"&S58","v":"Annual Report page Page 13f"}]
[{"$f":"A6","v":"Water Utility Plant Description"},null,null,null,null,null,null,null,null,null,null,{"$f":"L6","v":"Water Utility Plant Description (Continued)"}]
[{"$f":"IF('AR1'!B19=\"\",\"\",'AR1'!B19)","v":"12/31/20"},null,null,null,null,null,null,null,null,null,null,{"$f":"A4","v":"12/31/20"}]
[]
["Water Utility Plant Description",null,null,null,null,null,null,null,null,"Table of Contents",null,"Water Utility Plant Description (Continued)"]
["Name of the System:",null,{"$f":"'AR8 (f)'!C7","v":0}]
["ADEQ Public Water System Number:",null,null,{"$f":"'AR8 (f)'!D8","v":""},null,null,null,null,null,null,{"$f":"L101","v":"Incomplete"},"For the following three items, list the utility owned assets in each category for each system."]
["ADWR PCC Number:",null,null,{"$f":"'AR8 (f)'!D9","v":""}]
[]
["MAINS",null,null,null,null,"CUSTOMER METERS",null,null,null,null,null,"TREATMENT EQUIPMENT:"]
["Sizes (inches)","Material","Length (feet)",null,null,"Size (inches)","Quantity","Percent over 1,000,000 gallons","Percent over 10 years old"]
[]
[]
[]
[]
[null,null,null,null,null,null,null,null,null,null,null,"STRUCTURES:"]
[]
[]
[]
[]
[]
[null,null,null,null,null,null,null,null,null,null,null,"OTHER:"]
[]
[]
[]
[]
[null,"SERVICE LINES"]
[null,"Material","Percent of system","Year installed"]
[null,null,null,null,null,null,null,null,null,null,null,"Provide a calculation used to determine the value of one water equivalent residential connection (ERC)."]
[null,null,null,null,null,null,null,null,null,null,null,"Use one of the following methods:"]
[null,null,null,null,null,null,null,null,null,null,null,"(a)","If actual flow data are available from the preceding 12 months, divide the total annual single family residence (SFR) gallons sold by the average number of single family residence customers for the same period and divide the result by 365 days. "]
[]
[null,null,null,null,null,null,null,null,null,null,null,"(b)","If no historical flow data are available, use:"]
[null,null,null,null,null,null,null,null,null,null,null,null,"ERC = ( Total SFR gallons sold (Omit 000) / 365 days / 350 gallons per day )"]
[]
["BOOSTER PUMPS",null,null,null,null,"FIRE HYDRANTS"]
["Horsepower","GPM","Quantity",null,null,"Type","Quantity",null,null,null,null,"ERC"]
[null,null,null,null,null,"Standard *",null,null,null,null,null,"Method used:"]
[null,null,null,null,null,"Other"]
[]
[]
[]
["STORAGE TANKS",null,null,null,null,"PRESSURE/BLADDER TANKS"]
["Capacity (gallons)","Material","Quantity","Year installed",null,"Capacity (gallons)","Material","Quantity","Year installed"]
[]
[]
[]
[]
[]
[]
[]
[]
[]
["* A standard fire hydrant has two 2.5 inch hose connection nozzles with 7.5 threads per inch, and one 4.5 inch pumper connection nozzle with 4 threads per inch."]
[]
[]
[null,null,null,null,null,null,null,null,{"$f":"\"Page \"&I60&\"f\"","v":"Page 12f"},null,null,null,null,null,null,null,null,null,{"$f":"\"Page \"&S60&\"f\"","v":"Page 13f"}]
[]
[null,null,null,null,null,null,null,null,{"$f":"'AR8'!L71+1","v":12},null,null,null,null,null,null,null,null,null,{"$f":"I60+1","v":13}]
["Instructions: Fill out the Grey Cells with the relevant information.  Input 0 or none if there is nothing recorded in that account or there is no applicable information to report.  Copy and paste this sheet as many times as is necessary.",null,null,null,null,null,null,null,null,null,null,"Instructions: Fill out the Grey Cells with the relevant information.  Input 0 or none if there is nothing recorded in that account or there is no applicable information to report.  Copy and paste this sheet as many times as is necessary."]
[]
[]
[{"$f":"IF(A13<>\"\",\"Complete\",\"Incomplete\")","v":"Incomplete"},"Incomplete","Incomplete",null,null,{"$f":"IF(F17<>\"\",\"Complete\",\"Incomplete\")","v":"Incomplete"},{"$f":"IF(G13<>\"\",\"Complete\",\"Incomplete\")","v":"Incomplete"},"Incomplete","Incomplete",{"$f":"IF(A64=\"Incomplete\",\"Incomplete\",IF(B64=\"Incomplete\",\"Incomplete\",IF(C64=\"Incomplete\",\"Incomplete\",IF(F64=\"Incomplete\",\"Incomplete\",IF(G64=\"Incomplete\",\"Incomplete\",IF(H64=\"Incomplete\",\"Incomplete\",IF(I64=\"Incomplete\",\"Incomplete\",\"Complete\")))))))","v":"Incomplete"}]
["Incomplete","Incomplete","Incomplete",null,null,"Incomplete","Incomplete","Incomplete","Incomplete",{"$f":"IF(A65=\"Incomplete\",\"Incomplete\",IF(B65=\"Incomplete\",\"Incomplete\",IF(C65=\"Incomplete\",\"Incomplete\",IF(F65=\"Incomplete\",\"Incomplete\",IF(G65=\"Incomplete\",\"Incomplete\",IF(H65=\"Incomplete\",\"Incomplete\",IF(I65=\"Incomplete\",\"Incomplete\",\"Complete\")))))))","v":"Incomplete"}]
["Incomplete","Incomplete","Incomplete",null,null,"Incomplete","Incomplete","Incomplete","Incomplete","Incomplete"]
["Incomplete","Incomplete","Incomplete",null,null,"Incomplete","Incomplete","Incomplete","Incomplete","Incomplete"]
["Incomplete","Incomplete","Incomplete",null,null,"Incomplete","Incomplete","Incomplete","Incomplete","Incomplete"]
["Incomplete","Incomplete","Incomplete",null,null,"Incomplete","Incomplete","Incomplete","Incomplete","Incomplete"]
["Incomplete","Incomplete","Incomplete",null,null,"Incomplete","Incomplete","Incomplete","Incomplete","Incomplete"]
["Incomplete","Incomplete","Incomplete",null,null,"Incomplete","Incomplete","Incomplete","Incomplete","Incomplete"]
["Incomplete","Incomplete","Incomplete",null,null,"Incomplete","Incomplete","Incomplete","Incomplete","Incomplete"]
["Incomplete","Incomplete","Incomplete",null,null,"Incomplete","Incomplete","Incomplete","Incomplete","Incomplete"]
["Incomplete","Incomplete","Incomplete",null,null,"Incomplete","Incomplete","Incomplete",{"$f":"IF(I23<>\"\",\"Complete\",\"Incomplete\")","v":"Incomplete"},"Incomplete"]
["Incomplete","Incomplete","Incomplete",null,null,"Incomplete",{"$f":"IF(G27<>\"\",\"Complete\",\"Incomplete\")","v":"Incomplete"},{"$f":"IF(H27<>\"\",\"Complete\",\"Incomplete\")","v":"Incomplete"},"Incomplete","Incomplete"]
[{"$f":"IF(A26<>\"\",\"Complete\",\"Incomplete\")","v":"Incomplete"},{"$f":"IF(B26<>\"\",\"Complete\",\"Incomplete\")","v":"Incomplete"},{"$f":"IF(C26<>\"\",\"Complete\",\"Incomplete\")","v":"Incomplete"},null,null,"Incomplete",{"$f":"IF(G29<>\"\",\"Complete\",\"Incomplete\")","v":"Incomplete"},{"$f":"IF(H29<>\"\",\"Complete\",\"Incomplete\")","v":"Incomplete"},{"$f":"IF(I29<>\"\",\"Complete\",\"Incomplete\")","v":"Incomplete"},"Incomplete"]
[]
[null,{"$f":"IF(B30<>\"\",\"Complete\",\"Incomplete\")","v":"Incomplete"},"Incomplete",null,null,null,null,null,null,{"$f":"IF(B78=\"Incomplete\",\"Incomplete\",IF(C78=\"Incomplete\",\"Incomplete\",\"Complete\"))","v":"Incomplete"}]
[null,"Incomplete","Incomplete",null,null,null,null,null,null,{"$f":"IF(B79=\"Incomplete\",\"Incomplete\",IF(C79=\"Incomplete\",\"Incomplete\",\"Complete\"))","v":"Incomplete"}]
[null,"Incomplete","Incomplete",null,null,null,null,null,null,"Incomplete"]
[null,"Incomplete","Incomplete",null,null,null,null,null,null,"Incomplete"]
[null,"Incomplete","Incomplete",null,null,null,null,null,null,"Incomplete"]
[null,null,null,null,null,null,null,null,null,null,null,null,{"$f":"IF(M11<>\"\",\"Complete\",\"Incomplete\")","v":"Incomplete"}]
[{"$f":"IF(A39<>\"\",\"Complete\",\"Incomplete\")","v":"Incomplete"},"Incomplete","Incomplete",null,null,null,{"$f":"IF(G39<>\"\",\"Complete\",\"Incomplete\")","v":"Incomplete"},null,null,{"$f":"IF(A84=\"Incomplete\",\"Incomplete\",IF(B84=\"Incomplete\",\"Incomplete\",IF(C84=\"Incomplete\",\"Incomplete\",IF(G84=\"Incomplete\",\"Incomplete\",\"Complete\"))))","v":"Incomplete"},null,null,{"$f":"IF(M17<>\"\",\"Complete\",\"Incomplete\")","v":"Incomplete"}]
["Incomplete","Incomplete","Incomplete",null,null,null,{"$f":"IF(G40<>\"\",\"Complete\",\"Incomplete\")","v":"Incomplete"},null,null,{"$f":"IF(A85=\"Incomplete\",\"Incomplete\",IF(B85=\"Incomplete\",\"Incomplete\",IF(C85=\"Incomplete\",\"Incomplete\",IF(G85=\"Incomplete\",\"Incomplete\",\"Complete\"))))","v":"Incomplete"},null,null,{"$f":"IF(M23<>\"\",\"Complete\",\"Incomplete\")","v":"Incomplete"}]
["Incomplete","Incomplete","Incomplete",null,null,{"$f":"IF(F46<>\"\",\"Complete\",\"Incomplete\")","v":"Incomplete"},"Incomplete","Incomplete","Incomplete",{"$f":"IF(A86=\"Incomplete\",\"Incomplete\",IF(B86=\"Incomplete\",\"Incomplete\",IF(C86=\"Incomplete\",\"Incomplete\",IF(F86=\"Incomplete\",\"Incomplete\",IF(G86=\"Incomplete\",\"Incomplete\",IF(H86=\"Incomplete\",\"Incomplete\",IF(I86=\"Incomplete\",\"Incomplete\",\"Complete\")))))))","v":"Incomplete"},null,null,{"$f":"IF(M38<>\"\",\"Complete\",\"Incomplete\")","v":"Incomplete"}]
["Incomplete","Incomplete","Incomplete",null,null,"Incomplete","Incomplete","Incomplete","Incomplete",{"$f":"IF(A87=\"Incomplete\",\"Incomplete\",IF(B87=\"Incomplete\",\"Incomplete\",IF(C87=\"Incomplete\",\"Incomplete\",IF(F87=\"Incomplete\",\"Incomplete\",IF(G87=\"Incomplete\",\"Incomplete\",IF(H87=\"Incomplete\",\"Incomplete\",IF(I87=\"Incomplete\",\"Incomplete\",\"Complete\")))))))","v":"Incomplete"},null,null,{"$f":"IF(M39<>\"\",\"Complete\",\"Incomplete\")","v":"Incomplete"}]
[{"$f":"IF(A46<>\"\",\"Complete\",\"Incomplete\")","v":"Incomplete"},"Incomplete","Incomplete","Incomplete",null,"Incomplete","Incomplete","Incomplete","Incomplete",{"$f":"IF(A88=\"Incomplete\",\"Incomplete\",IF(B88=\"Incomplete\",\"Incomplete\",IF(C88=\"Incomplete\",\"Incomplete\",IF(D88=\"Incomplete\",\"Incomplete\",IF(F88=\"Incomplete\",\"Incomplete\",IF(G88=\"Incomplete\",\"Incomplete\",IF(H88=\"Incomplete\",\"Incomplete\",IF(I88=\"Incomplete\",\"Incomplete\",\"Complete\"))))))))","v":"Incomplete"}]
["Incomplete","Incomplete","Incomplete","Incomplete",null,"Incomplete","Incomplete","Incomplete","Incomplete",{"$f":"IF(A89=\"Incomplete\",\"Incomplete\",IF(B89=\"Incomplete\",\"Incomplete\",IF(C89=\"Incomplete\",\"Incomplete\",IF(D89=\"Incomplete\",\"Incomplete\",IF(F89=\"Incomplete\",\"Incomplete\",IF(G89=\"Incomplete\",\"Incomplete\",IF(H89=\"Incomplete\",\"Incomplete\",IF(I89=\"Incomplete\",\"Incomplete\",\"Complete\"))))))))","v":"Incomplete"}]
["Incomplete","Incomplete","Incomplete","Incomplete",null,"Incomplete","Incomplete","Incomplete","Incomplete",{"$f":"IF(A90=\"Incomplete\",\"Incomplete\",IF(B90=\"Incomplete\",\"Incomplete\",IF(C90=\"Incomplete\",\"Incomplete\",IF(D90=\"Incomplete\",\"Incomplete\",IF(F90=\"Incomplete\",\"Incomplete\",IF(G90=\"Incomplete\",\"Incomplete\",IF(H90=\"Incomplete\",\"Incomplete\",IF(I90=\"Incomplete\",\"Incomplete\",\"Complete\"))))))))","v":"Incomplete"}]
["Incomplete","Incomplete","Incomplete","Incomplete",null,"Incomplete","Incomplete","Incomplete","Incomplete",{"$f":"IF(A91=\"Incomplete\",\"Incomplete\",IF(B91=\"Incomplete\",\"Incomplete\",IF(C91=\"Incomplete\",\"Incomplete\",IF(D91=\"Incomplete\",\"Incomplete\",IF(F91=\"Incomplete\",\"Incomplete\",IF(G91=\"Incomplete\",\"Incomplete\",IF(H91=\"Incomplete\",\"Incomplete\",IF(I91=\"Incomplete\",\"Incomplete\",\"Complete\"))))))))","v":"Incomplete"}]
["Incomplete","Incomplete","Incomplete","Incomplete",null,null,null,null,null,{"$f":"IF(A92=\"Incomplete\",\"Incomplete\",IF(B92=\"Incomplete\",\"Incomplete\",IF(C92=\"Incomplete\",\"Incomplete\",IF(D92=\"Incomplete\",\"Incomplete\",\"Complete\"))))","v":"Incomplete"}]
["Incomplete","Incomplete","Incomplete","Incomplete",null,null,null,null,null,{"$f":"IF(A93=\"Incomplete\",\"Incomplete\",IF(B93=\"Incomplete\",\"Incomplete\",IF(C93=\"Incomplete\",\"Incomplete\",IF(D93=\"Incomplete\",\"Incomplete\",\"Complete\"))))","v":"Incomplete"}]
[]
[null,null,null,null,null,null,null,null,null,{"$f":"IF(J64=\"Incomplete\",\"Incomplete\",IF(J65=\"Incomplete\",\"Incomplete\",IF(J66=\"Incomplete\",\"Incomplete\",IF(J67=\"Incomplete\",\"Incomplete\",IF(J67=\"Incomplete\",\"Incomplete\",IF(J68=\"Incomplete\",\"Incomplete\",IF(J69=\"Incomplete\",\"Incomplete\",\"Complete\")))))))","v":"Incomplete"}]
[null,null,null,null,null,null,null,null,null,{"$f":"IF(J70=\"Incomplete\",\"Incomplete\",IF(J71=\"Incomplete\",\"Incomplete\",IF(J72=\"Incomplete\",\"Incomplete\",IF(J73=\"Incomplete\",\"Incomplete\",IF(J73=\"Incomplete\",\"Incomplete\",IF(J74=\"Incomplete\",\"Incomplete\",IF(J75=\"Incomplete\",\"Incomplete\",\"Complete\")))))))","v":"Incomplete"}]
[null,null,null,null,null,null,null,null,null,{"$f":"IF(J76=\"Incomplete\",\"Incomplete\",IF(J78=\"Incomplete\",\"Incomplete\",IF(J79=\"Incomplete\",\"Incomplete\",IF(J80=\"Incomplete\",\"Incomplete\",IF(J81=\"Incomplete\",\"Incomplete\",IF(J82=\"Incomplete\",\"Incomplete\",\"Complete\"))))))","v":"Incomplete"}]
[null,null,null,null,null,null,null,null,null,{"$f":"IF(J84=\"Incomplete\",\"Incomplete\",IF(J85=\"Incomplete\",\"Incomplete\",IF(J86=\"Incomplete\",\"Incomplete\",IF(J87=\"Incomplete\",\"Incomplete\",IF(J88=\"Incomplete\",\"Incomplete\",\"Complete\")))))","v":"Incomplete"}]
[null,null,null,null,null,null,null,null,null,{"$f":"IF(J89=\"Incomplete\",\"Incomplete\",IF(J90=\"Incomplete\",\"Incomplete\",IF(J91=\"Incomplete\",\"Incomplete\",IF(J92=\"Incomplete\",\"Incomplete\",IF(J93=\"Incomplete\",\"Incomplete\",\"Complete\")))))","v":"Incomplete"}]
[null,null,null,null,null,null,null,null,null,{"$f":"IF(J95=\"Incomplete\",\"Incomplete\",IF(J96=\"Incomplete\",\"Incomplete\",IF(J97=\"Incomplete\",\"Incomplete\",IF(J98=\"Incomplete\",\"Incomplete\",IF(J99=\"Incomplete\",\"Incomplete\"\"Complete\")))))","v":"Incomplete"},null,{"$f":"IF(M83=\"Incomplete\",\"Incomplete\",IF(M84=\"Incomplete\",\"Incomplete\",IF(M85=\"Incomplete\",\"Incomplete\",IF(M86=\"Incomplete\",\"Incomplete\",IF(M87=\"Incomplete\",\"Incomplete\"\"Complete\")))))","v":"Incomplete"}]
[null,null,null,null,null,null,null,null,null,null,null,{"$f":"IF(J100=\"Incomplete\",\"Incomplete\",IF(L100=\"Incomplete\",\"Incomplete\",\"Complete\"))","v":"Incomplete"}]
[]
["Note:  If you are filing for more than six systems, please click on the button below."]

{"sheet":"AR9 (g)","index":25,"n_rows":103,"n_cols":20,"rows_kept":103,"cut":false,"hidden":true,"merged":[[31,11,32,11],[31,12,32,18],[33,11,34,11],[33,12,33,18],[10,12,14,18],[5,0,5,8],[5,11,5,18],[6,0,6,1],[6,2,6,8],[7,0,7,2],[7,3,7,5],[7,11,7,18],[8,0,8,2],[8,3,8,5],[10,0,10,2],[10,5,10,8],[10,11,14,11],[102,0,102,8],[16,11,20,11],[16,12,20,18],[22,11,26,11],[22,12,26,18],[36,0,36,2],[60,0,61,8],[60,11,61,18],[54,0,54,8],[27,1,27,3],[36,5,36,6],[43,0,43,3],[43,5,43,8],[29,11,29,18],[30,11,30,18],[34,12,34,18]]}
[{"$f":"'AR1'!B12","v":0},null,null,null,null,null,null,null,null,"AR9",null,{"$f":"'[9]Part I page 1'!$B$11","v":0},null,null,null,null,null,null,null,"AR9"]
["Annual Report",null,null,null,null,null,null,null,null,{"$f":"\"Annual Report \"&I58","v":"Annual Report Page 12g"},null,"Annual Report",null,null,null,null,null,null,null,{"$f":"\"Annual Report page \"&S58","v":"Annual Report page Page 13g"}]
[{"$f":"A6","v":"Water Utility Plant Description"},null,null,null,null,null,null,null,null,null,null,{"$f":"L6","v":"Water Utility Plant Description (Continued)"}]
[{"$f":"IF('AR1'!B19=\"\",\"\",'AR1'!B19)","v":"12/31/20"},null,null,null,null,null,null,null,null,null,null,{"$f":"A4","v":"12/31/20"}]
[]
["Water Utility Plant Description",null,null,null,null,null,null,null,null,"Table of Contents",null,"Water Utility Plant Description (Continued)"]
["Name of the System:",null,{"$f":"'AR8 (g)'!C7","v":0}]
["ADEQ Public Water System Number:",null,null,{"$f":"'AR8 (g)'!D8","v":""},null,null,null,null,null,null,{"$f":"L101","v":"Incomplete"},"For the following three items, list the utility owned assets in each category for each system."]
["ADWR PCC Number:",null,null,{"$f":"'AR8 (g)'!D9","v":""}]
[]
["MAINS",null,null,null,null,"CUSTOMER METERS",null,null,null,null,null,"TREATMENT EQUIPMENT:"]
["Sizes (inches)","Material","Length (feet)",null,null,"Size (inches)","Quantity","Percent over 1,000,000 gallons","Percent over 10 years old"]
[]
[]
[]
[]
[null,null,null,null,null,null,null,null,null,null,null,"STRUCTURES:"]
[]
[]
[]
[]
[]
[null,null,null,null,null,null,null,null,null,null,null,"OTHER:"]
[]
[]
[]
[]
[null,"SERVICE LINES"]
[null,"Material","Percent of system","Year installed"]
[null,null,null,null,null,null,null,null,null,null,null,"Provide a calculation used to determine the value of one water equivalent residential connection (ERC)."]
[null,null,null,null,null,null,null,null,null,null,null,"Use one of the following methods:"]
[null,null,null,null,null,null,null,null,null,null,null,"(a)","If actual flow data are available from the preceding 12 months, divide the total annual single family residence (SFR) gallons sold by the average number of single family residence customers for the same period and divide the result by 365 days. "]
[]
[null,null,null,null,null,null,null,null,null,null,null,"(b)","If no historical flow data are available, use:"]
[null,null,null,null,null,null,null,null,null,null,null,null,"ERC = ( Total SFR gallons sold (Omit 000) / 365 days / 350 gallons per day )"]
[]
["BOOSTER PUMPS",null,null,null,null,"FIRE HYDRANTS"]
["Horsepower","GPM","Quantity",null,null,"Type","Quantity",null,null,null,null,"ERC"]
[null,null,null,null,null,"Standard *",null,null,null,null,null,"Method used:"]
[null,null,null,null,null,"Other"]
[]
[]
[]
["STORAGE TANKS",null,null,null,null,"PRESSURE/BLADDER TANKS"]
["Capacity (gallons)","Material","Quantity","Year installed",null,"Capacity (gallons)","Material","Quantity","Year installed"]
[]
[]
[]
[]
[]
[]
[]
[]
[]
["* A standard fire hydrant has two 2.5 inch hose connection nozzles with 7.5 threads per inch, and one 4.5 inch pumper connection nozzle with 4 threads per inch."]
[]
[]
[null,null,null,null,null,null,null,null,{"$f":"\"Page \"&I59&\"g\"","v":"Page 12g"},null,null,null,null,null,null,null,null,null,{"$f":"\"Page \"&S59&\"g\"","v":"Page 13g"}]
[null,null,null,null,null,null,null,null,{"$f":"'AR8'!L71+1","v":12},null,null,null,null,null,null,null,null,null,{"$f":"I59+1","v":13}]
[]
["Instructions: Fill out the Grey Cells with the relevant information.  Input 0 or none if there is nothing recorded in that account or there is no applicable information to report.  Copy and paste this sheet as many times as is necessary.",null,null,null,null,null,null,null,null,null,null,"Instructions: Fill out the Grey Cells with the relevant information.  Input 0 or none if there is nothing recorded in that account or there is no applicable information to report.  Copy and paste this sheet as many times as is necessary."]
[]
[]
[{"$f":"IF(A13<>\"\",\"Complete\",\"Incomplete\")","v":"Incomplete"},"Incomplete","Incomplete",null,null,{"$f":"IF(F17<>\"\",\"Complete\",\"Incomplete\")","v":"Incomplete"},{"$f":"IF(G13<>\"\",\"Complete\",\"Incomplete\")","v":"Incomplete"},"Incomplete","Incomplete",{"$f":"IF(A64=\"Incomplete\",\"Incomplete\",IF(B64=\"Incomplete\",\"Incomplete\",IF(C64=\"Incomplete\",\"Incomplete\",IF(F64=\"Incomplete\",\"Incomplete\",IF(G64=\"Incomplete\",\"Incomplete\",IF(H64=\"Incomplete\",\"Incomplete\",IF(I64=\"Incomplete\",\"Incomplete\",\"Complete\")))))))","v":"Incomplete"}]
["Incomplete","Incomplete","Incomplete",null,null,"Incomplete","Incomplete","Incomplete","Incomplete",{"$f":"IF(A65=\"Incomplete\",\"Incomplete\",IF(B65=\"Incomplete\",\"Incomplete\",IF(C65=\"Incomplete\",\"Incomplete\",IF(F65=\"Incomplete\",\"Incomplete\",IF(G65=\"Incomplete\",\"Incomplete\",IF(H65=\"Incomplete\",\"Incomplete\",IF(I65=\"Incomplete\",\"Incomplete\",\"Complete\")))))))","v":"Incomplete"}]
["Incomplete","Incomplete","Incomplete",null,null,"Incomplete","Incomplete","Incomplete","Incomplete","Incomplete"]
["Incomplete","Incomplete","Incomplete",null,null,"Incomplete","Incomplete","Incomplete","Incomplete","Incomplete"]
["Incomplete","Incomplete","Incomplete",null,null,"Incomplete","Incomplete","Incomplete","Incomplete","Incomplete"]
["Incomplete","Incomplete","Incomplete",null,null,"Incomplete","Incomplete","Incomplete","Incomplete","Incomplete"]
["Incomplete","Incomplete","Incomplete",null,null,"Incomplete","Incomplete","Incomplete","Incomplete","Incomplete"]
["Incomplete","Incomplete","Incomplete",null,null,"Incomplete","Incomplete","Incomplete","Incomplete","Incomplete"]
["Incomplete","Incomplete","Incomplete",null,null,"Incomplete","Incomplete","Incomplete","Incomplete","Incomplete"]
["Incomplete","Incomplete","Incomplete",null,null,"Incomplete","Incomplete","Incomplete","Incomplete","Incomplete"]
["Incomplete","Incomplete","Incomplete",null,null,"Incomplete","Incomplete","Incomplete",{"$f":"IF(I23<>\"\",\"Complete\",\"Incomplete\")","v":"Incomplete"},"Incomplete"]
["Incomplete","Incomplete","Incomplete",null,null,"Incomplete",{"$f":"IF(G27<>\"\",\"Complete\",\"Incomplete\")","v":"Incomplete"},{"$f":"IF(H27<>\"\",\"Complete\",\"Incomplete\")","v":"Incomplete"},"Incomplete","Incomplete"]
[{"$f":"IF(A26<>\"\",\"Complete\",\"Incomplete\")","v":"Incomplete"},{"$f":"IF(B26<>\"\",\"Complete\",\"Incomplete\")","v":"Incomplete"},{"$f":"IF(C26<>\"\",\"Complete\",\"Incomplete\")","v":"Incomplete"},null,null,"Incomplete",{"$f":"IF(G29<>\"\",\"Complete\",\"Incomplete\")","v":"Incomplete"},{"$f":"IF(H29<>\"\",\"Complete\",\"Incomplete\")","v":"Incomplete"},{"$f":"IF(I29<>\"\",\"Complete\",\"Incomplete\")","v":"Incomplete"},"Incomplete"]
[]
[null,{"$f":"IF(B30<>\"\",\"Complete\",\"Incomplete\")","v":"Incomplete"},"Incomplete",null,null,null,null,null,null,{"$f":"IF(B78=\"Incomplete\",\"Incomplete\",IF(C78=\"Incomplete\",\"Incomplete\",\"Complete\"))","v":"Incomplete"}]
[null,"Incomplete","Incomplete",null,null,null,null,null,null,{"$f":"IF(B79=\"Incomplete\",\"Incomplete\",IF(C79=\"Incomplete\",\"Incomplete\",\"Complete\"))","v":"Incomplete"}]
[null,"Incomplete","Incomplete",null,null,null,null,null,null,"Incomplete"]
[null,"Incomplete","Incomplete",null,null,null,null,null,null,"Incomplete"]
[null,"Incomplete","Incomplete",null,null,null,null,null,null,"Incomplete"]
[null,null,null,null,null,null,null,null,null,null,null,null,{"$f":"IF(M11<>\"\",\"Complete\",\"Incomplete\")","v":"Incomplete"}]
[{"$f":"IF(A39<>\"\",\"Complete\",\"Incomplete\")","v":"Incomplete"},"Incomplete","Incomplete",null,null,null,{"$f":"IF(G39<>\"\",\"Complete\",\"Incomplete\")","v":"Incomplete"},null,null,{"$f":"IF(A84=\"Incomplete\",\"Incomplete\",IF(B84=\"Incomplete\",\"Incomplete\",IF(C84=\"Incomplete\",\"Incomplete\",IF(G84=\"Incomplete\",\"Incomplete\",\"Complete\"))))","v":"Incomplete"},null,null,{"$f":"IF(M17<>\"\",\"Complete\",\"Incomplete\")","v":"Incomplete"}]
["Incomplete","Incomplete","Incomplete",null,null,null,{"$f":"IF(G40<>\"\",\"Complete\",\"Incomplete\")","v":"Incomplete"},null,null,{"$f":"IF(A85=\"Incomplete\",\"Incomplete\",IF(B85=\"Incomplete\",\"Incomplete\",IF(C85=\"Incomplete\",\"Incomplete\",IF(G85=\"Incomplete\",\"Incomplete\",\"Complete\"))))","v":"Incomplete"},null,null,{"$f":"IF(M23<>\"\",\"Complete\",\"Incomplete\")","v":"Incomplete"}]
["Incomplete","Incomplete","Incomplete",null,null,{"$f":"IF(F46<>\"\",\"Complete\",\"Incomplete\")","v":"Incomplete"},"Incomplete","Incomplete","Incomplete",{"$f":"IF(A86=\"Incomplete\",\"Incomplete\",IF(B86=\"Incomplete\",\"Incomplete\",IF(C86=\"Incomplete\",\"Incomplete\",IF(F86=\"Incomplete\",\"Incomplete\",IF(G86=\"Incomplete\",\"Incomplete\",IF(H86=\"Incomplete\",\"Incomplete\",IF(I86=\"Incomplete\",\"Incomplete\",\"Complete\")))))))","v":"Incomplete"},null,null,{"$f":"IF(M38<>\"\",\"Complete\",\"Incomplete\")","v":"Incomplete"}]
["Incomplete","Incomplete","Incomplete",null,null,"Incomplete","Incomplete","Incomplete","Incomplete",{"$f":"IF(A87=\"Incomplete\",\"Incomplete\",IF(B87=\"Incomplete\",\"Incomplete\",IF(C87=\"Incomplete\",\"Incomplete\",IF(F87=\"Incomplete\",\"Incomplete\",IF(G87=\"Incomplete\",\"Incomplete\",IF(H87=\"Incomplete\",\"Incomplete\",IF(I87=\"Incomplete\",\"Incomplete\",\"Complete\")))))))","v":"Incomplete"},null,null,{"$f":"IF(M39<>\"\",\"Complete\",\"Incomplete\")","v":"Incomplete"}]
[{"$f":"IF(A46<>\"\",\"Complete\",\"Incomplete\")","v":"Incomplete"},"Incomplete","Incomplete","Incomplete",null,"Incomplete","Incomplete","Incomplete","Incomplete",{"$f":"IF(A88=\"Incomplete\",\"Incomplete\",IF(B88=\"Incomplete\",\"Incomplete\",IF(C88=\"Incomplete\",\"Incomplete\",IF(D88=\"Incomplete\",\"Incomplete\",IF(F88=\"Incomplete\",\"Incomplete\",IF(G88=\"Incomplete\",\"Incomplete\",IF(H88=\"Incomplete\",\"Incomplete\",IF(I88=\"Incomplete\",\"Incomplete\",\"Complete\"))))))))","v":"Incomplete"}]
["Incomplete","Incomplete","Incomplete","Incomplete",null,"Incomplete","Incomplete","Incomplete","Incomplete",{"$f":"IF(A89=\"Incomplete\",\"Incomplete\",IF(B89=\"Incomplete\",\"Incomplete\",IF(C89=\"Incomplete\",\"Incomplete\",IF(D89=\"Incomplete\",\"Incomplete\",IF(F89=\"Incomplete\",\"Incomplete\",IF(G89=\"Incomplete\",\"Incomplete\",IF(H89=\"Incomplete\",\"Incomplete\",IF(I89=\"Incomplete\",\"Incomplete\",\"Complete\"))))))))","v":"Incomplete"}]
["Incomplete","Incomplete","Incomplete","Incomplete",null,"Incomplete","Incomplete","Incomplete","Incomplete",{"$f":"IF(A90=\"Incomplete\",\"Incomplete\",IF(B90=\"Incomplete\",\"Incomplete\",IF(C90=\"Incomplete\",\"Incomplete\",IF(D90=\"Incomplete\",\"Incomplete\",IF(F90=\"Incomplete\",\"Incomplete\",IF(G90=\"Incomplete\",\"Incomplete\",IF(H90=\"Incomplete\",\"Incomplete\",IF(I90=\"Incomplete\",\"Incomplete\",\"Complete\"))))))))","v":"Incomplete"}]
["Incomplete","Incomplete","Incomplete","Incomplete",null,"Incomplete","Incomplete","Incomplete","Incomplete",{"$f":"IF(A91=\"Incomplete\",\"Incomplete\",IF(B91=\"Incomplete\",\"Incomplete\",IF(C91=\"Incomplete\",\"Incomplete\",IF(D91=\"Incomplete\",\"Incomplete\",IF(F91=\"Incomplete\",\"Incomplete\",IF(G91=\"Incomplete\",\"Incomplete\",IF(H91=\"Incomplete\",\"Incomplete\",IF(I91=\"Incomplete\",\"Incomplete\",\"Complete\"))))))))","v":"Incomplete"}]
["Incomplete","Incomplete","Incomplete","Incomplete",null,null,null,null,null,{"$f":"IF(A92=\"Incomplete\",\"Incomplete\",IF(B92=\"Incomplete\",\"Incomplete\",IF(C92=\"Incomplete\",\"Incomplete\",IF(D92=\"Incomplete\",\"Incomplete\",\"Complete\"))))","v":"Incomplete"}]
["Incomplete","Incomplete","Incomplete","Incomplete",null,null,null,null,null,{"$f":"IF(A93=\"Incomplete\",\"Incomplete\",IF(B93=\"Incomplete\",\"Incomplete\",IF(C93=\"Incomplete\",\"Incomplete\",IF(D93=\"Incomplete\",\"Incomplete\",\"Complete\"))))","v":"Incomplete"}]
[]
[null,null,null,null,null,null,null,null,null,{"$f":"IF(J64=\"Incomplete\",\"Incomplete\",IF(J65=\"Incomplete\",\"Incomplete\",IF(J66=\"Incomplete\",\"Incomplete\",IF(J67=\"Incomplete\",\"Incomplete\",IF(J67=\"Incomplete\",\"Incomplete\",IF(J68=\"Incomplete\",\"Incomplete\",IF(J69=\"Incomplete\",\"Incomplete\",\"Complete\")))))))","v":"Incomplete"}]
[null,null,null,null,null,null,null,null,null,{"$f":"IF(J70=\"Incomplete\",\"Incomplete\",IF(J71=\"Incomplete\",\"Incomplete\",IF(J72=\"Incomplete\",\"Incomplete\",IF(J73=\"Incomplete\",\"Incomplete\",IF(J73=\"Incomplete\",\"Incomplete\",IF(J74=\"Incomplete\",\"Incomplete\",IF(J75=\"Incomplete\",\"Incomplete\",\"Complete\")))))))","v":"Incomplete"}]
[null,null,null,null,null,null,null,null,null,{"$f":"IF(J76=\"Incomplete\",\"Incomplete\",IF(J78=\"Incomplete\",\"Incomplete\",IF(J79=\"Incomplete\",\"Incomplete\",IF(J80=\"Incomplete\",\"Incomplete\",IF(J81=\"Incomplete\",\"Incomplete\",IF(J82=\"Incomplete\",\"Incomplete\",\"Complete\"))))))","v":"Incomplete"}]
[null,null,null,null,null,null,null,null,null,{"$f":"IF(J84=\"Incomplete\",\"Incomplete\",IF(J85=\"Incomplete\",\"Incomplete\",IF(J86=\"Incomplete\",\"Incomplete\",IF(J87=\"Incomplete\",\"Incomplete\",IF(J88=\"Incomplete\",\"Incomplete\",\"Complete\")))))","v":"Incomplete"}]
[null,null,null,null,null,null,null,null,null,{"$f":"IF(J89=\"Incomplete\",\"Incomplete\",IF(J90=\"Incomplete\",\"Incomplete\",IF(J91=\"Incomplete\",\"Incomplete\",IF(J92=\"Incomplete\",\"Incomplete\",IF(J93=\"Incomplete\",\"Incomplete\",\"Complete\")))))","v":"Incomplete"}]
[null,null,null,null,null,null,null,null,null,{"$f":"IF(J95=\"Incomplete\",\"Incomplete\",IF(J96=\"Incomplete\",\"Incomplete\",IF(J97=\"Incomplete\",\"Incomplete\",IF(J98=\"Incomplete\",\"Incomplete\",IF(J99=\"Incomplete\",\"Incomplete\"\"Complete\")))))","v":"Incomplete"},null,{"$f":"IF(M83=\"Incomplete\",\"Incomplete\",IF(M84=\"Incomplete\",\"Incomplete\",IF(M85=\"Incomplete\",\"Incomplete\",IF(M86=\"Incomplete\",\"Incomplete\",IF(M87=\"Incomplete\",\"Incomplete\"\"Complete\")))))","v":"Incomplete"}]
[null,null,null,null,null,null,null,null,null,null,null,{"$f":"IF(J100=\"Incomplete\",\"Incomplete\",IF(L100=\"Incomplete\",\"Incomplete\",\"Complete\"))","v":"Incomplete"}]
[]
["Note:  If you are filing for more than seven systems, please click on the button below."]

{"sheet":"AR9 (h)","index":26,"n_rows":101,"n_cols":20,"rows_kept":101,"cut":false,"hidden":true,"merged":[[10,11,14,11],[10,12,14,18],[5,0,5,8],[5,11,5,18],[6,0,6,1],[6,2,6,8],[7,0,7,2],[7,3,7,5],[7,11,7,18],[8,0,8,2],[8,3,8,5],[10,0,10,2],[10,5,10,8],[16,11,20,11],[16,12,20,18],[22,11,26,11],[22,12,26,18],[29,11,29,18],[43,5,43,8],[60,0,61,8],[36,0,36,2],[27,1,27,3],[60,11,61,18],[30,11,30,18],[33,11,34,11],[33,12,33,18],[34,12,34,18],[31,12,32,18],[31,11,32,11],[54,0,54,8],[36,5,36,6],[43,0,43,3]]}
[{"$f":"'AR1'!B12","v":0},null,null,null,null,null,null,null,null,"AR9",null,{"$f":"'[9]Part I page 1'!$B$11","v":0},null,null,null,null,null,null,null,"AR9"]
["Annual Report",null,null,null,null,null,null,null,null,{"$f":"\"Annual Report \"&I58","v":"Annual Report Page 12h"},null,"Annual Report",null,null,null,null,null,null,null,{"$f":"\"Annual Report page \"&S58","v":"Annual Report page Page 13h"}]
[{"$f":"A6","v":"Water Utility Plant Description"},null,null,null,null,null,null,null,null,null,null,{"$f":"L6","v":"Water Utility Plant Description (Continued)"}]
[{"$f":"IF('AR1'!B19=\"\",\"\",'AR1'!B19)","v":"12/31/20"},null,null,null,null,null,null,null,null,null,null,{"$f":"A4","v":"12/31/20"}]
[]
["Water Utility Plant Description",null,null,null,null,null,null,null,null,"Table of Contents",null,"Water Utility Plant Description (Continued)"]
["Name of the System:",null,{"$f":"'AR8 (h)'!C7","v":0}]
["ADEQ Public Water System Number:",null,null,{"$f":"'AR8 (h)'!D8","v":""},null,null,null,null,null,null,{"$f":"L101","v":"Incomplete"},"For the following three items, list the utility owned assets in each category for each system."]
["ADWR PCC Number:",null,null,{"$f":"'AR8 (h)'!D9","v":""}]
[]
["MAINS",null,null,null,null,"CUSTOMER METERS",null,null,null,null,null,"TREATMENT EQUIPMENT:"]
["Sizes (inches)","Material","Length (feet)",null,null,"Size (inches)","Quantity","Percent over 1,000,000 gallons","Percent over 10 years old"]
[]
[]
[]
[]
[null,null,null,null,null,null,null,null,null,null,null,"STRUCTURES:"]
[]
[]
[]
[]
[]
[null,null,null,null,null,null,null,null,null,null,null,"OTHER:"]
[]
[]
[]
[]
[null,"SERVICE LINES"]
[null,"Material","Percent of system","Year installed"]
[null,null,null,null,null,null,null,null,null,null,null,"Provide a calculation used to determine the value of one water equivalent residential connection (ERC)."]
[null,null,null,null,null,null,null,null,null,null,null,"Use one of the following methods:"]
[null,null,null,null,null,null,null,null,null,null,null,"(a)","If actual flow data are available from the preceding 12 months, divide the total annual single family residence (SFR) gallons sold by the average number of single family residence customers for the same period and divide the result by 365 days. "]
[]
[null,null,null,null,null,null,null,null,null,null,null,"(b)","If no historical flow data are available, use:"]
[null,null,null,null,null,null,null,null,null,null,null,null,"ERC = ( Total SFR gallons sold (Omit 000) / 365 days / 350 gallons per day )"]
[]
["BOOSTER PUMPS",null,null,null,null,"FIRE HYDRANTS"]
["Horsepower","GPM","Quantity",null,null,"Type","Quantity",null,null,null,null,"ERC"]
[null,null,null,null,null,"Standard *",null,null,null,null,null,"Method used:"]
[null,null,null,null,null,"Other"]
[]
[]
[]
["STORAGE TANKS",null,null,null,null,"PRESSURE/BLADDER TANKS"]
["Capacity (gallons)","Material","Quantity","Year installed",null,"Capacity (gallons)","Material","Quantity","Year installed"]
[]
[]
[]
[]
[]
[]
[]
[]
[]
["* A standard fire hydrant has two 2.5 inch hose connection nozzles with 7.5 threads per inch, and one 4.5 inch pumper connection nozzle with 4 threads per inch."]
[]
[]
[null,null,null,null,null,null,null,null,{"$f":"\"Page \"&I59&\"h\"","v":"Page 12h"},null,null,null,null,null,null,null,null,null,{"$f":"\"Page \"&S59&\"h\"","v":"Page 13h"}]
[null,null,null,null,null,null,null,null,{"$f":"'AR8'!L71+1","v":12},null,null,null,null,null,null,null,null,null,{"$f":"I59+1","v":13}]
[]
["Instructions: Fill out the Grey Cells with the relevant information.  Input 0 or none if there is nothing recorded in that account or there is no applicable information to report.  Copy and paste this sheet as many times as is necessary.",null,null,null,null,null,null,null,null,null,null,"Instructions: Fill out the Grey Cells with the relevant information.  Input 0 or none if there is nothing recorded in that account or there is no applicable information to report.  Copy and paste this sheet as many times as is necessary."]
[]
[]
[{"$f":"IF(A13<>\"\",\"Complete\",\"Incomplete\")","v":"Incomplete"},"Incomplete","Incomplete",null,null,{"$f":"IF(F17<>\"\",\"Complete\",\"Incomplete\")","v":"Incomplete"},{"$f":"IF(G13<>\"\",\"Complete\",\"Incomplete\")","v":"Incomplete"},"Incomplete","Incomplete",{"$f":"IF(A64=\"Incomplete\",\"Incomplete\",IF(B64=\"Incomplete\",\"Incomplete\",IF(C64=\"Incomplete\",\"Incomplete\",IF(F64=\"Incomplete\",\"Incomplete\",IF(G64=\"Incomplete\",\"Incomplete\",IF(H64=\"Incomplete\",\"Incomplete\",IF(I64=\"Incomplete\",\"Incomplete\",\"Complete\")))))))","v":"Incomplete"}]
["Incomplete","Incomplete","Incomplete",null,null,"Incomplete","Incomplete","Incomplete","Incomplete",{"$f":"IF(A65=\"Incomplete\",\"Incomplete\",IF(B65=\"Incomplete\",\"Incomplete\",IF(C65=\"Incomplete\",\"Incomplete\",IF(F65=\"Incomplete\",\"Incomplete\",IF(G65=\"Incomplete\",\"Incomplete\",IF(H65=\"Incomplete\",\"Incomplete\",IF(I65=\"Incomplete\",\"Incomplete\",\"Complete\")))))))","v":"Incomplete"}]
["Incomplete","Incomplete","Incomplete",null,null,"Incomplete","Incomplete","Incomplete","Incomplete","Incomplete"]
["Incomplete","Incomplete","Incomplete",null,null,"Incomplete","Incomplete","Incomplete","Incomplete","Incomplete"]
["Incomplete","Incomplete","Incomplete",null,null,"Incomplete","Incomplete","Incomplete","Incomplete","Incomplete"]
["Incomplete","Incomplete","Incomplete",null,null,"Incomplete","Incomplete","Incomplete","Incomplete","Incomplete"]
["Incomplete","Incomplete","Incomplete",null,null,"Incomplete","Incomplete","Incomplete","Incomplete","Incomplete"]
["Incomplete","Incomplete","Incomplete",null,null,"Incomplete","Incomplete","Incomplete","Incomplete","Incomplete"]
["Incomplete","Incomplete","Incomplete",null,null,"Incomplete","Incomplete","Incomplete","Incomplete","Incomplete"]
["Incomplete","Incomplete","Incomplete",null,null,"Incomplete","Incomplete","Incomplete","Incomplete","Incomplete"]
["Incomplete","Incomplete","Incomplete",null,null,"Incomplete","Incomplete","Incomplete",{"$f":"IF(I23<>\"\",\"Complete\",\"Incomplete\")","v":"Incomplete"},"Incomplete"]
["Incomplete","Incomplete","Incomplete",null,null,"Incomplete",{"$f":"IF(G27<>\"\",\"Complete\",\"Incomplete\")","v":"Incomplete"},{"$f":"IF(H27<>\"\",\"Complete\",\"Incomplete\")","v":"Incomplete"},"Incomplete","Incomplete"]
[{"$f":"IF(A26<>\"\",\"Complete\",\"Incomplete\")","v":"Incomplete"},{"$f":"IF(B26<>\"\",\"Complete\",\"Incomplete\")","v":"Incomplete"},{"$f":"IF(C26<>\"\",\"Complete\",\"Incomplete\")","v":"Incomplete"},null,null,"Incomplete",{"$f":"IF(G29<>\"\",\"Complete\",\"Incomplete\")","v":"Incomplete"},{"$f":"IF(H29<>\"\",\"Complete\",\"Incomplete\")","v":"Incomplete"},{"$f":"IF(I29<>\"\",\"Complete\",\"Incomplete\")","v":"Incomplete"},"Incomplete"]
[]
[null,{"$f":"IF(B30<>\"\",\"Complete\",\"Incomplete\")","v":"Incomplete"},"Incomplete",null,null,null,null,null,null,{"$f":"IF(B78=\"Incomplete\",\"Incomplete\",IF(C78=\"Incomplete\",\"Incomplete\",\"Complete\"))","v":"Incomplete"}]
[null,"Incomplete","Incomplete",null,null,null,null,null,null,{"$f":"IF(B79=\"Incomplete\",\"Incomplete\",IF(C79=\"Incomplete\",\"Incomplete\",\"Complete\"))","v":"Incomplete"}]
[null,"Incomplete","Incomplete",null,null,null,null,null,null,"Incomplete"]
[null,"Incomplete","Incomplete",null,null,null,null,null,null,"Incomplete"]
[null,"Incomplete","Incomplete",null,null,null,null,null,null,"Incomplete"]
[null,null,null,null,null,null,null,null,null,null,null,null,{"$f":"IF(M11<>\"\",\"Complete\",\"Incomplete\")","v":"Incomplete"}]
[{"$f":"IF(A39<>\"\",\"Complete\",\"Incomplete\")","v":"Incomplete"},"Incomplete","Incomplete",null,null,null,{"$f":"IF(G39<>\"\",\"Complete\",\"Incomplete\")","v":"Incomplete"},null,null,{"$f":"IF(A84=\"Incomplete\",\"Incomplete\",IF(B84=\"Incomplete\",\"Incomplete\",IF(C84=\"Incomplete\",\"Incomplete\",IF(G84=\"Incomplete\",\"Incomplete\",\"Complete\"))))","v":"Incomplete"},null,null,{"$f":"IF(M17<>\"\",\"Complete\",\"Incomplete\")","v":"Incomplete"}]
["Incomplete","Incomplete","Incomplete",null,null,null,{"$f":"IF(G40<>\"\",\"Complete\",\"Incomplete\")","v":"Incomplete"},null,null,{"$f":"IF(A85=\"Incomplete\",\"Incomplete\",IF(B85=\"Incomplete\",\"Incomplete\",IF(C85=\"Incomplete\",\"Incomplete\",IF(G85=\"Incomplete\",\"Incomplete\",\"Complete\"))))","v":"Incomplete"},null,null,{"$f":"IF(M23<>\"\",\"Complete\",\"Incomplete\")","v":"Incomplete"}]
["Incomplete","Incomplete","Incomplete",null,null,{"$f":"IF(F46<>\"\",\"Complete\",\"Incomplete\")","v":"Incomplete"},"Incomplete","Incomplete","Incomplete",{"$f":"IF(A86=\"Incomplete\",\"Incomplete\",IF(B86=\"Incomplete\",\"Incomplete\",IF(C86=\"Incomplete\",\"Incomplete\",IF(F86=\"Incomplete\",\"Incomplete\",IF(G86=\"Incomplete\",\"Incomplete\",IF(H86=\"Incomplete\",\"Incomplete\",IF(I86=\"Incomplete\",\"Incomplete\",\"Complete\")))))))","v":"Incomplete"},null,null,{"$f":"IF(M38<>\"\",\"Complete\",\"Incomplete\")","v":"Incomplete"}]
["Incomplete","Incomplete","Incomplete",null,null,"Incomplete","Incomplete","Incomplete","Incomplete",{"$f":"IF(A87=\"Incomplete\",\"Incomplete\",IF(B87=\"Incomplete\",\"Incomplete\",IF(C87=\"Incomplete\",\"Incomplete\",IF(F87=\"Incomplete\",\"Incomplete\",IF(G87=\"Incomplete\",\"Incomplete\",IF(H87=\"Incomplete\",\"Incomplete\",IF(I87=\"Incomplete\",\"Incomplete\",\"Complete\")))))))","v":"Incomplete"},null,null,{"$f":"IF(M39<>\"\",\"Complete\",\"Incomplete\")","v":"Incomplete"}]
[{"$f":"IF(A46<>\"\",\"Complete\",\"Incomplete\")","v":"Incomplete"},"Incomplete","Incomplete","Incomplete",null,"Incomplete","Incomplete","Incomplete","Incomplete",{"$f":"IF(A88=\"Incomplete\",\"Incomplete\",IF(B88=\"Incomplete\",\"Incomplete\",IF(C88=\"Incomplete\",\"Incomplete\",IF(D88=\"Incomplete\",\"Incomplete\",IF(F88=\"Incomplete\",\"Incomplete\",IF(G88=\"Incomplete\",\"Incomplete\",IF(H88=\"Incomplete\",\"Incomplete\",IF(I88=\"Incomplete\",\"Incomplete\",\"Complete\"))))))))","v":"Incomplete"}]
["Incomplete","Incomplete","Incomplete","Incomplete",null,"Incomplete","Incomplete","Incomplete","Incomplete",{"$f":"IF(A89=\"Incomplete\",\"Incomplete\",IF(B89=\"Incomplete\",\"Incomplete\",IF(C89=\"Incomplete\",\"Incomplete\",IF(D89=\"Incomplete\",\"Incomplete\",IF(F89=\"Incomplete\",\"Incomplete\",IF(G89=\"Incomplete\",\"Incomplete\",IF(H89=\"Incomplete\",\"Incomplete\",IF(I89=\"Incomplete\",\"Incomplete\",\"Complete\"))))))))","v":"Incomplete"}]
["Incomplete","Incomplete","Incomplete","Incomplete",null,"Incomplete","Incomplete","Incomplete","Incomplete",{"$f":"IF(A90=\"Incomplete\",\"Incomplete\",IF(B90=\"Incomplete\",\"Incomplete\",IF(C90=\"Incomplete\",\"Incomplete\",IF(D90=\"Incomplete\",\"Incomplete\",IF(F90=\"Incomplete\",\"Incomplete\",IF(G90=\"Incomplete\",\"Incomplete\",IF(H90=\"Incomplete\",\"Incomplete\",IF(I90=\"Incomplete\",\"Incomplete\",\"Complete\"))))))))","v":"Incomplete"}]
["Incomplete","Incomplete","Incomplete","Incomplete",null,"Incomplete","Incomplete","Incomplete","Incomplete",{"$f":"IF(A91=\"Incomplete\",\"Incomplete\",IF(B91=\"Incomplete\",\"Incomplete\",IF(C91=\"Incomplete\",\"Incomplete\",IF(D91=\"Incomplete\",\"Incomplete\",IF(F91=\"Incomplete\",\"Incomplete\",IF(G91=\"Incomplete\",\"Incomplete\",IF(H91=\"Incomplete\",\"Incomplete\",IF(I91=\"Incomplete\",\"Incomplete\",\"Complete\"))))))))","v":"Incomplete"}]
["Incomplete","Incomplete","Incomplete","Incomplete",null,null,null,null,null,{"$f":"IF(A92=\"Incomplete\",\"Incomplete\",IF(B92=\"Incomplete\",\"Incomplete\",IF(C92=\"Incomplete\",\"Incomplete\",IF(D92=\"Incomplete\",\"Incomplete\",\"Complete\"))))","v":"Incomplete"}]
["Incomplete","Incomplete","Incomplete","Incomplete",null,null,null,null,null,{"$f":"IF(A93=\"Incomplete\",\"Incomplete\",IF(B93=\"Incomplete\",\"Incomplete\",IF(C93=\"Incomplete\",\"Incomplete\",IF(D93=\"Incomplete\",\"Incomplete\",\"Complete\"))))","v":"Incomplete"}]
[]
[null,null,null,null,null,null,null,null,null,{"$f":"IF(J64=\"Incomplete\",\"Incomplete\",IF(J65=\"Incomplete\",\"Incomplete\",IF(J66=\"Incomplete\",\"Incomplete\",IF(J67=\"Incomplete\",\"Incomplete\",IF(J67=\"Incomplete\",\"Incomplete\",IF(J68=\"Incomplete\",\"Incomplete\",IF(J69=\"Incomplete\",\"Incomplete\",\"Complete\")))))))","v":"Incomplete"}]
[null,null,null,null,null,null,null,null,null,{"$f":"IF(J70=\"Incomplete\",\"Incomplete\",IF(J71=\"Incomplete\",\"Incomplete\",IF(J72=\"Incomplete\",\"Incomplete\",IF(J73=\"Incomplete\",\"Incomplete\",IF(J73=\"Incomplete\",\"Incomplete\",IF(J74=\"Incomplete\",\"Incomplete\",IF(J75=\"Incomplete\",\"Incomplete\",\"Complete\")))))))","v":"Incomplete"}]
[null,null,null,null,null,null,null,null,null,{"$f":"IF(J76=\"Incomplete\",\"Incomplete\",IF(J78=\"Incomplete\",\"Incomplete\",IF(J79=\"Incomplete\",\"Incomplete\",IF(J80=\"Incomplete\",\"Incomplete\",IF(J81=\"Incomplete\",\"Incomplete\",IF(J82=\"Incomplete\",\"Incomplete\",\"Complete\"))))))","v":"Incomplete"}]
[null,null,null,null,null,null,null,null,null,{"$f":"IF(J84=\"Incomplete\",\"Incomplete\",IF(J85=\"Incomplete\",\"Incomplete\",IF(J86=\"Incomplete\",\"Incomplete\",IF(J87=\"Incomplete\",\"Incomplete\",IF(J88=\"Incomplete\",\"Incomplete\",\"Complete\")))))","v":"Incomplete"}]
[null,null,null,null,null,null,null,null,null,{"$f":"IF(J89=\"Incomplete\",\"Incomplete\",IF(J90=\"Incomplete\",\"Incomplete\",IF(J91=\"Incomplete\",\"Incomplete\",IF(J92=\"Incomplete\",\"Incomplete\",IF(J93=\"Incomplete\",\"Incomplete\",\"Complete\")))))","v":"Incomplete"}]
[null,null,null,null,null,null,null,null,null,{"$f":"IF(J95=\"Incomplete\",\"Incomplete\",IF(J96=\"Incomplete\",\"Incomplete\",IF(J97=\"Incomplete\",\"Incomplete\",IF(J98=\"Incomplete\",\"Incomplete\",IF(J99=\"Incomplete\",\"Incomplete\"\"Complete\")))))","v":"Incomplete"},null,{"$f":"IF(M83=\"Incomplete\",\"Incomplete\",IF(M84=\"Incomplete\",\"Incomplete\",IF(M85=\"Incomplete\",\"Incomplete\",IF(M86=\"Incomplete\",\"Incomplete\",IF(M87=\"Incomplete\",\"Incomplete\"\"Complete\")))))","v":"Incomplete"}]
[null,null,null,null,null,null,null,null,null,null,null,{"$f":"IF(J100=\"Incomplete\",\"Incomplete\",IF(L100=\"Incomplete\",\"Incomplete\",\"Complete\"))","v":"Incomplete"}]

{"sheet":"AR10","index":27,"n_rows":93,"n_cols":16,"rows_kept":93,"cut":false,"hidden":false,"merged":[[5,0,5,8],[6,0,6,1],[6,2,6,8],[6,13,6,14],[7,0,7,2],[7,3,7,4],[92,0,92,8],[8,0,8,2],[8,3,8,4],[11,1,11,5],[34,0,34,4],[35,0,35,4],[27,0,27,3],[29,0,29,3],[31,0,31,4],[32,0,32,1],[61,0,62,8],[38,0,38,4],[40,0,40,4],[42,0,42,8],[43,0,49,8],[53,0,53,8]]}
[{"$f":"'AR1'!B12","v":0},null,null,null,null,null,null,null,null,"AR10"]
["Annual Report",null,null,null,null,null,null,null,null,{"$f":"\"Annual Report page \"&I60","v":"Annual Report page 14"}]
[{"$f":"A6","v":"Customer and Other Information"}]
[{"$f":"IF('AR1'!B19=\"\",\"\",'AR1'!B19)","v":"12/31/20"}]
[]
["Customer and Other Information",null,null,null,null,null,null,null,null,"Table of Contents"]
["Name of the System:",null,{"$f":"'AR8'!C7","v":0}]
["ADEQ Public Water System Number:",null,null,{"$f":"'AR8'!D8:E8","v":""}]
["ADWR PCC Number:",null,null,{"$f":"'AR8'!D9:E9","v":""}]
[]
[]
[null,"Number of Customers"]
["Month","Single-Family","Multi-Family","Commercial","Turf/Irrigation","Other Non-Residential",null,null,null,null,null,"Single-Family","Multi-Family","Commercial","Turf/Irrigation","Other Non-Residential"]
["January",null,null,null,null,null,null,null,null,null,"Average",{"$f":"AVERAGE(B14:B25)","v":{"$error":"#DIV/0!"}},{"$f":"AVERAGE(C14:C25)","v":{"$error":"#DIV/0!"}},{"$error":"#DIV/0!"},{"$error":"#DIV/0!"},{"$error":"#DIV/0!"}]
["February",null,null,null,null,null,null,null,null,null,"Total",{"$f":"SUM(B14:B25)","v":0},{"$f":"SUM(C14:C25)","v":0},0,0,0]
["March"]
["April"]
["May"]
["June"]
["July"]
["August"]
["September"]
["October"]
["November"]
["December"]
[]
[]
["If the system has fire hydrants, what is the fire flow requirements? ",null,null,null,null,"GPM for",null,"hrs."]
[]
["Does the system have chlorination treatment?"]
[]
["Does the Company have an ADWR Gallons Per Capita Per Day (GCPCPD) requirement?"]
["If yes, provide the GPCPD amount:"]
[]
["Is the Water Utility located in an ADWR Active Management Area (AMA)?"]
["If yes, which AMA?"]
[]
[]
["What is the present system connection capacity (in ERCs *) using existing lines?"]
[]
["What is the future system connection capacity (in ERCs *) upon service area buildout?"]
[]
["Describe any plans and estimated completion dates for any enlargements or improvements of this system."]
[]
[]
[]
[]
[]
[]
[]
[]
[]
[]
["* an ERC is based on the calculation on the bottom of AR9 page 12."]
[]
[]
[]
[]
[null,null,null,null,null,null,null,null,{"$f":"\"Page \"&I60","v":"Page 14"}]
[null,null,null,null,null,null,null,null,{"$f":"'AR9'!S59+1","v":14}]
[]
["Instructions: Fill out the Grey Cells with the relevant information.  Input 0 or none if there is nothing recorded in that account or there is no applicable information to report.  Copy and paste this sheet as many times as is necessary."]
[]
[null,null,null,null,null,null,null,null,"AR10"]
[null,null,null,null,null,null,null,null,{"$f":"\"Annual Report Page \"&I60","v":"Annual Report Page 14"}]
[]
[]
[null,{"$f":"IF(B14<>\"\",\"Complete\",\"Incomplete\")","v":"Incomplete"},"Incomplete","Incomplete","Incomplete","Incomplete",null,null,null,{"$f":"IF(B68=\"Incomplete\",\"Incomplete\",IF(C68=\"Incomplete\",\"Incomplete\",IF(D68=\"Incomplete\",\"Incomplete\",IF(E68=\"Incomplete\",\"Incomplete\",IF(F68=\"Incomplete\",\"Incomplete\",\"Complete\")))))","v":"Incomplete"}]
[null,"Incomplete","Incomplete","Incomplete","Incomplete","Incomplete",null,null,null,{"$f":"IF(B69=\"Incomplete\",\"Incomplete\",IF(C69=\"Incomplete\",\"Incomplete\",IF(D69=\"Incomplete\",\"Incomplete\",IF(E69=\"Incomplete\",\"Incomplete\",IF(F69=\"Incomplete\",\"Incomplete\",\"Complete\")))))","v":"Incomplete"}]
[null,"Incomplete","Incomplete","Incomplete","Incomplete","Incomplete",null,null,null,"Incomplete"]
[null,"Incomplete","Incomplete","Incomplete","Incomplete","Incomplete",null,null,null,"Incomplete"]
[null,"Incomplete","Incomplete","Incomplete","Incomplete","Incomplete",null,null,null,"Incomplete"]
[null,"Incomplete","Incomplete","Incomplete","Incomplete","Incomplete",null,null,null,"Incomplete"]
[null,"Incomplete","Incomplete","Incomplete","Incomplete","Incomplete",null,null,null,"Incomplete"]
[null,"Incomplete","Incomplete","Incomplete","Incomplete","Incomplete",null,null,null,"Incomplete"]
[null,"Incomplete","Incomplete","Incomplete","Incomplete","Incomplete",null,null,null,"Incomplete"]
[null,"Incomplete","Incomplete","Incomplete","Incomplete","Incomplete",null,null,null,"Incomplete"]
[null,"Incomplete","Incomplete","Incomplete","Incomplete","Incomplete",null,null,null,"Incomplete"]
[null,"Incomplete","Incomplete","Incomplete","Incomplete","Incomplete",null,null,null,{"$f":"IF(B79=\"Incomplete\",\"Incomplete\",IF(C79=\"Incomplete\",\"Incomplete\",IF(D79=\"Incomplete\",\"Incomplete\",IF(E79=\"Incomplete\",\"Incomplete\",IF(F79=\"Incomplete\",\"Incomplete\",\"Complete\")))))","v":"Incomplete"}]
[]
[null,{"$f":"IF(E28<>\"\",\"Complete\",\"Incomplete\")","v":"Incomplete"},{"$f":"IF(G28<>\"\",\"Complete\",\"Incomplete\")","v":"Incomplete"},{"$f":"IF(E30<>\"\",\"Complete\",\"Incomplete\")","v":"Incomplete"},{"$f":"IF(F32<>\"\",\"Complete\",\"Incomplete\")","v":"Incomplete"},null,null,null,null,{"$f":"IF(B81=\"Incomplete\",\"Incomplete\",IF(C81=\"Incomplete\",\"Incomplete\",IF(D81=\"Incomplete\",\"Incomplete\",IF(E81=\"Incomplete\",\"Incomplete\",\"Complete\"))))","v":"Incomplete"}]
[null,{"$f":"IF(C33<>\"\",\"Complete\",\"Incomplete\")","v":"Incomplete"},{"$f":"IF(F35<>\"\",\"Complete\",\"Incomplete\")","v":"Incomplete"},{"$f":"IF(F36<>\"\",\"Complete\",\"Incomplete\")","v":"Incomplete"},{"$f":"IF(F39<>\"\",\"Complete\",\"Incomplete\")","v":"Incomplete"},{"$f":"IF(F41<>\"\",\"Complete\",\"Incomplete\")","v":"Incomplete"},{"$f":"IF(A44<>\"\",\"Complete\",\"Incomplete\")","v":"Incomplete"},null,null,{"$f":"IF(B82=\"Incomplete\",\"Incomplete\",IF(C82=\"Incomplete\",\"Incomplete\",IF(D82=\"Incomplete\",\"Incomplete\",IF(E82=\"Incomplete\",\"Incomplete\",IF(F82=\"Incomplete\",\"Incomplete\",IF(G82=\"Incomplete\",\"Incomplete\",\"Complete\"))))))","v":"Incomplete"}]
[]
[]
[]
[null,null,null,null,null,null,null,null,null,{"$f":"IF(J68=\"Incomplete\",\"Incomplete\",IF(J69=\"Incomplete\",\"Incomplete\",IF(J70=\"Incomplete\",\"Incomplete\",IF(J71=\"Incomplete\",\"Incomplete\",IF(J72=\"Incomplete\",\"Incomplete\",IF(J73=\"Incomplete\",\"Incomplete\",IF(J74=\"Incomplete\",\"Incomplete\",\"Complete\")))))))","v":"Incomplete"}]
[null,null,null,null,null,null,null,null,null,{"$f":"IF(J75=\"Incomplete\",\"Incomplete\",IF(J76=\"Incomplete\",\"Incomplete\",IF(J77=\"Incomplete\",\"Incomplete\",IF(J78=\"Incomplete\",\"Incomplete\",IF(J79=\"Incomplete\",\"Incomplete\",\"Complete\")))))","v":"Incomplete"}]
[null,null,null,null,null,null,null,null,null,{"$f":"IF(J81=\"Incomplete\",\"Incomplete\",IF(J82=\"Incomplete\",\"Incomplete\",\"Complete\"))","v":"Incomplete"}]
[null,null,null,null,null,null,null,null,null,{"$f":"IF(J86=\"Incomplete\",\"Incomplete\",IF(J87=\"Incomplete\",\"Incomplete\",IF(J88=\"Incomplete\",\"Incomplete\",\"Complete\")))","v":"Incomplete"}]
[]
[]
[]
["Note:  If you are filing for more than one system, please click on the two systems button below."]

{"sheet":"AR10 (b)","index":28,"n_rows":91,"n_cols":16,"rows_kept":91,"cut":false,"hidden":true,"merged":[[31,0,31,4],[5,0,5,8],[6,0,6,1],[6,2,6,8],[6,13,6,14],[7,0,7,2],[7,3,7,4],[8,0,8,2],[8,3,8,4],[11,1,11,5],[27,0,27,3],[29,0,29,3],[32,0,32,1],[34,0,34,4],[35,0,35,4],[61,0,62,8],[90,0,90,8],[38,0,38,4],[40,0,40,4],[42,0,42,8],[43,0,49,8],[53,0,53,8]]}
[{"$f":"'AR1'!B12","v":0},null,null,null,null,null,null,null,null,"AR10"]
["Annual Report",null,null,null,null,null,null,null,null,{"$f":"\"Annual Report page \"&I60","v":"Annual Report page 14"}]
[{"$f":"A6","v":"Customer and Other Information"}]
[{"$f":"IF('AR1'!B19=\"\",\"\",'AR1'!B19)","v":"12/31/20"}]
[]
["Customer and Other Information",null,null,null,null,null,null,null,null,"Table of Contents"]
["Name of the System:",null,{"$f":"'AR8 (b)'!C7","v":0}]
["ADEQ Public Water System Number:",null,null,{"$f":"'AR8 (b)'!D8","v":""}]
["ADWR PCC Number:",null,null,{"$f":"'AR8 (b)'!D9","v":""}]
[]
[]
[null,"Number of Customers"]
["Month","Single-Family","Multi-Family","Commercial","Turf/Irrigation","Other Non-Residential",null,null,null,null,null,"Single-Family","Multi-Family","Commercial","Turf/Irrigation","Other Non-Residential"]
["January",null,null,null,null,null,null,null,null,null,"Average",{"$f":"AVERAGE(B14:B25)","v":{"$error":"#DIV/0!"}},{"$f":"AVERAGE(C14:C25)","v":{"$error":"#DIV/0!"}},{"$error":"#DIV/0!"},{"$error":"#DIV/0!"},{"$error":"#DIV/0!"}]
["February",null,null,null,null,null,null,null,null,null,"Total",{"$f":"SUM(B14:B25)","v":0},{"$f":"SUM(C14:C25)","v":0},0,0,0]
["March"]
["April"]
["May"]
["June"]
["July"]
["August"]
["September"]
["October"]
["November"]
["December"]
[]
[]
["If the system has fire hydrants, what is the fire flow requirements? ",null,null,null,null,"GPM for",null,"hrs."]
[]
["Does the system have chlorination treatment?"]
[]
["Does the Company have an ADWR Gallons Per Capita Per Day (GCPCPD) requirement?"]
["If yes, provide the GPCPD amount:"]
[]
["Is the Water Utility located in an ADWR Active Management Area (AMA)?"]
["If yes, which AMA?"]
[]
[]
["What is the present system connection capacity (in ERCs *) using existing lines?"]
[]
["What is the future system connection capacity (in ERCs *) upon service area buildout?"]
[]
["Describe any plans and estimated completion dates for any enlargements or improvements of this system."]
[]
[]
[]
[]
[]
[]
[]
[]
[]
[]
["* an ERC is based on the calculation on the bottom of AR9 page 12b."]
[]
[]
[]
[]
[null,null,null,null,null,null,null,null,{"$f":"\"Page \"&I60&\"b\"","v":"Page 14b"}]
[null,null,null,null,null,null,null,null,{"$f":"'AR9'!S59+1","v":14}]
[]
["Instructions: Fill out the Grey Cells with the relevant information.  Input 0 or none if there is nothing recorded in that account or there is no applicable information to report.  Copy and paste this sheet as many times as is necessary."]
[]
[null,null,null,null,null,null,null,null,"AR10"]
[null,null,null,null,null,null,null,null,{"$f":"\"Annual Report Page \"&I60","v":"Annual Report Page 14"}]
[]
[]
[null,{"$f":"IF(B14<>\"\",\"Complete\",\"Incomplete\")","v":"Incomplete"},"Incomplete","Incomplete","Incomplete","Incomplete",null,null,null,{"$f":"IF(B68=\"Incomplete\",\"Incomplete\",IF(C68=\"Incomplete\",\"Incomplete\",IF(D68=\"Incomplete\",\"Incomplete\",IF(E68=\"Incomplete\",\"Incomplete\",IF(F68=\"Incomplete\",\"Incomplete\",\"Complete\")))))","v":"Incomplete"}]
[null,"Incomplete","Incomplete","Incomplete","Incomplete","Incomplete",null,null,null,{"$f":"IF(B69=\"Incomplete\",\"Incomplete\",IF(C69=\"Incomplete\",\"Incomplete\",IF(D69=\"Incomplete\",\"Incomplete\",IF(E69=\"Incomplete\",\"Incomplete\",IF(F69=\"Incomplete\",\"Incomplete\",\"Complete\")))))","v":"Incomplete"}]
[null,"Incomplete","Incomplete","Incomplete","Incomplete","Incomplete",null,null,null,"Incomplete"]
[null,"Incomplete","Incomplete","Incomplete","Incomplete","Incomplete",null,null,null,"Incomplete"]
[null,"Incomplete","Incomplete","Incomplete","Incomplete","Incomplete",null,null,null,"Incomplete"]
[null,"Incomplete","Incomplete","Incomplete","Incomplete","Incomplete",null,null,null,"Incomplete"]
[null,"Incomplete","Incomplete","Incomplete","Incomplete","Incomplete",null,null,null,"Incomplete"]
[null,"Incomplete","Incomplete","Incomplete","Incomplete","Incomplete",null,null,null,"Incomplete"]
[null,"Incomplete","Incomplete","Incomplete","Incomplete","Incomplete",null,null,null,"Incomplete"]
[null,"Incomplete","Incomplete","Incomplete","Incomplete","Incomplete",null,null,null,"Incomplete"]
[null,"Incomplete","Incomplete","Incomplete","Incomplete","Incomplete",null,null,null,"Incomplete"]
[null,"Incomplete","Incomplete","Incomplete","Incomplete","Incomplete",null,null,null,{"$f":"IF(B79=\"Incomplete\",\"Incomplete\",IF(C79=\"Incomplete\",\"Incomplete\",IF(D79=\"Incomplete\",\"Incomplete\",IF(E79=\"Incomplete\",\"Incomplete\",IF(F79=\"Incomplete\",\"Incomplete\",\"Complete\")))))","v":"Incomplete"}]
[]
[null,{"$f":"IF(E28<>\"\",\"Complete\",\"Incomplete\")","v":"Incomplete"},{"$f":"IF(G28<>\"\",\"Complete\",\"Incomplete\")","v":"Incomplete"},{"$f":"IF(E30<>\"\",\"Complete\",\"Incomplete\")","v":"Incomplete"},{"$f":"IF(F32<>\"\",\"Complete\",\"Incomplete\")","v":"Incomplete"},null,null,null,null,{"$f":"IF(B81=\"Incomplete\",\"Incomplete\",IF(C81=\"Incomplete\",\"Incomplete\",IF(D81=\"Incomplete\",\"Incomplete\",IF(E81=\"Incomplete\",\"Incomplete\",\"Complete\"))))","v":"Incomplete"}]
[null,{"$f":"IF(C33<>\"\",\"Complete\",\"Incomplete\")","v":"Incomplete"},{"$f":"IF(F35<>\"\",\"Complete\",\"Incomplete\")","v":"Incomplete"},{"$f":"IF(F36<>\"\",\"Complete\",\"Incomplete\")","v":"Incomplete"},{"$f":"IF(F39<>\"\",\"Complete\",\"Incomplete\")","v":"Incomplete"},{"$f":"IF(F41<>\"\",\"Complete\",\"Incomplete\")","v":"Incomplete"},{"$f":"IF(A44<>\"\",\"Complete\",\"Incomplete\")","v":"Incomplete"},null,null,{"$f":"IF(B82=\"Incomplete\",\"Incomplete\",IF(C82=\"Incomplete\",\"Incomplete\",IF(D82=\"Incomplete\",\"Incomplete\",IF(E82=\"Incomplete\",\"Incomplete\",IF(F82=\"Incomplete\",\"Incomplete\",IF(G82=\"Incomplete\",\"Incomplete\",\"Complete\"))))))","v":"Incomplete"}]
[]
[]
[]
[null,null,null,null,null,null,null,null,null,{"$f":"IF(J68=\"Incomplete\",\"Incomplete\",IF(J69=\"Incomplete\",\"Incomplete\",IF(J70=\"Incomplete\",\"Incomplete\",IF(J71=\"Incomplete\",\"Incomplete\",IF(J72=\"Incomplete\",\"Incomplete\",IF(J73=\"Incomplete\",\"Incomplete\",IF(J74=\"Incomplete\",\"Incomplete\",\"Complete\")))))))","v":"Incomplete"}]
[null,null,null,null,null,null,null,null,null,{"$f":"IF(J75=\"Incomplete\",\"Incomplete\",IF(J76=\"Incomplete\",\"Incomplete\",IF(J77=\"Incomplete\",\"Incomplete\",IF(J78=\"Incomplete\",\"Incomplete\",IF(J79=\"Incomplete\",\"Incomplete\",\"Complete\")))))","v":"Incomplete"}]
[null,null,null,null,null,null,null,null,null,{"$f":"IF(J81=\"Incomplete\",\"Incomplete\",IF(J82=\"Incomplete\",\"Incomplete\",\"Complete\"))","v":"Incomplete"}]
[null,null,null,null,null,null,null,null,null,{"$f":"IF(J86=\"Incomplete\",\"Incomplete\",IF(J87=\"Incomplete\",\"Incomplete\",IF(J88=\"Incomplete\",\"Incomplete\",\"Complete\")))","v":"Incomplete"}]
[]
["Note:  If you are filing for more than two systems, please click on the button below."]

{"sheet":"AR10 (c)","index":29,"n_rows":92,"n_cols":16,"rows_kept":92,"cut":false,"hidden":true,"merged":[[31,0,31,4],[5,0,5,8],[6,0,6,1],[6,2,6,8],[6,13,6,14],[7,0,7,2],[7,3,7,4],[8,0,8,2],[8,3,8,4],[11,1,11,5],[27,0,27,3],[29,0,29,3],[32,0,32,1],[34,0,34,4],[35,0,35,4],[61,0,62,8],[91,0,91,8],[38,0,38,4],[40,0,40,4],[42,0,42,8],[43,0,49,8],[53,0,53,8]]}
[{"$f":"'AR1'!B12","v":0},null,null,null,null,null,null,null,null,"AR10"]
["Annual Report",null,null,null,null,null,null,null,null,{"$f":"\"Annual Report page \"&I60","v":"Annual Report page 14"}]
[{"$f":"A6","v":"Customer and Other Information"}]
[{"$f":"IF('AR1'!B19=\"\",\"\",'AR1'!B19)","v":"12/31/20"}]
[]
["Customer and Other Information",null,null,null,null,null,null,null,null,"Table of Contents"]
["Name of the System:",null,{"$f":"'AR8 (c)'!C7","v":0}]
["ADEQ Public Water System Number:",null,null,{"$f":"'AR8 (c)'!D8","v":""}]
["ADWR PCC Number:",null,null,{"$f":"'AR8 (c)'!D9","v":""}]
[]
[]
[null,"Number of Customers"]
["Month","Single-Family","Multi-Family","Commercial","Turf/Irrigation","Other Non-Residential",null,null,null,null,null,"Single-Family","Multi-Family","Commercial","Turf/Irrigation","Other Non-Residential"]
["January",null,null,null,null,null,null,null,null,null,"Average",{"$f":"AVERAGE(B14:B25)","v":{"$error":"#DIV/0!"}},{"$f":"AVERAGE(C14:C25)","v":{"$error":"#DIV/0!"}},{"$error":"#DIV/0!"},{"$error":"#DIV/0!"},{"$error":"#DIV/0!"}]
["February",null,null,null,null,null,null,null,null,null,"Total",{"$f":"SUM(B14:B25)","v":0},{"$f":"SUM(C14:C25)","v":0},0,0,0]
["March"]
["April"]
["May"]
["June"]
["July"]
["August"]
["September"]
["October"]
["November"]
["December"]
[]
[]
["If the system has fire hydrants, what is the fire flow requirements? ",null,null,null,null,"GPM for",null,"hrs."]
[]
["Does the system have chlorination treatment?"]
[]
["Does the Company have an ADWR Gallons Per Capita Per Day (GCPCPD) requirement?"]
["If yes, provide the GPCPD amount:"]
[]
["Is the Water Utility located in an ADWR Active Management Area (AMA)?"]
["If yes, which AMA?"]
[]
[]
["What is the present system connection capacity (in ERCs *) using existing lines?"]
[]
["What is the future system connection capacity (in ERCs *) upon service area buildout?"]
[]
["Describe any plans and estimated completion dates for any enlargements or improvements of this system."]
[]
[]
[]
[]
[]
[]
[]
[]
[]
[]
["* an ERC is based on the calculation on the bottom of AR9 page 12c."]
[]
[]
[]
[]
[null,null,null,null,null,null,null,null,{"$f":"\"Page \"&I60&\"c\"","v":"Page 14c"}]
[null,null,null,null,null,null,null,null,{"$f":"'AR9'!S59+1","v":14}]
[]
["Instructions: Fill out the Grey Cells with the relevant information.  Input 0 or none if there is nothing recorded in that account or there is no applicable information to report.  Copy and paste this sheet as many times as is necessary."]
[]
[null,null,null,null,null,null,null,null,"AR10"]
[null,null,null,null,null,null,null,null,{"$f":"\"Annual Report Page \"&I60","v":"Annual Report Page 14"}]
[]
[]
[null,{"$f":"IF(B14<>\"\",\"Complete\",\"Incomplete\")","v":"Incomplete"},"Incomplete","Incomplete","Incomplete","Incomplete",null,null,null,{"$f":"IF(B68=\"Incomplete\",\"Incomplete\",IF(C68=\"Incomplete\",\"Incomplete\",IF(D68=\"Incomplete\",\"Incomplete\",IF(E68=\"Incomplete\",\"Incomplete\",IF(F68=\"Incomplete\",\"Incomplete\",\"Complete\")))))","v":"Incomplete"}]
[null,"Incomplete","Incomplete","Incomplete","Incomplete","Incomplete",null,null,null,{"$f":"IF(B69=\"Incomplete\",\"Incomplete\",IF(C69=\"Incomplete\",\"Incomplete\",IF(D69=\"Incomplete\",\"Incomplete\",IF(E69=\"Incomplete\",\"Incomplete\",IF(F69=\"Incomplete\",\"Incomplete\",\"Complete\")))))","v":"Incomplete"}]
[null,"Incomplete","Incomplete","Incomplete","Incomplete","Incomplete",null,null,null,"Incomplete"]
[null,"Incomplete","Incomplete","Incomplete","Incomplete","Incomplete",null,null,null,"Incomplete"]
[null,"Incomplete","Incomplete","Incomplete","Incomplete","Incomplete",null,null,null,"Incomplete"]
[null,"Incomplete","Incomplete","Incomplete","Incomplete","Incomplete",null,null,null,"Incomplete"]
[null,"Incomplete","Incomplete","Incomplete","Incomplete","Incomplete",null,null,null,"Incomplete"]
[null,"Incomplete","Incomplete","Incomplete","Incomplete","Incomplete",null,null,null,"Incomplete"]
[null,"Incomplete","Incomplete","Incomplete","Incomplete","Incomplete",null,null,null,"Incomplete"]
[null,"Incomplete","Incomplete","Incomplete","Incomplete","Incomplete",null,null,null,"Incomplete"]
[null,"Incomplete","Incomplete","Incomplete","Incomplete","Incomplete",null,null,null,"Incomplete"]
[null,"Incomplete","Incomplete","Incomplete","Incomplete","Incomplete",null,null,null,{"$f":"IF(B79=\"Incomplete\",\"Incomplete\",IF(C79=\"Incomplete\",\"Incomplete\",IF(D79=\"Incomplete\",\"Incomplete\",IF(E79=\"Incomplete\",\"Incomplete\",IF(F79=\"Incomplete\",\"Incomplete\",\"Complete\")))))","v":"Incomplete"}]
[]
[null,{"$f":"IF(E28<>\"\",\"Complete\",\"Incomplete\")","v":"Incomplete"},{"$f":"IF(G28<>\"\",\"Complete\",\"Incomplete\")","v":"Incomplete"},{"$f":"IF(E30<>\"\",\"Complete\",\"Incomplete\")","v":"Incomplete"},{"$f":"IF(F32<>\"\",\"Complete\",\"Incomplete\")","v":"Incomplete"},null,null,null,null,{"$f":"IF(B81=\"Incomplete\",\"Incomplete\",IF(C81=\"Incomplete\",\"Incomplete\",IF(D81=\"Incomplete\",\"Incomplete\",IF(E81=\"Incomplete\",\"Incomplete\",\"Complete\"))))","v":"Incomplete"}]
[null,{"$f":"IF(C33<>\"\",\"Complete\",\"Incomplete\")","v":"Incomplete"},{"$f":"IF(F35<>\"\",\"Complete\",\"Incomplete\")","v":"Incomplete"},{"$f":"IF(F36<>\"\",\"Complete\",\"Incomplete\")","v":"Incomplete"},{"$f":"IF(F39<>\"\",\"Complete\",\"Incomplete\")","v":"Incomplete"},{"$f":"IF(F41<>\"\",\"Complete\",\"Incomplete\")","v":"Incomplete"},{"$f":"IF(A44<>\"\",\"Complete\",\"Incomplete\")","v":"Incomplete"},null,null,{"$f":"IF(B82=\"Incomplete\",\"Incomplete\",IF(C82=\"Incomplete\",\"Incomplete\",IF(D82=\"Incomplete\",\"Incomplete\",IF(E82=\"Incomplete\",\"Incomplete\",IF(F82=\"Incomplete\",\"Incomplete\",IF(G82=\"Incomplete\",\"Incomplete\",\"Complete\"))))))","v":"Incomplete"}]
[]
[]
[]
[null,null,null,null,null,null,null,null,null,{"$f":"IF(J68=\"Incomplete\",\"Incomplete\",IF(J69=\"Incomplete\",\"Incomplete\",IF(J70=\"Incomplete\",\"Incomplete\",IF(J71=\"Incomplete\",\"Incomplete\",IF(J72=\"Incomplete\",\"Incomplete\",IF(J73=\"Incomplete\",\"Incomplete\",IF(J74=\"Incomplete\",\"Incomplete\",\"Complete\")))))))","v":"Incomplete"}]
[null,null,null,null,null,null,null,null,null,{"$f":"IF(J75=\"Incomplete\",\"Incomplete\",IF(J76=\"Incomplete\",\"Incomplete\",IF(J77=\"Incomplete\",\"Incomplete\",IF(J78=\"Incomplete\",\"Incomplete\",IF(J79=\"Incomplete\",\"Incomplete\",\"Complete\")))))","v":"Incomplete"}]
[null,null,null,null,null,null,null,null,null,{"$f":"IF(J81=\"Incomplete\",\"Incomplete\",IF(J82=\"Incomplete\",\"Incomplete\",\"Complete\"))","v":"Incomplete"}]
[null,null,null,null,null,null,null,null,null,{"$f":"IF(J86=\"Incomplete\",\"Incomplete\",IF(J87=\"Incomplete\",\"Incomplete\",IF(J88=\"Incomplete\",\"Incomplete\",\"Complete\")))","v":"Incomplete"}]
[]
[]
["Note:  If you are filing for more than three systems, please click on the button below."]

{"sheet":"AR10 (d)","index":30,"n_rows":92,"n_cols":16,"rows_kept":92,"cut":false,"hidden":true,"merged":[[31,0,31,4],[5,0,5,8],[6,0,6,1],[6,2,6,8],[6,13,6,14],[7,0,7,2],[7,3,7,4],[8,0,8,2],[8,3,8,4],[11,1,11,5],[27,0,27,3],[29,0,29,3],[32,0,32,1],[34,0,34,4],[35,0,35,4],[61,0,62,8],[91,0,91,8],[38,0,38,4],[40,0,40,4],[42,0,42,8],[43,0,49,8],[53,0,53,8]]}
[{"$f":"'AR1'!B12","v":0},null,null,null,null,null,null,null,null,"AR10"]
["Annual Report",null,null,null,null,null,null,null,null,{"$f":"\"Annual Report page \"&I60","v":"Annual Report page 14"}]
[{"$f":"A6","v":"Customer and Other Information"}]
[{"$f":"IF('AR1'!B19=\"\",\"\",'AR1'!B19)","v":"12/31/20"}]
[]
["Customer and Other Information",null,null,null,null,null,null,null,null,"Table of Contents"]
["Name of the System:",null,{"$f":"'AR8 (d)'!C7","v":0}]
["ADEQ Public Water System Number:",null,null,{"$f":"'AR8 (d)'!D8","v":""}]
["ADWR PCC Number:",null,null,{"$f":"'AR8 (d)'!D9","v":""}]
[]
[]
[null,"Number of Customers"]
["Month","Single-Family","Multi-Family","Commercial","Turf/Irrigation","Other Non-Residential",null,null,null,null,null,"Single-Family","Multi-Family","Commercial","Turf/Irrigation","Other Non-Residential"]
["January",null,null,null,null,null,null,null,null,null,"Average",{"$f":"AVERAGE(B14:B25)","v":{"$error":"#DIV/0!"}},{"$f":"AVERAGE(C14:C25)","v":{"$error":"#DIV/0!"}},{"$error":"#DIV/0!"},{"$error":"#DIV/0!"},{"$error":"#DIV/0!"}]
["February",null,null,null,null,null,null,null,null,null,"Total",{"$f":"SUM(B14:B25)","v":0},{"$f":"SUM(C14:C25)","v":0},0,0,0]
["March"]
["April"]
["May"]
["June"]
["July"]
["August"]
["September"]
["October"]
["November"]
["December"]
[]
[]
["If the system has fire hydrants, what is the fire flow requirements? ",null,null,null,null,"GPM for",null,"hrs."]
[]
["Does the system have chlorination treatment?"]
[]
["Does the Company have an ADWR Gallons Per Capita Per Day (GCPCPD) requirement?"]
["If yes, provide the GPCPD amount:"]
[]
["Is the Water Utility located in an ADWR Active Management Area (AMA)?"]
["If yes, which AMA?"]
[]
[]
["What is the present system connection capacity (in ERCs *) using existing lines?"]
[]
["What is the future system connection capacity (in ERCs *) upon service area buildout?"]
[]
["Describe any plans and estimated completion dates for any enlargements or improvements of this system."]
[]
[]
[]
[]
[]
[]
[]
[]
[]
[]
["* an ERC is based on the calculation on the bottom of AR9 page 12d."]
[]
[]
[]
[]
[null,null,null,null,null,null,null,null,{"$f":"\"Page \"&I60&\"d\"","v":"Page 14d"}]
[null,null,null,null,null,null,null,null,{"$f":"'AR9'!S59+1","v":14}]
[]
["Instructions: Fill out the Grey Cells with the relevant information.  Input 0 or none if there is nothing recorded in that account or there is no applicable information to report.  Copy and paste this sheet as many times as is necessary."]
[]
[null,null,null,null,null,null,null,null,"AR10"]
[null,null,null,null,null,null,null,null,{"$f":"\"Annual Report Page \"&I60","v":"Annual Report Page 14"}]
[]
[]
[null,{"$f":"IF(B14<>\"\",\"Complete\",\"Incomplete\")","v":"Incomplete"},"Incomplete","Incomplete","Incomplete","Incomplete",null,null,null,{"$f":"IF(B68=\"Incomplete\",\"Incomplete\",IF(C68=\"Incomplete\",\"Incomplete\",IF(D68=\"Incomplete\",\"Incomplete\",IF(E68=\"Incomplete\",\"Incomplete\",IF(F68=\"Incomplete\",\"Incomplete\",\"Complete\")))))","v":"Incomplete"}]
[null,"Incomplete","Incomplete","Incomplete","Incomplete","Incomplete",null,null,null,{"$f":"IF(B69=\"Incomplete\",\"Incomplete\",IF(C69=\"Incomplete\",\"Incomplete\",IF(D69=\"Incomplete\",\"Incomplete\",IF(E69=\"Incomplete\",\"Incomplete\",IF(F69=\"Incomplete\",\"Incomplete\",\"Complete\")))))","v":"Incomplete"}]
[null,"Incomplete","Incomplete","Incomplete","Incomplete","Incomplete",null,null,null,"Incomplete"]
[null,"Incomplete","Incomplete","Incomplete","Incomplete","Incomplete",null,null,null,"Incomplete"]
[null,"Incomplete","Incomplete","Incomplete","Incomplete","Incomplete",null,null,null,"Incomplete"]
[null,"Incomplete","Incomplete","Incomplete","Incomplete","Incomplete",null,null,null,"Incomplete"]
[null,"Incomplete","Incomplete","Incomplete","Incomplete","Incomplete",null,null,null,"Incomplete"]
[null,"Incomplete","Incomplete","Incomplete","Incomplete","Incomplete",null,null,null,"Incomplete"]
[null,"Incomplete","Incomplete","Incomplete","Incomplete","Incomplete",null,null,null,"Incomplete"]
[null,"Incomplete","Incomplete","Incomplete","Incomplete","Incomplete",null,null,null,"Incomplete"]
[null,"Incomplete","Incomplete","Incomplete","Incomplete","Incomplete",null,null,null,"Incomplete"]
[null,"Incomplete","Incomplete","Incomplete","Incomplete","Incomplete",null,null,null,{"$f":"IF(B79=\"Incomplete\",\"Incomplete\",IF(C79=\"Incomplete\",\"Incomplete\",IF(D79=\"Incomplete\",\"Incomplete\",IF(E79=\"Incomplete\",\"Incomplete\",IF(F79=\"Incomplete\",\"Incomplete\",\"Complete\")))))","v":"Incomplete"}]
[]
[null,{"$f":"IF(E28<>\"\",\"Complete\",\"Incomplete\")","v":"Incomplete"},{"$f":"IF(G28<>\"\",\"Complete\",\"Incomplete\")","v":"Incomplete"},{"$f":"IF(E30<>\"\",\"Complete\",\"Incomplete\")","v":"Incomplete"},{"$f":"IF(F32<>\"\",\"Complete\",\"Incomplete\")","v":"Incomplete"},null,null,null,null,{"$f":"IF(B81=\"Incomplete\",\"Incomplete\",IF(C81=\"Incomplete\",\"Incomplete\",IF(D81=\"Incomplete\",\"Incomplete\",IF(E81=\"Incomplete\",\"Incomplete\",\"Complete\"))))","v":"Incomplete"}]
[null,{"$f":"IF(C33<>\"\",\"Complete\",\"Incomplete\")","v":"Incomplete"},{"$f":"IF(F35<>\"\",\"Complete\",\"Incomplete\")","v":"Incomplete"},{"$f":"IF(F36<>\"\",\"Complete\",\"Incomplete\")","v":"Incomplete"},{"$f":"IF(F39<>\"\",\"Complete\",\"Incomplete\")","v":"Incomplete"},{"$f":"IF(F41<>\"\",\"Complete\",\"Incomplete\")","v":"Incomplete"},{"$f":"IF(A44<>\"\",\"Complete\",\"Incomplete\")","v":"Incomplete"},null,null,{"$f":"IF(B82=\"Incomplete\",\"Incomplete\",IF(C82=\"Incomplete\",\"Incomplete\",IF(D82=\"Incomplete\",\"Incomplete\",IF(E82=\"Incomplete\",\"Incomplete\",IF(F82=\"Incomplete\",\"Incomplete\",IF(G82=\"Incomplete\",\"Incomplete\",\"Complete\"))))))","v":"Incomplete"}]
[]
[]
[]
[null,null,null,null,null,null,null,null,null,{"$f":"IF(J68=\"Incomplete\",\"Incomplete\",IF(J69=\"Incomplete\",\"Incomplete\",IF(J70=\"Incomplete\",\"Incomplete\",IF(J71=\"Incomplete\",\"Incomplete\",IF(J72=\"Incomplete\",\"Incomplete\",IF(J73=\"Incomplete\",\"Incomplete\",IF(J74=\"Incomplete\",\"Incomplete\",\"Complete\")))))))","v":"Incomplete"}]
[null,null,null,null,null,null,null,null,null,{"$f":"IF(J75=\"Incomplete\",\"Incomplete\",IF(J76=\"Incomplete\",\"Incomplete\",IF(J77=\"Incomplete\",\"Incomplete\",IF(J78=\"Incomplete\",\"Incomplete\",IF(J79=\"Incomplete\",\"Incomplete\",\"Complete\")))))","v":"Incomplete"}]
[null,null,null,null,null,null,null,null,null,{"$f":"IF(J81=\"Incomplete\",\"Incomplete\",IF(J82=\"Incomplete\",\"Incomplete\",\"Complete\"))","v":"Incomplete"}]
[null,null,null,null,null,null,null,null,null,{"$f":"IF(J86=\"Incomplete\",\"Incomplete\",IF(J87=\"Incomplete\",\"Incomplete\",IF(J88=\"Incomplete\",\"Incomplete\",\"Complete\")))","v":"Incomplete"}]
[]
[]
["Note:  If you are filing for more than four systems, please click on the button below."]

{"sheet":"AR10 (e)","index":31,"n_rows":92,"n_cols":16,"rows_kept":92,"cut":false,"hidden":true,"merged":[[31,0,31,4],[5,0,5,8],[6,0,6,1],[6,2,6,8],[6,13,6,14],[7,0,7,2],[7,3,7,4],[8,0,8,2],[8,3,8,4],[11,1,11,5],[27,0,27,3],[29,0,29,3],[32,0,32,1],[34,0,34,4],[35,0,35,4],[61,0,62,8],[91,0,91,8],[38,0,38,4],[40,0,40,4],[42,0,42,8],[43,0,49,8],[53,0,53,8]]}
[{"$f":"'AR1'!B12","v":0},null,null,null,null,null,null,null,null,"AR10"]
["Annual Report",null,null,null,null,null,null,null,null,{"$f":"\"Annual Report page \"&I60","v":"Annual Report page 14"}]
[{"$f":"A6","v":"Customer and Other Information"}]
[{"$f":"IF('AR1'!B19=\"\",\"\",'AR1'!B19)","v":"12/31/20"}]
[]
["Customer and Other Information",null,null,null,null,null,null,null,null,"Table of Contents"]
["Name of the System:",null,{"$f":"'AR8 (e)'!C7:G7","v":0}]
["ADEQ Public Water System Number:",null,null,{"$f":"'AR8 (e)'!D8:E8","v":""}]
["ADWR PCC Number:",null,null,{"$f":"'AR8 (e)'!D9:E9","v":""}]
[]
[]
[null,"Number of Customers"]
["Month","Single-Family","Multi-Family","Commercial","Turf/Irrigation","Other Non-Residential",null,null,null,null,null,"Single-Family","Multi-Family","Commercial","Turf/Irrigation","Other Non-Residential"]
["January",null,null,null,null,null,null,null,null,null,"Average",{"$error":"#DIV/0!"},{"$error":"#DIV/0!"},{"$error":"#DIV/0!"},{"$error":"#DIV/0!"},{"$error":"#DIV/0!"}]
["February",null,null,null,null,null,null,null,null,null,"Total",{"$f":"SUM(B14:B25)","v":0},{"$f":"SUM(C14:C25)","v":0},0,0,0]
["March"]
["April"]
["May"]
["June"]
["July"]
["August"]
["September"]
["October"]
["November"]
["December"]
[]
[]
["If the system has fire hydrants, what is the fire flow requirements? ",null,null,null,null,"GPM for",null,"hrs."]
[]
["Does the system have chlorination treatment?"]
[]
["Does the Company have an ADWR Gallons Per Capita Per Day (GCPCPD) requirement?"]
["If yes, provide the GPCPD amount:"]
[]
["Is the Water Utility located in an ADWR Active Management Area (AMA)?"]
["If yes, which AMA?"]
[]
[]
["What is the present system connection capacity (in ERCs *) using existing lines?"]
[]
["What is the future system connection capacity (in ERCs *) upon service area buildout?"]
[]
["Describe any plans and estimated completion dates for any enlargements or improvements of this system."]
[]
[]
[]
[]
[]
[]
[]
[]
[]
[]
["* an ERC is based on the calculation on the bottom of AR9 page 12e."]
[]
[]
[]
[]
[null,null,null,null,null,null,null,null,{"$f":"\"Page \"&I60&\"e\"","v":"Page 14e"}]
[null,null,null,null,null,null,null,null,{"$f":"'AR9'!S59+1","v":14}]
[]
["Instructions: Fill out the Grey Cells with the relevant information.  Input 0 or none if there is nothing recorded in that account or there is no applicable information to report.  Copy and paste this sheet as many times as is necessary."]
[]
[null,null,null,null,null,null,null,null,"AR10"]
[null,null,null,null,null,null,null,null,{"$f":"\"Annual Report Page \"&I60","v":"Annual Report Page 14"}]
[]
[]
[null,{"$f":"IF(B14<>\"\",\"Complete\",\"Incomplete\")","v":"Incomplete"},"Incomplete","Incomplete","Incomplete","Incomplete",null,null,null,{"$f":"IF(B68=\"Incomplete\",\"Incomplete\",IF(C68=\"Incomplete\",\"Incomplete\",IF(D68=\"Incomplete\",\"Incomplete\",IF(E68=\"Incomplete\",\"Incomplete\",IF(F68=\"Incomplete\",\"Incomplete\",\"Complete\")))))","v":"Incomplete"}]
[null,"Incomplete","Incomplete","Incomplete","Incomplete","Incomplete",null,null,null,{"$f":"IF(B69=\"Incomplete\",\"Incomplete\",IF(C69=\"Incomplete\",\"Incomplete\",IF(D69=\"Incomplete\",\"Incomplete\",IF(E69=\"Incomplete\",\"Incomplete\",IF(F69=\"Incomplete\",\"Incomplete\",\"Complete\")))))","v":"Incomplete"}]
[null,"Incomplete","Incomplete","Incomplete","Incomplete","Incomplete",null,null,null,"Incomplete"]
[null,"Incomplete","Incomplete","Incomplete","Incomplete","Incomplete",null,null,null,"Incomplete"]
[null,"Incomplete","Incomplete","Incomplete","Incomplete","Incomplete",null,null,null,"Incomplete"]
[null,"Incomplete","Incomplete","Incomplete","Incomplete","Incomplete",null,null,null,"Incomplete"]
[null,"Incomplete","Incomplete","Incomplete","Incomplete","Incomplete",null,null,null,"Incomplete"]
[null,"Incomplete","Incomplete","Incomplete","Incomplete","Incomplete",null,null,null,"Incomplete"]
[null,"Incomplete","Incomplete","Incomplete","Incomplete","Incomplete",null,null,null,"Incomplete"]
[null,"Incomplete","Incomplete","Incomplete","Incomplete","Incomplete",null,null,null,"Incomplete"]
[null,"Incomplete","Incomplete","Incomplete","Incomplete","Incomplete",null,null,null,"Incomplete"]
[null,"Incomplete","Incomplete","Incomplete","Incomplete","Incomplete",null,null,null,{"$f":"IF(B79=\"Incomplete\",\"Incomplete\",IF(C79=\"Incomplete\",\"Incomplete\",IF(D79=\"Incomplete\",\"Incomplete\",IF(E79=\"Incomplete\",\"Incomplete\",IF(F79=\"Incomplete\",\"Incomplete\",\"Complete\")))))","v":"Incomplete"}]
[]
[null,{"$f":"IF(E28<>\"\",\"Complete\",\"Incomplete\")","v":"Incomplete"},{"$f":"IF(G28<>\"\",\"Complete\",\"Incomplete\")","v":"Incomplete"},{"$f":"IF(E30<>\"\",\"Complete\",\"Incomplete\")","v":"Incomplete"},{"$f":"IF(F32<>\"\",\"Complete\",\"Incomplete\")","v":"Incomplete"},null,null,null,null,{"$f":"IF(B81=\"Incomplete\",\"Incomplete\",IF(C81=\"Incomplete\",\"Incomplete\",IF(D81=\"Incomplete\",\"Incomplete\",IF(E81=\"Incomplete\",\"Incomplete\",\"Complete\"))))","v":"Incomplete"}]
[null,{"$f":"IF(C33<>\"\",\"Complete\",\"Incomplete\")","v":"Incomplete"},{"$f":"IF(F35<>\"\",\"Complete\",\"Incomplete\")","v":"Incomplete"},{"$f":"IF(F36<>\"\",\"Complete\",\"Incomplete\")","v":"Incomplete"},{"$f":"IF(F39<>\"\",\"Complete\",\"Incomplete\")","v":"Incomplete"},{"$f":"IF(F41<>\"\",\"Complete\",\"Incomplete\")","v":"Incomplete"},{"$f":"IF(A44<>\"\",\"Complete\",\"Incomplete\")","v":"Incomplete"},null,null,{"$f":"IF(B82=\"Incomplete\",\"Incomplete\",IF(C82=\"Incomplete\",\"Incomplete\",IF(D82=\"Incomplete\",\"Incomplete\",IF(E82=\"Incomplete\",\"Incomplete\",IF(F82=\"Incomplete\",\"Incomplete\",IF(G82=\"Incomplete\",\"Incomplete\",\"Complete\"))))))","v":"Incomplete"}]
[]
[]
[]
[null,null,null,null,null,null,null,null,null,{"$f":"IF(J68=\"Incomplete\",\"Incomplete\",IF(J69=\"Incomplete\",\"Incomplete\",IF(J70=\"Incomplete\",\"Incomplete\",IF(J71=\"Incomplete\",\"Incomplete\",IF(J72=\"Incomplete\",\"Incomplete\",IF(J73=\"Incomplete\",\"Incomplete\",IF(J74=\"Incomplete\",\"Incomplete\",\"Complete\")))))))","v":"Incomplete"}]
[null,null,null,null,null,null,null,null,null,{"$f":"IF(J75=\"Incomplete\",\"Incomplete\",IF(J76=\"Incomplete\",\"Incomplete\",IF(J77=\"Incomplete\",\"Incomplete\",IF(J78=\"Incomplete\",\"Incomplete\",IF(J79=\"Incomplete\",\"Incomplete\",\"Complete\")))))","v":"Incomplete"}]
[null,null,null,null,null,null,null,null,null,{"$f":"IF(J81=\"Incomplete\",\"Incomplete\",IF(J82=\"Incomplete\",\"Incomplete\",\"Complete\"))","v":"Incomplete"}]
[null,null,null,null,null,null,null,null,null,{"$f":"IF(J86=\"Incomplete\",\"Incomplete\",IF(J87=\"Incomplete\",\"Incomplete\",IF(J88=\"Incomplete\",\"Incomplete\",\"Complete\")))","v":"Incomplete"}]
[]
[]
["Note:  If you are filing for more than five systems, please click on the button below."]

{"sheet":"AR10 (f)","index":32,"n_rows":92,"n_cols":16,"rows_kept":92,"cut":false,"hidden":true,"merged":[[31,0,31,4],[5,0,5,8],[6,0,6,1],[6,2,6,8],[6,13,6,14],[7,0,7,2],[7,3,7,4],[8,0,8,2],[8,3,8,4],[11,1,11,5],[27,0,27,3],[29,0,29,3],[32,0,32,1],[34,0,34,4],[35,0,35,4],[61,0,62,8],[91,0,91,8],[38,0,38,4],[40,0,40,4],[42,0,42,8],[43,0,49,8],[53,0,53,8]]}
[{"$f":"'AR1'!B12","v":0},null,null,null,null,null,null,null,null,"AR10"]
["Annual Report",null,null,null,null,null,null,null,null,{"$f":"\"Annual Report page \"&I60","v":"Annual Report page 14"}]
[{"$f":"A6","v":"Customer and Other Information"}]
[{"$f":"IF('AR1'!B19=\"\",\"\",'AR1'!B19)","v":"12/31/20"}]
[]
["Customer and Other Information",null,null,null,null,null,null,null,null,"Table of Contents"]
["Name of the System:",null,{"$f":"'AR8 (f)'!C7:G7","v":0}]
["ADEQ Public Water System Number:",null,null,{"$f":"'AR8 (f)'!D8:E8","v":""}]
["ADWR PCC Number:",null,null,{"$f":"'AR8 (f)'!D9:E9","v":""}]
[]
[]
[null,"Number of Customers"]
["Month","Single-Family","Multi-Family","Commercial","Turf/Irrigation","Other Non-Residential",null,null,null,null,null,"Single-Family","Multi-Family","Commercial","Turf/Irrigation","Other Non-Residential"]
["January",null,null,null,null,null,null,null,null,null,"Average",{"$error":"#DIV/0!"},{"$error":"#DIV/0!"},{"$error":"#DIV/0!"},{"$error":"#DIV/0!"},{"$error":"#DIV/0!"}]
["February",null,null,null,null,null,null,null,null,null,"Total",{"$f":"SUM(B14:B25)","v":0},{"$f":"SUM(C14:C25)","v":0},0,0,0]
["March"]
["April"]
["May"]
["June"]
["July"]
["August"]
["September"]
["October"]
["November"]
["December"]
[]
[]
["If the system has fire hydrants, what is the fire flow requirements? ",null,null,null,null,"GPM for",null,"hrs."]
[]
["Does the system have chlorination treatment?"]
[]
["Does the Company have an ADWR Gallons Per Capita Per Day (GCPCPD) requirement?"]
["If yes, provide the GPCPD amount:"]
[]
["Is the Water Utility located in an ADWR Active Management Area (AMA)?"]
["If yes, which AMA?"]
[]
[]
["What is the present system connection capacity (in ERCs *) using existing lines?"]
[]
["What is the future system connection capacity (in ERCs *) upon service area buildout?"]
[]
["Describe any plans and estimated completion dates for any enlargements or improvements of this system."]
[]
[]
[]
[]
[]
[]
[]
[]
[]
[]
["* an ERC is based on the calculation on the bottom of AR9 page 12f."]
[]
[]
[]
[]
[null,null,null,null,null,null,null,null,{"$f":"\"Page \"&I60&\"f\"","v":"Page 14f"}]
[null,null,null,null,null,null,null,null,{"$f":"'AR9'!S59+1","v":14}]
[]
["Instructions: Fill out the Grey Cells with the relevant information.  Input 0 or none if there is nothing recorded in that account or there is no applicable information to report.  Copy and paste this sheet as many times as is necessary."]
[]
[null,null,null,null,null,null,null,null,"AR10"]
[null,null,null,null,null,null,null,null,{"$f":"\"Annual Report Page \"&I60","v":"Annual Report Page 14"}]
[]
[]
[null,{"$f":"IF(B14<>\"\",\"Complete\",\"Incomplete\")","v":"Incomplete"},"Incomplete","Incomplete","Incomplete","Incomplete",null,null,null,{"$f":"IF(B68=\"Incomplete\",\"Incomplete\",IF(C68=\"Incomplete\",\"Incomplete\",IF(D68=\"Incomplete\",\"Incomplete\",IF(E68=\"Incomplete\",\"Incomplete\",IF(F68=\"Incomplete\",\"Incomplete\",\"Complete\")))))","v":"Incomplete"}]
[null,"Incomplete","Incomplete","Incomplete","Incomplete","Incomplete",null,null,null,{"$f":"IF(B69=\"Incomplete\",\"Incomplete\",IF(C69=\"Incomplete\",\"Incomplete\",IF(D69=\"Incomplete\",\"Incomplete\",IF(E69=\"Incomplete\",\"Incomplete\",IF(F69=\"Incomplete\",\"Incomplete\",\"Complete\")))))","v":"Incomplete"}]
[null,"Incomplete","Incomplete","Incomplete","Incomplete","Incomplete",null,null,null,"Incomplete"]
[null,"Incomplete","Incomplete","Incomplete","Incomplete","Incomplete",null,null,null,"Incomplete"]
[null,"Incomplete","Incomplete","Incomplete","Incomplete","Incomplete",null,null,null,"Incomplete"]
[null,"Incomplete","Incomplete","Incomplete","Incomplete","Incomplete",null,null,null,"Incomplete"]
[null,"Incomplete","Incomplete","Incomplete","Incomplete","Incomplete",null,null,null,"Incomplete"]
[null,"Incomplete","Incomplete","Incomplete","Incomplete","Incomplete",null,null,null,"Incomplete"]
[null,"Incomplete","Incomplete","Incomplete","Incomplete","Incomplete",null,null,null,"Incomplete"]
[null,"Incomplete","Incomplete","Incomplete","Incomplete","Incomplete",null,null,null,"Incomplete"]
[null,"Incomplete","Incomplete","Incomplete","Incomplete","Incomplete",null,null,null,"Incomplete"]
[null,"Incomplete","Incomplete","Incomplete","Incomplete","Incomplete",null,null,null,{"$f":"IF(B79=\"Incomplete\",\"Incomplete\",IF(C79=\"Incomplete\",\"Incomplete\",IF(D79=\"Incomplete\",\"Incomplete\",IF(E79=\"Incomplete\",\"Incomplete\",IF(F79=\"Incomplete\",\"Incomplete\",\"Complete\")))))","v":"Incomplete"}]
[]
[null,{"$f":"IF(E28<>\"\",\"Complete\",\"Incomplete\")","v":"Incomplete"},{"$f":"IF(G28<>\"\",\"Complete\",\"Incomplete\")","v":"Incomplete"},{"$f":"IF(E30<>\"\",\"Complete\",\"Incomplete\")","v":"Incomplete"},{"$f":"IF(F32<>\"\",\"Complete\",\"Incomplete\")","v":"Incomplete"},null,null,null,null,{"$f":"IF(B81=\"Incomplete\",\"Incomplete\",IF(C81=\"Incomplete\",\"Incomplete\",IF(D81=\"Incomplete\",\"Incomplete\",IF(E81=\"Incomplete\",\"Incomplete\",\"Complete\"))))","v":"Incomplete"}]
[null,{"$f":"IF(C33<>\"\",\"Complete\",\"Incomplete\")","v":"Incomplete"},{"$f":"IF(F35<>\"\",\"Complete\",\"Incomplete\")","v":"Incomplete"},{"$f":"IF(F36<>\"\",\"Complete\",\"Incomplete\")","v":"Incomplete"},{"$f":"IF(F39<>\"\",\"Complete\",\"Incomplete\")","v":"Incomplete"},{"$f":"IF(F41<>\"\",\"Complete\",\"Incomplete\")","v":"Incomplete"},{"$f":"IF(A44<>\"\",\"Complete\",\"Incomplete\")","v":"Incomplete"},null,null,{"$f":"IF(B82=\"Incomplete\",\"Incomplete\",IF(C82=\"Incomplete\",\"Incomplete\",IF(D82=\"Incomplete\",\"Incomplete\",IF(E82=\"Incomplete\",\"Incomplete\",IF(F82=\"Incomplete\",\"Incomplete\",IF(G82=\"Incomplete\",\"Incomplete\",\"Complete\"))))))","v":"Incomplete"}]
[]
[]
[]
[null,null,null,null,null,null,null,null,null,{"$f":"IF(J68=\"Incomplete\",\"Incomplete\",IF(J69=\"Incomplete\",\"Incomplete\",IF(J70=\"Incomplete\",\"Incomplete\",IF(J71=\"Incomplete\",\"Incomplete\",IF(J72=\"Incomplete\",\"Incomplete\",IF(J73=\"Incomplete\",\"Incomplete\",IF(J74=\"Incomplete\",\"Incomplete\",\"Complete\")))))))","v":"Incomplete"}]
[null,null,null,null,null,null,null,null,null,{"$f":"IF(J75=\"Incomplete\",\"Incomplete\",IF(J76=\"Incomplete\",\"Incomplete\",IF(J77=\"Incomplete\",\"Incomplete\",IF(J78=\"Incomplete\",\"Incomplete\",IF(J79=\"Incomplete\",\"Incomplete\",\"Complete\")))))","v":"Incomplete"}]
[null,null,null,null,null,null,null,null,null,{"$f":"IF(J81=\"Incomplete\",\"Incomplete\",IF(J82=\"Incomplete\",\"Incomplete\",\"Complete\"))","v":"Incomplete"}]
[null,null,null,null,null,null,null,null,null,{"$f":"IF(J86=\"Incomplete\",\"Incomplete\",IF(J87=\"Incomplete\",\"Incomplete\",IF(J88=\"Incomplete\",\"Incomplete\",\"Complete\")))","v":"Incomplete"}]
[]
[]
["Note:  If you are filing for more than six systems, please click on the button below."]

{"sheet":"AR10 (g)","index":33,"n_rows":92,"n_cols":16,"rows_kept":92,"cut":false,"hidden":true,"merged":[[31,0,31,4],[5,0,5,8],[6,0,6,1],[6,2,6,8],[6,13,6,14],[7,0,7,2],[7,3,7,4],[8,0,8,2],[8,3,8,4],[11,1,11,5],[27,0,27,3],[29,0,29,3],[32,0,32,1],[34,0,34,4],[35,0,35,4],[61,0,62,8],[91,0,91,8],[38,0,38,4],[40,0,40,4],[42,0,42,8],[43,0,49,8],[53,0,53,8]]}
[{"$f":"'AR1'!B12","v":0},null,null,null,null,null,null,null,null,"AR10"]
["Annual Report",null,null,null,null,null,null,null,null,{"$f":"\"Annual Report page \"&I60","v":"Annual Report page 14"}]
[{"$f":"A6","v":"Customer and Other Information"}]
[{"$f":"IF('AR1'!B19=\"\",\"\",'AR1'!B19)","v":"12/31/20"}]
[]
["Customer and Other Information",null,null,null,null,null,null,null,null,"Table of Contents"]
["Name of the System:",null,{"$f":"'AR8 (g)'!C7","v":0}]
["ADEQ Public Water System Number:",null,null,{"$f":"'AR8 (g)'!D8","v":""}]
["ADWR PCC Number:",null,null,{"$f":"'AR8 (g)'!D9","v":""}]
[]
[]
[null,"Number of Customers"]
["Month","Single-Family","Multi-Family","Commercial","Turf/Irrigation","Other Non-Residential",null,null,null,null,null,"Single-Family","Multi-Family","Commercial","Turf/Irrigation","Other Non-Residential"]
["January",null,null,null,null,null,null,null,null,null,"Average",{"$f":"AVERAGE(B14:B25)","v":{"$error":"#DIV/0!"}},{"$f":"AVERAGE(C14:C25)","v":{"$error":"#DIV/0!"}},{"$error":"#DIV/0!"},{"$error":"#DIV/0!"},{"$error":"#DIV/0!"}]
["February",null,null,null,null,null,null,null,null,null,"Total",{"$f":"SUM(B14:B25)","v":0},{"$f":"SUM(C14:C25)","v":0},0,0,0]
["March"]
["April"]
["May"]
["June"]
["July"]
["August"]
["September"]
["October"]
["November"]
["December"]
[]
[]
["If the system has fire hydrants, what is the fire flow requirements? ",null,null,null,null,"GPM for",null,"hrs."]
[]
["Does the system have chlorination treatment?"]
[]
["Does the Company have an ADWR Gallons Per Capita Per Day (GCPCPD) requirement?"]
["If yes, provide the GPCPD amount:"]
[]
["Is the Water Utility located in an ADWR Active Management Area (AMA)?"]
["If yes, which AMA?"]
[]
[]
["What is the present system connection capacity (in ERCs *) using existing lines?"]
[]
["What is the future system connection capacity (in ERCs *) upon service area buildout?"]
[]
["Describe any plans and estimated completion dates for any enlargements or improvements of this system."]
[]
[]
[]
[]
[]
[]
[]
[]
[]
[]
["* an ERC is based on the calculation on the bottom of AR9 page 12g."]
[]
[]
[]
[]
[null,null,null,null,null,null,null,null,{"$f":"\"Page \"&I60&\"g\"","v":"Page 14g"}]
[null,null,null,null,null,null,null,null,{"$f":"'AR9'!S59+1","v":14}]
[]
["Instructions: Fill out the Grey Cells with the relevant information.  Input 0 or none if there is nothing recorded in that account or there is no applicable information to report.  Copy and paste this sheet as many times as is necessary."]
[]
[null,null,null,null,null,null,null,null,"AR10"]
[null,null,null,null,null,null,null,null,{"$f":"\"Annual Report Page \"&I60","v":"Annual Report Page 14"}]
[]
[]
[null,{"$f":"IF(B14<>\"\",\"Complete\",\"Incomplete\")","v":"Incomplete"},"Incomplete","Incomplete","Incomplete","Incomplete",null,null,null,{"$f":"IF(B68=\"Incomplete\",\"Incomplete\",IF(C68=\"Incomplete\",\"Incomplete\",IF(D68=\"Incomplete\",\"Incomplete\",IF(E68=\"Incomplete\",\"Incomplete\",IF(F68=\"Incomplete\",\"Incomplete\",\"Complete\")))))","v":"Incomplete"}]
[null,"Incomplete","Incomplete","Incomplete","Incomplete","Incomplete",null,null,null,{"$f":"IF(B69=\"Incomplete\",\"Incomplete\",IF(C69=\"Incomplete\",\"Incomplete\",IF(D69=\"Incomplete\",\"Incomplete\",IF(E69=\"Incomplete\",\"Incomplete\",IF(F69=\"Incomplete\",\"Incomplete\",\"Complete\")))))","v":"Incomplete"}]
[null,"Incomplete","Incomplete","Incomplete","Incomplete","Incomplete",null,null,null,"Incomplete"]
[null,"Incomplete","Incomplete","Incomplete","Incomplete","Incomplete",null,null,null,"Incomplete"]
[null,"Incomplete","Incomplete","Incomplete","Incomplete","Incomplete",null,null,null,"Incomplete"]
[null,"Incomplete","Incomplete","Incomplete","Incomplete","Incomplete",null,null,null,"Incomplete"]
[null,"Incomplete","Incomplete","Incomplete","Incomplete","Incomplete",null,null,null,"Incomplete"]
[null,"Incomplete","Incomplete","Incomplete","Incomplete","Incomplete",null,null,null,"Incomplete"]
[null,"Incomplete","Incomplete","Incomplete","Incomplete","Incomplete",null,null,null,"Incomplete"]
[null,"Incomplete","Incomplete","Incomplete","Incomplete","Incomplete",null,null,null,"Incomplete"]
[null,"Incomplete","Incomplete","Incomplete","Incomplete","Incomplete",null,null,null,"Incomplete"]
[null,"Incomplete","Incomplete","Incomplete","Incomplete","Incomplete",null,null,null,{"$f":"IF(B79=\"Incomplete\",\"Incomplete\",IF(C79=\"Incomplete\",\"Incomplete\",IF(D79=\"Incomplete\",\"Incomplete\",IF(E79=\"Incomplete\",\"Incomplete\",IF(F79=\"Incomplete\",\"Incomplete\",\"Complete\")))))","v":"Incomplete"}]
[]
[null,{"$f":"IF(E28<>\"\",\"Complete\",\"Incomplete\")","v":"Incomplete"},{"$f":"IF(G28<>\"\",\"Complete\",\"Incomplete\")","v":"Incomplete"},{"$f":"IF(E30<>\"\",\"Complete\",\"Incomplete\")","v":"Incomplete"},{"$f":"IF(F32<>\"\",\"Complete\",\"Incomplete\")","v":"Incomplete"},null,null,null,null,{"$f":"IF(B81=\"Incomplete\",\"Incomplete\",IF(C81=\"Incomplete\",\"Incomplete\",IF(D81=\"Incomplete\",\"Incomplete\",IF(E81=\"Incomplete\",\"Incomplete\",\"Complete\"))))","v":"Incomplete"}]
[null,{"$f":"IF(C33<>\"\",\"Complete\",\"Incomplete\")","v":"Incomplete"},{"$f":"IF(F35<>\"\",\"Complete\",\"Incomplete\")","v":"Incomplete"},{"$f":"IF(F36<>\"\",\"Complete\",\"Incomplete\")","v":"Incomplete"},{"$f":"IF(F39<>\"\",\"Complete\",\"Incomplete\")","v":"Incomplete"},{"$f":"IF(F41<>\"\",\"Complete\",\"Incomplete\")","v":"Incomplete"},{"$f":"IF(A44<>\"\",\"Complete\",\"Incomplete\")","v":"Incomplete"},null,null,{"$f":"IF(B82=\"Incomplete\",\"Incomplete\",IF(C82=\"Incomplete\",\"Incomplete\",IF(D82=\"Incomplete\",\"Incomplete\",IF(E82=\"Incomplete\",\"Incomplete\",IF(F82=\"Incomplete\",\"Incomplete\",IF(G82=\"Incomplete\",\"Incomplete\",\"Complete\"))))))","v":"Incomplete"}]
[]
[]
[]
[null,null,null,null,null,null,null,null,null,{"$f":"IF(J68=\"Incomplete\",\"Incomplete\",IF(J69=\"Incomplete\",\"Incomplete\",IF(J70=\"Incomplete\",\"Incomplete\",IF(J71=\"Incomplete\",\"Incomplete\",IF(J72=\"Incomplete\",\"Incomplete\",IF(J73=\"Incomplete\",\"Incomplete\",IF(J74=\"Incomplete\",\"Incomplete\",\"Complete\")))))))","v":"Incomplete"}]
[null,null,null,null,null,null,null,null,null,{"$f":"IF(J75=\"Incomplete\",\"Incomplete\",IF(J76=\"Incomplete\",\"Incomplete\",IF(J77=\"Incomplete\",\"Incomplete\",IF(J78=\"Incomplete\",\"Incomplete\",IF(J79=\"Incomplete\",\"Incomplete\",\"Complete\")))))","v":"Incomplete"}]
[null,null,null,null,null,null,null,null,null,{"$f":"IF(J81=\"Incomplete\",\"Incomplete\",IF(J82=\"Incomplete\",\"Incomplete\",\"Complete\"))","v":"Incomplete"}]
[null,null,null,null,null,null,null,null,null,{"$f":"IF(J86=\"Incomplete\",\"Incomplete\",IF(J87=\"Incomplete\",\"Incomplete\",IF(J88=\"Incomplete\",\"Incomplete\",\"Complete\")))","v":"Incomplete"}]
[]
[]
["Note:  If you are filing for more than seven systems, please click on the button below."]

{"sheet":"AR10 (h)","index":34,"n_rows":89,"n_cols":17,"rows_kept":89,"cut":false,"hidden":true,"merged":[[5,0,5,8],[6,0,6,1],[6,2,6,8],[6,13,6,14],[7,0,7,2],[7,3,7,4],[32,0,32,1],[34,0,34,4],[35,0,35,4],[61,0,62,8],[8,0,8,2],[8,3,8,4],[11,1,11,5],[27,0,27,3],[29,0,29,3],[31,0,31,4],[38,0,38,4],[40,0,40,4],[42,0,42,8],[43,0,49,8],[53,0,53,8]]}
[{"$f":"'AR1'!B12","v":0},null,null,null,null,null,null,null,null,"AR10"]
["Annual Report",null,null,null,null,null,null,null,null,{"$f":"\"Annual Report page \"&I60","v":"Annual Report page 14"}]
[{"$f":"A6","v":"Customer and Other Information"}]
[{"$f":"IF('AR1'!B19=\"\",\"\",'AR1'!B19)","v":"12/31/20"}]
[]
["Customer and Other Information",null,null,null,null,null,null,null,null,"Table of Contents"]
["Name of the System:",null,{"$f":"'AR8 (h)'!C7:G7","v":0}]
["ADEQ Public Water System Number:",null,null,{"$f":"'AR8 (h)'!D8:E8","v":""}]
["ADWR PCC Number:",null,null,{"$f":"'AR8 (h)'!D9:E9","v":""}]
[]
[]
[null,"Number of Customers"]
["Month","Single-Family","Multi-Family","Commercial","Turf/Irrigation","Other Non-Residential",null,null,null,null,null,"Single-Family","Multi-Family","Commercial","Turf/Irrigation","Other Non-Residential"]
["January",null,null,null,null,null,null,null,null,null,"Average",{"$f":"AVERAGE(B14:B25)","v":{"$error":"#DIV/0!"}},{"$f":"AVERAGE(C14:C25)","v":{"$error":"#DIV/0!"}},{"$f":"AVERAGE(D14:D25)","v":{"$error":"#DIV/0!"}},{"$f":"AVERAGE(E14:E25)","v":{"$error":"#DIV/0!"}},{"$f":"AVERAGE(F14:F25)","v":{"$error":"#DIV/0!"}}]
["February",null,null,null,null,null,null,null,null,null,"Total",{"$f":"SUM(B14:B25)","v":0},{"$f":"SUM(C14:C25)","v":0},0,0,0]
["March",null,null,null,null,null,null,null,null,null,null,null,null,null,null,null,"Total"]
["April",null,null,null,null,null,null,null,null,null,{"$f":"'AR10'!D8:E8","v":{"$error":"#VALUE!"}},{"$f":"IF('AR10'!L15>0,'AR10'!L14,\"\")","v":""},{"$f":"IF('AR10'!M15>0,'AR10'!M14,\"\")","v":""},{"$f":"IF('AR10'!N15>0,'AR10'!N14,\"\")","v":""},{"$f":"IF('AR10'!O15>0,'AR10'!O14,\"\")","v":""},{"$f":"IF('AR10'!P15>0,'AR10'!P14,\"\")","v":""},{"$f":"SUM(L17:P17)","v":0}]
["May",null,null,null,null,null,null,null,null,null,{"$f":"'AR10 (b)'!D8:E8","v":{"$error":"#VALUE!"}},{"$f":"IF('AR10 (b)'!L15>0,'AR10 (b)'!L14,\"\")","v":""},{"$f":"IF('AR10 (b)'!M15>0,'AR10 (b)'!M14,\"\")","v":""},{"$f":"IF('AR10 (b)'!N15>0,'AR10 (b)'!N14,\"\")","v":""},{"$f":"IF('AR10 (b)'!O15>0,'AR10 (b)'!O14,\"\")","v":""},{"$f":"IF('AR10 (b)'!P15>0,'AR10 (b)'!P14,\"\")","v":""},{"$f":"SUM(L18:P18)","v":0}]
["June",null,null,null,null,null,null,null,null,null,{"$f":"'AR10 (c)'!D8:E8","v":{"$error":"#VALUE!"}},{"$f":"IF('AR10 (c)'!L15>0,'AR10 (c)'!L14,\"\")","v":""},{"$f":"IF('AR10 (c)'!M15>0,'AR10 (c)'!M14,\"\")","v":""},{"$f":"IF('AR10 (c)'!N15>0,'AR10 (c)'!N14,\"\")","v":""},{"$f":"IF('AR10 (c)'!O15>0,'AR10 (c)'!O14,\"\")","v":""},{"$f":"IF('AR10 (c)'!P15>0,'AR10 (c)'!P14,\"\")","v":""},0]
["July",null,null,null,null,null,null,null,null,null,{"$f":"'AR10 (d)'!D8:E8","v":{"$error":"#VALUE!"}},{"$f":"IF('AR10 (d)'!L15>0,'AR10 (d)'!L14,\"\")","v":""},{"$f":"IF('AR10 (d)'!M15>0,'AR10 (d)'!M14,\"\")","v":""},{"$f":"IF('AR10 (d)'!N15>0,'AR10 (d)'!N14,\"\")","v":""},{"$f":"IF('AR10 (d)'!O15>0,'AR10 (d)'!O14,\"\")","v":""},{"$f":"IF('AR10 (d)'!P15>0,'AR10 (d)'!P14,\"\")","v":""},0]
["August",null,null,null,null,null,null,null,null,null,{"$f":"'AR10 (e)'!D8:E8","v":{"$error":"#VALUE!"}},{"$f":"IF('AR10 (e)'!L15>0,'AR10 (e)'!L14,\"\")","v":""},{"$f":"IF('AR10 (e)'!M15>0,'AR10 (e)'!M14,\"\")","v":""},{"$f":"IF('AR10 (e)'!N15>0,'AR10 (e)'!N14,\"\")","v":""},{"$f":"IF('AR10 (e)'!O15>0,'AR10 (e)'!O14,\"\")","v":""},{"$f":"IF('AR10 (e)'!P15>0,'AR10 (e)'!P14,\"\")","v":""},0]
["September",null,null,null,null,null,null,null,null,null,{"$f":"'AR10 (f)'!D8:E8","v":{"$error":"#VALUE!"}},{"$f":"IF('AR10 (f)'!L15>0,'AR10 (f)'!L14,\"\")","v":""},{"$f":"IF('AR10 (f)'!M15>0,'AR10 (f)'!M14,\"\")","v":""},{"$f":"IF('AR10 (f)'!N15>0,'AR10 (f)'!N14,\"\")","v":""},{"$f":"IF('AR10 (f)'!O15>0,'AR10 (f)'!O14,\"\")","v":""},{"$f":"IF('AR10 (f)'!P15>0,'AR10 (f)'!P14,\"\")","v":""},0]
["October",null,null,null,null,null,null,null,null,null,{"$f":"'AR10 (g)'!D8:E8","v":{"$error":"#VALUE!"}},{"$f":"IF('AR10 (g)'!L15>0,'AR10 (g)'!L14,\"\")","v":""},{"$f":"IF('AR10 (g)'!M15>0,'AR10 (g)'!M14,\"\")","v":""},{"$f":"IF('AR10 (g)'!N15>0,'AR10 (g)'!N14,\"\")","v":""},{"$f":"IF('AR10 (g)'!O15>0,'AR10 (g)'!O14,\"\")","v":""},{"$f":"IF('AR10 (g)'!P15>0,'AR10 (g)'!P14,\"\")","v":""},0]
["November",null,null,null,null,null,null,null,null,null,{"$f":"D8","v":""},{"$f":"IF(L15>0,L14,\"\")","v":""},{"$f":"IF(M15>0,M14,\"\")","v":""},"","","",0]
["December",null,null,null,null,null,null,null,null,null,null,null,null,null,null,null,{"$f":"SUM(Q17:Q24)","v":0}]
[]
[]
["If the system has fire hydrants, what is the fire flow requirements? ",null,null,null,null,"GPM for",null,"hrs."]
[]
["Does the system have chlorination treatment?"]
[]
["Does the Company have an ADWR Gallons Per Capita Per Day (GCPCPD) requirement?"]
["If yes, provide the GPCPD amount:"]
[]
["Is the Water Utility located in an ADWR Active Management Area (AMA)?"]
["If yes, which AMA?"]
[]
[]
["What is the present system connection capacity (in ERCs *) using existing lines?"]
[]
["What is the future system connection capacity (in ERCs *) upon service area buildout?"]
[]
["Describe any plans and estimated completion dates for any enlargements or improvements of this system."]
[]
[]
[]
[]
[]
[]
[]
[]
[]
[]
["* an ERC is based on the calculation on the bottom of AR9 page 12h."]
[]
[]
[]
[]
[null,null,null,null,null,null,null,null,{"$f":"\"Page \"&I60&\"h\"","v":"Page 14h"}]
[null,null,null,null,null,null,null,null,{"$f":"'AR9'!S59+1","v":14}]
[]
["Instructions: Fill out the Grey Cells with the relevant information.  Input 0 or none if there is nothing recorded in that account or there is no applicable information to report.  Copy and paste this sheet as many times as is necessary."]
[]
[null,null,null,null,null,null,null,null,"AR10"]
[null,null,null,null,null,null,null,null,{"$f":"\"Annual Report Page \"&I60","v":"Annual Report Page 14"}]
[]
[]
[null,{"$f":"IF(B14<>\"\",\"Complete\",\"Incomplete\")","v":"Incomplete"},"Incomplete","Incomplete","Incomplete","Incomplete",null,null,null,{"$f":"IF(B68=\"Incomplete\",\"Incomplete\",IF(C68=\"Incomplete\",\"Incomplete\",IF(D68=\"Incomplete\",\"Incomplete\",IF(E68=\"Incomplete\",\"Incomplete\",IF(F68=\"Incomplete\",\"Incomplete\",\"Complete\")))))","v":"Incomplete"}]
[null,"Incomplete","Incomplete","Incomplete","Incomplete","Incomplete",null,null,null,{"$f":"IF(B69=\"Incomplete\",\"Incomplete\",IF(C69=\"Incomplete\",\"Incomplete\",IF(D69=\"Incomplete\",\"Incomplete\",IF(E69=\"Incomplete\",\"Incomplete\",IF(F69=\"Incomplete\",\"Incomplete\",\"Complete\")))))","v":"Incomplete"}]
[null,"Incomplete","Incomplete","Incomplete","Incomplete","Incomplete",null,null,null,"Incomplete"]
[null,"Incomplete","Incomplete","Incomplete","Incomplete","Incomplete",null,null,null,"Incomplete"]
[null,"Incomplete","Incomplete","Incomplete","Incomplete","Incomplete",null,null,null,"Incomplete"]
[null,"Incomplete","Incomplete","Incomplete","Incomplete","Incomplete",null,null,null,"Incomplete"]
[null,"Incomplete","Incomplete","Incomplete","Incomplete","Incomplete",null,null,null,"Incomplete"]
[null,"Incomplete","Incomplete","Incomplete","Incomplete","Incomplete",null,null,null,"Incomplete"]
[null,"Incomplete","Incomplete","Incomplete","Incomplete","Incomplete",null,null,null,"Incomplete"]
[null,"Incomplete","Incomplete","Incomplete","Incomplete","Incomplete",null,null,null,"Incomplete"]
[null,"Incomplete","Incomplete","Incomplete","Incomplete","Incomplete",null,null,null,"Incomplete"]
[null,"Incomplete","Incomplete","Incomplete","Incomplete","Incomplete",null,null,null,{"$f":"IF(B79=\"Incomplete\",\"Incomplete\",IF(C79=\"Incomplete\",\"Incomplete\",IF(D79=\"Incomplete\",\"Incomplete\",IF(E79=\"Incomplete\",\"Incomplete\",IF(F79=\"Incomplete\",\"Incomplete\",\"Complete\")))))","v":"Incomplete"}]
[]
[null,{"$f":"IF(E28<>\"\",\"Complete\",\"Incomplete\")","v":"Incomplete"},{"$f":"IF(G28<>\"\",\"Complete\",\"Incomplete\")","v":"Incomplete"},{"$f":"IF(E30<>\"\",\"Complete\",\"Incomplete\")","v":"Incomplete"},{"$f":"IF(F32<>\"\",\"Complete\",\"Incomplete\")","v":"Incomplete"},null,null,null,null,{"$f":"IF(B81=\"Incomplete\",\"Incomplete\",IF(C81=\"Incomplete\",\"Incomplete\",IF(D81=\"Incomplete\",\"Incomplete\",IF(E81=\"Incomplete\",\"Incomplete\",\"Complete\"))))","v":"Incomplete"}]
[null,{"$f":"IF(C33<>\"\",\"Complete\",\"Incomplete\")","v":"Incomplete"},{"$f":"IF(F35<>\"\",\"Complete\",\"Incomplete\")","v":"Incomplete"},{"$f":"IF(F36<>\"\",\"Complete\",\"Incomplete\")","v":"Incomplete"},{"$f":"IF(F39<>\"\",\"Complete\",\"Incomplete\")","v":"Incomplete"},{"$f":"IF(F41<>\"\",\"Complete\",\"Incomplete\")","v":"Incomplete"},{"$f":"IF(A44<>\"\",\"Complete\",\"Incomplete\")","v":"Incomplete"},null,null,{"$f":"IF(B82=\"Incomplete\",\"Incomplete\",IF(C82=\"Incomplete\",\"Incomplete\",IF(D82=\"Incomplete\",\"Incomplete\",IF(E82=\"Incomplete\",\"Incomplete\",IF(F82=\"Incomplete\",\"Incomplete\",IF(G82=\"Incomplete\",\"Incomplete\",\"Complete\"))))))","v":"Incomplete"}]
[]
[]
[]
[null,null,null,null,null,null,null,null,null,{"$f":"IF(J68=\"Incomplete\",\"Incomplete\",IF(J69=\"Incomplete\",\"Incomplete\",IF(J70=\"Incomplete\",\"Incomplete\",IF(J71=\"Incomplete\",\"Incomplete\",IF(J72=\"Incomplete\",\"Incomplete\",IF(J73=\"Incomplete\",\"Incomplete\",IF(J74=\"Incomplete\",\"Incomplete\",\"Complete\")))))))","v":"Incomplete"}]
[null,null,null,null,null,null,null,null,null,{"$f":"IF(J75=\"Incomplete\",\"Incomplete\",IF(J76=\"Incomplete\",\"Incomplete\",IF(J77=\"Incomplete\",\"Incomplete\",IF(J78=\"Incomplete\",\"Incomplete\",IF(J79=\"Incomplete\",\"Incomplete\",\"Complete\")))))","v":"Incomplete"}]
[null,null,null,null,null,null,null,null,null,{"$f":"IF(J81=\"Incomplete\",\"Incomplete\",IF(J82=\"Incomplete\",\"Incomplete\",\"Complete\"))","v":"Incomplete"}]
[null,null,null,null,null,null,null,null,null,{"$f":"IF(J86=\"Incomplete\",\"Incomplete\",IF(J87=\"Incomplete\",\"Incomplete\",IF(J88=\"Incomplete\",\"Incomplete\",\"Complete\")))","v":"Incomplete"}]

{"sheet":"Drop down lists","index":35,"n_rows":907,"n_cols":45,"rows_kept":907,"cut":false,"hidden":true,"merged":[]}
[null,null,null,null,null,null,null,null,"Alabama",null,"Apache",null,"Company Name - DBA","Docket No","Address","Address2","City","Zip","State","Email Address",null,"ERRF",null,"Sizes (inches)",null,"Material",null,"Size (inches)",null,"ADWR CWS NAME","ADEQ_ID","ADWR PCC","ACC Docket","ADWR OWNER NAME","ADEQ/ADWR STATUS","ACC NAME",null,null,"ADWR CWS NAME","ADEQ_ID","ADWR PCC","ACC Docket","ADWR OWNER NAME","ADEQ/ADWR STATUS","ACC NAME"]
[null,null,null,null,null,null,null,null,"Alaska",null,"Cochise",null,"A. Petersen Water Company, Inc.","W-02678A","PO Box 245","","Taylor",85939,"AZ","watercos@gmail.com",null,"Source Wells",null,"NA",null,"NA",null,"NA",null,"A PETERSEN WATER CO","AZ0409032","91-000386.0000","W-02678A","A PETERSEN WATER CO","A","A. Petersen Water Company, Inc.",null,null,"157TH PLACE WATER ASSOC","AZ0407901","91-000304.0000","","157TH PLACE WATER ASSOC","I",""]
[null,null,"Yes",null,null,null,"One",null,"Arizona",null,"Coconino",null,"Abra Water Company, Inc.","W-01782A","PO Box 515","","Paulden",86334,"AZ","abrawater@yahoo.com",null,"Treatment Systems",null,0,null,4,null,"5/8 X 3/4",null,"ABRA WATER COMPANY","AZ0413001","91-000605.0000","W-01782A","BIG CHINO LAND CO INC.","A","Abra Water Company, Inc.",null,null,"303 DOMESTIC WTR IMPRO DI","AZ0409053","91-000396.0000","","303 DWID","I",""]
["All",null,"No",null,"Select Meter Size",null,"Two",null,"Arkansas",null,"Gila",null,"ACME Water, LLC","W-20809A","365 E. Coronado Rd., Ste. 200","","Phoenix","85004-1560","AZ","acmewatercompany@gmail.com",null,"Storage Tanks",null,1,null,"ABS",null,0.75,null,"ACME WATER - BLUE HILLS","AZ0413055","91-000640.0000","W-20809A","ACME WATER COMPANY","A","ACME Water, LLC - BLUE HILLS                 ",null,null,"67 AVE PROPERTY OWNERS WT","AZ0407280","91-000247.0000","","67 AVE PROPERTY OWNERS ASSN","A",""]
["Residential",null,"N/A",null,"5/8\" x 3/4\" Meter",null,"Three",null,"California",null,"Graham",null,"Adaman Mutual Water Company","W-01997A","16251 W Glendale Ave","","Litchfield Park",85340,"AZ","mary@adamanwater.com",null,"Booster Pumps",null,1.25,null,"ABS/PVC",null,"1",null,"ADAMAN MUTUAL WATER COMPANY","AZ0407001","91-000180.0000","W-01997A","ADAMAN MUTUAL WATER COMPANY","A","Adaman Mutual Water Company",null,null,"A PETERSEN WATER CO","AZ0409032","91-000386.0000","W-02678A","A PETERSEN WATER CO","A","A. Petersen Water Company, Inc."]
["Commercial",null,null,null,"3/4\"Meter",null,null,null,"Colorado",null,"Greenlee",null,"Aguila Water Services, Inc.","W-01578A","PO Box 1086","","Sun City",85372,"AZ","aguilawater@qwestoffice.net",null,"Pressure Tanks",null,1.5,null,"AC/PVC",null,1.5,null,"AGUILA WATER SERVICE","AZ0407003","91-000181.0000","W-01578A","AGUILA WATER SERVICE","A","Aguila Water Services, Inc.",null,null,"ABRA WATER COMPANY","AZ0413001","91-000605.0000","W-01782A","BIG CHINO LAND CO INC.","A","Abra Water Company, Inc."]
["Industrial",null,null,null,"1\" Meter",null,null,null,"Connecticut",null,"La Paz",null,"Ajo Improvement Company","WS-01025A","PO Drawer 9","","Ajo",85321,"AZ","htaylor@fmi.com; dmedina@fmi.com",null,"Customer Meters",null,2,null,"ACP",null,"2",null,"AMERICAN REALTY & MORTGAG","AZ0411301","91-000568.0000","W-02258A","AMERICAN REALTY & MTG CO INC","A","AMERICAN REALTY MORTGAGE COMPANY  dba Hacienda Acres",null,null,"ACME WATER - BLUE HILLS","AZ0413055","91-000640.0000","W-20809A","ACME WATER COMPANY","A","ACME Water, LLC - BLUE HILLS                 "]
["Bulk",null,"(a)",null,"1-1/2\" Meter",null,null,null,"Delaware",null,"Maricopa",null,"Antelope Lakes Water Company, Inc.","W-02740A","PO Box 350","","Chino Valley",86323,"AZ","SARA@LEVIEGROUP.COM",null,"Master Meters",null,2.5,null,"ACP, C900",null,"3",null,"ANTELOPE WATER CO","AZ0414001","91-000707.0000","W-02005A","ANTELOPE WATER CO","A","Antelope Water Company",null,null,"ADAMAN MUTUAL WATER COMPANY","AZ0407001","91-000180.0000","W-01997A","ADAMAN MUTUAL WATER COMPANY","A","Adaman Mutual Water Company"]
["Stand-pipe",null,"(b)",null,"2\" Meter",null,null,null,"Florida",null,"Mohave",null,"Antelope Water Company","W-02005A","PO Box 843","","Wellton",85356,"AZ","wrightgrade@aol.com;berncole@aol.com",null,"Main and Service Lines",null,3,null,"ACP, DIP, PVC",null,"4",null,"ANTHEM AT MERRILL RANCH","AZ0411136","91-000817.0000","WS-02987A","JOHNSON UTILITIES - PHOENIX","A","Johnson Utilities L.L.C. DBA Johnson Utilities Company - ANTHEM AT MERRILL RANCH  ",null,null,"ADOT GRAND CANYON AIRPORT","AZ0403010","91-000088.0000","","ADOT","A",""]
["Fire",null,"Other",null,"3\" Meter",null,null,null,"Georgia",null,"Navajo",null,"Anway Manville Water Company, L.L.C.","W-03233A","PO Box 85160","","Tucson",85754,"AZ","info@southwesternutility.com",null,"Repair Equipment",null,4,null,"ACP, GIP",null,"6",null,"ANWAY-MANVILLE LLC","AZ0410354","91-000503.0000","W-03233A","ANWAY-MANVILLE LLC","A","Anway Manville Water Company, L.L.C.",null,null,"ADOT GRAY MOUNTAIN M/C","AZ0403042","91-000100.0000","","ADOT","I",""]
["Hydrants",null,null,null,"4\" Meter",null,null,null,"Hawaii",null,"Pima",null,"Appaloosa Water Company","W-03443A","PO Box 3150","","Chino Valley",86323,"AZ","TONY@WINDMILLHOUSEAZ.COM",null,"Electrical Components",null,5,null,"ACP, PVC",null,"8",null,"APPALOOSA WATER COMPANY","AZ0413208","91-000680.0000","W-03443A","APPALOOSA WATER COMPANY","A","Appaloosa Water Company",null,null,"ADOT LITTLE ANTELOPE","AZ0403348","91-000830.0000","","ADOT","I",""]
["Other",null,null,null,"6\" Meter",null,null,null,"Idaho",null,"Pinal",null,"Arivaca Townsite Cooperative Water Company, Inc.","W-01546A","PO Box 398","","Arivaca",85601,"AZ","arivacawater@gmail.com",null,null,null,6,null,"ACP/DIP/PVC",null,10,null,"ARIVACA TOWNSITE COOP W.C.","AZ0410002","91-000411.0000","W-01546A","ARIVACA TOWNSITE COOP W.C.","A","Arivaca Townsite Cooperative Water Company, Inc.",null,null,"ADOT PAGE YARD & M/C","AZ0403306","91-000108.0000","","ADOT","I",""]
["N/A",null,null,null,"8\" Meter",null,null,null,"Illinois",null,"Santa Cruz",null,"Arizona Water Company","W-01445A","PO Box 29006","","Phoenix","85038-9006","AZ","mail@azwater.com",null,null,null,8,null,"ACP/DIP/PVC/GALV/POLY",null,"12",null,"ARROYO WATER CO INC","AZ0404083","91-000151.0000","W-04286A","ARROYO WATER CO INC","A","Kacy Parker DBA Arroyo Water Company",null,null,"AGUILA WATER SERVICE","AZ0407003","91-000181.0000","W-01578A","AGUILA WATER SERVICE","A","Aguila Water Services, Inc."]
[null,null,null,null,"10\" Meter",null,null,null,"Indiana",null,"Yavapai",null,"Arroyo Water Company, Inc.","W-04286A","PO Box 3077","","Payson",85541,"AZ","arroyowateraz@gmail.com;cherylibbotson@gmail.com",null,null,null,10,null,"ACP/PVC C900",null,"Compound 1 1/2",null,"ASH CREEK WATER COMPANY","AZ0405007","91-000170.0000","W-02494A","ASH CREEK WATER CO","A","Ashcreek Water Company",null,null,"AJO DWID","AZ0410153","91-000456.0000","","AJO DOMESTIC WATER IMP DIST","A",""]
[null,null,null,null,"Fire",null,null,null,"Iowa",null,"Yuma",null,"Ash Fork Development Association, Inc. DBA Ash Fork Water Service","W-01004B","PO Box 436","","Ash Fork","86320-0436","AZ","lewishume60@gmail.com",null,null,null,12,null,"ACP342",null,"Compound 2",null,"ASH FORK WATER SERVICE","AZ0413008","91-000606.0000","W-01004B","ASH FORK DEVELOPMENT ASSN INC","A","Ash Fork Development Association, Inc. DBA Ash Fork Water Service",null,null,"ALISO SPRINGS PROPERTY OWNER ASSOC INC","AZ0412040","91-000886.0000","","ALISO SPRINGS PROPERTY OWNER ASSOC INC","A",""]
[null,null,null,null,"Hydrant",null,null,null,"Kansas",null,"Multiple counties",null,"Ashcreek Water Company","W-02494A","PO Box 86205","","Phoenix",85080,"AZ","GONZALEZUTILITYSERVICES@GMAIL.COM",null,null,null,14,null,"Black Iron",null,"Compound 3",null,"AUBREY WATER CO-SELIGMAN","AZ0413010","91-000607.0000","W-03476A","BNSF RAILWAY CO","A","BN Leasing Corporation DBA Aubrey Water Company",null,null,"ALMA RANCHETTES CO-OP","AZ0407286","91-000248.0000","","ALMA RANCHETTES WELL OWNERS","A",""]
[null,null,null,null,"N/A",null,null,null,"Kentucky",null,"Other",null,"AVM-2005, LLC","W-20496A","7150 E. Camelback Rd., Ste. 400","","Scottsdale",85251,"AZ","joy@areadinc.com",null,null,null,15,null,"CA",null,"Compound 4",null,"AVRA WATER CO-OP","AZ0410006","91-000414.0000","W-02126A","AVRA WATER CO-OP","A","Avra Water Cooperative, Inc.",null,null,"ALPINE DWID","AZ0401001","91-000001.0000","","ALPINE DWID","A",""]
[null,null,null,null,null,null,null,null,"Louisiana",null,"Statewide",null,"Avra Water Cooperative, Inc.","W-02126A","11821 W. Picture Rocks Rd.","","Tucson",85743,"AZ","cathy@avrawater.com;Katherine@ullmanncpa.com",null,null,null,16,null,"CA & DI",null,"Compound 6",null,"AZ WATER CO - AJO WATER SYSTEM","AZ0410003","91-000412.0000","W-01445A","ARIZONA WATER CO - CASA GRANDE","A","Arizona Water Company - AJO                  ",null,null,"ALPINE ESTATES WATER COM","AZ0401035","91-000015.0000","","ALPINE ESTATES WATER CO","I",""]
[null,null,null,null,null,null,null,null,"Maine",null,null,null,"Baca Float Water Company","WS-01678A","PO Box 85160","","Tucson",85754,"AZ","info@southwesternutility.com",null,"Water withdrawn",null,18,null,"CA,PVC,Steel",null,"Turbine 2",null,"AZ WATER CO - APACHE JUNCT","AZ0411004","91-000519.0000","W-01445A","ARIZONA WATER CO. - APACHE JUNCTION","A","Arizona Water Company - APACHE JUNCTION      ",null,null,"AMERICAN INDIAN CHRISTIAN","AZ0409074","91-000841.0000","","AMERICAN INDIAN CHRISTIAN MISS","A",""]
[null,null,null,null,null,null,null,null,"Maryland",null,null,null,"Beardsley Water Company, Inc.","W-02074A","c/o First National Management, Inc.","PO Box 1020","Apache Junction","85217-1020","AZ","managefnm365@aol.com",null,"Metered",null,20,null,"Cast Iron",null,"Turbine 3",null,"AZ WATER CO - BISBEE","AZ0402001","91-000024.0000","W-01445A","ARIZONA WATER CO - CASA GRANDE","A","Arizona Water Company - BISBEE               ",null,null,"AMERICAN RANCH IDS","AZ0413258","91-000684.0000","","AMERICAN RANCH IDS","A",""]
[null,null,null,null,null,null,null,null,"Massachusetts",null,null,null,"Beaver Dam Water Company, Inc.","W-03067A","PO Box 550","","Littlefield",86432,"AZ","beaverdamwater@gmail.com;bdwbobf@gmail.com",null,"Estimated",null,21,null,"Cast Iron/PVC",null,"Turbine 4",null,"AZ WATER CO - LAKESIDE","AZ0409003","91-000365.0000","W-01445A","ARIZONA WATER CO - CASA GRANDE","A","Arizona Water Company - LAKESIDE             ",null,null,"AMERICAN REALTY & MORTGAG","AZ0411301","91-000568.0000","W-02258A","AMERICAN REALTY & MTG CO INC","A","AMERICAN REALTY MORTGAGE COMPANY  dba Hacienda Acres"]
[null,null,null,null,null,null,null,null,"Michigan",null,null,null,"Beaver Valley Water Company, Inc.","W-02015A","PO Box 550","","Littlefield",86432,"AZ","arroyowateraz@gmail.com;cherylibbotson@gmail.com",null,"N/A",null,24,null,"Cement",null,"Turbine 5",null,"AZ WATER CO - MIAMI/CLAYPOOL","AZ0404002","91-000117.0000","W-01445A","ARIZONA WATER CO - CASA GRANDE","A","Arizona Water Company - MIAMI CLAYPOOL       ",null,null,"ANTELOPE PEAK WATER ASSOC","AZ0411712","91-000587.0000","","ANTELOPE PEAK DWID","A",""]
[null,null,null,null,null,null,null,null,"Minnesota",null,null,null,"Bellemont Water Co.","W-02526A","PO Box 31176","","Flagstaff",86003,"AZ","klaudia_bwc@yahoo.com",null,null,null,30,null,"CL 150",null,"Turbine 6",null,"AZ WATER CO - ORACLE","AZ0411019","91-000526.0000","W-01445A","ARIZONA WATER CO - CASA GRANDE","A","Arizona Water Company - ORACLE               ",null,null,"ANTELOPE WATER CO","AZ0414001","91-000707.0000","W-02005A","ANTELOPE WATER CO","A","Antelope Water Company"]
["Proprietorship",null,null,null,null,null,null,null,"Mississippi",null,null,null,"Bermuda Water Company, Inc.","W-01812A","1240 E. State St., Ste. 115","","Pahrump",89048,"NV","wsbarnett@uiwater.com",null,null,null,36,null,"CONCRETE",null,"Turbine 8",null,"AZ WATER CO - OVERGAARD","AZ0409004","91-000366.0000","W-01445A","ARIZONA WATER CO - CASA GRANDE","A","Arizona Water Company - OVERGAARD            ",null,null,"ANTHEM AT MERRILL RANCH","AZ0411136","91-000817.0000","WS-02987A","JOHNSON UTILITIES - PHOENIX","A","Johnson Utilities L.L.C. DBA Johnson Utilities Company - ANTHEM AT MERRILL RANCH  "]
["Partnership",null,null,null,null,null,null,null,"Missouri",null,null,null,"Berneil Water Company","W-01275A","PO Box 219","","Tempe","85280-0219","AZ","support@arizonawaterworks.com",null,null,null,42,null,"Copper",null,"Turbine 10",null,"AZ WATER CO - PINETOP LAKES","AZ0409018","91-000374.0000","W-01445A","ARIZONA WATER CO - CASA GRANDE","A","Arizona Water Company - PINETOP LAKES        ",null,null,"ANWAY-MANVILLE LLC","AZ0410354","91-000503.0000","W-03233A","ANWAY-MANVILLE LLC","A","Anway Manville Water Company, L.L.C."]
["\"C\" Corporation",null,null,null,null,null,null,null,"Montana",null,null,null,"Biasi Water Company, Inc.","WS-02812A","PO Box 518","","Beaver Dam",86432,"AZ","biasiwater@yahoo.com ",null,"Source of water diverted",null,48,null,"CU & PVC",null,null,null,"AZ WATER CO - PINEWOOD","AZ0403002","91-000082.0000","W-01445A","AZ WATER CO-PINEWOOD","A","Arizona Water Company - PINEWOOD             ",null,null,"APACHE JUNCTION WATER FACILITIES DISTRICT","AZ0411039","91-000537.0000","","APACHE JUNCTION WATER DISTRICT","A",""]
["\"S\" Corporation",null,null,null,null,null,null,null,"Nebraska",null,null,null,"Bidegain Water Company","W-02026A","PO Box 538","","Kearny",85137,"AZ","karen@samuelaccounting.com",null,"CAP",null,null,null,"DIP/ACP",null,null,null,"AZ WATER CO - RIMROCK","AZ0413046","91-000635.0000","W-01445A","ARIZONA WATER CO - CASA GRANDE","A","Arizona Water Company - RIMROCK              ",null,null,"APACHE LAKE MARINA-RESORT","AZ0407630","91-000288.0000","","APACHE LAKE MARINA-RESORT","I",""]
["Limited Liability Company (“LLC”)",null,null,null,null,null,null,null,"Nevada",null,null,null,"Big Park Water Company","W-01624A","45 Castle Rock Rd., Ste. 4","","Sedona",86351,"AZ","sgudovic@bigparkwater.com;info@bigparkwater.com",null,"Colorado River",null,null,null,"DIP/Gavl/Un",null,"CIAC Method",null,"AZ WATER CO - SAN MANUEL","AZ0411020","91-000527.0000","W-01445A","ARIZONA WATER CO - CASA GRANDE","A","Arizona Water Company - SAN MANUEL           ",null,null,"APACHE TRAIL MHP","AZ0404300","91-000155.0000","","APACHE TRAIL MHP","A",""]
["Tribal",null,null,null,null,null,null,null,"New Hampshire",null,null,null,"BN Leasing Corporation DBA Aubrey Water Company","W-03476A","2301 Lou Menk Dr.","","Ft. Worth",76131,"TX","blaine.bilderback@bnsf.com",null,"Commingled",null,null,null,"Ductile Iron",null,"Full Gross-up Method",null,"AZ WATER CO - SEDONA WATER SYSTEM","AZ0403003","91-000083.0000","W-01445A","ARIZONA WATER CO - CASA GRANDE","A","Arizona Water Company - SEDONA               ",null,null,"APPALOOSA WATER COMPANY","AZ0413208","91-000680.0000","W-03443A","APPALOOSA WATER COMPANY","A","Appaloosa Water Company"]
["Association--Cooperative",null,null,null,null,null,null,null,"New Jersey",null,null,null,"Bonita Creek Land & Homeowner's Association","W-02195B","251 N. Big Al's Run","","Payson",85541,"AZ","lglaunsinger@yahoo.com",null,"Ground Water",null,null,null,"GALV/DIP/PVC/ACP/CIP/CU/TRANSITE",null,"Self-pay Method",null,"AZ WATER CO - SIERRA VISTA","AZ0402004","91-000025.0000","W-01445A","ARIZONA WATER CO - CASA GRANDE","A","Arizona Water Company - SIERRA VISTA         ",null,null,"ARAVAIPA WATER CO-ARAVAI","AZ0411003","91-000518.0000","","ARAVAIPA WATER CO-ARAVAI","A",""]
[null,null,null,null,null,null,null,null,"New Mexico",null,null,null,"Boynton Canyon Enchantment Homeowners Association","W-02510A","525 Boynton Canyon Rd.","","Sedona",86336,"AZ","sknigh@enchantmentresort.com",null,"Salt River",null,null,null,"Galvanized",null,"Gross-up Sharing Method",null,"AZ WATER CO - STANFIELD","AZ0411012","91-000522.0000","W-01445A","ARIZONA WATER CO. - STANFIELD","A","Arizona Water Company - STANFIELD            ",null,null,"ARCOSANTI CAMP","AZ0413341","91-000692.0000","","COSANTI FOUNDATION","A",""]
[null,null,null,null,null,null,null,null,"New York",null,null,null,"Bradshaw Water Company","W-02476A","PO Box 12758","","Prescott",86304,"AZ","bwco@swiftaz.net",null,"Verde River",null,null,null,"GIP",null,null,null,"AZ WATER CO - SUPERIOR SYS","AZ0411021","91-000528.0000","W-01445A","ARIZONA WATER CO - SUPERIOR","A","Arizona Water Company - SUPERIOR             ",null,null,"ARIVACA TOWNSITE COOP W.C.","AZ0410002","91-000411.0000","W-01546A","ARIVACA TOWNSITE COOP W.C.","A","Arivaca Townsite Cooperative Water Company, Inc."]
["Original Filing",null,null,null,null,null,null,null,"North Carolina",null,null,null,"Brooke Water LLC","W-03039A","2355 W. Pinnacle Peak Rd., Ste. 300","","Phoenix",85027,"AZ","shubbard@epcor.com",null,"Other",null,null,null,"HDPE",null,null,null,"AZ WATER CO - TIERRA GRANDE","AZ0411076","91-000548.0000","W-01445A","ARIZONA WATER COMPANY - TIERRA GRANDE","A","Arizona Water Company - TIERRA GRANDE        ",null,null,"ARIZONA AMERICAN (COOL WELL)","AZ0407080","91-000215.0000",""," ","I",""]
["Original Filing - Rate Case Included",null,null,null,null,null,null,null,"North Dakota",null,null,null,"Caballeros Water Company, Inc.","W-01994A","1551 S. Vulture Mine Rd","","Wickenburg",85390,"AZ","rusty@sunc.com:bean@wickenburgcpa.com",null,"NA",null,null,null,"Hvy - PVC",null,"Tax impact",null,"AZ WATER CO - WHITE TANK","AZ0407128","91-000237.0000","W-01445A","ARIZONA WATER CO.-WHITE TANKS","A","Arizona Water Company - WHITE TANKS          ",null,null,"ARIZONA AMERICAN (DESERT HILLS WATER COMPANY)","AZ0407026","91-000191.0000","","EPCOR","A",""]
["Corrected Filing",null,null,null,null,null,null,null,"Ohio",null,null,null,"Cactus-Stellar Limited","W-03655A","HCR 2, Box 469","","Tucson",85735,"AZ","cactus.stellar@gmail.com",null,null,null,null,null,"Iron",null,"HAS INCURRED OR IS EXPECTED TO INCUR",null,"AZ WATER CO - WINKELMAN","AZ0404003","91-000118.0000","W-01445A","ARIZONA WATER CO - CASA GRANDE","A","Arizona Water Company - WINKELMAN            ",null,null,"ARIZONA DAIRY CO LLP","AZ0407701","91-000299.0000","","ARIZONA DAIRY CO","A",""]
["Corrected Filing - Rate Case Included",null,null,null,null,null,null,null,"Oklahoma",null,null,null,"Camp Verde Water System, Inc.","W-01419A","PO Box 340","","Camp Verde",86322,"AZ","cvwsinc@yahoo.com",null,null,null,null,null,"Plastic",null,"HAS NOT INCURRED NOR IS EXPECTED TO INCUR",null,"BACA FLOAT WATER CO, INC","AZ0412037","91-000599.0000","WS-01678A","BACA FLOAT LAND DEV","A","Baca Float Water Company",null,null,"ARIZONA TRAINING PROGRAM AT","AZ0411037","91-000535.0000","","ARIZONA TRAINING PROGRAM","A",""]
[null,null,null,null,null,null,null,null,"Oregon",null,null,null,"Casa Grande South Water Company","W-03847A","211 N. Florence St., Ste. 107","","Casa Grande",85222,"AZ","gordon.bobby@yahoo.com;dancpa@cgmailbox.com",null,null,null,null,null,"Poly",null,null,null,"BEARDSLEY WATER COMPANY","AZ0407007","91-000182.0000","W-02074A","BEARDSLEY WATER COMPANY","A","Beardsley Water Company, Inc.",null,null,"ARIZONA WINDSONG WC","AZ0401009","91-000004.0000","","ARIZONA WINDSONG WC","I",""]
[null,null,null,null,null,null,null,null,"Pennsylvania",null,null,null,"Casa Grande West Water Co., Inc.","W-01990A","211 N. Florence St., Ste. 107","","Casa Grande",85122,"AZ","gordon.bobby@yahoo.com;dancpa@cgmailbox.com",null,"Effluent Uses",null,null,null,"PVC",null,"Property taxes",null,"BEAVER DAM WC - SYSTEM 1","AZ0408006","91-000310.0000","W-03067A","BEAVER DAM WC","A","BEAVER DAM WC SYSTEM 1                  ",null,null,"ARIZONIAN TRAVEL TRAILER","AZ0411708","91-000885.0000","","ARIZONIAN TRAVEL TRAILER RESORT LLC","A",""]
[null,null,null,null,null,null,null,null,"Rhode Island",null,null,null,"Cayetano, Inc. DBA Lakewood Water Company","W-01809A","PO Box 85160","","Tucson",85754,"AZ","info@southwesternutility.com",null,"Agriculture",null,null,null,"PVC & DI",null,"I HEREBY ATTEST THAT ALL PROPERTY TAXES FOR SAID COMPANY ARE CURRENT AND PAID IN FULL.",null,"BEAVER DAM WC - SYSTEM 2","AZ0408093","91-000861.0000","W-03067A","BEAVER DAM WC","A","BEAVER DAM WC SYSTEM 2                  ",null,null,"ARLINGTON FARMS WATER COMPANY","AZ0407685","91-000296.0000","","ARLINGTON FARMS WATER COMPANY","I",""]
["NA",null,null,null,null,null,null,null,"South Carolina",null,null,null,"C-D Oasis Water Company","W-03525A","1665 10th St.","","Douglas",85607,"AZ","",null,"Construction",null,null,null,"PVC 40",null,"I HEREBY ATTEST THAT ALL PROPERTY TAXES FOR SAID COMPANY ARE NOT CURRENT AND PAID IN FULL.",null,"BEAVER VALLEY WC","AZ0404004","91-000119.0000","W-02015A","BEAVER VALLEY WC","A","Beaver Valley Water Company, Inc.",null,null,"ARROYO WATER CO INC","AZ0404083","91-000151.0000","W-04286A","ARROYO WATER CO INC","A","Kacy Parker DBA Arroyo Water Company"]
["Phoenix AMA",null,null,null,null,null,null,null,"South Dakota",null,null,null,"Cedar Grove Water, Inc.","W-20541A","PO Box 245","","Taylor",85939,"AZ","watercos@gmail.com",null,"Cooling towers",null,null,null,"PVC C900",null,null,null,"BELLA VISTA CITY","AZ0402010","91-000031.0000","W-02465A","BELLA VISTA WATER CO INC","A","Liberty Utilities (Bella Vista Water) Corp CITY WATER SYSTEM           ",null,null,"ASARCO, LLC","AZ0404001","91-000831.0000","","ASARCO HAYDEN OPS","I",""]
["Pinal AMA",null,null,null,null,null,null,null,"Tennessee",null,null,null,"Cerbat Water Company","W-02391A","7313 E. Concho Dr., Ste. B","","Kingman",86401,"AZ","teresa@blackhawkdevelopers.com",null,"Golf courses",null,null,null,"PVC CL150",null,null,null,"BELLA VISTA SOUTH","AZ0402007","91-000028.0000","W-02465A","BELLA VISTA WATER CO INC","A","Liberty Utilities (Bella Vista Water) Corp SOUTH                 ",null,null,"ASARCO-HAYDEN OPS","AZ0404012","91-000123.0000","","ASARCO HAYDEN OPS","A",""]
["Prescott AMA",null,null,null,null,null,null,null,"Texas",null,null,null,"Chaparral City Water Company","W-02113A","12021 N. Panorama Dr.","","Fountain Hills",85268,"AZ","shubbard@epcor.com",null,"Horticulture",null,null,null,"PVC CL200",null,"Sales taxes",null,"BERMUDA WATER CO INC","AZ0408063","91-000336.0000","W-01812A","UTILITIES, INC","A","Bermuda Water Company, Inc.",null,null,"ASH CREEK WATER COMPANY","AZ0405007","91-000170.0000","W-02494A","ASH CREEK WATER CO","A","Ashcreek Water Company"]
["Santa Cruz AMA",null,null,null,null,null,null,null,"Utah",null,null,null,"Chaparral Water Properties, Inc.","W-02393A","PO Box 85160","","Tucson",85754,"AZ","info@southwesternutility.com",null,"Lakes",null,null,null,"PVC CL201",null,"I HEREBY ATTEST THAT ALL SALES TAXES FOR SAID COMPANY ARE CURRENT AND PAID IN FULL.",null,"BERNEIL WATER COMPANY","AZ0407008","91-000183.0000","W-01275A","BERNEIL WATER COMPANY","A","Berneil Water Company",null,null,"ASH FORK WATER SERVICE","AZ0413008","91-000606.0000","W-01004B","ASH FORK DEVELOPMENT ASSN INC","A","Ash Fork Development Association, Inc. DBA Ash Fork Water Service"]
["Tucson AMA         ",null,null,null,null,null,null,null,"Vermont",null,null,null,"Chino Meadows II Water Company","W-02370A","PO Box 350","","Chino Valley",86323,"AZ","SARA@LEVIEGROUP.COM",null,"Landscaping",null,null,null,"PVC CL202",null,"I HEREBY ATTEST THAT ALL SALES TAXES FOR SAID COMPANY ARE NOT CURRENT AND PAID IN FULL.",null,"BIASI WATER COMPANY","AZ0408138","91-000352.0000","WS-02812A","BIASI WATER COMPANY","A","Biasi Water Company, Inc.",null,null,"ASHLEY'S MHP","AZ0402105","91-000073.0000","","ASHLEY'S MHP","A",""]
[null,null,null,null,null,null,null,null,"Virginia",null,null,null,"Cibola Mutual Water Company","W-04106A","RR2, Box 77","","Cibola",85328,"AZ","cibolamutualwater@hotmail.com",null,"Parks",null,null,null,"PVC CL203",null,null,null,"BIDEGAIN WATER COMPANY","AZ0411022","91-000529.0000","W-02026A","BIDEGAIN WATER COMPANY","A","Bidegain Water Company",null,null,"ASPC APACHE","AZ0401056","91-000021.0000","","ASPC APACHE UNIT","A",""]
[null,null,null,null,null,null,null,null,"Washington",null,null,null,"Cienega Water Company, Inc.","W-02034A","7804 Riverside Dr.","","Parker",85344,"AZ","cienegawater@yahoo.com",null,"Recharge",null,null,null,"PVC Sch 80",null,null,null,"BIG PARK WATER CO","AZ0413012","91-000609.0000","W-01624A","BIG PARK WATER CO","A","Big Park Water Company",null,null,"ASPC EYMAN","AZ0411705","91-000585.0000","","ADOC YUMA","A",""]
["Regulatory Contact",null,null,null,null,null,null,null,"West Virginia",null,null,null,"Circle City Water Company, LLC","W-03510A","PO Box 82218","","Bakersfield",93380,"CA","RTH@brookeutilities.com",null,"Other",null,null,null,"PVC, galvanized",null,null,null,"BOURDON RANCH ESTATES","AZ0409049","91-000393.0000","W-01979A","BOURDON RANCH ESTATES","A","WATCO WATER                             ",null,null,"ASPC FLORENCE","AZ0411066","91-000547.0000","","ADOC YUMA","A",""]
["Management Contact",null,null,null,null,null,null,null,"Wisconsin",null,null,null,"Citrus Park Water Co. Inc.","W-03868A","4743 E. 30th Place","","Yuma",85365,"AZ","dawn@sunstatees.com;christina@sunstatees.com",null,null,null,null,null,"PVC, GIP",null,null,null,"BRADSHAW MT VIEW WATER","AZ0413062","91-000646.0000","W-02089A","KYLLO DEVELOPMENT CORP","A","Kyllo Development Corp. DBA Bradshaw Mountainview Water Company",null,null,"ASPC FLORENCE/PICACHO","AZ0411706","91-000586.0000","","ADOC YUMA","I",""]
["Regulatory and Management Contact",null,null,null,null,null,null,null,"Wyoming",null,null,null,"Clear Springs Utility Company, Inc.","WS-01689A","PO Box 85160","","Tucson",85754,"AZ","info@southwesternutility.com",null,null,null,null,null,"PVC, Steel",null,null,null,"BRADSHAW WATER COMPANY INC","AZ0413141","91-000671.0000","W-02476A","BRADSHAW WATER COMPANY INC","A","Bradshaw Water Company",null,null,"ASPC LEWIS","AZ0407555","91-000281.0000","","ASPC LEWIS COMPLEX","A",""]
["On-Site Manager",null,null,null,null,null,null,null,null,null,null,null,"Clearwater Utilities Company, Inc.","W-01752A","20441 W. Cheyenne Rd.","","Buckeye",85326,"AZ","clwater1@aol.com",null,"Service line materials",null,null,null,"PVC/AC/DIP/Steel",null,null,null,"BROOKE WATER CO LAKESIDE","AZ0415010","91-000742.0000","W-03039A","BROOKE WATER LLC","A","Brooke Water LLC - LAKESIDE             ",null,null,"ASPC SAFFORD/FORT GRANT","AZ0405303","91-000171.0000","","ASPC SAFFORD FT GRANT","A",""]
["Owner",null,null,null,null,null,null,null,null,null,null,null,"Cloud Nine Water Company, Inc.","WS-02672A","96 Bel Aire Pl., Ste 140","","Sierra Vista",85635,"AZ","info@southwesternutility.com",null,"Black poly",null,null,null,"PVC/AC/Steel",null,null,null,"BROOKE WATER CO LLC MOOVALYA KEYS","AZ0415006","91-000741.0000","W-03039A","BROOKE WATER LLC","A","Brooke Water LLC - MOOVALYA KEYS        ",null,null,"ASPC TUCSON","AZ0420557","91-000803.0000","","ADOC YUMA","A",""]
["Regulatory and On-Site Manager Contact",null,null,null,null,null,null,null,null,null,null,null,"Coldwater Canyon Water Company","W-01559A","PO Box 637","","Black Canyon City",85324,"AZ","",null,"Blue poly",null,null,null,"PVC/Asbestos",null,null,null,"BROOKE WATER LLC HOLIDAY HARBOR","AZ0415058","91-000752.0000","W-03039A","BROOKE WATER LLC","A","Brooke Water LLC - HOLIDAY HARBOR       ",null,null,"ASPC WINSLOW APACHE","AZ0409335","91-000408.0000","","ADOC YUMA","I",""]
["Statutory Agent",null,null,null,null,null,null,null,null,null,null,null,"Community Water Company of Green Valley","W-02304A","1501 S. La Canada Dr.","","Green Valley","85622-1600","AZ","pierre@communitywater.com;pat@communitywater.com;arturo@communitywater.com",null,"Copper",null,null,null,"PVC/C900",null,null,null,"BROOKE WATER LLC PARKER DAM","AZ0415027","91-000748.0000","W-03039A","BROOKE WATER LLC","A","Brooke Water LLC - PARKER DAM           ",null,null,"ASPC YUMA","AZ0414099","91-000728.0000","","ADOC YUMA","A",""]
["Attorney",null,null,null,null,null,null,null,null,null,null,null,"Cordes Lakes Water Company","W-02060A","12725 W. Indian School Rd., Ste. D101","","Avondale",85392,"AZ","leticia.washington@libertyutilities.com",null,"Galvanized steel",null,null,null,"PVC/Concrete",null,null,null,"CABALLEROS WATER CO","AZ0407012","91-000184.0000","W-01994A","CABALLERO WATER CO","A","Caballeros Water Company, Inc.",null,null,"AUBREY WATER CO-SELIGMAN","AZ0413010","91-000607.0000","W-03476A","BNSF RAILWAY CO","A","BN Leasing Corporation DBA Aubrey Water Company"]
["Statutory Agent and Attorney",null,null,null,null,null,null,null,null,null,null,null,"Crown King Water Company, Inc.","W-01558A","4918 W Park View Lane","","Glendale",85310,"AZ","pjbarney@q.com",null,"Garden hose",null,null,null,"PVC/DIP",null,null,null,"CACTUS FOREST","AZ0411052","91-000542.0000","W-03515A","TONTO BASIN WATER CO / CACTUS FOREST","A","Tonto Basin Water Co., Inc. - CACTUS FOREST       ",null,null,"AUGUST HILLS MHP","AZ0404332","91-000160.0000","","CMRI LLC","A",""]
["NA",null,null,null,null,null,null,null,null,null,null,null,"Dateland Public Service Co., Inc.","W-02027A","PO Box 3011","","Dateland",85333,"AZ","datelandpublicserviceco@gmail.com",null,"HDPE",null,null,null,"PVC/Galv",null,null,null,"CACTUS-STELLAR LIMITED","AZ0420801","91-000906.0000","W-03655A","CACTUS-STELLAR LIMITED","A","Cactus-Stellar Limited",null,null,"AVALON GARDENS WATER SYSTEM","AZ0412044","91-000887.0000","","GLOBAL COMMUNITY COMMUNICATION ALLIANCE","A",""]
[null,null,null,null,null,null,null,null,null,null,null,null,"Dateland Water LLC","W-20395A","PO Box 98","","Anacortes",98221,"WA","iambenthomas@hotmail.com",null,"PEX",null,null,null,"PVC/GALV/ACP",null,null,null,"CAMP VERDE WATER SYS-VER","AZ0413072","91-000649.0000","W-01419A","CAMP VERDE WATER SYSTEM INC","A","Camp Verde Water System, Inc. - VERDE         ",null,null,"AVRA WATER CO-OP","AZ0410006","91-000414.0000","W-02126A","AVRA WATER CO-OP","A","Avra Water Cooperative, Inc."]
[null,null,null,null,null,null,null,null,null,null,null,null,"Desert Valencia Water, Inc.","W-20801A","10858 N. Sand Canyon Place","","Tucson",85737,"AZ","brendawootton@gmail.com",null,"PVC",null,null,null,"PVC/IRON",null,null,null,"CAMP VERDE WTR SYSTEM","AZ0413015","91-000610.0000","W-01419A","CAMP VERDE WATER SYSTEM INC","A","Camp Verde Water System, Inc.",null,null,"AZ DPT OF JUVENILE ACCOUNTING","AZ0407307","91-000252.0000","","AZ DPT OF JUVENILE ACCOUNTING","A",""]
["gallons",null,null,null,null,null,null,null,null,null,null,null,"Diversified Water Utilities, Inc.","W-02859A","4700 E. Thomas Rd., Ste. 203","","Phoenix","85018-7703","AZ","sgray@dwuwater.com;gjackson@dwuwater.com",null,"Other",null,null,null,"RSP PVC",null,null,null,"CASA GRANDE WEST WATER CO","AZ0411024","91-000530.0000","W-01990A","CASA GRANDE WEST WATER CO","A","Casa Grande West Water Co., Inc.",null,null,"AZ WATER CO - AJO WATER SYSTEM","AZ0410003","91-000412.0000","W-01445A","ARIZONA WATER CO - CASA GRANDE","A","Arizona Water Company - AJO                  "]
["acre ft",null,null,null,null,null,null,null,null,null,null,null,"Donald Steven McAdams DBA McAdams Water Company","W-02267A","10434 230th St.","","Delta","52550-8545","IA","",null,"NA",null,null,null,"RSP/PVC",null,null,null,"CEDAR GROVE WATER CO","AZ0401049","91-000018.0000","W-20541A","CEDAR GROVE WATER CO","A","Cedar Grove Water, Inc.",null,null,"AZ WATER CO - APACHE JUNCT","AZ0411004","91-000519.0000","W-01445A","ARIZONA WATER CO. - APACHE JUNCTION","A","Arizona Water Company - APACHE JUNCTION      "]
[null,null,null,null,null,null,null,null,null,null,null,null,"Doney Park Water","W-01416A","5290 E. Northgate Loop","","Flagstaff",86004,"AZ","TAMMI@DONEYPARKWATER.COM",null,null,null,null,null,"SCH 160 PVC",null,null,null,"CERBAT WATER CO","AZ0408341","91-000358.0000","W-02391A","Cerbat Water Company","A","Cerbat Water Company",null,null,"AZ WATER CO - BISBEE","AZ0402001","91-000024.0000","W-01445A","ARIZONA WATER CO - CASA GRANDE","A","Arizona Water Company - BISBEE               "]
[null,null,null,null,null,null,null,null,null,null,null,null,"Double Diamond Utilities, Inc.","WS-20543A","3636 N. Central Ave., Ste. 700","","Phoenix",85012,"AZ","arizacreage@hotmail.com",null,null,null,null,null,"SDR-PVC",null,null,null,"CHAPARRAL CITY WATER CO","AZ0407017","91-000187.0000","W-02113A","EPCOR","A","EPCOR Water Arizona, Inc. - CHAPARRAL CITY            ",null,null,"AZ WATER CO - COOLIDGE","AZ0411014","91-000523.0000","","ARIZONA WATER CO - COOLIDGE SYSTEM","I",""]
[null,null,null,null,null,null,null,null,null,null,null,null,"Double R Water Distributors, Inc.","W-02821A","60 Acoma Blvd S, Suite B-104","","Lake Havasu City",86403,"AZ","doubler@citlink.net",null,null,null,null,null,"Stainless Steel",null,null,null,"CHAPARRAL PINES","AZ0409039","91-000390.0000","W-03511A","NAVAJO WATER CO","A","Navajo Water Co., Inc. - CHAPARRAL PINES          ",null,null,"AZ WATER CO - LAKESIDE","AZ0409003","91-000365.0000","W-01445A","ARIZONA WATER CO - CASA GRANDE","A","Arizona Water Company - LAKESIDE             "]
["System Improvement",null,null,null,null,null,null,null,null,null,null,null,"Dragoon Water Company","W-01917A","PO Box 85160","","Tucson",85754,"AZ","info@southwesternutility.com",null,null,null,null,null,"Stool",null,null,null,"CHAPARRAL WATER COMPANY","AZ0407064","91-000204.0000","W-02393A","CHAPARRAL WATER COMPANY","A","Chaparral Water Properties, Inc.",null,null,"AZ WATER CO - MIAMI/CLAYPOOL","AZ0404002","91-000117.0000","W-01445A","ARIZONA WATER CO - CASA GRANDE","A","Arizona Water Company - MIAMI CLAYPOOL       "]
["WIFA",null,null,null,null,null,null,null,null,null,null,null,"DS Water Company","W-04049A","PO Box 786","","Desert Springs",86432,"AZ","azdswater@gmail.com",null,null,null,null,null,"Transite",null,null,null,"CHINO MEADOWS II WATER CO","AZ0413079","91-000654.0000","W-02370A","CHINO MEADOWS II WATER CO","A","Chino Meadows II Water Company",null,null,"AZ WATER CO - ORACLE","AZ0411019","91-000526.0000","W-01445A","ARIZONA WATER CO - CASA GRANDE","A","Arizona Water Company - ORACLE               "]
["Co-Bank",null,null,null,null,null,null,null,null,null,null,null,"Eagletail Water Company L.C.","W-03936A","c/o Global Water Resources, Inc.","21410 N. 19th Ave., Ste. 220","Phoenix",85027,"AZ","joanne.ellsworth@gwresources.com;kris.jesberger@gwresources.com",null,null,null,null,null,"Unknown",null,null,null,"CHRISTOPHER CREEK HAVEN","AZ0404005","91-000120.0000","W-20459A","UTILITY SYSTEMS, LLC","A","Utility Systems, LLC DBA Christopher Creek Haven Water / Gardner Water",null,null,"AZ WATER CO - OVERGAARD","AZ0409004","91-000366.0000","W-01445A","ARIZONA WATER CO - CASA GRANDE","A","Arizona Water Company - OVERGAARD            "]
["Financing",null,null,null,null,null,null,null,null,null,null,null,"East Slope Water Company","W-01906A","PO Box 85160","","Tucson",85754,"AZ","info@southwesternutility.com",null,null,null,null,null,"VARIOUS",null,null,null,"CIBOLA MUTUAL WATER COMPANY","AZ0415123","91-000891.0000","W-04106A","CIBOLA MUTUAL WATER COMPANY","A","Cibola Mutual Water Company",null,null,"AZ WATER CO - PINETOP LAKES","AZ0409018","91-000374.0000","W-01445A","ARIZONA WATER CO - CASA GRANDE","A","Arizona Water Company - PINETOP LAKES        "]
["CAP",null,null,null,null,null,null,null,null,null,null,null,"Eden Water Company, Inc.","W-02068A","9488 N. Hot Springs Rd.","","Eden",85535,"AZ","edenwaterco@gmail.com;spurdy@randacpas.com",null,null,null,null,null,null,null,null,null,"CIENEGA WATER COMPANY, INC.","AZ0415002","91-000740.0000","W-02034A","CIENEGA SPRINGS WC","A","Cienega Water Company, Inc.",null,null,"AZ WATER CO - PINEWOOD","AZ0403002","91-000082.0000","W-01445A","AZ WATER CO-PINEWOOD","A","Arizona Water Company - PINEWOOD             "]
["CAGRD",null,null,null,null,null,null,null,null,null,null,null,"El Prado Water Company, Inc.","W-02564A","4743 E. 30th Place","","Yuma",85365,"AZ","dawn@sunstatees.com;christina@sunstatees.com",null,null,null,null,null,null,null,null,null,"CIRCLE CITY WATER CO.","AZ0407112","91-000232.0000","W-03510A","CIRCLE CITY WATER CO.","A","Circle City Water Company, LLC",null,null,"AZ WATER CO - RIMROCK","AZ0413046","91-000635.0000","W-01445A","ARIZONA WATER CO - CASA GRANDE","A","Arizona Water Company - RIMROCK              "]
["PPAM",null,null,null,null,null,null,null,null,null,null,null,"Empirita Water Company, L.L.C.","W-03948A","2850 E. Skyline Dr., Ste. 100","","Tucson",85718,"AZ","info@southwesternutility.com",null,null,null,null,null,null,null,null,null,"CITRUS PARK WATER COMPANY","AZ0414107","91-000899.0000","W-03868A","CITRUS PARK WATER COMPANY","A","Citrus Park Water Co. Inc.",null,null,"AZ WATER CO - SAN MANUEL","AZ0411020","91-000527.0000","W-01445A","ARIZONA WATER CO - CASA GRANDE","A","Arizona Water Company - SAN MANUEL           "]
["PTAM",null,null,null,null,null,null,null,null,null,null,null,"EPCOR Water Arizona, Inc.","WS-01303A","2355 W. Pinnacle Peak Rd., Ste. 300","","Phoenix",85027,"AZ","shubbard@epcor.com",null,null,null,null,null,null,null,null,null,"Clay Springs/Ricochet Ranch","AZ0409081","NA","W-01877A","MOUNTAIN DELL WATER INC","A","Mountain Dell Water, Inc.",null,null,"AZ WATER CO - SEDONA WATER SYSTEM","AZ0403003","91-000083.0000","W-01445A","ARIZONA WATER CO - CASA GRANDE","A","Arizona Water Company - SEDONA               "]
["PWAM",null,null,null,null,null,null,null,null,null,null,null,"F. Wayne Thompson and Dorothy Thompson DBA West Village Water Company","W-03211A","c/o Allen Ginsberg","809 W. Riordan Ranch Rd., Ste. 101 Box 166","Flagstaff",86001,"AZ","ag@theginsberggroup.com",null,null,null,null,null,null,null,null,null,"CLEAR SPRINGS","AZ0402008","91-000029.0000","WS-01689A","CLEAR SPRINGS","A","Clear Springs Utility Company, Inc. MAIN              ",null,null,"AZ WATER CO - SIERRA VISTA","AZ0402004","91-000025.0000","W-01445A","ARIZONA WATER CO - CASA GRANDE","A","Arizona Water Company - SIERRA VISTA         "]
["PCAM",null,null,null,null,null,null,null,null,null,null,null,"Far West Water & Sewer, Inc.","WS-03478A","13157 E. 44th St.","","Yuma",85367,"AZ","acapestro@aol.com;Sheryl@farwestws.com",null,null,null,null,null,null,null,null,null,"CLEAR SPRINGS UTILITY","AZ0402049","91-000061.0000","WS-01689A","CLEAR SPRINGS UTILITY","A","Clear Springs Utility Company, Inc. WELL 6            ",null,null,"AZ WATER CO - STANFIELD","AZ0411012","91-000522.0000","W-01445A","ARIZONA WATER CO. - STANFIELD","A","Arizona Water Company - STANFIELD            "]
["ERRF",null,null,null,null,null,null,null,null,null,null,null,"Farmers Water Co.","W-01654A","PO Box 7","","Sahuarita",85629,"AZ","jmckinney@greenvalleypecan.com",null,null,null,null,null,null,null,null,null,"CLEARWATER UTILITIES CO. INC.","AZ0407019","91-000188.0000","W-01752A","CLEARWATER UTILITIES CO. INC.","A","Clearwater Utilities Company, Inc.",null,null,"AZ WATER CO - SUPERIOR SYS","AZ0411021","91-000528.0000","W-01445A","ARIZONA WATER CO - SUPERIOR","A","Arizona Water Company - SUPERIOR             "]
["ACRM",null,null,null,null,null,null,null,null,null,null,null,"Fisher's Landing Water and Sewer Works, LLC","WS-04047A","PO Box 72188","","Yuma",85365,"AZ","",null,null,null,null,null,null,null,null,null,"CLOUD NINE WATER CO INC","AZ0402009","91-000030.0000","WS-02672A","CLOUD NINE WATER CO INC","A","Cloud Nine Water Company, Inc.",null,null,"AZ WATER CO - TIERRA GRANDE","AZ0411076","91-000548.0000","W-01445A","ARIZONA WATER COMPANY - TIERRA GRANDE","A","Arizona Water Company - TIERRA GRANDE        "]
["Other",null,null,null,null,null,null,null,null,null,null,null,"Flagstaff Ranch Water Company, Inc.","W-02502A","PO Box 38501","","Mormon Lake",86038,"AZ","",null,null,null,null,null,null,null,null,null,"COLDWATER CANYON 2","AZ0413192","91-000678.0000","W-01559A","COLDWATER CANYON WATER CO","A","Coldwater Canyon Water Company 2",null,null,"AZ WATER CO - VALLEY VISTA","AZ0413114","91-000663.0000","","ARIZONA WATER CO - CASA GRANDE","A",""]
["None",null,null,null,null,null,null,null,null,null,null,null,"Forest Highlands Water Company","W-02493A","2425 William Palmer","","Flagstaff",86005,"AZ","rstenger@fhgc.com",null,null,null,null,null,null,null,null,null,"COLDWATER CANYON 3","AZ0413202","91-000870.0000","W-01559A","COLDWATER CANYON WATER CO","A","Coldwater Canyon Water Company 3",null,null,"AZ WATER CO - WHITE TANK","AZ0407128","91-000237.0000","W-01445A","ARIZONA WATER CO.-WHITE TANKS","A","Arizona Water Company - WHITE TANKS          "]
[null,null,null,null,null,null,null,null,null,null,null,null,"Forrest G. & Alice W. Wilkerson DBA Verde Lee Water Co., Inc.","W-02096A","PO Box 1322","","Clifton",85533,"AZ","verdeleewater@gmail.com",null,null,null,null,null,null,null,null,null,"COLDWATER CANYON WC","AZ0413020","91-000614.0000","W-01559A","COLDWATER CANYON WATER CO","A","Coldwater Canyon Water Company 1",null,null,"AZ WATER CO - WINKELMAN","AZ0404003","91-000118.0000","W-01445A","ARIZONA WATER CO - CASA GRANDE","A","Arizona Water Company - WINKELMAN            "]
[null,null,null,null,null,null,null,null,null,null,null,null,"Fort Mojave Tribal Utilities Authority","W-02524A","PO Box 5559","","Mohave Valley",86446,"AZ","jchristopher@fmtua.com",null,null,null,null,null,null,null,null,null,"COMMUNITY WATER CO OF GREEN VALLEY","AZ0410004","91-000413.0000","W-02304A","COMMUNITY WATER CO OF GREEN VALLEY","A","Community Water Company of Green Valley",null,null,"BACA FLOAT WATER CO, INC","AZ0412037","91-000599.0000","WS-01678A","BACA FLOAT LAND DEV","A","Baca Float Water Company"]
[null,null,null,null,null,null,null,null,null,null,null,null,"Francesca Water Company, Inc.","W-03945A","c/o Global Water Resources, Inc.","21410 N. 19th Ave., Ste. 220","Phoenix",85027,"AZ","joanne.ellsworth@gwresources.com;kris.jesberger@gwresources.com",null,null,null,null,null,null,null,null,null,"CORDES LAKE WATER COMPANY","AZ0413023","91-000616.0000","W-02060A","CORDES LAKES WATER CO.","A","Cordes Lakes Water Company",null,null,"BEARDSLEY WATER COMPANY","AZ0407007","91-000182.0000","W-02074A","BEARDSLEY WATER COMPANY","A","Beardsley Water Company, Inc."]
[null,null,null,null,null,null,null,null,null,null,null,null,"Francisco Grande Utility Company","WS-01775A","26000 Gila Bend Hwy.","","Casa Grande",85222,"AZ","MichaelSaunders@michaelsaunders.com",null,null,null,null,null,null,null,null,null,"CROWN KING WATER CO","AZ0413027","91-000620.0000","W-01558A","CROWN KING WATER CO","A","Crown King Water Company, Inc.",null,null,"BEARDSLEY WATER COMPANY #2","AZ0407509","91-000270.0000","","BEARDSLEY WATER COMPANY","I",""]
[null,null,null,null,null,null,null,null,null,null,null,null,"Gadsden Water Company, Inc.","W-02205A","PO Box 519","","Somerton",85350,"AZ","lgdeere@earthlink.net;beth@matpc.com",null,null,null,null,null,null,null,null,null,"DATELAND PUBLIC SERVICE","AZ0414003","91-000708.0000","W-02027A","DATELAND PUBLIC SERVICE CO","A","Dateland Public Service Co., Inc.",null,null,"BEARDSLEY WATER COMPANY #4","AZ0407517","91-000273.0000","","BEARDSLEY WATER COMPANY","A",""]
[null,null,null,null,null,null,null,null,null,null,null,null,"Global Water - Picacho Cove Water Company, Inc.","W-20495A","c/o Global Water Resources, Inc.","21410 N. 19th Ave., Ste. 220","Phoenix",85027,"AZ","joanne.ellsworth@gwresources.com;kris.jesberger@gwresources.com",null,null,null,null,null,null,null,null,null,"DATELAND WATER L.L.C.","AZ0414032","91-000718.0000","W-20395A","DATELAND WATER L.L.C.","A","Dateland Water LLC",null,null,"BEARDSLEY WATER COMPANY #5","AZ0407528","91-000279.0000","","BEARDSLEY WATER COMPANY","A",""]
[null,null,null,null,null,null,null,null,null,null,null,null,"Global Water-Santa Cruz Water Company","W-20446A","c/o Global Water Resources, Inc.","21410 N. 19th Ave., Ste. 220","Phoenix",85027,"AZ","joanne.ellsworth@gwresources.com;kris.jesberger@gwresources.com",null,null,null,null,null,null,null,null,null,"DEER CREEK","AZ0404064","91-000148.0000","W-03514A","PAYSON WATER CO","A","Payson Water Co., Inc. - DEER CREEK               ",null,null,"BEAVER CREEK STORE","AZ0413351","91-000694.0000","","BEAVER CREEK STORE","A",""]
[null,null,null,null,null,null,null,null,null,null,null,null,"Golden Corridor Water Company","W-02497A","c/o Arizona Water Co.","3805 N. Black Canyon Hwy","Phoenix",85015,"AZ","mail@azwater.com",null,null,null,null,null,null,null,null,null,"DELL'S WATER CO","AZ0413029","91-000622.0000","W-20809A","DELL'S WATER CO","A","ACME Water, LLC - DELLS WATER COMPANY INC  ",null,null,"BEAVER DAM EAST DWID","AZ0408127","91-000348.0000","","BEAVER DAM EAST DWID","A",""]
[null,null,null,null,null,null,null,null,null,null,null,null,"Golden Shores Water Company, Inc.","W-01815A","PO Box 37","","Topock",86436,"AZ","goldenshoreswtr@hotmail.com",null,null,null,null,null,null,null,null,null,"DIVERSIFIED WATER UTILITIES, INC.","AZ0411043","91-000540.0000","W-02859A","DIVERSIFIED WATER UTILITIES, INC.","A","Diversified Water Utilities, Inc.",null,null,"BEAVER DAM FILLING STATION","AZ0408057","91-000893.0000",""," ","A",""]
[null,null,null,null,null,null,null,null,null,null,null,null,"Gonzalez Utility Services, LLC DBA Carter Water Company","W-20940A","PO Box 86205","","Phoenix",85080,"AZ","gonzalezutilityservices@gmail.com",null,null,null,null,null,null,null,null,null,"DONEY PARK WATER","AZ0403005","91-000084.0000","W-01416A","DONEY PARK WATER","A","Doney Park Water",null,null,"BEAVER DAM WC - SYSTEM 1","AZ0408006","91-000310.0000","W-03067A","BEAVER DAM WC","A","BEAVER DAM WC SYSTEM 1                  "]
[null,null,null,null,null,null,null,null,null,null,null,null,"Goodman Water Company","W-02500A","PO Box 85160","","Tucson",85754,"AZ","info@southwesternutility.com",null,null,null,null,null,null,null,null,null,"DRAGOON WATER CO","AZ0402015","91-000036.0000","W-01917A","DRAGOON WATER CO","A","Dragoon Water Company",null,null,"BEAVER DAM WC - SYSTEM 2","AZ0408093","91-000861.0000","W-03067A","BEAVER DAM WC","A","BEAVER DAM WC SYSTEM 2                  "]
[null,null,null,null,null,null,null,null,null,null,null,null,"Graham County Utilities, Inc.","W-02527A","PO Drawer B","","Pima",85543,"AZ","tashby@gce.coop",null,null,null,null,null,null,null,null,null,"DS WATER COMPANY","AZ0408072","91-000340.0000","W-04049A","DS WATER CO","A","DS Water Company",null,null,"BEAVER VALLEY WC","AZ0404004","91-000119.0000","W-02015A","BEAVER VALLEY WC","A","Beaver Valley Water Company, Inc."]
[null,null,null,null,null,null,null,null,null,null,null,null,"Grand Canyon Caverns and Inn, LLC","W-04120A","PO Box 180","","Peach Springs",86434,"AZ","terry.grandcanyoncaverns@gmail.com",null,null,null,null,null,null,null,null,null,"EAGLETAIL WATER CO, L.C.","AZ0407032","91-000193.0000","W-03936A","EAGLETAIL WATER CO","A","Eagletail Water Company L.C.",null,null,"BELLA VISTA CITY","AZ0402010","91-000031.0000","W-02465A","BELLA VISTA WATER CO INC","A","Liberty Utilities (Bella Vista Water) Corp CITY WATER SYSTEM           "]
[null,null,null,null,null,null,null,null,null,null,null,null,"Grandview Water Company, Inc.","W-01959A","11455 S. 194th Dr.","","Buckeye",85326,"AZ","tbu_06@yahoo.com",null,null,null,null,null,null,null,null,null,"EAST SLOPE WATER - WEST","AZ0402094","91-000069.0000","W-01906A","EAST SLOPE WATER COMPANY","A","Bob B. Watkins DBA East Slope Water Company - WEST                 ",null,null,"BELLA VISTA SOUTH","AZ0402007","91-000028.0000","W-02465A","BELLA VISTA WATER CO INC","A","Liberty Utilities (Bella Vista Water) Corp SOUTH                 "]
[null,null,null,null,null,null,null,null,null,null,null,null,"Granite Dells Water Company","W-01670A","3025 N. Highway 89","","Prescott",86301,"AZ","",null,null,null,null,null,null,null,null,null,"EAST SLOPE WATER COMPANY","AZ0402028","91-000046.0000","W-01906A","EAST SLOPE WATER COMPANY","A","Bob B. Watkins DBA East Slope Water Company",null,null,"BELMONT MOUNTAIN DAIRY","AZ0407736","91-000815.0000","","BELMONT MOUNTAIN DAIRY","A",""]
[null,null,null,null,null,null,null,null,null,null,null,null,"Granite Mountain Water Company","W-02467A","PO Box 350","","Chino Valley",86323,"AZ","sara@leviegroup.com",null,null,null,null,null,null,null,null,null,"EAST VERDE ESTATES","AZ0404026","91-000130.0000","W-03514A","PAYSON WATER CO","A","Payson Water Co., Inc. - EAST VERDE ESTATES       ",null,null,"BENSON, CITY OF","AZ0402005","91-000026.0000","","BENSON, CITY OF","A",""]
[null,null,null,null,null,null,null,null,null,null,null,null,"Granite Oaks Water Users Association","W-02539A","PO Box 4947","","Chino Valley",86323,"AZ","info@mdifs.com;bruce@mditaxes.com",null,null,null,null,null,null,null,null,null,"EDEN WATER COMPANY INC","AZ0405003","91-000168.0000","W-02068A","EDEN WATER CO","A","Eden Water Company, Inc.",null,null,"BENT RIVER APARTMENTS","AZ0413267","91-000850.0000","","NEW ENCHANTMENT, LLC","A",""]
[null,null,null,null,null,null,null,null,null,null,null,null,"Great Prairie Oasis, LLC DBA Sunland Water Company","W-04015A","4523 E. Palo Verde Dr.","","Phoenix",85018,"AZ","bethwand@gmail.com",null,null,null,null,null,null,null,null,null,"EHRENBERG IMPROVEMENT ASSN","AZ0415497","91-000755.0000","W-02273A","EHRENBERG IMPROVEMENT ASSN","A","EHRENBERG IMPROVEMENT ASSOC             ",null,null,"BERMUDA GARDENS TRAILER PARK","AZ0420014","91-000758.0000","","BERMUDA GARDENS MOBILE HOME PARK","A",""]
[null,null,null,null,null,null,null,null,null,null,null,null,"Green Acres Water Company","W-02271A","4743 E. 30th Place","","Yuma",85365,"AZ","dawn@sunstatees.com;christina@sunstatees.com",null,null,null,null,null,null,null,null,null,"EL PRADO WATER COMPANY","AZ0414442","91-000737.0000","W-02564A","NANCY MILLER","A","El Prado Water Company, Inc.",null,null,"BERMUDA WATER CO INC","AZ0408063","91-000336.0000","W-01812A","UTILITIES, INC","A","Bermuda Water Company, Inc."]
[null,null,null,null,null,null,null,null,null,null,null,null,"Greenehaven Water Company, Inc.","W-02325A","PO Box 5122","","Greenehaven","86040-5122","AZ","terry.theken.gh@gmail.com;greeneutilities@hotmail.com",null,null,null,null,null,null,null,null,null,"EMPIRITA WATER SYSTEM","AZ0402122","91-000826.0000","W-03948A","EMPIRITA WATER CO, LLC","A","Empirita Water Company, L.L.C.",null,null,"BERNEIL WATER COMPANY","AZ0407008","91-000183.0000","W-01275A","BERNEIL WATER COMPANY","A","Berneil Water Company"]
[null,null,null,null,null,null,null,null,null,null,null,null,"Groom Creek Water Users Association","W-01865A","PO Box 3897","","Prescott",86302,"AZ","kalbar1@aol.com",null,null,null,null,null,null,null,null,null,"EPCOR WATER ARIZONA INC- (AGUA FRIA)","AZ0407695","91-000297.0000","WS-01303A","EPCOR","A","EPCOR Water Arizona, Inc. - AGUA FRIA                 ",null,null,"BEVERLY GARDENS TRAILER P","AZ0413408","91-000697.0000","","BEVERLY GARDENS TRAILER P","A",""]
[null,null,null,null,null,null,null,null,null,null,null,null,"Halcyon Acres Annex No. 2 Water Company, Inc.","W-02312A","PO Box 85160","","Tucson",85754,"AZ","info@southwesternutility.com",null,null,null,null,null,null,null,null,null,"EPCOR WATER ARIZONA INC- (NE AGUA FRIA )","AZ0407531","91-000280.0000","WS-01303A","EPCOR","A","EPCOR Water Arizona, Inc. - NORTH EAST AGUA FRIA      ",null,null,"BIASI WATER COMPANY","AZ0408138","91-000352.0000","WS-02812A","BIASI WATER COMPANY","A","Biasi Water Company, Inc."]
[null,null,null,null,null,null,null,null,null,null,null,null,"Halcyon Acres Water Users Association, Inc.","W-01953A","PO Box 18448","","Tucson","85731-8448","AZ","RHBarsotti@aol.com",null,null,null,null,null,null,null,null,null,"EPCOR WATER ARIZONA INC- ANTHEM WATER SYSTEM","AZ0407504","91-000269.0000","WS-01303A","EPCOR","A","EPCOR Water Arizona, Inc. - ANTHEM                    ",null,null,"BIDEGAIN WATER COMPANY","AZ0411022","91-000529.0000","W-02026A","BIDEGAIN WATER COMPANY","A","Bidegain Water Company"]
[null,null,null,null,null,null,null,null,null,null,null,null,"Harrisburg Utility Company, Inc.","W-02169A","PO Box 905","","Salome",85348,"AZ","harrisburgutility@aol.com",null,null,null,null,null,null,null,null,null,"EPCOR WATER ARIZONA INC- CAMP MOHAVE","AZ0408037","91-000325.0000","WS-01303A","EPCOR","A","EPCOR Water Arizona, Inc. - CAMP MOHAVE               ",null,null,"BIG PARK WATER CO","AZ0413012","91-000609.0000","W-01624A","BIG PARK WATER CO","A","Big Park Water Company"]
[null,null,null,null,null,null,null,null,null,null,null,null,"Heart Cab Co., Inc. DBA Sulger Water Company #2","W-02355A","c/o Amie Sulger, Vice President","2567 N. Calle Segundo","Huachuca City",85616,"AZ","sulgerwater2@yahoo.com",null,null,null,null,null,null,null,null,null,"EPCOR WATER ARIZONA INC- DESERT FOOTHILLS","AZ0408137","91-000351.0000","WS-01303A","EPCOR","A","EPCOR Water Arizona, Inc. - DESERT FOOTHILLS          ",null,null,"BISBEE DOUGLAS INTL APT","AZ0402061","91-000065.0000","","COCHISE COUNTY/BDI AIRPORT","A",""]
[null,null,null,null,null,null,null,null,null,null,null,null,"High Country Pines Water Company, Inc.","W-02448A","6033 N. 4th Place","","Phoenix",85012,"AZ","ss-one@cox.net",null,null,null,null,null,null,null,null,null,"EPCOR WATER ARIZONA INC- HAVASU","AZ0408015","91-000313.0000","WS-01303A","EPCOR","A","EPCOR Water Arizona, Inc. - LAKE HAVASU               ",null,null,"BLACK CANYON CITY WID","AZ0413051","91-000638.0000","","BLACK CANYON CITY WID","A",""]
[null,null,null,null,null,null,null,null,null,null,null,null,"Hillcrest Water Company","W-02128A","915 E. Bethany Home Rd.","","Phoenix",85014,"AZ","",null,null,null,null,null,null,null,null,null,"EPCOR WATER ARIZONA INC- LAKE MOHAVE HIGHLANDS","AZ0408062","91-000335.0000","WS-01303A","EPCOR","A","EPCOR Water Arizona, Inc. - LAKE MOHAVE HIGHLANDS     ",null,null,"BLACK MESA RANGER DISTRICT","AZ0409806","91-000409.0000","","USFS-BLACK MESA RANGER DIST","I",""]
[null,null,null,null,null,null,null,null,null,null,null,null,"Holiday Enterprises Incorporated DBA Holiday Water Company","W-01896A","PO Box 309","","Tombstone",85638,"AZ","ibelievecc@gmail.com;holidaywtr@gmail.com",null,null,null,null,null,null,null,null,null,"EPCOR WATER ARIZONA INC- MOHAVE","AZ0408032","91-000322.0000","WS-01303A","EPCOR","A","EPCOR Water Arizona, Inc. - MOHAVE                    ",null,null,"BLU WC","AZ0408169","91-000863.0000","","BLU WC","I",""]
[null,null,null,null,null,null,null,null,null,null,null,null,"Humboldt Water Systems,  Inc.","W-02197A","PO Box 938","","Mayer",86333,"AZ","stuart@azutility.com",null,null,null,null,null,null,null,null,null,"EPCOR WATER ARIZONA INC- PARADISE VALLEY","AZ0407056","91-000202.0000","WS-01303A","EPCOR","A","EPCOR Water Arizona, Inc. - PARADISE VALLEY/SCOTTSDALE",null,null,"BOULDER INN","AZ0408307","91-000839.0000","","BOULDER INN","A",""]
[null,null,null,null,null,null,null,null,null,null,null,null,"Hydro-Resources, Inc.","W-20770A","PO Box 3246","549 Camper Village Lane","Grand Canyon",86023,"AZ","john@jwrueter.com",null,null,null,null,null,null,null,null,null,"EPCOR WATER ARIZONA INC- RIO VISTA RANCHES","AZ0408333","91-000357.0000","WS-01303A","EPCOR","A","EPCOR Water Arizona, Inc. - RIO VISTA RANCHES         ",null,null,"BOURDON RANCH ESTATES","AZ0409049","91-000393.0000","W-01979A","BOURDON RANCH ESTATES","A","WATCO WATER                             "]
[null,null,null,null,null,null,null,null,null,null,null,null,"Inscription Canyon Water Company","W-21093A","PO Box 2344","","Prescott","86302-2344","AZ","irch2o@gmail.com",null,null,null,null,null,null,null,null,null,"EPCOR WATER ARIZONA INC- SUN CITY WEST","AZ0407150","91-000239.0000","WS-01303A","EPCOR","A","EPCOR Water Arizona, Inc. - SUN CITY WEST             ",null,null,"BOUSE WORLEY WATER SYSTEM","AZ0415038","91-000750.0000","","BOUSE WORLEY WATER ASSN","A",""]
[null,null,null,null,null,null,null,null,null,null,null,null,"Jackson Spring Estates Home and Property Owners Assoc.","W-02486A","6139 E. Hermosa Vista Dr.","","Mesa",85215,"AZ","nmcoes@netscape.com",null,null,null,null,null,null,null,null,null,"EPCOR WATER ARIZONA INC- TIERRA DEL RIO","AZ0407532","91-000878.0000","WS-01303A","EPCOR","A","EPCOR Water Arizona, Inc. - TIERRA DEL RIO            ",null,null,"BOWIE WID","AZ0402006","91-000027.0000","","WID, BOWIE","A",""]
[null,null,null,null,null,null,null,null,null,null,null,null,"Janice E. Worden and Lawrence A. Worden DBA Worden Water Company","W-20391A","1645 W. Valencia Rd Ste 109 #427","","Tucson",85746,"AZ","",null,null,null,null,null,null,null,null,null,"EPCOR WATER ARIZONA INC- TUBAC","AZ0412001","91-000589.0000","WS-01303A","EPCOR","A","EPCOR Water Arizona, Inc. - TUBAC                     ",null,null,"BRADSHAW MT VIEW WATER","AZ0413062","91-000646.0000","W-02089A","KYLLO DEVELOPMENT CORP","A","Kyllo Development Corp. DBA Bradshaw Mountainview Water Company"]
[null,null,null,null,null,null,null,null,null,null,null,null,"Johnson Utilities L.L.C. DBA Johnson Utilities Company","WS-02987A","2355 W. Pinnacle Peak Rd., Ste. 300","","Phoenix",85027,"AZ","shubbard@epcor.com",null,null,null,null,null,null,null,null,null,"EPCOR WATER ARIZONA INC-SUN CITY","AZ0407099","91-000228.0000","WS-01303A","EPCOR","A","EPCOR Water Arizona, Inc. - SUN CITY                  ",null,null,"BRADSHAW WATER COMPANY INC","AZ0413141","91-000671.0000","W-02476A","BRADSHAW WATER COMPANY INC","A","Bradshaw Water Company"]
[null,null,null,null,null,null,null,null,null,null,null,null,"Joshua Valley Utility Company","W-02023A","PO Box 247","","Meadview",86444,"AZ","meadview@citilink.net",null,null,null,null,null,null,null,null,null,"ESCAPEES AT NORTH RANCH","AZ0413148","91-000672.0000","WS-03448A","RAINBOW PARKS INC","A","Rainbow Parks, Inc. DBA Escapees at North Ranch",null,null,"BREEZEWAY TRAILER PARK","AZ0411315","91-000569.0000","","BREEZEWAY TRAILER PARK","A",""]
[null,null,null,null,null,null,null,null,null,null,null,null,"Katherine Resort Water Company","W-01751A","7885 Quince St.","","La Mesa",91941,"CA","judischuetz@gmail.com",null,null,null,null,null,null,null,null,null,"FAR WEST WATER CO","AZ0414004","91-000709.0000","WS-03478A","FAR WEST WATER CO","A","Far West Water & Sewer, Inc.",null,null,"BROOKE WATER CO LAKESIDE","AZ0415010","91-000742.0000","W-03039A","BROOKE WATER LLC","A","Brooke Water LLC - LAKESIDE             "]
[null,null,null,null,null,null,null,null,null,null,null,null,"Kohl's Ranch Water Company","W-02886A","PO Box 206","","Payson",85547,"AZ","ging2x_castillo@yahoo.com",null,null,null,null,null,null,null,null,null,"FARMERS WATER CO - CONTINENTAL","AZ0410049","91-000421.0000","W-01654A","FARMERS WATER COMPANY","A","Farmers Water Company CONTINENTAL            ",null,null,"BROOKE WATER CO LLC MOOVALYA KEYS","AZ0415006","91-000741.0000","W-03039A","BROOKE WATER LLC","A","Brooke Water LLC - MOOVALYA KEYS        "]
[null,null,null,null,null,null,null,null,null,null,null,null,"Kyllo Development Corp. DBA Bradshaw Mountainview Water Company","W-02089A","PO Box 938","","Mayer",86333,"AZ","Stuart@azutility.com",null,null,null,null,null,null,null,null,null,"FARMERS WATER CO - SAHUARITA","AZ0410048","91-000420.0000","W-01654A","FARMERS WATER COMPANY","A","Farmers Water Company SAHUARITA              ",null,null,"BROOKE WATER LLC HOLIDAY HARBOR","AZ0415058","91-000752.0000","W-03039A","BROOKE WATER LLC","A","Brooke Water LLC - HOLIDAY HARBOR       "]
[null,null,null,null,null,null,null,null,null,null,null,null,"La Casita Water Company, Inc.","W-02542A","PO Box 85160","","Tucson",85754,"AZ","info@southwesternutility.com",null,null,null,null,null,null,null,null,null,"FARMERS WATER CO - SANTA RITA SPRINGS","AZ0410213","91-000475.0000","W-01654A","FARMERS WATER COMPANY","A","Farmers Water Company SANTA RITA SPRINGS     ",null,null,"BROOKE WATER LLC PARKER DAM","AZ0415027","91-000748.0000","W-03039A","BROOKE WATER LLC","A","Brooke Water LLC - PARKER DAM           "]
[null,null,null,null,null,null,null,null,null,null,null,null,"Lago Del Oro Water Company","W-01944A","9532 E. Riggs Rd.","","Sun Lakes",85248,"AZ","steve.soriano@robson.com;rory.braley@robson.com",null,null,null,null,null,null,null,null,null,"FISHERS LANDING INC","AZ0414039","91-000720.0000","WS-04047A","FISHERS LANDING INC","A","Fisher's Landing Water and Sewer Works, LLC",null,null,"BUCKEYE ACRES MHP","AZ0407392","91-000260.0000","","BUCKEYE ACRES LLC","A",""]
[null,null,null,null,null,null,null,null,null,null,null,null,"Lagoon Estates Water Company, Inc.","W-01825A","2600 N. 44th St., Ste. 203","","Phoenix",85008,"AZ","sherrillfarmsi@msn.com",null,null,null,null,null,null,null,null,null,"FLAGSTAFF MEADOWS","AZ0403300","91-000107.0000","WS-04235A","UTILITY SOURCE LLC","A","Utility Source, LLC",null,null,"BUCKSKIN ARTISTS COMMUNI","AZ0409305","91-000402.0000","","BUCKSKIN ARTISTS COMMUNITY","A",""]
[null,null,null,null,null,null,null,null,null,null,null,null,"Lake Pleasant Water Company","W-02452A","3131 E. Camelback Rd.","","Phoenix","85016-3451","AZ","jbrertag@johnsonbank.com",null,null,null,null,null,null,null,null,null,"FLAGSTAFF RANCH WATER CO","AZ0403088","91-000106.0000","W-02502A","FLAGSTAFF RANCH WATER CO","A","Flagstaff Ranch Water Company, Inc.",null,null,"BUFFALO RUN MHP","AZ0413348","91-000693.0000","","BUFFALO RUN MHP","A",""]
[null,null,null,null,null,null,null,null,null,null,null,null,"Lake Verde Water Company, Inc.","W-01557A","PO Box 2777","","Camp Verde",86322,"AZ","morgan.heritagesurvey@gmail.com",null,null,null,null,null,null,null,null,null,"FOREST HIGHLANDS WATER CO","AZ0403073","91-000104.0000","W-02493A","FOREST HIGHLANDS WATER CO","A","Forest Highlands Water Company",null,null,"BULLHEAD CITY-LAUGHLIN RANCH WATER SYSTEM","AZ0408175","91-000838.0000","","LAUGHLIN RANCH WATER SYSTEM","A",""]
[null,null,null,null,null,null,null,null,null,null,null,null,"Las Quintas Serenas Water Company","W-01583A","PO Box 68","","Sahuarita",85629,"AZ","service@lqswater.com;omar@lqswater.com",null,null,null,null,null,null,null,null,null,"FORT MOJAVE TRIBAL UTIL","AZ0408003","91-000308.0000","W-02524A","FORT MOJAVE TRIBAL UTILITIES","A","Fort Mojave Tribal Utilities Authority",null,null,"BUTTERFIELD STATION WASTE MGMT","AZ0407173","91-000877.0000","","BUTTERFIELD STATION WASTE MGT","I",""]
[null,null,null,null,null,null,null,null,null,null,null,null,"Lazy C Water Service","W-01536A","PO Box 1","","Tucson",85702,"AZ","lazycwater@outlook.com",null,null,null,null,null,null,null,null,null,"FRANCESCA WATER-AMBER ANN","AZ0410317","91-000496.0000","W-03945A","SOUTHWESTERN UTILITY MGMT INC","A","Francesca Water Company, Inc. AMBER ANN            ",null,null,"CABALLEROS WATER CO","AZ0407012","91-000184.0000","W-01994A","CABALLERO WATER CO","A","Caballeros Water Company, Inc."]
[null,null,null,null,null,null,null,null,null,null,null,null,"Liberty Utilities (Bella Vista Water) Corp","W-02465A","12725 W. Indian School Rd., Ste. D101","","Avondale",85392,"AZ","leticia.washington@libertyutilities.com",null,null,null,null,null,null,null,null,null,"FRANCESCA WATER-TALA WAY","AZ0410283","91-000492.0000","W-03945A","FRANCESCA WATER-TALA WAY","A","Francesca Water Company, Inc. TALA  WAY       ",null,null,"CACTUS COUNTRY TRAILER HAVEN","AZ0420197","91-000777.0000","","CACTUS COUNTRY TRAILER HAVEN","A",""]
[null,null,null,null,null,null,null,null,null,null,null,null,"Liberty Utilities (Litchfield Park Water and Sewer) Corp","W-01427A","12725 W. Indian School Rd., Ste. D101","","Avondale",85392,"AZ","leticia.washington@libertyutilities.com",null,null,null,null,null,null,null,null,null,"FREEPORT MCMORAN COPPER AND GOLD, INC. - AJO IMPR*","AZ0410001","91-000410.0000","WS-01025A","FREEPORT MCMORAN COPPER AND GOLD, INC. - AJO IMPR*","A","Ajo Improvement Company",null,null,"CACTUS FOREST","AZ0411052","91-000542.0000","W-03515A","TONTO BASIN WATER CO / CACTUS FOREST","A","Tonto Basin Water Co., Inc. - CACTUS FOREST       "]
[null,null,null,null,null,null,null,null,null,null,null,null,"Liberty Utilities (Rio Rico Water and Sewer) Corp","WS-02676A","12725 W. Indian School Rd., Ste. D101","","Avondale",85392,"AZ","leticia.washington@libertyutilities.com",null,null,null,null,null,null,null,null,null,"GADSDEN WC","AZ0414037","91-000719.0000","W-02205A","GADSDEN WATER CO","A","Gadsden Water Company, Inc.",null,null,"CACTUS MOBILE RANCH","AZ0413317","91-000690.0000","","CACTUS MOBILE RANCH, LLC","A",""]
[null,null,null,null,null,null,null,null,null,null,null,null,"Little Park Water Company","W-02192A","45 Castle Rock Rd., Ste. 4","","Sedona",86351,"AZ","sgudovic@bigparkwater.com;info@bigparkwater.com",null,null,null,null,null,null,null,null,null,"GARDNER WC","AZ0404038","91-000139.0000","W-20459A","UTILITY SYSTEMS, LLC","A","Utility Systems, LLC DBA Christopher Creek Haven Water / Gardner Water",null,null,"CACTUS RANCH TRAILER COUR","AZ0407372","91-000257.0000","","CACTUS RANCH TRAILER COUR","I",""]
[null,null,null,null,null,null,null,null,null,null,null,null,"Livco Water Company","W-02121A","PO Box 659","","Concho",85924,"AZ","livco@conchoaz.com",null,null,null,null,null,null,null,null,null,"GERONIMO ESTATES","AZ0404028","91-000132.0000","W-03514A","PAYSON WATER CO","A","Payson Water Co., Inc. - GERONIMO ESTATES         ",null,null,"CACTUS-STELLAR LIMITED","AZ0420801","91-000906.0000","W-03655A","CACTUS-STELLAR LIMITED","A","Cactus-Stellar Limited"]
[null,null,null,null,null,null,null,null,null,null,null,null,"Loma Estates Water Company","W-02245A","4705 Aldrich Dr. S","","Prescott",86305,"AZ","markscars68@gmail.com",null,null,null,null,null,null,null,null,null,"GISELA","AZ0404346","91-000164.0000","W-03514A","PAYSON WATER CO","A","Payson Water Co., Inc. - GISELA                   ",null,null,"CAMERON TRADING POST","AZ0403006","91-000085.0000","","CAMERON TRADING POST","A",""]
[null,null,null,null,null,null,null,null,null,null,null,null,"Loma Linda Estates, Inc. DBA Loma Linda Water Company","W-02211A","PO Box 967","","Thatcher",85552,"AZ","gonzalezutilityservices@gmail.com",null,null,null,null,null,null,null,null,null,"GLOBAL WATER-CP WATER CO","AZ0411151","91-000883.0000","W-20446A","CP WATER COMPNAY","A","Global Water-Santa Cruz Water Company",null,null,"CAMP VERDE WATER SYS-VER","AZ0413072","91-000649.0000","W-01419A","CAMP VERDE WATER SYSTEM INC","A","Camp Verde Water System, Inc. - VERDE         "]
[null,null,null,null,null,null,null,null,null,null,null,null,"Lord Arizona Water Systems, Inc.","W-02479A","PO Box 3048","","Show Low",85902,"AZ","watercos@gmail.com",null,null,null,null,null,null,null,null,null,"Global Water - Turner Ranches Irrigation, Inc.","NA","NA","W-01677A","Turner Ranches Water & Sanitation Company","I","Turner Ranches Water & Sanitation Company",null,null,"CAMP VERDE WTR SYSTEM","AZ0413015","91-000610.0000","W-01419A","CAMP VERDE WATER SYSTEM INC","A","Camp Verde Water System, Inc."]
[null,null,null,null,null,null,null,null,null,null,null,null,"Los Cerros Water Company, Inc.","W-02747A","4003 N. Flowing Wells Rd., Ste. 111","","Tucson","85705-2499","AZ","loscerroswater@comcast.net",null,null,null,null,null,null,null,null,null,"GOLDEN CORRIDOR WATER CO","AZ0411107","91-000554.0000","W-02497A","ARIZONA WATER CO","A","Golden Corridor Water Company",null,null,"CAMPBELL ESTATES TRAILER PARK","AZ0420019","91-000759.0000","","CAMPBELL ESTATES TRAILER PARK","A",""]
[null,null,null,null,null,null,null,null,null,null,null,null,"Lucky Hills Water Company","W-01961A","PO Box 309","","Tombstone",85638,"AZ","ibelievecc@gmail.com;holidaywtr@gmail.com",null,null,null,null,null,null,null,null,null,"GOLDEN SHORES WATER CO","AZ0408024","91-000319.0000","W-01815A","GOLDEN SHORES WATER CO","A","Golden Shores Water Company, Inc.",null,null,"CANYON WATER IMPROVEMENT DISTRICT","AZ0404112","91-000892.0000","","CANYON WATER IMPROVEMENT DISTRICT","A",""]
[null,null,null,null,null,null,null,null,null,null,null,null,"Lyn Lee Water Company","W-01854A","c/o Global Water Resources, Inc.","21410 N. 19th Ave., Ste. 220","Phoenix",85027,"AZ","joanne.ellsworth@gwresources.com;kris.jesberger@gwresources.com",null,null,null,null,null,null,null,null,null,"GOODMAN WATER COMPANY","AZ0411130","91-000561.0000","W-02500A","GOODMAN WATER COMPANY","A","Goodman Water Company",null,null,"CAREFREE WATER COMPANY","AZ0407015","91-000185.0000","","CAREFREE WATER COMPANY","A",""]
[null,null,null,null,null,null,null,null,null,null,null,null,"Management Systens, LLC dba Jake's Corner Water System","W-20935A","211 W. Saddle Lane","","Payson",85541,"AZ","arroyowateraz@gmail.com;cherylibbotson@gmail.com",null,null,null,null,null,null,null,null,null,"GRAHAM COUNTY UTILITIES - FORT THOMAS","AZ0405001","91-000166.0000","W-02527A","GRAHAM COUNTY UTILITIES","A","Graham County Utilities, Inc. - FORT THOMAS     ",null,null,"CAROLANNE DRIVE HOMEOWNERS","AZ0420529","91-000796.0000","","CAROLANNE DRIVE HOMEOWNERS","A",""]
[null,null,null,null,null,null,null,null,null,null,null,null,"McNeal Water Company","W-02658A","PO Box 154","","McNeal",85617,"AZ","neil.public@cox.net",null,null,null,null,null,null,null,null,null,"GRAHAM COUNTY UTILITIES - PIMA","AZ0405002","91-000167.0000","W-02527A","GRAHAM COUNTY UTILITIES","A","Graham County Utilities, Inc. - PIMA          ",null,null,"CASA ARROYO ASSN INC","AZ0412020","91-000598.0000","","CASAS ARROYO HOME OWNERS ASSN","A",""]
[null,null,null,null,null,null,null,null,null,null,null,null,"Mescal Lakes Water Systems Inc.","W-02472A","PO Box 85160","","Tucson",85754,"AZ","info@southwesternutility.com",null,null,null,null,null,null,null,null,null,"GRAND CANYON CAVERNS","AZ0403112","91-000860.0000","W-04120A","GRAND CANYON CAVERNS","I","Grand Canyon Caverns and Inn, LLC",null,null,"CASA GRANDE WEST WATER CO","AZ0411024","91-000530.0000","W-01990A","CASA GRANDE WEST WATER CO","A","Casa Grande West Water Co., Inc."]
[null,null,null,null,null,null,null,null,null,null,null,null,"MHC Operating Limited Partnership DBA The Sedona Venture Water Company","WS-03449A","c/o Equity Lifestyle Properties, Inc. Attn: Linda Fairlamb","2 N. Riverside Plaza, Ste 800","Chicago",60606,"IL","linda_fairlamb@equitylifestyle.com",null,null,null,null,null,null,null,null,null,"GRANDVIEW WATER CO INC","AZ0407039","91-000197.0000","W-01959A","GRANDVIEW RANCHES INC","A","Grandview Water Company, Inc.",null,null,"CASITAS DE CASTILLIAN","AZ0420531","91-000797.0000","","CASITAS DE CASTILLIAN","A",""]
[null,null,null,null,null,null,null,null,null,null,null,null,"Michael's Ranch Water Users' Association","W-02624A","1 Michaels Ranch Dr.","","Sedona",86336,"AZ","nancyruby@gmail.com",null,null,null,null,null,null,null,null,null,"GRANITE DELLS WATER CO","AZ0413030","91-000869.0000","W-01670A","GRANITE DELLS WATER CO","A","Granite Dells Water Company",null,null,"CATALINA COUNTRY MHP","AZ0420500","91-000792.0000","","CATALINA COUNTRY MHP","A",""]
[null,null,null,null,null,null,null,null,null,null,null,null,"Mirabell Water Company, Inc.","W-02368A","c/o Global Water Resources, Inc.","21410 N. 19th Ave., Ste. 220","Phoenix",85027,"AZ","joanne.ellsworth@gwresources.com;kris.jesberger@gwresources.com",null,null,null,null,null,null,null,null,null,"GRANITE MOUNTAIN WATER COMPANY","AZ0413150","91-000673.0000","W-02467A","GRANITE MOUNTAIN WATER COMPANY","A","Granite Mountain Water Company",null,null,"CATALINA MTN SCHOOL","AZ0420012","91-000757.0000","","ADJC","I",""]
[null,null,null,null,null,null,null,null,null,null,null,null,"Mohawk Utility Company","W-02341A","PO Box 1348","","Wellton",85356,"AZ","colleen.lownds@gmail.com",null,null,null,null,null,null,null,null,null,"GRANITE OAKS WATER USERS ASSOC","AZ0413155","91-000675.0000","W-02539A","GRANITE OAKS WATER USERS ASSOC","A","Granite Oaks Water Users Association",null,null,"CATALINA VILLAGE APTS","AZ0410219","91-000478.0000","","CATALINA VILLAGE APTS","A",""]
[null,null,null,null,null,null,null,null,null,null,null,null,"Monte Vista Water Co., L.L.C.","W-02703A","4762 N. Rustler Place","","Douglas",85607,"AZ","",null,null,null,null,null,null,null,null,null,"GREEN ACRES WATER CO","AZ0414065","91-000721.0000","W-02271A","GREEN ACRES WATER CO","A","Green Acres Water Company",null,null,"CATHEDRAL ROCK ESTATES WATER COOP","AZ0413119","91-000664.0000","","CATHEDRAL ROCK ESTATES WATER COOP","A",""]
[null,null,null,null,null,null,null,null,null,null,null,null,"Montezuma Rimrock Water Company LLC","W-04254A","3031 E. Beaver Creek Rd.","","Rimrock",86335,"AZ","patsy@montezumawater.com",null,null,null,null,null,null,null,null,null,"GREENEHAVEN WATER CO","AZ0403037","91-000099.0000","W-02325A","GREENEHAVEN DEVELOPMENT","A","Greenehaven Water Company, Inc.",null,null,"CATHEDRAL VISTA WC","AZ0413016","91-000611.0000","","CATHEDRAL VISTA WATER COMPANY","A",""]
[null,null,null,null,null,null,null,null,null,null,null,null,"Morenci Water and Electric Company","W-01049A","PO Box 68","","Morenci",85540,"AZ","htaylor@fmi.com",null,null,null,null,null,null,null,null,null,"GROOM CREEK WATER USERS","AZ0413040","91-000629.0000","W-01865A","GROOM CREEK WATER USERS ASSOC","A","Groom Creek Water Users Association",null,null,"CAVE CREEK WATER COMPANY","AZ0407016","91-000186.0000","","CAVE CREEK WATER COMPANY","A",""]
[null,null,null,null,null,null,null,null,null,null,null,null,"Mormon Lake Water Co.","W-01472A","PO Box 29041","","Phoenix",85038,"AZ","",null,null,null,null,null,null,null,null,null,"HALCYON ACRES NO. 2","AZ0410058","91-000424.0000","W-02312A","HALCYON ACRES NO. 2","A","Halcyon Acres Annex No. 2 Water Company, Inc.",null,null,"CEDAR GROVE WATER CO","AZ0401049","91-000018.0000","W-20541A","CEDAR GROVE WATER CO","A","Cedar Grove Water, Inc."]
[null,null,null,null,null,null,null,null,null,null,null,null,"Morristown Water Company","W-02164A","PO Box 156","","Morristown",85342,"AZ","rbj335@msn.com",null,null,null,null,null,null,null,null,null,"HALCYON ACRES WATER USERS ASSO","AZ0410057","91-000423.0000","W-01953A","HALCYON ACRES WATER USERS ASSN","A","Halcyon Acres Water Users Association, Inc.",null,null,"CENTENNIAL PARK DWID","AZ0408090","91-000346.0000","","CENTENNIAL PARK DWID","A",""]
[null,null,null,null,null,null,null,null,null,null,null,null,"Mount Tipton Water Co., Inc.","W-02105A","PO Box 38","","Dolan Springs","86441-0038","AZ","tiptonwater@frontiernet.net",null,null,null,null,null,null,null,null,null,"HARRISBURG UTILITY CO.","AZ0415029","91-000749.0000","W-02169A","HARRISBURG UTILITY CO.","A","Harrisburg Utility Company, Inc.",null,null,"CERBAT WATER CO","AZ0408341","91-000358.0000","W-02391A","Cerbat Water Company","A","Cerbat Water Company"]
[null,null,null,null,null,null,null,null,null,null,null,null,"Mountain Dell Water, Inc.","W-01877A","1492 W. Palmer Ave.","","Flagstaff",86005,"AZ","peterreznick@msn.com",null,null,null,null,null,null,null,null,null,"HECKETHORN WATER COMPANY","AZ0403011","91-000089.0000","W-03782A","HECKETHORN WATER CO","A","William F. Lesko DBA Heckethorn Water Company",null,null,"CHANDLER HGTS CITRUS IRR DIST","AZ0407409","91-000261.0000","","CHANDLER HGTS CITRUS IRR DIST","A",""]
[null,null,null,null,null,null,null,null,null,null,null,null,"Mountain Glen Water Service, Inc.","W-03875A","PO Box 85160","","Tucson",85754,"AZ","info@southwesternutility.com",null,null,null,null,null,null,null,null,null,"HIGH COUNTRY PINES WATER","AZ0409329","91-000405.0000","W-02448A","HIGH COUNTRY PINES WTR CO INC","A","High Country Pines Water Company, Inc.",null,null,"CHAPARRAL CITY WATER CO","AZ0407017","91-000187.0000","W-02113A","EPCOR","A","EPCOR Water Arizona, Inc. - CHAPARRAL CITY            "]
[null,null,null,null,null,null,null,null,null,null,null,null,"Naco Water Company, LLC","W-02860A","PO Box 85160","","Tucson",85754,"AZ","info@southwesternutility.com",null,null,null,null,null,null,null,null,null,"HILLCREST WATER COMPANY","AZ0415026","91-000747.0000","W-02128A","HILLCREST WATER COMPANY","A","Hillcrest Water Company",null,null,"CHAPARRAL PINES","AZ0409039","91-000390.0000","W-03511A","NAVAJO WATER CO","A","Navajo Water Co., Inc. - CHAPARRAL PINES          "]
[null,null,null,null,null,null,null,null,null,null,null,null,"Narvol D. Bales DBA Sunizona Water Company","W-03912A","5416 E. Hwy 181","","Pearce",85625,"AZ","dbales38@gmail.com;Melindalaw@protonmail.com",null,null,null,null,null,null,null,null,null,"HOLIDAY WATER COMPANY","AZ0402018","91-000039.0000","W-01896A","CAROL E. COWAN","A","Holiday Enterprises Incorporated DBA Holiday Water Company",null,null,"CHAPARRAL WATER COMPANY","AZ0407064","91-000204.0000","W-02393A","CHAPARRAL WATER COMPANY","A","Chaparral Water Properties, Inc."]
[null,null,null,null,null,null,null,null,null,null,null,null,"Navajo Water Co., Inc.","W-03511A","7581 E. Academy Blvd., Ste. 229","","Denver",80230,"CO","jw@pivotalcompanies.com;ejones@jwwater.net",null,null,null,null,null,null,null,null,null,"HUMBOLDT WATER CO","AZ0413052","91-000639.0000","W-02197A","HUMBOLDT WATER CO","A","Humboldt Water Systems,  Inc.",null,null,"CHIEF SLEEP EASY TP","AZ0408089","91-000345.0000","","CHIEF SLEEP EASY RV PARK, LLC","A",""]
[null,null,null,null,null,null,null,null,null,null,null,null,"Oak Creek Public Service, LLC","W-04304A","PO Box 103","","Cornville",86325,"AZ","tjkadad@suddenlink.net",null,null,null,null,null,null,null,null,null,"HYDRO RESOURCES-TUSAYAN","AZ0403312","91-000109.0000","W-20770A","HYDRO-RESOURCES INC","A","Hydro-Resources, Inc.",null,null,"CHINO MEADOWS II WATER CO","AZ0413079","91-000654.0000","W-02370A","CHINO MEADOWS II WATER CO","A","Chino Meadows II Water Company"]
[null,null,null,null,null,null,null,null,null,null,null,null,"Oak Creek Utility Corporation","WS-02061A","PO Box 1020","","Apache Junction","85117-4039","AZ","managefnm365@aol.com",null,null,null,null,null,null,null,null,null,"ICR TALKING ROCK","AZ0413263","91-000686.0000","W-02824A","ICR WATER USERS ASSOCIATION","A","ICR Water Users Association",null,null,"CHINO MOBILE HOME RANCH","AZ0413414","91-000699.0000","","CHINO MOBILE HOME RANCH","I",""]
[null,null,null,null,null,null,null,null,null,null,null,null,"Oak Creek Water Co., No 1","W-01392A","90 Oak Creek Blvd","","Sedona",86336,"AZ","jackseeley@oakcreekwater.com",null,null,null,null,null,null,null,null,null,"INSCRIPTION CANYON RANCH SYSTEM","AZ0413303","91-000687.0000","W-02824A","ICR WATER USERS ASSOCIATION","A","ICR Water Users Association",null,null,"CHINO RV PARK","AZ0413124","91-000875.0000","","CROOKS, JEFF","I",""]
[null,null,null,null,null,null,null,null,null,null,null,null,"Oatman Water Company, L.L.C.","W-04069A","c/o Steve Anderson","9184 N. 81st St.","Scottsdale",85258,"AZ","sca6@cox.net",null,null,null,null,null,null,null,null,null,"JAKES CORNER WATER SYSTEM","AZ0404029","91-000832.0000","W-20935A","JAKES CORNER WATER SYSTEM","A","Management Systens, LLC dba Jake's Corner Water System",null,null,"CHLORIDE DWID","AZ0408005","91-000309.0000","","CHLORIDE DWID","A",""]
[null,null,null,null,null,null,null,null,null,null,null,null,"Park Water Company, Inc.","W-02353A","PO Box 85160","","Tucson",85754,"AZ","info@southwesternutility.com",null,null,null,null,null,null,null,null,null,"JOHNSON UTILITIES","AZ0411128","91-000560.0000","WS-02987A","JOHNSON UTILITIES - PINAL","A","Johnson Utilities L.L.C. DBA Johnson Utilities Company",null,null,"CHRISTOPHER CREEK HAVEN","AZ0404005","91-000120.0000","W-20459A","UTILITY SYSTEMS, LLC","A","Utility Systems, LLC DBA Christopher Creek Haven Water / Gardner Water"]
[null,null,null,null,null,null,null,null,null,null,null,null,"Parker Lakeview Estates Homeowners Association, Inc. DBA Parker Springs Water Company","W-01853A","7947 S. Coronado Trail",null,"Elgin",85611,"AZ","spain333@wildblue.net",null,null,null,null,null,null,null,null,null,"JOSHUA VALLEY UTIL CO","AZ0408017","91-000314.0000","W-02023A","JOSHUA VALLEY UTILITY CO","A","Joshua Valley Utility Company",null,null,"CHRISTOPHER CREEK MHP","AZ0404343","91-000163.0000","","CHRISTOPHER CREEK MHP LLC","I",""]
[null,null,null,null,null,null,null,null,null,null,null,null,"Payson Water Co., Inc.","W-03514A","7581 E. Academy Blvd., Ste. 229","","Denver",80230,"CO","jw@pivotalcompanies.com;ejones@jwwater.net",null,null,null,null,null,null,null,null,null,"KATHERINE RESORT WATER COMPANY","AZ0408018","91-000315.0000","W-01751A","KATHERINE RESORTS LANDING","A","Katherine Resort Water Company",null,null,"CIBOLA MUTUAL WATER COMPANY","AZ0415123","91-000891.0000","W-04106A","CIBOLA MUTUAL WATER COMPANY","A","Cibola Mutual Water Company"]
[null,null,null,null,null,null,null,null,null,null,null,null,"Peeples Valley Water Company","W-02146A","PO Box 88006","","Phoenix",85080,"AZ","ursaz@aol.com",null,null,null,null,null,null,null,null,null,"Kohl's Ranch Water Company (Spring)","04-013",null,"W-02886A",null,null,"Kohl's Ranch Water Company",null,null,"CIENEGA WATER COMPANY, INC.","AZ0415002","91-000740.0000","W-02034A","CIENEGA SPRINGS WC","A","Cienega Water Company, Inc."]
[null,null,null,null,null,null,null,null,null,null,null,null,"Perkins Mountain Water Company","W-20380A","1240 E. State St., Ste. 115","","Pahrump",89048,"NV","wsbarnett@uiwater.com",null,null,null,null,null,null,null,null,null,"Kohl's Ranch Water Company (Well)","41089 / 04-013",null,"W-02886A",null,null,"Kohl's Ranch Water Company",null,null,"CIRCLE CITY WATER CO.","AZ0407112","91-000232.0000","W-03510A","CIRCLE CITY WATER CO.","A","Circle City Water Company, LLC"]
[null,null,null,null,null,null,null,null,null,null,null,null,"Picacho Peak Water Company","W-02351A","28784 Stonehenge Dr.","","Chesterfield",48047,"MI","bmccabe@bowlintc.com",null,null,null,null,null,null,null,null,null,"LA CASITA WC - 1","AZ0410409","91-000512.0000","W-02542A","LA CASITA WATER COMPANY INC","A","La Casita Water Company, Inc. 1",null,null,"CITRUS PARK WATER COMPANY","AZ0414107","91-000899.0000","W-03868A","CITRUS PARK WATER COMPANY","A","Citrus Park Water Co. Inc."]
[null,null,null,null,null,null,null,null,null,null,null,null,"Picacho Water Company","W-03528A","9532 E. Riggs Rd.","","Sun Lakes",85248,"AZ","steve.soriano@robson.com;rory.braley@robson.com",null,null,null,null,null,null,null,null,null,"LA CASITA WC - 2","AZ0410410","91-000513.0000","W-02542A","LA CASITA WATER COMPANY INC","A","La Casita Water Company, Inc. 2",null,null,"CITRUS WELL CO-OP","AZ0407907","91-000835.0000","","CITRUS WELL CO-OP","I",""]
[null,null,null,null,null,null,null,null,null,null,null,null,"Pima Utility Company","W-02199A","9532 E. Riggs Rd.","","Sun Lakes",85248,"AZ","steve.soriano@robson.com;rory.braley@robson.com",null,null,null,null,null,null,null,null,null,"LA CASITA WC - 3","AZ0420606","91-000811.0000","W-02542A","LA CASITA WATER COMPANY INC","A","La Casita Water Company, Inc. 3",null,null,"CITY OF AVONDALE","AZ0407088","91-000218.0000","","CITY OF AVONDALE","A",""]
[null,null,null,null,null,null,null,null,null,null,null,null,"Pine Valley Water Company","W-02181A","480 Raintree Rd","","Sedona",86351,"AZ","pinevalleywater@gmail.com",null,null,null,null,null,null,null,null,null,"LAGO DEL ORO WATER CO","AZ0411117","91-000558.0000","W-01944A","LAGO DEL ORO WATER CO.","A","Lago Del Oro Water Company",null,null,"CITY OF CHANDLER","AZ0407090","91-000220.0000","","CITY OF CHANDLER","A",""]
[null,null,null,null,null,null,null,null,null,null,null,null,"Pinecrest Water Company, Inc.","W-02091A","PO Box 97","","Nutrioso",85932,"AZ","pinecrestwatercompany@gmail.com",null,null,null,null,null,null,null,null,null,"LAGOON ESTATES WATER CO UNIT 7","AZ0408021","91-000317.0000","W-01825A","LAGOON ESTATES WC","A","Lagoon Estates Water Company, Inc. UNIT 7                ",null,null,"CITY OF EL MIRAGE","AZ0407091","91-000221.0000","","CITY OF EL MIRAGE","A",""]
[null,null,null,null,null,null,null,null,null,null,null,null,"Ponderosa Utility Corporation","W-01717A","949 Osage St.","","Flagstaff",86005,"AZ","contact@ponderosauc.com",null,null,null,null,null,null,null,null,null,"LAGOON ESTATES WATER CO UNIT 2","AZ0408046","91-000332.0000","W-01825A","LAGOON ESTATES WC","A","Lagoon Estates Water Company, Inc. UNIT 2                ",null,null,"CITY OF ELOY","AZ0411030","91-000531.0000","","City of Eloy","A",""]
[null,null,null,null,null,null,null,null,null,null,null,null,"Ponderosa Water L.L.C.","W-01407A","10106 W. Fossil Creek Rd.","","Strawberry",85544,"AZ","ahahunt@yahoo.com",null,null,null,null,null,null,null,null,null,"LAGUNA ESTATES","AZ0409000","91-000363.0000","W-03511A","NAVAJO WATER CO","A","Navajo Water Co., Inc. - LAGUNA ESTATES           ",null,null,"CITY OF GLENDALE","AZ0407093","91-000223.0000","","CITY OF GLENDALE","A",""]
[null,null,null,null,null,null,null,null,null,null,null,null,"Pueblo Del Sol Water Company","W-02208A","4090 Canyon de Flores","","Sierra Vista",85650,"AZ","rcoffman@castlecooke.com;azilinski@castlecooke.com",null,null,null,null,null,null,null,null,null,"LAKE VERDE WATER COMPANY","AZ0413038","91-000627.0000","W-01557A","LAKE VERDE WATER CO","A","Lake Verde Water Company, Inc.",null,null,"CITY OF GOODYEAR","AZ0407094","91-000224.0000","","CITY OF GOODYEAR","A",""]
[null,null,null,null,null,null,null,null,null,null,null,null,"Puesta Del Sol Water Company","W-02464A","11301 E. Indigo Rd.","","Prescott Valley",86315,"AZ","wyman41243@yahoo.com",null,null,null,null,null,null,null,null,null,"LAKEWOOD WATER CO.","AZ0410063","91-000426.0000","W-01809A","LAKEWOOD WATER CO.","A","Cayetano, Inc. DBA Lakewood Water Company",null,null,"CITY OF MESA","AZ0407095","91-000225.0000","","CITY OF MESA","A",""]
[null,null,null,null,null,null,null,null,null,null,null,null,"Q Mountain Mobile Home Park DBA Q Mountain Vista","W-02518A","PO Box 4930","","Quartzsite",85359,"AZ","qmtn@tds.net;mglover29@msn.com",null,null,null,null,null,null,null,null,null,"LAS QUINTAS SERENAS W.C.","AZ0410064","91-000427.0000","W-01583A","LAS QUINTAS SERENAS WATER CO.","A","Las Quintas Serenas Water Company",null,null,"CITY OF NOGALES","AZ0412004","91-000590.0000","","CITY OF NOGALES","A",""]
[null,null,null,null,null,null,null,null,null,null,null,null,"Q Mountain Water, Inc.","W-02800A","c/o Bruce Jacobson","1334 S. 5th Ave.","Yuma",85364,"AZ","acapestro@aol.com",null,null,null,null,null,null,null,null,null,"LAZY 'C' WATER SERVICE","AZ0410065","91-000428.0000","W-01536A","LAZY 'C' WATER SERVICE","A","Lazy C Water Service",null,null,"CITY OF PEORIA","AZ0407096","91-000226.0000","","CITY OF PEORIA","A",""]
[null,null,null,null,null,null,null,null,null,null,null,null,"Quail Creek Water Company","W-02514A","9532 E. Riggs Rd.","","Sun Lakes",85248,"AZ","steve.soriano@robson.com;rory.braley@robson.com",null,null,null,null,null,null,null,null,null,"LINDEN TRAILS","AZ0409090","91-000400.0000","W-03875A","LINDEN TRAILS","A","Mountain Glen Water Service, Inc.",null,null,"CITY OF PHOENIX","AZ0407025","91-000190.0000","","CITY OF PHOENIX","A",""]
[null,null,null,null,null,null,null,null,null,null,null,null,"Rainbow Parks, Inc. DBA Escapees at North Ranch","WS-03448A","7581 E. Academy Blvd., Ste. 229","","Denver",80230,"CO","jw@pivotalcompanies.com;ejones@jwwater.net",null,null,null,null,null,null,null,null,null,"LITCHFIELD PARK SERVICE CO.","AZ0407046","91-000199.0000","W-01427A","LIBERTY UTILITIES (LITCHFIELD PARK WATER & SEWER)*","A","LIBERTY WATER LPSCO                     ",null,null,"CITY OF PHOENIX - ANTHEM","AZ0407522","91-000833.0000","","CITY OF PHOENIX","I",""]
[null,null,null,null,null,null,null,null,null,null,null,null,"Rancheros Bonitos Water Co. L.L.C.","W-03254A","4743 E. 30th Place","","Yuma",85365,"AZ","dawn@sunstatees.com;christina@sunstatees.com",null,null,null,null,null,null,null,null,null,"LITTLE PARK WATER CO","AZ0413075","91-000651.0000","W-02192A","BIG PARK WATER CO","A","Little Park Water Company",null,null,"CITY OF SAFFORD","AZ0405005","91-000169.0000","","CITY OF SAFFORD","A",""]
[null,null,null,null,null,null,null,null,null,null,null,null,"Rancho Del Conejo Community Water Co-Op, Inc.","W-02102B","13130 W. Rudasill Rd","","Tucson",85743,"AZ","RanchoDelConejo@outlook.com",null,null,null,null,null,null,null,null,null,"LITTLEFIELD WATER COMPANY","AZ0408025","91-000320.0000","SW-03067A","BEAVER DAM WATER COMPANY","I","",null,null,"CITY OF SCOTTSDALE","AZ0407098","91-000227.0000","","CITY OF SCOTTSDALE","A",""]
[null,null,null,null,null,null,null,null,null,null,null,null,"Ray Water Company, Inc.","W-01380A","414 N. Court Ave.","","Tucson",85701,"AZ","raywaterco@gmail.com",null,null,null,null,null,null,null,null,null,"LIVCO WATER COMPANY","AZ0401018","91-000011.0000","W-02121A","COUNTRY CLUB PROPERTIES","A","Livco Water Company",null,null,"CITY OF SHOW LOW - FOOLS HOLLOW","AZ0409011","91-000369.0000","","CITY OF SHOW LOW","I",""]
[null,null,null,null,null,null,null,null,null,null,null,null,"Red Rock Utilities, LLC","WS-04245A","c/o Global Water Resources, Inc.","21410 N. 19th Ave., Ste. 220","Phoenix",85027,"AZ","joanne.ellsworth@gwresources.com;kris.jesberger@gwresources.com",null,null,null,null,null,null,null,null,null,"LOMA LINDA WATER CO","AZ0406005","91-000177.0000","W-02211A","LOMA LINDA ESTATES INC","A","Loma Linda Estates, Inc. DBA Loma Linda Water Company",null,null,"CITY OF TEMPE WATER MGMT DIV","AZ0407100","91-000229.0000","","CITY OF TEMPE","A",""]
[null,null,null,null,null,null,null,null,null,null,null,null,"Ridgeview Utility Company","W-03861A","9532 E. Riggs Rd","","Sun Lakes",85248,"AZ","steve.soriano@robson.com;rory.braley@robson.com",null,null,null,null,null,null,null,null,null,"LORD AZ WATER","AZ0401373","91-000023.0000","W-02479A","LORD AZ WTR SYSTEMS INC","A","Lord Arizona Water Systems, Inc. WILDERNESS                ",null,null,"CITY OF TOLLESON","AZ0407101","91-000230.0000","","CITY OF TOLLESON","A",""]
[null,null,null,null,null,null,null,null,null,null,null,null,"Rillito Water Users Association","W-02003A","PO Box 668","","Rillito",85654,"AZ","rillitowater@gmail.com",null,null,null,null,null,null,null,null,null,"LORD AZ WATER 2","AZ0401047","91-000017.0000","W-02479A","LORD AZ WTR SYSTEMS INC","A","Lord Arizona Water Systems, Inc. 2 - WINCHESTER TRAILS     ",null,null,"CLARKDALE PUBLIC WATER SYSTEM","AZ0413024","91-000617.0000","","TOWN OF CLARKDALE","A",""]
[null,null,null,null,null,null,null,null,null,null,null,null,"Rincon Water Company","W-01723A","HC #70  Box 3601","","Sahuarita",85629,"AZ","",null,null,null,null,null,null,null,null,null,"LOS CERROS WATER CO","AZ0410128","91-000445.0000","W-02747A","LOS CERROS WATER CO","A","Los Cerros Water Company, Inc.",null,null,"CLAY SPRINGS DWID","AZ0409009","91-000368.0000","","CLAY SPRINGS DWID","A",""]
[null,null,null,null,null,null,null,null,null,null,null,null,"Rio Verde Utilities, Inc.","WS-02156A","25609 Danny Lane","","Rio Verde",85263,"AZ","jthomson@epcor.com",null,null,null,null,null,null,null,null,null,"LYN LEE WATER CO","AZ0410007","91-000415.0000","W-01854A","LYN LEE WATER CO","A","Lyn Lee Water Company",null,null,"CLEAR CREEK MOBILE HOME","AZ0413415","91-000700.0000","","CLEAR CREEK MOBILE HOME","A",""]
[null,null,null,null,null,null,null,null,null,null,null,null,"Roosevelt Lake Resort, Inc.","W-01958A",null,"PO Box 734","Roosevelt",85545,"AZ","dean@mhpinvests.com",null,null,null,null,null,null,null,null,null,"MARINA VILLAGE","AZ0415011","91-000743.0000","W-03039A","BROOKE WATER LLC","A","Brooke Water LLC - MARINA VILLAGE       ",null,null,"CLEAR SPRINGS","AZ0402008","91-000029.0000","WS-01689A","CLEAR SPRINGS","A","Clear Springs Utility Company, Inc. MAIN              "]
[null,null,null,null,null,null,null,null,null,null,null,null,"Rose Valley Water Company","W-01539A","PO Box 1444","","Green Valley","85622-1444","AZ","info@rosevalleywaterco.com",null,null,null,null,null,null,null,null,null,"MCNEAL WC","AZ0402016","91-000037.0000","W-02658A","PETERSEN TRUST UTD","A","McNeal Water Company",null,null,"CLEAR SPRINGS UTILITY","AZ0402049","91-000061.0000","WS-01689A","CLEAR SPRINGS UTILITY","A","Clear Springs Utility Company, Inc. WELL 6            "]
[null,null,null,null,null,null,null,null,null,null,null,null,"Saguaro Water Company","W-01790A","PO Box 85160","","Tucson",85754,"AZ","info@southwesternutility.com",null,null,null,null,null,null,null,null,null,"MESA DEL CABALLO","AZ0404030","91-000133.0000","W-03514A","PAYSON WATER CO","A","Payson Water Co., Inc. - MESA DE CABALLO          ",null,null,"CLEARWATER UTILITIES CO. INC.","AZ0407019","91-000188.0000","W-01752A","CLEARWATER UTILITIES CO. INC.","A","Clearwater Utilities Company, Inc."]
[null,null,null,null,null,null,null,null,null,null,null,null,"Sahuarita Water Company L.L.C.","W-03718A","4549 E. Fort Lowell Rd.","","Tucson",85712,"AZ","cort@sahuaritawater.com;marian@ranchosahuarita.com",null,null,null,null,null,null,null,null,null,"MESCAL LAKES WATER SYSTEM","AZ0402052","91-000062.0000","W-02472A","MESCAL LAKES WATER SYSTEM","A","Mescal Lakes Water Systems Inc.",null,null,"CLEMENCEAU WATER CO","AZ0413019","91-000613.0000","","COTTONWOOD, CITY OF","I",""]
[null,null,null,null,null,null,null,null,null,null,null,null,"Sandario Water Company, Inc.","W-01831A","PO Box 85160","","Tucson",85754,"AZ","info@southwesternutility.com",null,null,null,null,null,null,null,null,null,"MICHAELS RANCH","AZ0413109","91-000661.0000","W-02624A","MICHAELS RANCH WVA","A","Michael's Ranch Water Users' Association",null,null,"CLOUD NINE WATER CO INC","AZ0402009","91-000030.0000","WS-02672A","CLOUD NINE WATER CO INC","A","Cloud Nine Water Company, Inc."]
[null,null,null,null,null,null,null,null,null,null,null,null,"Santa Rosa Water Company","W-04137A","9532 E. Riggs Rd","","Sun Lakes",85248,"AZ","steve.soriano@robson.com;rory.braley@robson.com",null,null,null,null,null,null,null,null,null,"MIRABELL WATER CO","AZ0410178","91-000468.0000","W-02368A","SOUTHWESTERN UTILITY","A","Mirabell Water Company, Inc.",null,null,"CNC 143","AZ0407389","91-000259.0000","","CNC 143","I",""]
[null,null,null,null,null,null,null,null,null,null,null,null,"Seven Canyons Water Company","W-03388A","755 Golf Club Way","","Sedona",86336,"AZ","heather.pugsley@sevencanyons.com",null,null,null,null,null,null,null,null,null,"MOHAWK UTILITY CO","AZ0414030","91-000717.0000","W-02341A","MOHAWK UTILITY CO","A","Mohawk Utility Company",null,null,"C-OASIS PARK","AZ0413423","91-000702.0000","","CEDIC DEVELOPMENT CO","A",""]
[null,null,null,null,null,null,null,null,null,null,null,null,"Shepard Water Company, Inc.","W-01537A","10430 N. Martinez Lake Rd.","","Yuma",85365,"AZ","info@martinezlake.com",null,null,null,null,null,null,null,null,null,"MONTE VISTA WATER CO LLC","AZ0402043","91-000057.0000","W-02703A","MONTE VISTA WATER CO","A","Monte Vista Water Co., L.L.C.",null,null,"COCHISE COLLEGE PARK WATER ASSOC","AZ0402040","91-000054.0000","","COCHISE COLLEGE PARK WATER ASSOC.","A",""]
[null,null,null,null,null,null,null,null,null,null,null,null,"Sitgreaves Water Company","W-02078A","PO Box 3048","","Show Low",85902,"AZ","",null,null,null,null,null,null,null,null,null,"MONTEZUMA RIMROCK WC, LLC","AZ0413071","91-000648.0000","W-04254A","MONTEZUMA RIMROCK WC, LLC","A","Montezuma Rimrock Water Company LLC",null,null,"COLDWATER CANYON 2","AZ0413192","91-000678.0000","W-01559A","COLDWATER CANYON WATER CO","A","Coldwater Canyon Water Company 2"]
[null,null,null,null,null,null,null,null,null,null,null,null,"Sonoita Valley Water Company","W-20435A","PO Box 85160","","Tucson",85754,"AZ","info@southwesternutility.com",null,null,null,null,null,null,null,null,null,"MORENCI WATER ELEC CO (CLIFTON)","AZ0406002","91-000174.0000","W-01049A","MORENCI WATER & ELECTRIC CO","A","Morenci Water and Electric Company CLIFTON           ",null,null,"COLDWATER CANYON 3","AZ0413202","91-000870.0000","W-01559A","COLDWATER CANYON WATER CO","A","Coldwater Canyon Water Company 3"]
[null,null,null,null,null,null,null,null,null,null,null,null,"South Rainbow Valley Water Coop.","W-02280A","PO Box 5581","","Goodyear",85338,"AZ","mgraham@mccarthy.com",null,null,null,null,null,null,null,null,null,"MORMON LAKE WC","AZ0403014","91-000091.0000","W-01472A","MORMON LAKE WC","I","Mormon Lake Water Co.",null,null,"COLDWATER CANYON WC","AZ0413020","91-000614.0000","W-01559A","COLDWATER CANYON WATER CO","A","Coldwater Canyon Water Company 1"]
[null,null,null,null,null,null,null,null,null,null,null,null,"Southland Utilities Company, Inc.","W-02062A","PO Box 85160","","Tucson",85754,"AZ","info@southwesternutility.com",null,null,null,null,null,null,null,null,null,"MORRISTOWN WATER COMPANY","AZ0407111","91-000231.0000","W-02164A","MORRISTOWN WATER COMPANY","A","Morristown Water Company",null,null,"COLONIAL MHP","AZ0420512","91-000793.0000","","COLONIAL MHP, STAGMO INVESTMENTS LLC","A",""]
[null,null,null,null,null,null,null,null,null,null,null,null,"Southwest Environmental Utilities, LLC","WS-20878A","5230 E. Shea Blvd., Ste. 200","","Scottsdale",85254,"AZ","johnsoncompanies@azvision.net;tstewart@azvision.net",null,null,null,null,null,null,null,null,null,"MOUNTAIN DELL WATER INC","AZ0403015","91-000092.0000","W-01877A","MOUNTAIN DELL WATER INC","A","Mountain Dell Water, Inc.",null,null,"COMMUNITY WATER CO OF GREEN VALLEY","AZ0410004","91-000413.0000","W-02304A","COMMUNITY WATER CO OF GREEN VALLEY","A","Community Water Company of Green Valley"]
[null,null,null,null,null,null,null,null,null,null,null,null,"Spanish Trail Water Company","W-01816A","2200 E. River Rd., Ste 115","","Tucson",85718,"AZ","info@southwesternutility.com",null,null,null,null,null,null,null,null,null,"MT TIPTON WATER CO INC","AZ0408059","91-000333.0000","W-02105A","MT TIPTON WATER CO INC","A","Mount Tipton Water Co., Inc.",null,null,"CONGRESS DWID","AZ0413021","91-000615.0000","","CONGRESS DWID","A",""]
[null,null,null,null,null,null,null,null,null,null,null,null,"Spring Branch Water Company, Inc.","W-02485A","1223 S. Clearview Ave., Ste. 103","","Mesa",85209,"AZ","ghiatt@cb-ch.com",null,null,null,null,null,null,null,null,null,"NACO WATER CO","AZ0402024","91-000043.0000","W-02860A","NACO WATER CO","A","Naco Water Company, LLC MAIN                      ",null,null,"COPPER CANYON ACADEMY-LAK","AZ0413215","91-000681.0000","","COPPER CANYON ACADEMY INC","I",""]
[null,null,null,null,null,null,null,null,null,null,null,null,"Starlight Water Company, Inc.","W-02848A","PO Box 85160","","Tucson",85754,"AZ","info@southwesternutility.com",null,null,null,null,null,null,null,null,null,"NACO WATER CO LLC-BISBEE","AZ0402112","91-000075.0000","W-02860A","NACO WATER CO LLC-BISBEE","A","Naco Water Company, LLC BISBEE                    ",null,null,"COPPER MOUNTAIN RANCH CFD","AZ0411328","91-000574.0000","","Copper Mountain Communities Facilities District","A",""]
[null,null,null,null,null,null,null,null,null,null,null,null,"Sterling Water Company","W-03499A","12438 N. Saguaro Blvd., Ste. 114","","Fountain Hills",85268,"AZ","mmsuggs@cox.net",null,null,null,null,null,null,null,null,null,"NORTH MOHAVE VALLEY CORPORATION","AZ0408068","91-000339.0000","WS-01303A","EPCOR","A","EPCOR Water Arizona, Inc. - NORTH MOHAVE VALLEY       ",null,null,"CORDES LAKE WATER COMPANY","AZ0413023","91-000616.0000","W-02060A","CORDES LAKES WATER CO.","A","Cordes Lakes Water Company"]
[null,null,null,null,null,null,null,null,null,null,null,null,"Stoneman Lake Water Company, Inc.","W-01967A","PO Box 10061","","Sedona",86339,"AZ","frane@suddenlink.net",null,null,null,null,null,null,null,null,null,"NORTHERN SUNRISE WC - CORONADO","AZ0402013","91-000034.0000","W-02465A","LIBERTY UTILITIES","A","NORTHERN SUNRISE WC CORONADO c/o Liberty Utilities (Bella Vista Water) Corp",null,null,"CORDES LAKES I","AZ0413060","91-000645.0000","","COTTONWOOD, CITY OF","A",""]
[null,null,null,null,null,null,null,null,null,null,null,null,"Sun Leisure Estates Utilities Company, Inc.","W-02386A","PO Box 1074","","Yuma",85366,"AZ","diana_c@yuma.twcbc.com",null,null,null,null,null,null,null,null,null,"NORTHERN SUNRISE WC - MUSTANG/CRYSTAL","AZ0402054","91-000063.0000","W-02465A","LIBERTY UTILITIES","A","NORTHERN SUNRISE WC MUSTANG CRYSTAL c/o Liberty Utilities (Bella Vista Water) Corp",null,null,"CORDES LAKES II","AZ0413104","91-000657.0000","","COTTONWOOD, CITY OF","A",""]
[null,null,null,null,null,null,null,null,null,null,null,null,"Sun Valley Farms Unit VI Water Co., Inc.","W-02425A","3698 E. Hashknife Draw Rd","","San Tan Valley",85140,"AZ","sunvalleyfarms@msn.com",null,null,null,null,null,null,null,null,null,"OAK CREEK PUBLIC SERVICE, LLC","AZ0413042","91-000631.0000","W-04304A","OAK CREEK PUBLIC SERVICE, LLC.","A","Oak Creek Public Service, LLC",null,null,"CORDES LAKES III","AZ0413105","91-000658.0000","","COTTONWOOD, CITY OF","A",""]
[null,null,null,null,null,null,null,null,null,null,null,null,"Sunrise Utilities, L.L.C.","WS-04247A","190 E. Mesquite Blvd., Unit A","","Mesquite",89027,"NV","davidrall100@gmail.com",null,null,null,null,null,null,null,null,null,"OAK CREEK UTILITY CORP","AZ0403004","91-000828.0000","WS-02061A","OAK CREEK UTILITY CORP","A","Oak Creek Utility Corporation",null,null,"CORDES LAKES VI, VII, VIII","AZ0413106","91-000659.0000","","COTTONWOOD, CITY OF","A",""]
[null,null,null,null,null,null,null,null,null,null,null,null,"Sunrise Vistas Utilities Company","WS-03586A","PO Box 8555","","Ft. Mohave",86427,"AZ","rcohen@galaxytheatres.com",null,null,null,null,null,null,null,null,null,"OAK CREEK WATER CO #1","AZ0413041","91-000630.0000","W-01392A","OAK CREEK WATER NO 1","A","Oak Creek Water Co., No 1",null,null,"CORONADO FOREST DRIVE WATER CO-OP","AZ0420475","91-000786.0000","","CORONADO FOREST DRIVE COOP","A",""]
[null,null,null,null,null,null,null,null,null,null,null,null,"Sunrise Water Company","W-02069A","9098 W. Pinnacle Peak Rd.","","Peoria",85383,"AZ","scampbell@jdcwater.com",null,null,null,null,null,null,null,null,null,"OATMAN WATER COMPANY","AZ0408001","91-000307.0000","W-04069A","OATMAN WATER CO LLC","A","Oatman Water Company, L.L.C.",null,null,"COTTON LANE RV RESORT","AZ0407638","91-000290.0000","","ROLES INN OF AMERICA, INC","I",""]
[null,null,null,null,null,null,null,null,null,null,null,null,"Tacna Water Management Company","W-01344A","4743 E. 30th Place","","Yuma",85365,"AZ","dawn@sunstatees.com;christina@sunstatees.com",null,null,null,null,null,null,null,null,null,"PARADISE TRAILS / PIONEER VALLEY WS","AZ0408178","91-000864.0000","W-02821A","DOUBLE R WATER DISTRIBUTORS","A","Double R Water Distributors, Inc.",null,null,"COTTONWOOD WATER WORKS","AZ0413025","91-000618.0000","","COTTONWOOD, CITY OF","A",""]
[null,null,null,null,null,null,null,null,null,null,null,null,"Tall Pine Estates Water & Improvement Association","W-01976A","HC 31 Box 25","707 Western Lane to address","Mormon Lake",86038,"AZ","lmeumann@msn.com",null,null,null,null,null,null,null,null,null,"PARK WATER CO","AZ0411407","91-000583.0000","W-02353A","PARK WATER CO","A","Park Water Company, Inc.",null,null,"COUNTRY CLUB ACRES WATER INC","AZ0407021","91-000189.0000","","COUNTRY CLUB ACRES WATER INC","A",""]
[null,null,null,null,null,null,null,null,null,null,null,null,"Thim Utility Co","W-03293A","PO Box 85160","","Tucson",85754,"AZ","info@southwesternutility.com",null,null,null,null,null,null,null,null,null,"PAYSON WATER CO.- FLOWING SPRINGS","AZ0404027","91-000131.0000","W-03514A","PAYSON WATER CO","A","Payson Water Co., Inc. - FLOWING SPRINGS          ",null,null,"COUNTRY HOME MOBILE VILLAGE PK","AZ0407343","91-000254.0000","","COUNTRY HOME MOBILE VILLAGE PK","A",""]
[null,null,null,null,null,null,null,null,null,null,null,null,"Thim Water Corporation","W-02594A","PO Box 85160","","Tucson",85754,"AZ","info@southwesternutility.com",null,null,null,null,null,null,null,null,null,"PAYSON WATER CO.- MEADS RANCH","AZ0404015","91-000124.0000","W-03514A","PAYSON WATER CO","A","Payson Water Co., Inc. - MEADS RANCH              ",null,null,"COUNTRY LANE TRAILER PARK","AZ0409311","91-000403.0000","","COUNTRY LANE TRAILER PARK","A",""]
[null,null,null,null,null,null,null,null,null,null,null,null,"Tierra Buena Water Company, Inc.","W-02076A","6808 N. Dysart Rd., Suite 112","","Glendale",85307,"AZ","bryan@vuwco.com",null,null,null,null,null,null,null,null,null,"PEEPLES VALLEY WATER CO","AZ0413078","91-000653.0000","W-02146A","PEEPLES VALLEY WATER CO","A","Peeples Valley Water Company",null,null,"CRANDALL WATER USERS ASSOC.","AZ0407268","91-000246.0000","","CRANDALL WATER USERS ASSOC.","I",""]
[null,null,null,null,null,null,null,null,null,null,null,null,"Tierra Linda Water Company, Inc.","W-20810A","PO Box 85160","","Tucson",85754,"AZ","info@southwesternutility.com",null,null,null,null,null,null,null,null,null,"PHELPS DODGE - MORENCI WATER & ELEC (MAIN)","AZ0406003","91-000175.0000","W-01049A","MORENCI WATER & ELECTRIC CO","A","Morenci Water and Electric Company MAIN              ",null,null,"CRESCENT MANOR MHP","AZ0420026","91-000760.0000","","CRESCENT MANOR MHP","A",""]
[null,null,null,null,null,null,null,null,null,null,null,null,"Tierra Mesa Estates Water Co.","W-02498A","4743 E. 30th Place","","Yuma",85365,"AZ","dawn@sunstatees.com;christina@sunstatees.com",null,null,null,null,null,null,null,null,null,"PICACHO PEAK WATER COMPANY","AZ0411038","91-000536.0000","W-02351A","PICACHO PEAK WATER COMPANY","A","Picacho Peak Water Company",null,null,"CROSBY SPRING AT GREER","AZ0401007","91-000003.0000","","CROSBY SPRINGS USERS","I",""]
[null,null,null,null,null,null,null,null,null,null,null,null,"Tonto Basin Water Co., Inc.","W-03515A","7581 E. Academy Blvd., Ste. 229","","Denver",80230,"CO","jw@pivotalcompanies.com;ejones@jwwater.net",null,null,null,null,null,null,null,null,null,"PICACHO WATER CO","AZ0411135","91-000564.0000","W-03528A","PICACHO WATER CO","A","Picacho Water Company",null,null,"CROSS CREEK RANCH","AZ0413256","91-000889.0000","","CROSS CREEK RANCH COMMUNITY ASSOCIATION","A",""]
[null,null,null,null,null,null,null,null,null,null,null,null,"Tonto Creek Water Company, LLC","W-20682A","PO Box 13993","","Mesa",85216,"AZ","jcr@tontocreekwater.com",null,null,null,null,null,null,null,null,null,"PICACHO WATER IMPROVEMENT","AZ0411042","91-000539.0000","W-01774A","PICACHO WATER IMPROVEMENT","A","Picacho Water Improvement Corporation",null,null,"CROSSROADS PARK, LLC","AZ0420096","91-000769.0000","","CROSSROADS PARK, LLC","A",""]
[null,null,null,null,null,null,null,null,null,null,null,null,"Tonto Village Water Company, Inc. DBA Tonto Village Water Company","W-01580A","173 S. Blackfoot Rd.","","Payson",85541,"AZ","Service@arizonarim.com",null,null,null,null,null,null,null,null,null,"PIMA UTILITIES COMPANY","AZ0407120","91-000234.0000","W-02199A","PIMA UTILITIES COMPANY","A","PIMA UTILITIES                          ",null,null,"CROWN KING WATER CO","AZ0413027","91-000620.0000","W-01558A","CROWN KING WATER CO","A","Crown King Water Company, Inc."]
[null,null,null,null,null,null,null,null,null,null,null,null,"Tortolita Water Company, Inc.","W-02301A","PO Box 57037","","Tucson",85715,"AZ","dan@aztaxplan.com;karyn@aztaxplan.com",null,null,null,null,null,null,null,null,null,"PINAL VALLEY WATER SYSTEM","AZ0411009","91-000521.0000","W-01445A","ARIZONA WATER CO - CASA GRANDE","A","Arizona Water Company - PINAL VALLEY         ",null,null,"CRYSTAL WATER CO","AZ0402074","91-000066.0000","","LIBERTY UTILITIES","I",""]
[null,null,null,null,null,null,null,null,null,null,null,null,"Truxton Canyon Water Company, Inc","W-02168A","7313 E. Concho Dr., Ste. B","","Kingman",86401,"AZ","rick@truxtoncanyonwater.com;teresa@blackhawkdevelopers.com",null,null,null,null,null,null,null,null,null,"Pinedale","AZ0409054","NA","W-01877A","MOUNTAIN DELL WATER INC","A","Mountain Dell Water, Inc.",null,null,"CUP OF GOLD WATER CO","AZ0413028","91-000621.0000","","CUP OF GOLD WATER CO","A",""]
[null,null,null,null,null,null,null,null,null,null,null,null,"Tubac Water Company, Inc.","W-02419A","ATTN: John Crowley","1444 Wazee St., Ste. 350","Denver",80202,"CO","cc@crowleycapital.com",null,null,null,null,null,null,null,null,null,"PINE VALLEY WATER CO","AZ0413103","91-000656.0000","W-02181A","LANCE ENTERPRIZES","A","Pine Valley Water Company",null,null,"DATELAND PUBLIC SERVICE","AZ0414003","91-000708.0000","W-02027A","DATELAND PUBLIC SERVICE CO","A","Dateland Public Service Co., Inc."]
[null,null,null,null,null,null,null,null,null,null,null,null,"Turner Ranches Water & Sanitation Company","W-01677A","PO Box 1020","","Apache Junction","85217-1020","AZ","joanne.ellsworth@gwresources.com",null,null,null,null,null,null,null,null,null,"PINECREST WATER CO INC","AZ0401010","91-000005.0000","W-02091A","PINECREST WTR CO INC","A","Pinecrest Water Company, Inc.",null,null,"DATELAND WATER L.L.C.","AZ0414032","91-000718.0000","W-20395A","DATELAND WATER L.L.C.","A","Dateland Water LLC"]
[null,null,null,null,null,null,null,null,null,null,null,null,"Twin Hawks Utility, Inc.","W-03230A","801 W. Camino Desierto","","Tucson",85704,"AZ","cwh2serv@msn.com",null,null,null,null,null,null,null,null,null,"PONDEROSA UTILITY CORPOR","AZ0403018","91-000094.0000","W-01717A","PONDEROSA UTILITY CORP","A","Ponderosa Utility Corporation",null,null,"DAVIS RANCH LAND OWNERS","AZ0411090","91-000551.0000","","DAVIS RANCH LAND OWNER'S","A",""]
[null,null,null,null,null,null,null,null,null,null,null,null,"Utility Source, LLC","WS-04235A","20525 E. Chandler Heights Rd.","","Queen Creek","85142-9500","AZ","mparry@cox.net",null,null,null,null,null,null,null,null,null,"PUEBLO DEL SOL WATER CO","AZ0402044","91-000058.0000","W-02208A","PUEBLO DEL SOL WATER CO","A","Pueblo Del Sol Water Company",null,null,"DECKER COMMUNITY WATER CO","AZ0410217","91-000476.0000","","DECKER COMMUNITY WATER","I",""]
[null,null,null,null,null,null,null,null,null,null,null,null,"Utility Systems, LLC DBA Christopher Creek Haven Water / Gardner Water","W-20459A","173 S. Blackfoot Rd.","","Payson",85541,"AZ","Service@ArizonaRim.com",null,null,null,null,null,null,null,null,null,"Q MOUNTAIN HOA","AZ0415509","91-000756.0000","W-02518A","Q MOUNTAIN MHP","A","Q Mountain Mobile Home Park DBA Q Mountain Vista",null,null,"DEEP WELL COOPERATIVE","AZ0420598","91-000808.0000","","DEEPWELL COOPERATIVE","A",""]
[null,null,null,null,null,null,null,null,null,null,null,null,"Vail Water Company","W-01651B","1010 N. Finance Center Dr., Ste 200","","Tucson",85710,"AZ","kvolpe@estesco.net;seaton@estesco.net",null,null,null,null,null,null,null,null,null,"Q-MOUNTAIN WATER COMPANY","AZ0415096","91-000753.0000","W-02800A","Q MOUNTAIN WATER CO","A","Q Mountain Water, Inc.",null,null,"DEER CREEK","AZ0404064","91-000148.0000","W-03514A","PAYSON WATER CO","A","Payson Water Co., Inc. - DEER CREEK               "]
[null,null,null,null,null,null,null,null,null,null,null,null,"Valle Verde Water Company","W-01431A","PO Box 85160","","Tucson",85754,"AZ","info@southwesternutility.com",null,null,null,null,null,null,null,null,null,"QUAIL CREEK WATER COMPANY INC.","AZ0410262","91-000482.0000","W-02514A","QUAIL CREEK WATER COMPANY","A","Quail Creek Water Company",null,null,"DELLS VIEW WC","AZ0413412","91-000698.0000","","WOODSMAN PROPERTIES LLC","A",""]
[null,null,null,null,null,null,null,null,null,null,null,null,"Valley Pioneer's Water Company, Inc.","W-02033A","5998 W. Chino Dr.","","Golden Valley",86413,"AZ","bobbie@valleypioneerswater.com",null,null,null,null,null,null,null,null,null,"RANCHEROS BONITOS","AZ0414073","91-000723.0000","W-03254A","NANCY MILLER","A","Rancheros Bonitos Water Co. L.L.C.",null,null,"DELL'S WATER CO","AZ0413029","91-000622.0000","W-20809A","DELL'S WATER CO","A","ACME Water, LLC - DELLS WATER COMPANY INC  "]
[null,null,null,null,null,null,null,null,null,null,null,null,"Valley Utilities Water Company, Inc.","W-01412A","6808 N. Dysart Rd., Ste. 112","","Glendale",85307,"AZ","bryan@vuwco.com",null,null,null,null,null,null,null,null,null,"RANCHO DEL CONEJO COOP","AZ0410142","91-000451.0000","W-02102B","RANCHO DEL CONEJO COOP","A","Rancho Del Conejo Community Water Co-Op, Inc.",null,null,"DESERT GARDENS RV PARK","AZ0415089","91-000855.0000","","DESERT GARDENS HOLDINGS LLC","A",""]
[null,null,null,null,null,null,null,null,null,null,null,null,"Valley View Water Company","W-02148A","2930 E. Elm St.","","Phoenix",85016,"AZ","charliekeating3@gmail.com",null,null,null,null,null,null,null,null,null,"RAY WATER COMPANY","AZ0410095","91-000435.0000","W-01380A","RAY WATER COMPANY","A","Ray Water Company, Inc.",null,null,"DESERT OASIS","AZ0407523","91-000276.0000","","CITY OF SURPRISE","A",""]
[null,null,null,null,null,null,null,null,null,null,null,null,"Verde Lakes Water Corporation","W-02372A","2867 S. Verde Lakes Dr., Ste. B","","Camp Verde","86322-6595","AZ","alan@verdelakeswater.com",null,null,null,null,null,null,null,null,null,"RED ROCK UTILITIES","AZ0411160","91-000823.0000","WS-04245A","RED ROCK UTILITIES, LLC","A","Red Rock Utilities, LLC",null,null,"DESERT PARADISE MHP, LLC","AZ0420546","91-000801.0000","","DESERT PARADISE MHP, LLC","A",""]
[null,null,null,null,null,null,null,null,null,null,null,null,"Vernon Valley Water, Inc.","W-20540A","PO Box 245","","Taylor",85939,"AZ","watercos@gmail.com",null,null,null,null,null,null,null,null,null,"RILLITO WATER USERS INC","AZ0410098","91-000436.0000","W-02003A","RILLITO WATER USERS INC","A","Rillito Water Users Association",null,null,"DESERT SHORES RV & MHP","AZ0420033","91-000761.0000","","DESERT SHORES RV & MHP","A",""]
[null,null,null,null,null,null,null,null,null,null,null,null,"Virgin Mountain Utilities Company, Inc.","W-03551A","PO Box 668","","Littlefield",85432,"AZ","tgsnext@gmail.com",null,null,null,null,null,null,null,null,null,"RINCON WATER COMPANY","AZ0410144","91-000453.0000","W-01723A","RINCON WATER COMPANY","A","Rincon Water Company",null,null,"DESERT WATER CO-OP","AZ0410188","91-000471.0000","","DESERT WATER COMPANY, INC","A",""]
[null,null,null,null,null,null,null,null,null,null,null,null,"Viva Development Corporation","W-02229A","PO Box 12863","","Tucson",85732,"AZ","bratbrookel@aol.com",null,null,null,null,null,null,null,null,null,"RIO LINDO","AZ0415040","91-000751.0000","W-03039A","BROOKE WATER LLC","A","Brooke Water LLC - RIO LINDO            ",null,null,"DESERT WILLOWS MHP","AZ0420538","91-000799.0000","","DESERT WILLOWS MHP","I",""]
[null,null,null,null,null,null,null,null,null,null,null,null,"Voyager at White Mountain Lakes Water Company, Inc.","W-01983A","PO Box 90890","","White Mountain Lake",85912,"AZ","propertieslc@frontiernet.net",null,null,null,null,null,null,null,null,null,"RIO RICO UTILITIES INC.","AZ0412011","91-000595.0000","WS-02676A","RIO RICO UTILITIES INC.","A","Liberty Utilities (Rio Rico Water and Sewer) Corp",null,null,"DESERT WINDS MOBILE PARK","AZ0402353","91-000078.0000","","DESERT WINDS MOBILE PARK","A",""]
[null,null,null,null,null,null,null,null,null,null,null,null,"Voyager Water Company","W-02104A","PO Box 85160","","Tucson",85754,"AZ","info@southwesternutility.com",null,null,null,null,null,null,null,null,null,"RIO VERDE UTILITIES, INC.","AZ0407121","91-000235.0000","WS-02156A","RIO VERDE UTILITIES, INC.","A","Rio Verde Utilities, Inc.",null,null,"DIABLO VILLAGE WATER CO","AZ0410357","91-000504.0000","","METROPOLITAN DOM WATER IMPR DIST","A",""]
[null,null,null,null,null,null,null,null,null,null,null,null,"Walden Meadows Community Co-Op","W-02369A","9325 Donegal Dr., Ste. A","","Kirkland",86332,"AZ","waldenmeadows@aol.com",null,null,null,null,null,null,null,null,null,"ROOSEVELT LAKE RESORT","AZ0404200","91-000881.0000","W-01958A","ROOSEVELT LAKE RESORT INC","A","Roosevelt Lake Resort, Inc.",null,null,"DIAMOND GROVE MOBILE HOME ESTATES","AZ0420542","91-000800.0000","","DIAMOND GROVE ESTATES","A",""]
[null,null,null,null,null,null,null,null,null,null,null,null,"Walnut Creek Water Company, Inc.","W-02466A","119 E. Andy Devine Ave.","","Kingman",86401,"AZ","scottrdunton@hotmail.com",null,null,null,null,null,null,null,null,null,"ROSE VALLEY WATER COMPANY","AZ0407065","91-000205.0000","W-01539A","ROSE VALLEY WATER COMPANY","A","Rose Valley Water Company",null,null,"DIAMOND VALLEY WATER USERS CORP","AZ0413017","91-000612.0000","","DIAMOND VALLEY WATER DISTRICT","A",""]
[null,null,null,null,null,null,null,null,null,null,null,null,"WATCO,  Inc.","W-20475A","PO Box 245","","Taylor",85939,"AZ","watercos@gmail.com",null,null,null,null,null,null,null,null,null,"SAGUARO WATER COMPANY","AZ0410177","91-000467.0000","W-01790A","SAGUARO WATER COMPANY","A","Saguaro Water Company",null,null,"DIVERSIFIED WATER UTILITIES, INC.","AZ0411043","91-000540.0000","W-02859A","DIVERSIFIED WATER UTILITIES, INC.","A","Diversified Water Utilities, Inc."]
[null,null,null,null,null,null,null,null,null,null,null,null,"Water Utility of Greater Tonopah, LLC.","W-02450A","c/o Global Water Resources, Inc.","21410 N 19th Ave., Ste. 220","Phoenix",85027,"AZ","joanne.ellsworth@gwresources.com;kris.jesberger@gwresources.com",null,null,null,null,null,null,null,null,null,"SAHUARITA HIGHLANDS","AZ0410414","91-000822.0000","W-01654A","FARMERS WATER COMPANY","A","Farmers Water Company SAHUARITA HIGHLANDS    ",null,null,"DMAFB WATER SYSTEM","AZ0420549","91-000802.0000","","DMAFB WATER SYSTEM","A",""]
[null,null,null,null,null,null,null,null,null,null,null,null,"Water Utility of Northern Scottsdale, LLC","W-03720A","c/o Global Water Resources, Inc.","21410 N. 19th Ave., Ste. 220","Phoenix",85027,"AZ","joanne.ellsworth@gwresources.com;kris.jesberger@gwresources.com",null,null,null,null,null,null,null,null,null,"SAHUARITA WATER COMPANY","AZ0410312","91-000495.0000","W-03718A","SAHUARITA WATER COMPANY","A","Sahuarita Water Company L.L.C.",null,null,"DOME WELL ASSOCIATION","AZ0410260","91-000481.0000","","DOME WELL CORPORATION","A",""]
[null,null,null,null,null,null,null,null,null,null,null,null,"West End Water Co.","W-01157A","9098 W. Pinnacle Peak Rd","","Peoria",85383,"AZ","scampbell@jdcwater.com",null,null,null,null,null,null,null,null,null,"SALOME WATER COMPANY","AZ0415021","91-000745.0000","W-01084A","SALOME WATER CO","A","William R. Farr DBA Salome Water Company",null,null,"DONEY PARK WATER","AZ0403005","91-000084.0000","W-01416A","DONEY PARK WATER","A","Doney Park Water"]
[null,null,null,null,null,null,null,null,null,null,null,null,"White Hills Water Company, Inc.","W-01982A","PO Box 30626","","Mesa",85275,"AZ","whitehillswaterco@msn.com",null,null,null,null,null,null,null,null,null,"SANDARIO WATER CO.","AZ0410093","91-000434.0000","W-01831A","SANDARIO WATER COMPANY","A","Sandario Water Company, Inc.",null,null,"DOUBLE G TP","AZ0413431","91-000704.0000","","DOUBLE G MOBILE HOME AND RV PARK","A",""]
[null,null,null,null,null,null,null,null,null,null,null,null,"White Horse Ranch Owners Association, Inc.","W-04161A","c/o HOAMCO","PO Box 10000","Prescott",86304,"AZ","cleath@hoamco.com",null,null,null,null,null,null,null,null,null,"SANTA CRUZ WATER CO.","AZ0411131","91-000562.0000","W-20446A","SANTA CRUZ WATER CO.","A","Global Water-Santa Cruz Water Company",null,null,"DOUGLAS WATER DEPT","AZ0402014","91-000035.0000","","DOUGLAS, CITY OF","A",""]
[null,null,null,null,null,null,null,null,null,null,null,null,"White Mountain Water Company","W-02470A","PO Box 24204","","Tempe",85285,"AZ","joncheney@hotmail.com",null,null,null,null,null,null,null,null,null,"SEDONA VENTURE WATER SYST","AZ0413108","91-000660.0000","WS-03449A","EQUITY LIFESTYLE PROPERTIES","A","MHC Operating Limited Partnership DBA The Sedona Venture Water Company",null,null,"DOWNTOWN MOBILE HOME PARK","AZ0420056","91-000765.0000",""," ","I",""]
[null,null,null,null,null,null,null,null,null,null,null,null,"William F. Lesko DBA Heckethorn Water Company","W-03782A","4400 E. Button Lane","","Flagstaff",86005,"AZ","letsgo16@juno.com",null,null,null,null,null,null,null,null,null,"Seven Canyons Water Company","AZ0413248","NA","W-03388A","Seven Canyons Water Company","A","Seven Canyons Water Company",null,null,"DRAGOON WATER CO","AZ0402015","91-000036.0000","W-01917A","DRAGOON WATER CO","A","Dragoon Water Company"]
[null,null,null,null,null,null,null,null,null,null,null,null,"William R. Farr DBA Salome Water Company","W-01084A","PO Box 550","","Salome",85348,"AZ","",null,null,null,null,null,null,null,null,null,"SHANGRI LA II RESORT","AZ0407660","91-000291.0000","W-02474A","SHANGRI LA WATER WORKS","A","Kraus Investment LC DBA Shangri-La Ranch",null,null,"DS WATER COMPANY","AZ0408072","91-000340.0000","W-04049A","DS WATER CO","A","DS Water Company"]
[null,null,null,null,null,null,null,null,null,null,null,null,"Willow Lakes Property Owners Association, Inc.","W-02173A","PO Box 875","","Benson",85602,"AZ","",null,null,null,null,null,null,null,null,null,"SHEPARD WATER CO INC","AZ0414014","91-000712.0000","W-01537A","SHEPARD WATER CO INC","A","Shepard Water Company, Inc.",null,null,"DUNCAN, TOWN OF","AZ0406001","91-000173.0000","","DUNCAN, TOWN OF","A",""]
[null,null,null,null,null,null,null,null,null,null,null,null,"Willow Springs Utilities, LLC","WS-20432A","3275 W. Ina Rd., Ste. 275","","Tucson","85741-2338","AZ","kevin.tarbox@lennar.com",null,null,null,null,null,null,null,null,null,"SIGNAL PEAK WATER CO, INC","AZ0411079","91-000549.0000","W-20496A","SIGNAL PEAK WATER, INC.","A","AVM-2005, LLC",null,null,"EAGAR, TOWN OF","AZ0401004","91-000002.0000","","EAGAR, TOWN OF","A",""]
[null,null,null,null,null,null,null,null,null,null,null,null,"Winchester Water Company, L.L.C.","W-04081A","PO Box 86453","","Phoenix",85080,"AZ","winchesterwaterllc@yahoo.com",null,null,null,null,null,null,null,null,null,"SITGREAVES WATER CO","AZ0409040","91-000391.0000","W-02078A","SITEGREAVES WATER CO","I","Sitgreaves Water Company",null,null,"EAGLE EYE VILLAGE","AZ0407190","91-000244.0000","","BYNER CATTLE COMPANY","I",""]
[null,null,null,null,null,null,null,null,null,null,null,null,"Woodruff Water Company, Inc.","W-04264A","c/o Walton Global Holdings","14614 N. Kierland Blvd., Ste. 120","Scottsdale",85254,"AZ","jpc@desert-troon.com",null,null,null,null,null,null,null,null,null,"SONOITA VALLEY WATER CO","AZ0412005","91-000591.0000","W-20435A","SONOITA VALLEY WATER CO.","A","Sonoita Valley Water Company (SOUTH)",null,null,"EAGLETAIL WATER CO, L.C.","AZ0407032","91-000193.0000","W-03936A","EAGLETAIL WATER CO","A","Eagletail Water Company L.C."]
[null,null,null,null,null,null,null,null,null,null,null,null,"Woody's Enterprises, LTD DBA Ho-Tye Water Company","W-03340A","580 W. Wickenburg Way","","Wickenburg",85390,"AZ","glowe@woodysent.com",null,null,null,null,null,null,null,null,null,"SONOITA VALLEY WATER COMPANY","AZ0412308","91-000601.0000","W-20435A","SONOITA VALLEY WATER CO.","A","Sonoita Valley Water Company (NORTH)",null,null,"EAST SLOPE WATER - WEST","AZ0402094","91-000069.0000","W-01906A","EAST SLOPE WATER COMPANY","A","Bob B. Watkins DBA East Slope Water Company - WEST                 "]
[null,null,null,null,null,null,null,null,null,null,null,null,"Yarnell Water Improvement Association, Inc.","W-02255A","PO Box 727","","Yarnell",85362,"AZ","Steve.Kremer@yarnellwater.com;info@yarnellwater.com",null,null,null,null,null,null,null,null,null,"SOUTH MOUNTAIN WATER COMPANY","AZ0411061","91-000545.0000","W-03847A","SOUTH MOUNTAIN WATER COMPANY","A","Casa Grande South Water Company",null,null,"EAST SLOPE WATER COMPANY","AZ0402028","91-000046.0000","W-01906A","EAST SLOPE WATER COMPANY","A","Bob B. Watkins DBA East Slope Water Company"]
[null,null,null,null,null,null,null,null,null,null,null,null,"Yucca Water Association, Inc.","W-01937A","PO Box 575, Frontage Rd.","","Yucca",86438,"AZ","mohavejim@hotmail.com",null,null,null,null,null,null,null,null,null,"SOUTHERN SUNRISE WC - COCHISE/HORSESHOE","AZ0402011","91-000032.0000","W-02465A","LIBERTY UTILITIES","A","SOUTHERN SUNRISE WC COCHISE HORSESHOE   c/o Liberty Utilities (Bella Vista Water) Corp",null,null,"EAST VERDE ESTATES","AZ0404026","91-000130.0000","W-03514A","PAYSON WATER CO","A","Payson Water Co., Inc. - EAST VERDE ESTATES       "]
[null,null,null,null,null,null,null,null,null,null,null,null,null,null,null,null,null,null,null,null,null,null,null,null,null,null,null,null,null,"SOUTHERN SUNRISE WC - MIRACLE VALLEY","AZ0402023","91-000042.0000","W-02465A","LIBERTY UTILITIES","A","SOUTHERN SUNRISE WC MIRACLE VALLEY  c/o Liberty Utilities (Bella Vista Water) Corp",null,null,"EDEN WATER COMPANY INC","AZ0405003","91-000168.0000","W-02068A","EDEN WATER CO","A","Eden Water Company, Inc."]
[null,null,null,null,null,null,null,null,null,null,null,null,null,null,null,null,null,null,null,null,null,null,null,null,null,null,null,null,null,"SOUTHLAND UTL-GOLDEN ACR","AZ0402029","91-000047.0000","W-02062A","SOUTHLAND UTL-GOLDEN ACR","A","Southland Utilities Company, Inc.",null,null,"EHRENBERG IMPROVEMENT ASSN","AZ0415497","91-000755.0000","W-02273A","EHRENBERG IMPROVEMENT ASSN","A","EHRENBERG IMPROVEMENT ASSOC             "]
[null,null,null,null,null,null,null,null,null,null,null,null,null,null,null,null,null,null,null,null,null,null,null,null,null,null,null,null,null,"SPANISH TRAIL WATER COMPANY","AZ0410127","91-000444.0000","W-01816A","SPANISH TRAIL WATER COMPANY","A","Spanish Trail Water Company",null,null,"EL PRADO WATER COMPANY","AZ0414442","91-000737.0000","W-02564A","NANCY MILLER","A","El Prado Water Company, Inc."]
[null,null,null,null,null,null,null,null,null,null,null,null,null,null,null,null,null,null,null,null,null,null,null,null,null,null,null,null,null,"STARLIGHT WATER COMPANY","AZ0403063","91-000102.0000","W-02848A","STARLIGHT WATER","A","Starlight Water Company, Inc.",null,null,"EL RANCHO GRANDE","AZ0409069","91-000398.0000","","TAYLOR, TOWN OF","I",""]
[null,null,null,null,null,null,null,null,null,null,null,null,null,null,null,null,null,null,null,null,null,null,null,null,null,null,null,null,null,"SULGER WATER COMPANY 2","AZ0402120","91-000076.0000","W-02355A","SULGER WATER COMPANY 2","A","Heart Cab Co., Inc. DBA Sulger Water Company #2",null,null,"ELFRIDA DOMESTIC WATER U","AZ0402017","91-000038.0000","","ELFRIDA WATER IMPROVEMENT DISTRICT","A",""]
[null,null,null,null,null,null,null,null,null,null,null,null,null,null,null,null,null,null,null,null,null,null,null,null,null,null,null,null,null,"SUMMER PINES","AZ0409030","91-000384.0000","W-03511A","NAVAJO WATER CO","A","Navajo Water Co., Inc. - SUMMER PINES             ",null,null,"ELOY DETENTION CENTER","AZ0411115","91-000556.0000","","CORRECTIONS CORP OF AMERICA","A",""]
[null,null,null,null,null,null,null,null,null,null,null,null,null,null,null,null,null,null,null,null,null,null,null,null,null,null,null,null,null,"SUN LEISURE EST UTIL CO","AZ0414075","91-000724.0000","W-02386A","SUN LEISURE EST UTIL CO INC","A","Sun Leisure Estates Utilities Company, Inc.",null,null,"EMERY PARK MHP","AZ0420041","91-000762.0000","","BW CAPITAL LLC","A",""]
[null,null,null,null,null,null,null,null,null,null,null,null,null,null,null,null,null,null,null,null,null,null,null,null,null,null,null,null,null,"SUN VALLEY FARMS UNIT VI","AZ0411111","91-000555.0000","W-02425A","SUN VALLEY FARMS UNIT VI","A","Sun Valley Farms Unit VI Water Co., Inc.",null,null,"EMPIRITA WATER SYSTEM","AZ0402122","91-000826.0000","W-03948A","EMPIRITA WATER CO, LLC","A","Empirita Water Company, L.L.C."]
[null,null,null,null,null,null,null,null,null,null,null,null,null,null,null,null,null,null,null,null,null,null,null,null,null,null,null,null,null,"SUNIZONA WATER CO","AZ0402036","91-000051.0000","W-03912A","SUNIZONA WATER CO","A","Narvol D. Bales DBA Sunizona Water Company",null,null,"EPCOR WATER ARIZONA INC- (AGUA FRIA)","AZ0407695","91-000297.0000","WS-01303A","EPCOR","A","EPCOR Water Arizona, Inc. - AGUA FRIA                 "]
[null,null,null,null,null,null,null,null,null,null,null,null,null,null,null,null,null,null,null,null,null,null,null,null,null,null,null,null,null,"SUNLAND WATER COMPANY","AZ0411334","91-000575.0000","W-04015A","SUNLAND WATER COMPANY","A","Great Prairie Oasis, LLC DBA Sunland Water Company",null,null,"EPCOR WATER ARIZONA INC- (NE AGUA FRIA )","AZ0407531","91-000280.0000","WS-01303A","EPCOR","A","EPCOR Water Arizona, Inc. - NORTH EAST AGUA FRIA      "]
[null,null,null,null,null,null,null,null,null,null,null,null,null,null,null,null,null,null,null,null,null,null,null,null,null,null,null,null,null,"SUNRISE VISTA UTILITIES","AZ0408133","91-000350.0000","WS-03586A","SUNRISE VISTAS UTILITIES","A","Sunrise Vistas Utilities Company",null,null,"EPCOR WATER ARIZONA INC- ANTHEM WATER SYSTEM","AZ0407504","91-000269.0000","WS-01303A","EPCOR","A","EPCOR Water Arizona, Inc. - ANTHEM                    "]
[null,null,null,null,null,null,null,null,null,null,null,null,null,null,null,null,null,null,null,null,null,null,null,null,null,null,null,null,null,"SUNRISE WATER COMPANY","AZ0407070","91-000208.0000","W-02069A","SUNRISE WATER COMPANY","A","Sunrise Water Company",null,null,"EPCOR WATER ARIZONA INC- CAMP MOHAVE","AZ0408037","91-000325.0000","WS-01303A","EPCOR","A","EPCOR Water Arizona, Inc. - CAMP MOHAVE               "]
[null,null,null,null,null,null,null,null,null,null,null,null,null,null,null,null,null,null,null,null,null,null,null,null,null,null,null,null,null,"TACNA WATER CO","AZ0414018","91-000714.0000","W-01344A","TACNA WATER CO","A","Tacna Water Management Company",null,null,"EPCOR WATER ARIZONA INC- DESERT FOOTHILLS","AZ0408137","91-000351.0000","WS-01303A","EPCOR","A","EPCOR Water Arizona, Inc. - DESERT FOOTHILLS          "]
[null,null,null,null,null,null,null,null,null,null,null,null,null,null,null,null,null,null,null,null,null,null,null,null,null,null,null,null,null,"TALL PINES ESTATES WATER","AZ0403024","91-000096.0000","W-01976A","TALL PINES ESTATES WATER","A","Tall Pine Estates Water & Improvement Association",null,null,"EPCOR WATER ARIZONA INC- HAVASU","AZ0408015","91-000313.0000","WS-01303A","EPCOR","A","EPCOR Water Arizona, Inc. - LAKE HAVASU               "]
[null,null,null,null,null,null,null,null,null,null,null,null,null,null,null,null,null,null,null,null,null,null,null,null,null,null,null,null,null,"THIM UTILITY","AZ0410351","91-000502.0000","W-03293A","METROPOLITAN DWID","A","Thim Utility Co - RANCHO VISTA     ",null,null,"EPCOR WATER ARIZONA INC- LAKE MOHAVE HIGHLANDS","AZ0408062","91-000335.0000","WS-01303A","EPCOR","A","EPCOR Water Arizona, Inc. - LAKE MOHAVE HIGHLANDS     "]
[null,null,null,null,null,null,null,null,null,null,null,null,null,null,null,null,null,null,null,null,null,null,null,null,null,null,null,null,null,"THIM UTILITY CO","AZ0410117","91-000440.0000","W-03293A","METROPOLITAN DWID","A","Thim Utility Co",null,null,"EPCOR WATER ARIZONA INC- MOHAVE","AZ0408032","91-000322.0000","WS-01303A","EPCOR","A","EPCOR Water Arizona, Inc. - MOHAVE                    "]
[null,null,null,null,null,null,null,null,null,null,null,null,null,null,null,null,null,null,null,null,null,null,null,null,null,null,null,null,null,"THIM UTILITY CO #2","AZ0410228","91-000479.0000","W-03293A","METROPOLITAN DWID","A","Thim Utility Co 2                  ",null,null,"EPCOR WATER ARIZONA INC- PARADISE VALLEY","AZ0407056","91-000202.0000","WS-01303A","EPCOR","A","EPCOR Water Arizona, Inc. - PARADISE VALLEY/SCOTTSDALE"]
[null,null,null,null,null,null,null,null,null,null,null,null,null,null,null,null,null,null,null,null,null,null,null,null,null,null,null,null,null,"THIM UTILITY COMPANY","AZ0410206","91-000473.0000","W-02594A","METROPOLITAN DWID","A","Thim Utility Co - WELL 9           ",null,null,"EPCOR WATER ARIZONA INC- RIO VISTA RANCHES","AZ0408333","91-000357.0000","WS-01303A","EPCOR","A","EPCOR Water Arizona, Inc. - RIO VISTA RANCHES         "]
[null,null,null,null,null,null,null,null,null,null,null,null,null,null,null,null,null,null,null,null,null,null,null,null,null,null,null,null,null,"THIM WATER CORP #2","AZ0410264","91-000483.0000","W-03293A","METROPOLITAN DWID","A","Thim Water Corporation",null,null,"EPCOR WATER ARIZONA INC- SUN CITY WEST","AZ0407150","91-000239.0000","WS-01303A","EPCOR","A","EPCOR Water Arizona, Inc. - SUN CITY WEST             "]
[null,null,null,null,null,null,null,null,null,null,null,null,null,null,null,null,null,null,null,null,null,null,null,null,null,null,null,null,null,"THUNDERBIRD MEADOWS","AZ0413056","91-000641.0000","W-20809A","ACME WATER COMPANY","A","ACME Water, LLC - THUNDERBIRD MEADOWS        ",null,null,"EPCOR WATER ARIZONA INC- TIERRA DEL RIO","AZ0407532","91-000878.0000","WS-01303A","EPCOR","A","EPCOR Water Arizona, Inc. - TIERRA DEL RIO            "]
[null,null,null,null,null,null,null,null,null,null,null,null,null,null,null,null,null,null,null,null,null,null,null,null,null,null,null,null,null,"TIERRA BUENA WATER CO.","AZ0407073","91-000211.0000","W-02076A","TIERRA BUENA WATER CO.","A","Tierra Buena Water Company, Inc.",null,null,"EPCOR WATER ARIZONA INC- TUBAC","AZ0412001","91-000589.0000","WS-01303A","EPCOR","A","EPCOR Water Arizona, Inc. - TUBAC                     "]
[null,null,null,null,null,null,null,null,null,null,null,null,null,null,null,null,null,null,null,null,null,null,null,null,null,null,null,null,null,"TIERRA LINDA HOA WC","AZ0410411","91-000514.0000","W-20810A","GARY SMYTH","A","Tierra Linda Water Company, Inc.",null,null,"EPCOR WATER ARIZONA INC-SUN CITY","AZ0407099","91-000228.0000","WS-01303A","EPCOR","A","EPCOR Water Arizona, Inc. - SUN CITY                  "]
[null,null,null,null,null,null,null,null,null,null,null,null,null,null,null,null,null,null,null,null,null,null,null,null,null,null,null,null,null,"TIERRA MESA ESTATES WTR","AZ0414080","91-000725.0000","W-02498A","NANCY MILLER","A","Tierra Mesa Estates Water Co.",null,null,"ESCAPEES AT NORTH RANCH","AZ0413148","91-000672.0000","WS-03448A","RAINBOW PARKS INC","A","Rainbow Parks, Inc. DBA Escapees at North Ranch"]
[null,null,null,null,null,null,null,null,null,null,null,null,null,null,null,null,null,null,null,null,null,null,null,null,null,null,null,null,null,"TONTO BASIN WATER - LR GARDENS EAST","AZ0404022","91-000128.0000","W-03515A","TONTO BASIN WATER COMPANY","A","Tonto Basin Water Co., Inc. - LR GARDENS EAST     ",null,null,"FAR HORIZONS COOP","AZ0420042","91-000763.0000","","FAR HORIZONS COOP","A",""]
[null,null,null,null,null,null,null,null,null,null,null,null,null,null,null,null,null,null,null,null,null,null,null,null,null,null,null,null,null,"TONTO BASIN WATER - LR GARDENS WEST","AZ0404047","91-000144.0000","W-03515A","TONTO BASIN WATER COMPANY","A","Tonto Basin Water Co., Inc. - LR GARDENS WEST     ",null,null,"FAR HORIZONS EAST","AZ0420443","91-000783.0000","","T3T HOLDINGS, LLC","A",""]
[null,null,null,null,null,null,null,null,null,null,null,null,null,null,null,null,null,null,null,null,null,null,null,null,null,null,null,null,null,"TONTO BASIN WATER - ROOSEVELT LAKE ESTATE","AZ0404036","91-000137.0000","W-03515A","TONTO BASIN WATER COMPANY","A","Tonto Basin Water Co., Inc. ROOSEVELT LAKE ESTATES",null,null,"FAR WEST WATER CO","AZ0414004","91-000709.0000","WS-03478A","FAR WEST WATER CO","A","Far West Water & Sewer, Inc."]
[null,null,null,null,null,null,null,null,null,null,null,null,null,null,null,null,null,null,null,null,null,null,null,null,null,null,null,null,null,"TONTO BASIN WATER- NORTH BAY ESTATES","AZ0404049","91-000145.0000","W-03515A","TONTO BASIN WATER COMPANY","A","Tonto Basin Water Co., Inc. - NORTH BAY ESTATES   ",null,null,"FARMERS WATER CO - CONTINENTAL","AZ0410049","91-000421.0000","W-01654A","FARMERS WATER COMPANY","A","Farmers Water Company CONTINENTAL            "]
[null,null,null,null,null,null,null,null,null,null,null,null,null,null,null,null,null,null,null,null,null,null,null,null,null,null,null,null,null,"TONTO CREEK WATER CO","AZ0404021","91-000127.0000","W-20682A","TONTO CREEK WATER COMPANY LLC","A","Tonto Creek Water Company, LLC",null,null,"FARMERS WATER CO - SAHUARITA","AZ0410048","91-000420.0000","W-01654A","FARMERS WATER COMPANY","A","Farmers Water Company SAHUARITA              "]
[null,null,null,null,null,null,null,null,null,null,null,null,null,null,null,null,null,null,null,null,null,null,null,null,null,null,null,null,null,"TONTO VILLAGE WATER CO","AZ0404023","91-000129.0000","W-01580A","JEFF & DIANNE DANIELS","A","Tonto Village Water Company, Inc. DBA Tonto Village Water Company",null,null,"FARMERS WATER CO - SANTA RITA SPRINGS","AZ0410213","91-000475.0000","W-01654A","FARMERS WATER COMPANY","A","Farmers Water Company SANTA RITA SPRINGS     "]
[null,null,null,null,null,null,null,null,null,null,null,null,null,null,null,null,null,null,null,null,null,null,null,null,null,null,null,null,null,"TORTOLITA WATER COMPANY INC","AZ0410154","91-000457.0000","W-02301A","TORTOLITA WATER COMPANY INC","I","",null,null,"FEDERAL CORRECTION INSTITUTION","AZ0407700","91-000298.0000","","FEDERAL CORRECTION INSTITUTE","A",""]
[null,null,null,null,null,null,null,null,null,null,null,null,null,null,null,null,null,null,null,null,null,null,null,null,null,null,null,null,null,"TRUXTON CANYON WATER CO","AZ0408035","91-000324.0000","W-02168A","CLAUDE NEAL FAMILY TRUST-NEAL,MARK","A","Truxton Canyon Water Company, Inc",null,null,"FEDERAL CORRECTIONAL INST","AZ0410187","91-000470.0000","","US DEPT JUSTICE-FED PRISON SYS","A",""]
[null,null,null,null,null,null,null,null,null,null,null,null,null,null,null,null,null,null,null,null,null,null,null,null,null,null,null,null,null,"TURNER RANCHES WATER","AZ0401053","91-000019.0000","W-01677A","ALPINE DWID","A","Turner Ranches Water & Sanitation Company",null,null,"FESTIVAL RANCH","AZ0407765","91-000816.0000","","CITY OF BUCKEYE","A",""]
[null,null,null,null,null,null,null,null,null,null,null,null,null,null,null,null,null,null,null,null,null,null,null,null,null,null,null,null,null,"VAIL WATER COMPANY","AZ0410041","91-000417.0000","W-01651B","VAIL WATER COMPANY","A","Vail Water Company",null,null,"FISHERS LANDING INC","AZ0414039","91-000720.0000","WS-04047A","FISHERS LANDING INC","A","Fisher's Landing Water and Sewer Works, LLC"]
[null,null,null,null,null,null,null,null,null,null,null,null,null,null,null,null,null,null,null,null,null,null,null,null,null,null,null,null,null,"VALENCIA WATER COMPANY","AZ0407078","91-000213.0000","W-01212A","VALENCIA WATER COMPANY","A","CITY OF BUCKEYE - VALENCIA TOWN DIVISION",null,null,"FLAGSTAFF MEADOWS","AZ0403300","91-000107.0000","WS-04235A","UTILITY SOURCE LLC","A","Utility Source, LLC"]
[null,null,null,null,null,null,null,null,null,null,null,null,null,null,null,null,null,null,null,null,null,null,null,null,null,null,null,null,null,"VALLE VERDE WATER CO","AZ0412009","91-000593.0000","W-01431A","VALLE VERDE WATER COMPANY","A","Valle Verde Water Company - EAST        ",null,null,"FLAGSTAFF RANCH WATER CO","AZ0403088","91-000106.0000","W-02502A","FLAGSTAFF RANCH WATER CO","A","Flagstaff Ranch Water Company, Inc."]
[null,null,null,null,null,null,null,null,null,null,null,null,null,null,null,null,null,null,null,null,null,null,null,null,null,null,null,null,null,"VALLE VERDE WATER CO LOS","AZ0412025","91-000819.0000","W-01431A","SOUTHWESTERN UTILITY MGMT, INC.","I","Valle Verde Water Company - WEST        ",null,null,"FLAGSTAFF, CITY OF","AZ0403008","91-000086.0000","","FLAGSTAFF, CITY OF","A",""]
[null,null,null,null,null,null,null,null,null,null,null,null,null,null,null,null,null,null,null,null,null,null,null,null,null,null,null,null,null,"VALLEY PIONEERS WC, INC","AZ0408038","91-000326.0000","W-02033A","VALLEY PIONEERS WATER CO","A","Valley Pioneer's Water Company, Inc.",null,null,"FLOWING WELLS IRRIGATION DIST","AZ0410051","91-000422.0000","","FLOWING WELLS IRRIGATION DIST","A",""]
[null,null,null,null,null,null,null,null,null,null,null,null,null,null,null,null,null,null,null,null,null,null,null,null,null,null,null,null,null,"VALLEY UTILITIES WATER COMPANY","AZ0407079","91-000214.0000","W-01412A","VALLEY UTILITIES WATER COMPANY","A","Valley Utilities Water Company, Inc.",null,null,"FOOTHILLS MHP","AZ0407602","91-000282.0000","","FOOTHILLS MHP","I",""]
[null,null,null,null,null,null,null,null,null,null,null,null,null,null,null,null,null,null,null,null,null,null,null,null,null,null,null,null,null,"VALLEY VIEW WATER COMPANY","AZ0407677","91-000294.0000","W-02148A","FMF PROPERTY LLC","A","Valley View Water Company",null,null,"FOOTHILLS VISTA MHC","AZ0420575","91-000805.0000","","CAMMIES FOOTHILL VISTA LLC","A",""]
[null,null,null,null,null,null,null,null,null,null,null,null,null,null,null,null,null,null,null,null,null,null,null,null,null,null,null,null,null,"VERDE LAKES WTR-STILL WTR","AZ0413513","91-000706.0000","W-02372A","VERDE LAKES WATER CORP","A","Verde Lakes Water Corporation - STILLWATER          ",null,null,"FOREST HIGHLANDS WATER CO","AZ0403073","91-000104.0000","W-02493A","FOREST HIGHLANDS WATER CO","A","Forest Highlands Water Company"]
[null,null,null,null,null,null,null,null,null,null,null,null,null,null,null,null,null,null,null,null,null,null,null,null,null,null,null,null,null,"VERDE LEE WATER CO","AZ0406004","91-000176.0000","W-02096A","VERDE LEE WATER COMPANY","A","Forrest G. & Alice W. Wilkerson DBA Verde Lee Water Co., Inc.",null,null,"FOREST LAKES WATER IMPROV","AZ0403032","91-000098.0000","","DWID","A",""]
[null,null,null,null,null,null,null,null,null,null,null,null,null,null,null,null,null,null,null,null,null,null,null,null,null,null,null,null,null,"VERDE LKS WATER-CLEAR CK","AZ0413130","91-000668.0000","W-02372A","VERDE LAKES WATER CORP","A","Verde Lakes Water Corporation - BIG VALLEY          ",null,null,"FORT MOJAVE TRIBAL UTIL","AZ0408003","91-000308.0000","W-02524A","FORT MOJAVE TRIBAL UTILITIES","A","Fort Mojave Tribal Utilities Authority"]
[null,null,null,null,null,null,null,null,null,null,null,null,null,null,null,null,null,null,null,null,null,null,null,null,null,null,null,null,null,"VERDE LKS WATER-VERDE LKS","AZ0413059","91-000644.0000","W-02372A","VERDE LAKES WATER CORP","A","Verde Lakes Water Corporation - DINKY CREEK         ",null,null,"FRANCESCA WATER-AMBER ANN","AZ0410317","91-000496.0000","W-03945A","SOUTHWESTERN UTILITY MGMT INC","A","Francesca Water Company, Inc. AMBER ANN            "]
[null,null,null,null,null,null,null,null,null,null,null,null,null,null,null,null,null,null,null,null,null,null,null,null,null,null,null,null,null,"VERNON VALLEY WATER CO","AZ0401054","91-000020.0000","W-20540A","VERNON VALLEY WATER CO","A","Vernon Valley Water, Inc.",null,null,"FRANCESCA WATER-TALA WAY","AZ0410283","91-000492.0000","W-03945A","FRANCESCA WATER-TALA WAY","A","Francesca Water Company, Inc. TALA  WAY       "]
[null,null,null,null,null,null,null,null,null,null,null,null,null,null,null,null,null,null,null,null,null,null,null,null,null,null,null,null,null,"VIRGIN MOUNTAIN UTILITIES","AZ0408173","91-000356.0000","W-03551A","VIRGIN MOUNTAIN UTILITIES","A","Virgin Mountain Utilities Company, Inc.",null,null,"FREDONIA, TOWN OF","AZ0403009","91-000087.0000","","FREDONIA, TOWN OF","A",""]
[null,null,null,null,null,null,null,null,null,null,null,null,null,null,null,null,null,null,null,null,null,null,null,null,null,null,null,null,null,"VOYAGER WATER COMPANY","AZ0410035","91-000416.0000","W-02104A","VOYAGER WATER COMPANY","A","Voyager Water Company",null,null,"FREEPORT MCMORAN - TOWN OF BAGDAD","AZ0413011","91-000608.0000","","FREEPORT MCMORAN BAGDAD, INC","A",""]
[null,null,null,null,null,null,null,null,null,null,null,null,null,null,null,null,null,null,null,null,null,null,null,null,null,null,null,null,null,"WALDEN MEADOWS COMM COOP","AZ0413184","91-000676.0000","W-02369A","WALDEN MEADOWS COMM CO-OP","A","Walden Meadows Community Co-Op",null,null,"FREEPORT MCMORAN COPPER AND GOLD, INC. - AJO IMPR*","AZ0410001","91-000410.0000","WS-01025A","FREEPORT MCMORAN COPPER AND GOLD, INC. - AJO IMPR*","A","Ajo Improvement Company"]
[null,null,null,null,null,null,null,null,null,null,null,null,null,null,null,null,null,null,null,null,null,null,null,null,null,null,null,null,null,"WALNUT CREEK WATER CO","AZ0408078","91-000341.0000","W-02466A","WALNUT CREEK WATER CO","A","Walnut Creek Water Company, Inc.",null,null,"G & L MOBILE PARK","AZ0414463","91-000739.0000","","PCH ENTERPRISES LLC","A",""]
[null,null,null,null,null,null,null,null,null,null,null,null,null,null,null,null,null,null,null,null,null,null,null,null,null,null,null,null,null,"WATER UTILITY OF GREATER TONOPAH, INC.","AZ0407071","91-000209.0000","W-02450A","WATER UTILITY OF GREATER TONOPAH, INC","A","Water Utility of Greater Tonopah, LLC. SUNSHINE  ",null,null,"G LAZY B MOBILE HOME PARK","AZ0407493","91-000267.0000","","G LAZY B MOBILE HOME PARK","A",""]
[null,null,null,null,null,null,null,null,null,null,null,null,null,null,null,null,null,null,null,null,null,null,null,null,null,null,null,null,null,"WATER UTILITY OF NORTHERN SCOTTSDALE","AZ0407179","91-000243.0000","W-03720A","WATER UTILITY OF NORTHERN SCOTTSDALE","A","Water Utility of Northern Scottsdale, LLC",null,null,"GADSDEN WC","AZ0414037","91-000719.0000","W-02205A","GADSDEN WATER CO","A","Gadsden Water Company, Inc."]
[null,null,null,null,null,null,null,null,null,null,null,null,null,null,null,null,null,null,null,null,null,null,null,null,null,null,null,null,null,"WEST END WATER COMPANY","AZ0407067","91-000206.0000","W-01157A","WEST END WATER COMPANY","A","West End Water Co. - WITTMAN        ",null,null,"GAMBEL QUAIL MH & RV PARK","AZ0413193","91-000679.0000","","GAMBEL QUAIL MH & RV PARK","A",""]
[null,null,null,null,null,null,null,null,null,null,null,null,null,null,null,null,null,null,null,null,null,null,null,null,null,null,null,null,null,"WEST PHOENIX ESTATES #6","AZ0407733","91-000302.0000","W-02450A","WATER UTILITY OF GREATER TONOPAH, INC","A","Water Utility of Greater Tonopah, LLC. WEST PHOENIX ESTATES 6 DWID      ",null,null,"GARDEN CITY LODGE & MOTEL","AZ0407339","91-000253.0000","","MALCOLM & SHUBECK","I",""]
[null,null,null,null,null,null,null,null,null,null,null,null,null,null,null,null,null,null,null,null,null,null,null,null,null,null,null,null,null,"WEST VILLAGE WATER CO","AZ0403021","91-000095.0000","W-03211A","WEST VILLAGE WATER CO","A","F. Wayne Thompson and Dorothy Thompson DBA West Village Water Company",null,null,"GARDNER WC","AZ0404038","91-000139.0000","W-20459A","UTILITY SYSTEMS, LLC","A","Utility Systems, LLC DBA Christopher Creek Haven Water / Gardner Water"]
[null,null,null,null,null,null,null,null,null,null,null,null,null,null,null,null,null,null,null,null,null,null,null,null,null,null,null,null,null,"WESTEND WATER CO-WHEAT","AZ0407167","91-000241.0000","W-01157A","WEST END WATER CO","A","West End Water Co. - WHEAT          ",null,null,"GARIGONS GULCH WATER COOP","AZ0410481","91-000874.0000","","GARIGANS GULCH WATER COOP","A",""]
[null,null,null,null,null,null,null,null,null,null,null,null,null,null,null,null,null,null,null,null,null,null,null,null,null,null,null,null,null,"WHISPERING PINES","AZ0404039","91-000140.0000","W-03514A","PAYSON WATER CO","A","Payson Water Co., Inc. - WHISPERING PINES         ",null,null,"GATOR WATER CO","AZ0410445","91-000517.0000","","GATOR WATER CO","A",""]
[null,null,null,null,null,null,null,null,null,null,null,null,null,null,null,null,null,null,null,null,null,null,null,null,null,null,null,null,null,"WHITE HILLS WC, INC.","AZ0408039","91-000327.0000","W-01982A","WHITE HILLS WATER CO INC","A","White Hills Water Company, Inc. UNITS 3 4 6   ",null,null,"GERMANN WATER USERS ASSOC","AZ0407296","91-000250.0000","","GERMANN WTR USERS ASSN","A",""]
[null,null,null,null,null,null,null,null,null,null,null,null,null,null,null,null,null,null,null,null,null,null,null,null,null,null,null,null,null,"WHITE HILLS WTR CO INC 1","AZ0408149","91-000836.0000","W-01982A","WHITE HILLS WATER CO INC","A","White Hills Water Company, Inc. UNIT 1        ",null,null,"GERONIMO ESTATES","AZ0404028","91-000132.0000","W-03514A","PAYSON WATER CO","A","Payson Water Co., Inc. - GERONIMO ESTATES         "]
[null,null,null,null,null,null,null,null,null,null,null,null,null,null,null,null,null,null,null,null,null,null,null,null,null,null,null,null,null,"WHITE HORSE RANCH OWNERS ASSN","AZ0413221","91-000682.0000","W-04161A","WHITE HORSE RANCH OWNERS ASSN","A","White Horse Ranch Owners Association, Inc.",null,null,"GHR LANDOWNERS ASSN WATER COOP","AZ0408150","91-000354.0000","","GHR LANDOWNERS ASSN WATER COOP","A",""]
[null,null,null,null,null,null,null,null,null,null,null,null,null,null,null,null,null,null,null,null,null,null,null,null,null,null,null,null,null,"WHITE MOUNTAIN LAKES EST","AZ0409034","91-000387.0000","W-01983A","VOYAGER AT WHITE MOUNTAIN LAKES WATER CO.","A","Voyager at White Mountain Lakes Water Company, Inc.",null,null,"GILA BEND, TOWN OF","AZ0407069","91-000207.0000","","GILA BEND, TOWN OF- BILL MENARD","A",""]
[null,null,null,null,null,null,null,null,null,null,null,null,null,null,null,null,null,null,null,null,null,null,null,null,null,null,null,null,null,"WHITE MOUNTAIN WATER CO","AZ0409330","91-000406.0000","W-02470A","WHITE MOUNTAIN WATER CO","A","White Mountain Water Company",null,null,"GILBERT & RIGG WELL COOP","AZ0407903","91-000305.0000","","GILBERT & RIGGS WELL COOP","A",""]
[null,null,null,null,null,null,null,null,null,null,null,null,null,null,null,null,null,null,null,null,null,null,null,null,null,null,null,null,null,"WILLOW LAKES PROPERTY OWNERS ASSOCIATION","AZ0402042","91-000056.0000","W-02173A","WILLOW LAKES TRUSTEES","A","Willow Lakes Property Owners Association, Inc.",null,null,"GILPINS TRAILER PARK","AZ0413435","91-000705.0000","","GILPINS TRAILER PARK","I",""]
[null,null,null,null,null,null,null,null,null,null,null,null,null,null,null,null,null,null,null,null,null,null,null,null,null,null,null,null,null,"WILLOW VALLEY WC-KING STREET","AZ0408040","91-000328.0000","WS-01303A","EPCOR","A","EPCOR Water Arizona, Inc. - WILLOW VALLEY / KING STREET ",null,null,"GISELA","AZ0404346","91-000164.0000","W-03514A","PAYSON WATER CO","A","Payson Water Co., Inc. - GISELA                   "]
[null,null,null,null,null,null,null,null,null,null,null,null,null,null,null,null,null,null,null,null,null,null,null,null,null,null,null,null,null,"WILLOW VALLEY WC-LAKE CIMARRON","AZ0408129","91-000349.0000","WS-01303A","EPCOR","A","EPCOR Water Arizona, Inc. - WILLOW VALLEY/LAKE CIMARRON",null,null,"GLADDEN RV PARK","AZ0407038","91-000196.0000","","GLADDEN RV PARK","I",""]
[null,null,null,null,null,null,null,null,null,null,null,null,null,null,null,null,null,null,null,null,null,null,null,null,null,null,null,null,null,"WINCHESTER WATER CO. LLC","AZ0402110","91-000074.0000","W-04081A","WINCHESTER WATER CO. LLC","A","Winchester Water Company, L.L.C.",null,null,"GLEN CANYON NRA-WAHWEAP","AZ0403712","91-000116.0000","","GLEN CANYON NRA","A",""]
[null,null,null,null,null,null,null,null,null,null,null,null,null,null,null,null,null,null,null,null,null,null,null,null,null,null,null,null,null,"WOODRUFF DOMESTIC WTR CO","AZ0409050","91-000394.0000","W-04264A","WOODRUFF DWID","A","Woodruff Water Company, Inc.",null,null,"GLOBAL WATER-CP WATER CO","AZ0411151","91-000883.0000","W-20446A","CP WATER COMPNAY","A","Global Water-Santa Cruz Water Company"]
[null,null,null,null,null,null,null,null,null,null,null,null,null,null,null,null,null,null,null,null,null,null,null,null,null,null,null,null,null,"WORDEN WATER CO","AZ0410132","91-000447.0000","W-20391A","WORDEN WATER CO","A","Janice E. Worden and Lawrence A. Worden DBA Worden Water Company",null,null,"GLOBE, CITY OF","AZ0404008","91-000122.0000","","GLOBE, CITY OF","A",""]
[null,null,null,null,null,null,null,null,null,null,null,null,null,null,null,null,null,null,null,null,null,null,null,null,null,null,null,null,null,"WUGT - BUCKEYE RANCH","AZ0407618","91-000285.0000","W-02450A","WATER UTILITY OF GREATER TONOPAH","A","Water Utility of Greater Tonopah, LLC.  B D BUCKEYE RANCH DWID             ",null,null,"GOLDEN CORRIDOR WATER CO","AZ0411107","91-000554.0000","W-02497A","ARIZONA WATER CO","A","Golden Corridor Water Company"]
[null,null,null,null,null,null,null,null,null,null,null,null,null,null,null,null,null,null,null,null,null,null,null,null,null,null,null,null,null,"WUGT - DIXIE WELL","AZ0407030","91-000192.0000","W-02450A","WATER UTILITY OF GREATER TONOPAH, INC","A","Water Utility of Greater Tonopah, LLC. DIXIE WATER COMPANY ",null,null,"GOLDEN SHORES WATER CO","AZ0408024","91-000319.0000","W-01815A","GOLDEN SHORES WATER CO","A","Golden Shores Water Company, Inc."]
[null,null,null,null,null,null,null,null,null,null,null,null,null,null,null,null,null,null,null,null,null,null,null,null,null,null,null,null,null,"WUGT - GARDEN CITY","AZ0407037","91-000195.0000","W-02450A","WATER UTILITY OF GREATER TONOPAH, INC","A","Water Utility of Greater Tonopah, LLC. GARDEN ",null,null,"GOLDEN VALLEY IMP DIST #1","AZ0408081","91-000343.0000","","C/O MOHAVE COUNTY PUBLIC WORKS","A",""]
[null,null,null,null,null,null,null,null,null,null,null,null,null,null,null,null,null,null,null,null,null,null,null,null,null,null,null,null,null,"WUGT - ROSE VIEW WELL","AZ0407082","91-000216.0000","W-02450A","WATER UTILITY OF GREATER TONOPAH, INC","A","Water Utility of Greater Tonopah, LLC. ROSEVIEW WATER COMPANY             ",null,null,"GOOD TIMES CAFE","AZ0411055","91-000847.0000","","CGL PROPERTIES LLC","I",""]
[null,null,null,null,null,null,null,null,null,null,null,null,null,null,null,null,null,null,null,null,null,null,null,null,null,null,null,null,null,"YARNELL WATER IMPROVEMENT ASSN","AZ0413057","91-000642.0000","W-02255A","YARNELL WATER IMPROVEMENT ASSN","A","Yarnell Water Improvement Association, Inc.",null,null,"GOODMAN WATER COMPANY","AZ0411130","91-000561.0000","W-02500A","GOODMAN WATER COMPANY","A","Goodman Water Company"]
[null,null,null,null,null,null,null,null,null,null,null,null,null,null,null,null,null,null,null,null,null,null,null,null,null,null,null,null,null,"YAVAPAI ESTATES","AZ0413077","91-000652.0000","W-20809A","ACME WATER COMPANY","A","ACME Water, LLC",null,null,"GRAHAM COUNTY UTILITIES","AZ0405002","91-000167.0000","W-02527A","GRAHAM COUNTY UTILITIES - PIMA","A","Graham County Utilities, Inc. - PIMA          "]
[null,null,null,null,null,null,null,null,null,null,null,null,null,null,null,null,null,null,null,null,null,null,null,null,null,null,null,null,null,"YUCCA WATER ASSOCIATION","AZ0408042","91-000330.0000","W-01937A","YUCCA WATER ASSOC","A","Yucca Water Association, Inc.",null,null,"GRAHAM COUNTY UTILITIES","AZ0405001","91-000166.0000","W-02527A","GRAHAM COUNTY UTILITIES - FORT THOMAS","A","Graham County Utilities, Inc. - FORT THOMAS     "]
[null,null,null,null,null,null,null,null,null,null,null,null,null,null,null,null,null,null,null,null,null,null,null,null,null,null,null,null,null,"NA","NA","NA","NA","NA","NA","NA",null,null,"GRAND CANYON CAVERNS","AZ0403112","91-000860.0000","W-04120A","GRAND CANYON CAVERNS","I","Grand Canyon Caverns and Inn, LLC"]
[null,null,null,null,null,null,null,null,null,null,null,null,null,null,null,null,null,null,null,null,null,null,null,null,null,null,null,null,null,"NA","NA","NA","NA","NA","NA","NA",null,null,"GRAND CANYON NP","AZ0403702","91-000115.0000","","GRAND CANYON NP","A",""]
[null,null,null,null,null,null,null,null,null,null,null,null,null,null,null,null,null,null,null,null,null,null,null,null,null,null,null,null,null,null,null,null,null,null,null,null,null,null,"GRANDVIEW WATER CO INC","AZ0407039","91-000197.0000","W-01959A","GRANDVIEW RANCHES INC","A","Grandview Water Company, Inc."]
[null,null,null,null,null,null,null,null,null,null,null,null,null,null,null,null,null,null,null,null,null,null,null,null,null,null,null,null,null,null,null,null,null,null,null,null,null,null,"GRANITE DELLS WATER CO","AZ0413030","91-000869.0000","W-01670A","GRANITE DELLS WATER CO","A","Granite Dells Water Company"]
[null,null,null,null,null,null,null,null,null,null,null,null,null,null,null,null,null,null,null,null,null,null,null,null,null,null,null,null,null,null,null,null,null,null,null,null,null,null,"GRANITE MOUNTAIN WATER COMPANY","AZ0413150","91-000673.0000","W-02467A","GRANITE MOUNTAIN WATER COMPANY","A","Granite Mountain Water Company"]
[null,null,null,null,null,null,null,null,null,null,null,null,null,null,null,null,null,null,null,null,null,null,null,null,null,null,null,null,null,null,null,null,null,null,null,null,null,null,"GRANITE OAKS WATER USERS ASSOC","AZ0413155","91-000675.0000","W-02539A","GRANITE OAKS WATER USERS ASSOC","A","Granite Oaks Water Users Association"]
[null,null,null,null,null,null,null,null,null,null,null,null,null,null,null,null,null,null,null,null,null,null,null,null,null,null,null,null,null,null,null,null,null,null,null,null,null,null,"GRANITE PARK HOMEOWNERS ASSOCIATION","AZ0413365","91-000904.0000","","GRANITE PARK HOMEOWNERS ASSOCIATION","A",""]
[null,null,null,null,null,null,null,null,null,null,null,null,null,null,null,null,null,null,null,null,null,null,null,null,null,null,null,null,null,null,null,null,null,null,null,null,null,null,"GREEN ACRES WATER CO","AZ0414065","91-000721.0000","W-02271A","GREEN ACRES WATER CO","A","Green Acres Water Company"]
[null,null,null,null,null,null,null,null,null,null,null,null,null,null,null,null,null,null,null,null,null,null,null,null,null,null,null,null,null,null,null,null,null,null,null,null,null,null,"GREEN VALLEY DOMESTIC WID","AZ0410157","91-000458.0000","","GREEN VALLEY DWID","A",""]
[null,null,null,null,null,null,null,null,null,null,null,null,null,null,null,null,null,null,null,null,null,null,null,null,null,null,null,null,null,null,null,null,null,null,null,null,null,null,"GREENEHAVEN WATER CO","AZ0403037","91-000099.0000","W-02325A","GREENEHAVEN DEVELOPMENT","A","Greenehaven Water Company, Inc."]
[null,null,null,null,null,null,null,null,null,null,null,null,null,null,null,null,null,null,null,null,null,null,null,null,null,null,null,null,null,null,null,null,null,null,null,null,null,null,"GREENFIELD RANCHETTES","AZ0407492","91-000266.0000","","GREENFIELD RANCHETTES","A",""]
[null,null,null,null,null,null,null,null,null,null,null,null,null,null,null,null,null,null,null,null,null,null,null,null,null,null,null,null,null,null,null,null,null,null,null,null,null,null,"GRILLEYS DESERT HIDEOUT","AZ0411396","91-000581.0000","","GRILLEYS DESERT HIDEOUT","I",""]
[null,null,null,null,null,null,null,null,null,null,null,null,null,null,null,null,null,null,null,null,null,null,null,null,null,null,null,null,null,null,null,null,null,null,null,null,null,null,"GROOM CREEK WATER USERS","AZ0413040","91-000629.0000","W-01865A","GROOM CREEK WATER USERS ASSOC","A","Groom Creek Water Users Association"]
[null,null,null,null,null,null,null,null,null,null,null,null,null,null,null,null,null,null,null,null,null,null,null,null,null,null,null,null,null,null,null,null,null,null,null,null,null,null,"H2O WATER COMPANY,INC.","AZ0411060","91-000544.0000","","H2O, INC.","I",""]
[null,null,null,null,null,null,null,null,null,null,null,null,null,null,null,null,null,null,null,null,null,null,null,null,null,null,null,null,null,null,null,null,null,null,null,null,null,null,"HACIENDA DEL SOL MHP","AZ0407366","91-000255.0000","","HACIENDA DEL SOL, LLP","A",""]
[null,null,null,null,null,null,null,null,null,null,null,null,null,null,null,null,null,null,null,null,null,null,null,null,null,null,null,null,null,null,null,null,null,null,null,null,null,null,"HALCYON ACRES NO. 2","AZ0410058","91-000424.0000","W-02312A","HALCYON ACRES NO. 2","A","Halcyon Acres Annex No. 2 Water Company, Inc."]
[null,null,null,null,null,null,null,null,null,null,null,null,null,null,null,null,null,null,null,null,null,null,null,null,null,null,null,null,null,null,null,null,null,null,null,null,null,null,"HALCYON ACRES WATER USERS ASSO","AZ0410057","91-000423.0000","W-01953A","HALCYON ACRES WATER USERS ASSN","A","Halcyon Acres Water Users Association, Inc."]
[null,null,null,null,null,null,null,null,null,null,null,null,null,null,null,null,null,null,null,null,null,null,null,null,null,null,null,null,null,null,null,null,null,null,null,null,null,null,"HARDYVILLE MANOR","AZ0408342","91-000359.0000","","HARDYVILLE MANOR","A",""]
[null,null,null,null,null,null,null,null,null,null,null,null,null,null,null,null,null,null,null,null,null,null,null,null,null,null,null,null,null,null,null,null,null,null,null,null,null,null,"HARRISBURG UTILITY CO.","AZ0415029","91-000749.0000","W-02169A","HARRISBURG UTILITY CO.","A","Harrisburg Utility Company, Inc."]
[null,null,null,null,null,null,null,null,null,null,null,null,null,null,null,null,null,null,null,null,null,null,null,null,null,null,null,null,null,null,null,null,null,null,null,null,null,null,"HATCH VALLEY WATER CO","AZ0408014","91-000312.0000","","HATCH VALLEY DWID","A",""]
[null,null,null,null,null,null,null,null,null,null,null,null,null,null,null,null,null,null,null,null,null,null,null,null,null,null,null,null,null,null,null,null,null,null,null,null,null,null,"HAV PROPERTIES LLC (FKA: DEROSE TRAILER PARK)","AZ0404356","91-000165.0000","","HAV PROPERTIES LLC","A",""]
[null,null,null,null,null,null,null,null,null,null,null,null,null,null,null,null,null,null,null,null,null,null,null,null,null,null,null,null,null,null,null,null,null,null,null,null,null,null,"HAVASU HEIGHTS DWID","AZ0408026","91-000321.0000","","HAVASU HEIGHTS DWID","A",""]
[null,null,null,null,null,null,null,null,null,null,null,null,null,null,null,null,null,null,null,null,null,null,null,null,null,null,null,null,null,null,null,null,null,null,null,null,null,null,"HAYDEN, TOWN OF","AZ0404054","91-000146.0000","","HAYDEN, TOWN OF","A",""]
[null,null,null,null,null,null,null,null,null,null,null,null,null,null,null,null,null,null,null,null,null,null,null,null,null,null,null,null,null,null,null,null,null,null,null,null,null,null,"HEBER DOMESTIC WID","AZ0409014","91-000371.0000","","HEBER DWID","A",""]
[null,null,null,null,null,null,null,null,null,null,null,null,null,null,null,null,null,null,null,null,null,null,null,null,null,null,null,null,null,null,null,null,null,null,null,null,null,null,"HECKETHORN WATER COMPANY","AZ0403011","91-000089.0000","W-03782A","HECKETHORN WATER CO","A","William F. Lesko DBA Heckethorn Water Company"]
[null,null,null,null,null,null,null,null,null,null,null,null,null,null,null,null,null,null,null,null,null,null,null,null,null,null,null,null,null,null,null,null,null,null,null,null,null,null,"HIDDEN HOLLOW MOBILE HOM","AZ0403362","91-000111.0000","","HIDDEN HOLLOW MHC LLC","A",""]
[null,null,null,null,null,null,null,null,null,null,null,null,null,null,null,null,null,null,null,null,null,null,null,null,null,null,null,null,null,null,null,null,null,null,null,null,null,null,"HIDDEN MEADOW RANCH","AZ0401024","91-000014.0000","","PINETOP WATER COM FACILITY DISTRICT","I",""]
[null,null,null,null,null,null,null,null,null,null,null,null,null,null,null,null,null,null,null,null,null,null,null,null,null,null,null,null,null,null,null,null,null,null,null,null,null,null,"HIDDEN SHORES RV VILLAGE","AZ0414345","91-000730.0000","","HIDDEN SHORES RV VILLAGE","I",""]
[null,null,null,null,null,null,null,null,null,null,null,null,null,null,null,null,null,null,null,null,null,null,null,null,null,null,null,null,null,null,null,null,null,null,null,null,null,null,"HIDDEN VLY FARMETTES DWID","AZ0411123","91-000559.0000","","HIDDEN VALLEY FARMETTES DWID","I",""]
[null,null,null,null,null,null,null,null,null,null,null,null,null,null,null,null,null,null,null,null,null,null,null,null,null,null,null,null,null,null,null,null,null,null,null,null,null,null,"HIGH CHAPARRAL WATER COOP","AZ0410282","91-000491.0000","","HIGH CHAPARRAL WATER CO-OP","A",""]
[null,null,null,null,null,null,null,null,null,null,null,null,null,null,null,null,null,null,null,null,null,null,null,null,null,null,null,null,null,null,null,null,null,null,null,null,null,null,"HIGH COUNTRY PINES WATER","AZ0409329","91-000405.0000","W-02448A","HIGH COUNTRY PINES WTR CO INC","A","High Country Pines Water Company, Inc."]
[null,null,null,null,null,null,null,null,null,null,null,null,null,null,null,null,null,null,null,null,null,null,null,null,null,null,null,null,null,null,null,null,null,null,null,null,null,null,"HIGHLAND PINES DOMESTIC WATER","AZ0413034","91-000623.0000","","HIGHLAND PINES DOMESTIC WATER IMPROVEMENT DISTRICT","A",""]
[null,null,null,null,null,null,null,null,null,null,null,null,null,null,null,null,null,null,null,null,null,null,null,null,null,null,null,null,null,null,null,null,null,null,null,null,null,null,"HILDALE/COLORADO CITY","AZ0408008","91-000311.0000","","WATER DEPT OF HILDALE","I",""]
[null,null,null,null,null,null,null,null,null,null,null,null,null,null,null,null,null,null,null,null,null,null,null,null,null,null,null,null,null,null,null,null,null,null,null,null,null,null,"HILLCREST WATER COMPANY","AZ0415026","91-000747.0000","W-02128A","HILLCREST WATER COMPANY","A","Hillcrest Water Company"]
[null,null,null,null,null,null,null,null,null,null,null,null,null,null,null,null,null,null,null,null,null,null,null,null,null,null,null,null,null,null,null,null,null,null,null,null,null,null,"HOLBROOK, CITY OF","AZ0409015","91-000372.0000","","CITY OF HOLBROOK","A",""]
[null,null,null,null,null,null,null,null,null,null,null,null,null,null,null,null,null,null,null,null,null,null,null,null,null,null,null,null,null,null,null,null,null,null,null,null,null,null,"HOLIDAY HILLS DOM WATER IMPR DIST","AZ0413035","91-000624.0000","","HOLIDAY HILLS DOM WATER IMPR DIST","A","HOLIDAY HILLS  DWID                     "]
[null,null,null,null,null,null,null,null,null,null,null,null,null,null,null,null,null,null,null,null,null,null,null,null,null,null,null,null,null,null,null,null,null,null,null,null,null,null,"HOLIDAY HILLS DWID","AZ0413035","91-000888.0000","","HOLIDAY HILLS DWID","I","HOLIDAY HILLS  DWID                     "]
[null,null,null,null,null,null,null,null,null,null,null,null,null,null,null,null,null,null,null,null,null,null,null,null,null,null,null,null,null,null,null,null,null,null,null,null,null,null,"HOLIDAY HILLS MHP","AZ0404342","91-000162.0000","","TEEMER PROPERTIES","A",""]
[null,null,null,null,null,null,null,null,null,null,null,null,null,null,null,null,null,null,null,null,null,null,null,null,null,null,null,null,null,null,null,null,null,null,null,null,null,null,"HOLIDAY PALMS RV PARK","AZ0415437","91-000856.0000","","GRAPEVINE 7 INC","I",""]
[null,null,null,null,null,null,null,null,null,null,null,null,null,null,null,null,null,null,null,null,null,null,null,null,null,null,null,null,null,null,null,null,null,null,null,null,null,null,"HOLIDAY WATER COMPANY","AZ0402018","91-000039.0000","W-01896A","CAROL E. COWAN","A","Holiday Enterprises Incorporated DBA Holiday Water Company"]
[null,null,null,null,null,null,null,null,null,null,null,null,null,null,null,null,null,null,null,null,null,null,null,null,null,null,null,null,null,null,null,null,null,null,null,null,null,null,"HOLY TRINITY MONASTERY","AZ0402367","91-000079.0000","","HOLY TRINITY MONASTERY","I",""]
[null,null,null,null,null,null,null,null,null,null,null,null,null,null,null,null,null,null,null,null,null,null,null,null,null,null,null,null,null,null,null,null,null,null,null,null,null,null,"HOMEOWNER'S WATER COOP","AZ0420481","91-000788.0000","","HOMEOWNERS COOP","I",""]
[null,null,null,null,null,null,null,null,null,null,null,null,null,null,null,null,null,null,null,null,null,null,null,null,null,null,null,null,null,null,null,null,null,null,null,null,null,null,"HOPEVILLE COMM WATER CO","AZ0407633","91-000289.0000","","HOPEVILLE COMMUNITY WATER CO","A","HOPEVILLE WATER SYSTEM  - City of Buckeye                "]
[null,null,null,null,null,null,null,null,null,null,null,null,null,null,null,null,null,null,null,null,null,null,null,null,null,null,null,null,null,null,null,null,null,null,null,null,null,null,"HORIZON SIX DWID","AZ0408122","91-000347.0000",""," ","A",""]
[null,null,null,null,null,null,null,null,null,null,null,null,null,null,null,null,null,null,null,null,null,null,null,null,null,null,null,null,null,null,null,null,null,null,null,null,null,null,"HORSESHOE RANCH WATER CO","AZ0402046","91-000060.0000","","HORSESHOE RANCH WATER CO","I",""]
[null,null,null,null,null,null,null,null,null,null,null,null,null,null,null,null,null,null,null,null,null,null,null,null,null,null,null,null,null,null,null,null,null,null,null,null,null,null,"HUACHUCA CITY","AZ0402019","91-000040.0000","","HUACHUCA CITY","A",""]
[null,null,null,null,null,null,null,null,null,null,null,null,null,null,null,null,null,null,null,null,null,null,null,null,null,null,null,null,null,null,null,null,null,null,null,null,null,null,"HUMBOLDT WATER CO","AZ0413052","91-000639.0000","W-02197A","HUMBOLDT WATER CO","A","Humboldt Water Systems,  Inc."]
[null,null,null,null,null,null,null,null,null,null,null,null,null,null,null,null,null,null,null,null,null,null,null,null,null,null,null,null,null,null,null,null,null,null,null,null,null,null,"HYDRO RESOURCES-TUSAYAN","AZ0403312","91-000109.0000","W-20770A","HYDRO-RESOURCES INC","A","Hydro-Resources, Inc."]
[null,null,null,null,null,null,null,null,null,null,null,null,null,null,null,null,null,null,null,null,null,null,null,null,null,null,null,null,null,null,null,null,null,null,null,null,null,null,"I-40 INDUSTRIAL WATER SYS","AZ0408154","91-000355.0000","","C/O MOHAVE COUNTY PUBLIC WORKS","A",""]
[null,null,null,null,null,null,null,null,null,null,null,null,null,null,null,null,null,null,null,null,null,null,null,null,null,null,null,null,null,null,null,null,null,null,null,null,null,null,"I-8 CORP WATER SYSTEM","AZ0411375","91-000578.0000","","I-8 CORP WATER","I",""]
[null,null,null,null,null,null,null,null,null,null,null,null,null,null,null,null,null,null,null,null,null,null,null,null,null,null,null,null,null,null,null,null,null,null,null,null,null,null,"ICR TALKING ROCK","AZ0413263","91-000686.0000","W-02824A","ICR WATER USERS ASSOCIATION","A","ICR Water Users Association"]
[null,null,null,null,null,null,null,null,null,null,null,null,null,null,null,null,null,null,null,null,null,null,null,null,null,null,null,null,null,null,null,null,null,null,null,null,null,null,"INDIADA WATER COMPANY","AZ0402020","91-000041.0000","","INDIADA WATER COMPANY","I",""]
[null,null,null,null,null,null,null,null,null,null,null,null,null,null,null,null,null,null,null,null,null,null,null,null,null,null,null,null,null,null,null,null,null,null,null,null,null,null,"INDIAN HILLS ESTATES","AZ0411324","91-000573.0000","","CSAK HOLDING, LLC","A",""]
[null,null,null,null,null,null,null,null,null,null,null,null,null,null,null,null,null,null,null,null,null,null,null,null,null,null,null,null,null,null,null,null,null,null,null,null,null,null,"INSCRIPTION CANYON RANCH SYSTEM","AZ0413303","91-000687.0000","W-02824A","ICR WATER USERS ASSOCIATION","A","ICR Water Users Association"]
[null,null,null,null,null,null,null,null,null,null,null,null,null,null,null,null,null,null,null,null,null,null,null,null,null,null,null,null,null,null,null,null,null,null,null,null,null,null,"JACKSON ACRES WATER CO","AZ0413036","91-000625.0000","","JACKSON ACRES WATER DIST","A",""]
[null,null,null,null,null,null,null,null,null,null,null,null,null,null,null,null,null,null,null,null,null,null,null,null,null,null,null,null,null,null,null,null,null,null,null,null,null,null,"JAKE'S CORNER PARK","AZ0404101","91-000152.0000","","SUNNYLANE LLC","A",""]
[null,null,null,null,null,null,null,null,null,null,null,null,null,null,null,null,null,null,null,null,null,null,null,null,null,null,null,null,null,null,null,null,null,null,null,null,null,null,"JAKES CORNER WATER SYSTEM","AZ0404029","91-000832.0000","W-20935A","JAKES CORNER WATER SYSTEM","A","Management Systens, LLC dba Jake's Corner Water System"]
[null,null,null,null,null,null,null,null,null,null,null,null,null,null,null,null,null,null,null,null,null,null,null,null,null,null,null,null,null,null,null,null,null,null,null,null,null,null,"JEROME, TOWN OF","AZ0413037","91-000626.0000","","JEROME, TOWN OF","A",""]
[null,null,null,null,null,null,null,null,null,null,null,null,null,null,null,null,null,null,null,null,null,null,null,null,null,null,null,null,null,null,null,null,null,null,null,null,null,null,"JOHNSON UTILITIES","AZ0411128","91-000560.0000","WS-02987A","JOHNSON UTILITIES - PINAL","A","Johnson Utilities L.L.C. DBA Johnson Utilities Company"]
[null,null,null,null,null,null,null,null,null,null,null,null,null,null,null,null,null,null,null,null,null,null,null,null,null,null,null,null,null,null,null,null,null,null,null,null,null,null,"JOHNSON UTILITIES COMPANY","AZ0411116","91-000557.0000","","JOHNSON UTILITIES COMPANY","I",""]
[null,null,null,null,null,null,null,null,null,null,null,null,null,null,null,null,null,null,null,null,null,null,null,null,null,null,null,null,null,null,null,null,null,null,null,null,null,null,"JOMAX WELL","AZ0407516","91-000272.0000","","JOMAX WELL","I",""]
[null,null,null,null,null,null,null,null,null,null,null,null,null,null,null,null,null,null,null,null,null,null,null,null,null,null,null,null,null,null,null,null,null,null,null,null,null,null,"JONES COOP WATER ASSOC","AZ0414070","91-000722.0000","","JONES SUBDIV COOP WTR ASSOC","A",""]
[null,null,null,null,null,null,null,null,null,null,null,null,null,null,null,null,null,null,null,null,null,null,null,null,null,null,null,null,null,null,null,null,null,null,null,null,null,null,"JOSEPH CITY UTILITY","AZ0409016","91-000373.0000","","JOSEPH CITY UTILITY","A",""]
[null,null,null,null,null,null,null,null,null,null,null,null,null,null,null,null,null,null,null,null,null,null,null,null,null,null,null,null,null,null,null,null,null,null,null,null,null,null,"JOSHUA HILLS WATER CO","AZ0408351","91-000360.0000","","JOSHUA HILLS WATER CO INC","I",""]
[null,null,null,null,null,null,null,null,null,null,null,null,null,null,null,null,null,null,null,null,null,null,null,null,null,null,null,null,null,null,null,null,null,null,null,null,null,null,"JOSHUA VALLEY UTIL CO","AZ0408017","91-000314.0000","W-02023A","JOSHUA VALLEY UTILITY CO","A","Joshua Valley Utility Company"]
[null,null,null,null,null,null,null,null,null,null,null,null,null,null,null,null,null,null,null,null,null,null,null,null,null,null,null,null,null,null,null,null,null,null,null,null,null,null,"KACHINA VILLAGE MHP","AZ0403386","91-000112.0000","","KACHINA VILLAGE LLC","I",""]
[null,null,null,null,null,null,null,null,null,null,null,null,null,null,null,null,null,null,null,null,null,null,null,null,null,null,null,null,null,null,null,null,null,null,null,null,null,null,"KACHINA VILLAGE UTILITIES","AZ0403013","91-000090.0000","","KACHINA VILLAGE IMPROVEMENT DISTRICT","A",""]
[null,null,null,null,null,null,null,null,null,null,null,null,null,null,null,null,null,null,null,null,null,null,null,null,null,null,null,null,null,null,null,null,null,null,null,null,null,null,"KAHLUA WELL CO-OP","AZ0410405","91-000510.0000","","KAHLUA WELL CO-OP","A",""]
[null,null,null,null,null,null,null,null,null,null,null,null,null,null,null,null,null,null,null,null,null,null,null,null,null,null,null,null,null,null,null,null,null,null,null,null,null,null,"KATHERINE HEIGHTS","AZ0408174","91-000837.0000","","ADAMS CONSULTING & MGMT, INC","A",""]
[null,null,null,null,null,null,null,null,null,null,null,null,null,null,null,null,null,null,null,null,null,null,null,null,null,null,null,null,null,null,null,null,null,null,null,null,null,null,"KATHERINE RESORT WATER COMPANY","AZ0408018","91-000315.0000","W-01751A","KATHERINE RESORTS LANDING","A","Katherine Resort Water Company"]
[null,null,null,null,null,null,null,null,null,null,null,null,null,null,null,null,null,null,null,null,null,null,null,null,null,null,null,null,null,null,null,null,null,null,null,null,null,null,"KEARNY, TOWN OF","AZ0411031","91-000532.0000","","KEARNY, TOWN OF","A",""]
[null,null,null,null,null,null,null,null,null,null,null,null,null,null,null,null,null,null,null,null,null,null,null,null,null,null,null,null,null,null,null,null,null,null,null,null,null,null,"KELVIN-SIMMONS CO-OP","AZ0411035","91-000533.0000","","KELVIN-SIMMONS CO-OP","A",""]
[null,null,null,null,null,null,null,null,null,null,null,null,null,null,null,null,null,null,null,null,null,null,null,null,null,null,null,null,null,null,null,null,null,null,null,null,null,null,"KINGMAN MUNICIPAL WATER","AZ0408020","91-000316.0000","","KINGMAN MUNICIPAL WATER","A",""]
[null,null,null,null,null,null,null,null,null,null,null,null,null,null,null,null,null,null,null,null,null,null,null,null,null,null,null,null,null,null,null,null,null,null,null,null,null,null,"KINO MOBILE HOME","AZ0420516","91-000795.0000","","KINO MOBILE HOME","I",""]
[null,null,null,null,null,null,null,null,null,null,null,null,null,null,null,null,null,null,null,null,null,null,null,null,null,null,null,null,null,null,null,null,null,null,null,null,null,null,"KINO RANCH # 1","AZ0412013","91-000596.0000","","CITY OF NOGALES","I",""]
[null,null,null,null,null,null,null,null,null,null,null,null,null,null,null,null,null,null,null,null,null,null,null,null,null,null,null,null,null,null,null,null,null,null,null,null,null,null,"KINO RANCH #2","AZ0412015","91-000597.0000","","CITY OF NOGALES","A",""]
[null,null,null,null,null,null,null,null,null,null,null,null,null,null,null,null,null,null,null,null,null,null,null,null,null,null,null,null,null,null,null,null,null,null,null,null,null,null,"KIRKLAND MHP","AZ0413330","91-000871.0000","","WAVE 2003 LLC","A",""]
[null,null,null,null,null,null,null,null,null,null,null,null,null,null,null,null,null,null,null,null,null,null,null,null,null,null,null,null,null,null,null,null,null,null,null,null,null,null,"KLAFTER WELL CO-OP","AZ0410400","91-000506.0000","","KLAFTER WELL CO-OP","A",""]
[null,null,null,null,null,null,null,null,null,null,null,null,null,null,null,null,null,null,null,null,null,null,null,null,null,null,null,null,null,null,null,null,null,null,null,null,null,null,"KOKOPELLI SPRINGS RESORT","AZ0402327","91-000077.0000","","DASIC, LLC","A",""]
[null,null,null,null,null,null,null,null,null,null,null,null,null,null,null,null,null,null,null,null,null,null,null,null,null,null,null,null,null,null,null,null,null,null,null,null,null,null,"Kohl's Ranch Water Company (Spring)","04-013",null,"W-02886A",null,null,"Kohl's Ranch Water Company"]
[null,null,null,null,null,null,null,null,null,null,null,null,null,null,null,null,null,null,null,null,null,null,null,null,null,null,null,null,null,null,null,null,null,null,null,null,null,null,"Kohl's Ranch Water Company (Well)","41089 / 04-013",null,"W-02886A",null,null,"Kohl's Ranch Water Company"]
[null,null,null,null,null,null,null,null,null,null,null,null,null,null,null,null,null,null,null,null,null,null,null,null,null,null,null,null,null,null,null,null,null,null,null,null,null,null,"LA CASITA WC - 1","AZ0410409","91-000512.0000","W-02542A","LA CASITA WATER COMPANY INC","A","La Casita Water Company, Inc. 1"]
[null,null,null,null,null,null,null,null,null,null,null,null,null,null,null,null,null,null,null,null,null,null,null,null,null,null,null,null,null,null,null,null,null,null,null,null,null,null,"LA CASITA WC - 2","AZ0410410","91-000513.0000","W-02542A","LA CASITA WATER COMPANY INC","A","La Casita Water Company, Inc. 2"]
[null,null,null,null,null,null,null,null,null,null,null,null,null,null,null,null,null,null,null,null,null,null,null,null,null,null,null,null,null,null,null,null,null,null,null,null,null,null,"LA CASITA WC - 3","AZ0420606","91-000811.0000","W-02542A","LA CASITA WATER COMPANY INC","A","La Casita Water Company, Inc. 3"]
[null,null,null,null,null,null,null,null,null,null,null,null,null,null,null,null,null,null,null,null,null,null,null,null,null,null,null,null,null,null,null,null,null,null,null,null,null,null,"LA CHOLLA AIRPARK","AZ0420597","91-000807.0000","","LA CHOLLA AIRPARK","A",""]
[null,null,null,null,null,null,null,null,null,null,null,null,null,null,null,null,null,null,null,null,null,null,null,null,null,null,null,null,null,null,null,null,null,null,null,null,null,null,"LACOSTA WATER USERS ASSOC","AZ0402041","91-000055.0000","","LACOSTA WTR USERS ASSN INC","A",""]
[null,null,null,null,null,null,null,null,null,null,null,null,null,null,null,null,null,null,null,null,null,null,null,null,null,null,null,null,null,null,null,null,null,null,null,null,null,null,"LAGO DEL ORO WATER CO","AZ0411117","91-000558.0000","W-01944A","LAGO DEL ORO WATER CO.","A","Lago Del Oro Water Company"]
[null,null,null,null,null,null,null,null,null,null,null,null,null,null,null,null,null,null,null,null,null,null,null,null,null,null,null,null,null,null,null,null,null,null,null,null,null,null,"LAGOON ESTATES WATER CO","AZ0408046","91-000332.0000","W-01825A","LAGOON ESTATES WC","A","Lagoon Estates Water Company, Inc. UNIT 2                "]
[null,null,null,null,null,null,null,null,null,null,null,null,null,null,null,null,null,null,null,null,null,null,null,null,null,null,null,null,null,null,null,null,null,null,null,null,null,null,"LAGOON ESTATES WATER CO","AZ0408021","91-000317.0000","W-01825A","LAGOON ESTATES WC","A","Lagoon Estates Water Company, Inc. UNIT 7                "]
[null,null,null,null,null,null,null,null,null,null,null,null,null,null,null,null,null,null,null,null,null,null,null,null,null,null,null,null,null,null,null,null,null,null,null,null,null,null,"LAGUNA ESTATES","AZ0409000","91-000363.0000","W-03511A","NAVAJO WATER CO","A","Navajo Water Co., Inc. - LAGUNA ESTATES           "]
[null,null,null,null,null,null,null,null,null,null,null,null,null,null,null,null,null,null,null,null,null,null,null,null,null,null,null,null,null,null,null,null,null,null,null,null,null,null,"LAGUNA MHP","AZ0414322","91-000729.0000","","JEFF THOMAS","A",""]
[null,null,null,null,null,null,null,null,null,null,null,null,null,null,null,null,null,null,null,null,null,null,null,null,null,null,null,null,null,null,null,null,null,null,null,null,null,null,"LAKE HAVASU, CITY OF","AZ0408022","91-000318.0000","","LAKE HAVASU CITY","A",""]
[null,null,null,null,null,null,null,null,null,null,null,null,null,null,null,null,null,null,null,null,null,null,null,null,null,null,null,null,null,null,null,null,null,null,null,null,null,null,"LAKE MARY COUNTRY STORE","AZ0403067","91-000103.0000","","LAKE MARY COUNTRY STORE","A",""]
[null,null,null,null,null,null,null,null,null,null,null,null,null,null,null,null,null,null,null,null,null,null,null,null,null,null,null,null,null,null,null,null,null,null,null,null,null,null,"LAKE MEAD CITY COMM COOP","AZ0408043","91-000331.0000","","LAKE MEAD CITY COMM CO-OP INC","I",""]
[null,null,null,null,null,null,null,null,null,null,null,null,null,null,null,null,null,null,null,null,null,null,null,null,null,null,null,null,null,null,null,null,null,null,null,null,null,null,"LAKE MEAD NRA - KATHERINE LANDING","AZ0408701","91-000361.0000","","NATIONAL PARK SERVICE","A",""]
[null,null,null,null,null,null,null,null,null,null,null,null,null,null,null,null,null,null,null,null,null,null,null,null,null,null,null,null,null,null,null,null,null,null,null,null,null,null,"LAKE MEAD NRA - WILLOW BEACH","AZ0408704","91-000840.0000","","NATIONAL PARK SERVICE","A",""]
[null,null,null,null,null,null,null,null,null,null,null,null,null,null,null,null,null,null,null,null,null,null,null,null,null,null,null,null,null,null,null,null,null,null,null,null,null,null,"LAKE MEAD NRA-TEMPLE BAR","AZ0408703","91-000362.0000","","NATIONAL PARK SERVICE","A",""]
[null,null,null,null,null,null,null,null,null,null,null,null,null,null,null,null,null,null,null,null,null,null,null,null,null,null,null,null,null,null,null,null,null,null,null,null,null,null,"LAKE VERDE WATER COMPANY","AZ0413038","91-000627.0000","W-01557A","LAKE VERDE WATER CO","A","Lake Verde Water Company, Inc."]
[null,null,null,null,null,null,null,null,null,null,null,null,null,null,null,null,null,null,null,null,null,null,null,null,null,null,null,null,null,null,null,null,null,null,null,null,null,null,"LAKESIDE SKI VILLAGE","AZ0407172","91-000872.0000","","LAKESIDE SKI HOA","A",""]
[null,null,null,null,null,null,null,null,null,null,null,null,null,null,null,null,null,null,null,null,null,null,null,null,null,null,null,null,null,null,null,null,null,null,null,null,null,null,"LAKESIDE WATER CO","AZ0413026","91-000619.0000","","BACA ENTERPRISES, LLC.","A",""]
[null,null,null,null,null,null,null,null,null,null,null,null,null,null,null,null,null,null,null,null,null,null,null,null,null,null,null,null,null,null,null,null,null,null,null,null,null,null,"LAKEWOOD WATER CO.","AZ0410063","91-000426.0000","W-01809A","LAKEWOOD WATER CO.","A","Cayetano, Inc. DBA Lakewood Water Company"]
[null,null,null,null,null,null,null,null,null,null,null,null,null,null,null,null,null,null,null,null,null,null,null,null,null,null,null,null,null,null,null,null,null,null,null,null,null,null,"LAMPLIGHTER RV RESORT","AZ0404324","91-000158.0000","","LAMPLIGHTER RV PARK LLC","A",""]
[null,null,null,null,null,null,null,null,null,null,null,null,null,null,null,null,null,null,null,null,null,null,null,null,null,null,null,null,null,null,null,null,null,null,null,null,null,null,"LAS QUINTAS SERENAS W.C.","AZ0410064","91-000427.0000","W-01583A","LAS QUINTAS SERENAS WATER CO.","A","Las Quintas Serenas Water Company"]
[null,null,null,null,null,null,null,null,null,null,null,null,null,null,null,null,null,null,null,null,null,null,null,null,null,null,null,null,null,null,null,null,null,null,null,null,null,null,"LAZY 'A' MHP","AZ0420392","91-000779.0000","","LAZY 'A' MHP","A",""]
[null,null,null,null,null,null,null,null,null,null,null,null,null,null,null,null,null,null,null,null,null,null,null,null,null,null,null,null,null,null,null,null,null,null,null,null,null,null,"LAZY ACRES MHP","AZ0420176","91-000775.0000","","LAZY ACRES MHP","A",""]
[null,null,null,null,null,null,null,null,null,null,null,null,null,null,null,null,null,null,null,null,null,null,null,null,null,null,null,null,null,null,null,null,null,null,null,null,null,null,"LAZY B WATER COMPANY","AZ0410218","91-000477.0000","","METROPOLITAN DOMESTIC WATER DISTRICT","A",""]
[null,null,null,null,null,null,null,null,null,null,null,null,null,null,null,null,null,null,null,null,null,null,null,null,null,null,null,null,null,null,null,null,null,null,null,null,null,null,"LAZY 'C' WATER SERVICE","AZ0410065","91-000428.0000","W-01536A","LAZY 'C' WATER SERVICE","A","Lazy C Water Service"]
[null,null,null,null,null,null,null,null,null,null,null,null,null,null,null,null,null,null,null,null,null,null,null,null,null,null,null,null,null,null,null,null,null,null,null,null,null,null,"LAZY D RANCH MOTEL","AZ0404325","91-000159.0000","","LAZY D RANCH MOTEL- DA COSTA BRET","I",""]
[null,null,null,null,null,null,null,null,null,null,null,null,null,null,null,null,null,null,null,null,null,null,null,null,null,null,null,null,null,null,null,null,null,null,null,null,null,null,"LEMON TREE TRAILER PARK","AZ0414359","91-000731.0000","","LEMON TREE TRLR PK","I",""]
[null,null,null,null,null,null,null,null,null,null,null,null,null,null,null,null,null,null,null,null,null,null,null,null,null,null,null,null,null,null,null,null,null,null,null,null,null,null,"LINDEN TRAILS","AZ0409090","91-000400.0000","W-03875A","LINDEN TRAILS","A","Mountain Glen Water Service, Inc."]
[null,null,null,null,null,null,null,null,null,null,null,null,null,null,null,null,null,null,null,null,null,null,null,null,null,null,null,null,null,null,null,null,null,null,null,null,null,null,"LIQUID ROCK WATER ASSN","AZ0410455","91-000845.0000","","LIQUID ROCK WATER ASSN","I",""]
[null,null,null,null,null,null,null,null,null,null,null,null,null,null,null,null,null,null,null,null,null,null,null,null,null,null,null,null,null,null,null,null,null,null,null,null,null,null,"LITCHFIELD PARK SERVICE CO.","AZ0407046","91-000199.0000","W-01427A","LIBERTY UTILITIES (LITCHFIELD PARK WATER & SEWER)*","A","LIBERTY WATER LPSCO                     "]
[null,null,null,null,null,null,null,null,null,null,null,null,null,null,null,null,null,null,null,null,null,null,null,null,null,null,null,null,null,null,null,null,null,null,null,null,null,null,"LITTLE PARK WATER CO","AZ0413075","91-000651.0000","W-02192A","BIG PARK WATER CO","A","Little Park Water Company"]
[null,null,null,null,null,null,null,null,null,null,null,null,null,null,null,null,null,null,null,null,null,null,null,null,null,null,null,null,null,null,null,null,null,null,null,null,null,null,"LITTLEFIELD WATER COMPANY","AZ0408025","91-000320.0000","SW-03067A","BEAVER DAM WATER COMPANY","I",""]
[null,null,null,null,null,null,null,null,null,null,null,null,null,null,null,null,null,null,null,null,null,null,null,null,null,null,null,null,null,null,null,null,null,null,null,null,null,null,"LIVCO WATER COMPANY","AZ0401018","91-000011.0000","W-02121A","COUNTRY CLUB PROPERTIES","A","Livco Water Company"]
[null,null,null,null,null,null,null,null,null,null,null,null,null,null,null,null,null,null,null,null,null,null,null,null,null,null,null,null,null,null,null,null,null,null,null,null,null,null,"LIVING SPRINGS MHP - RAINBOW TROUT FARM","AZ0403081","91-000110.0000","","LIVING SPRINGS MHP - RAINBOW TROUT FARM","A",""]
[null,null,null,null,null,null,null,null,null,null,null,null,null,null,null,null,null,null,null,null,null,null,null,null,null,null,null,null,null,null,null,null,null,null,null,null,null,null,"LOBA ESTATES WATER","AZ0413479","91-000853.0000","","LOBA ESTATES WTR USERS ASSN","I",""]
[null,null,null,null,null,null,null,null,null,null,null,null,null,null,null,null,null,null,null,null,null,null,null,null,null,null,null,null,null,null,null,null,null,null,null,null,null,null,"LOMA LINDA WATER CO","AZ0406005","91-000177.0000","W-02211A","LOMA LINDA ESTATES INC","A","Loma Linda Estates, Inc. DBA Loma Linda Water Company"]
[null,null,null,null,null,null,null,null,null,null,null,null,null,null,null,null,null,null,null,null,null,null,null,null,null,null,null,null,null,null,null,null,null,null,null,null,null,null,"LORD AZ WATER","AZ0401373","91-000023.0000","W-02479A","LORD AZ WTR SYSTEMS INC","A","Lord Arizona Water Systems, Inc. WILDERNESS                "]
[null,null,null,null,null,null,null,null,null,null,null,null,null,null,null,null,null,null,null,null,null,null,null,null,null,null,null,null,null,null,null,null,null,null,null,null,null,null,"LORD AZ WATER 2","AZ0401047","91-000017.0000","W-02479A","LORD AZ WTR SYSTEMS INC","A","Lord Arizona Water Systems, Inc. 2 - WINCHESTER TRAILS     "]
[null,null,null,null,null,null,null,null,null,null,null,null,null,null,null,null,null,null,null,null,null,null,null,null,null,null,null,null,null,null,null,null,null,null,null,null,null,null,"LOS ARBOLES MHP","AZ0420175","91-000774.0000","","LOS ARBOLES COMMUNITY #2, LLC","A",""]
[null,null,null,null,null,null,null,null,null,null,null,null,null,null,null,null,null,null,null,null,null,null,null,null,null,null,null,null,null,null,null,null,null,null,null,null,null,null,"LOS CERROS WATER CO","AZ0410128","91-000445.0000","W-02747A","LOS CERROS WATER CO","A","Los Cerros Water Company, Inc."]
[null,null,null,null,null,null,null,null,null,null,null,null,null,null,null,null,null,null,null,null,null,null,null,null,null,null,null,null,null,null,null,null,null,null,null,null,null,null,"LOS RANCHITOS WELL","AZ0420488","91-000790.0000","","CARAVANS VI LLC","I",""]
[]
[null,null,null,null,null,null,null,null,null,null,null,null,null,null,null,null,null,null,null,null,null,null,null,null,null,null,null,null,null,null,null,null,null,null,null,null,null,null,"LUCKY PARK DEL S","AZ0414432","91-000736.0000","","LUCKY PARK DEL S","A",""]
[null,null,null,null,null,null,null,null,null,null,null,null,null,null,null,null,null,null,null,null,null,null,null,null,null,null,null,null,null,null,null,null,null,null,null,null,null,null,"LUKE AIR FORCE BASE","AZ0407305","91-000251.0000","","LUKE AIR FORCE BASE","A",""]
[null,null,null,null,null,null,null,null,null,null,null,null,null,null,null,null,null,null,null,null,null,null,null,null,null,null,null,null,null,null,null,null,null,null,null,null,null,null,"LYN LEE WATER CO","AZ0410007","91-000415.0000","W-01854A","LYN LEE WATER CO","A","Lyn Lee Water Company"]
[null,null,null,null,null,null,null,null,null,null,null,null,null,null,null,null,null,null,null,null,null,null,null,null,null,null,null,null,null,null,null,null,null,null,null,null,null,null,"MAJESTIC VIEW ESTATES","AZ0403044","91-000101.0000","","AZNORTH DEVELOPMENT INC.","I",""]
[null,null,null,null,null,null,null,null,null,null,null,null,null,null,null,null,null,null,null,null,null,null,null,null,null,null,null,null,null,null,null,null,null,null,null,null,null,null,"MAMMOTH, TOWN OF","AZ0411018","91-000525.0000","","MAMMOTH, TOWN OF","A",""]
[null,null,null,null,null,null,null,null,null,null,null,null,null,null,null,null,null,null,null,null,null,null,null,null,null,null,null,null,null,null,null,null,null,null,null,null,null,null,"MANNEKEN APARTMENTS LLC","AZ0413264","91-000849.0000","","MANNEKEN APARTMENTS LLC","A",""]
[null,null,null,null,null,null,null,null,null,null,null,null,null,null,null,null,null,null,null,null,null,null,null,null,null,null,null,null,null,null,null,null,null,null,null,null,null,null,"MARANA CORRECTIONAL FACILITY","AZ0410350","91-000897.0000","","MARANA CORRECTIONAL FACILITY","A",""]
[null,null,null,null,null,null,null,null,null,null,null,null,null,null,null,null,null,null,null,null,null,null,null,null,null,null,null,null,null,null,null,null,null,null,null,null,null,null,"MARANA DWID-CULVER","AZ0410070","91-000429.0000","","MARANA DOMESTIC WTR IMP DISTRICT","A",""]
[null,null,null,null,null,null,null,null,null,null,null,null,null,null,null,null,null,null,null,null,null,null,null,null,null,null,null,null,null,null,null,null,null,null,null,null,null,null,"MARANA DWID-DERRINGER","AZ0410139","91-000450.0000","","MARANA DOMESTIC WTR IMP DISTRICT","A",""]
[null,null,null,null,null,null,null,null,null,null,null,null,null,null,null,null,null,null,null,null,null,null,null,null,null,null,null,null,null,null,null,null,null,null,null,null,null,null,"MARANA DWID-HUNTER/IM","AZ0410131","91-000446.0000","","MARANA DWID DIRECTORS","I",""]
[null,null,null,null,null,null,null,null,null,null,null,null,null,null,null,null,null,null,null,null,null,null,null,null,null,null,null,null,null,null,null,null,null,null,null,null,null,null,"MARANA MUNICIPAL - HARTMAN VISTAS","AZ0410329","91-000501.0000","","TOWN OF MARANA","A","MARANA MUNICIPAL - HARTMAN VISTAS       "]
[null,null,null,null,null,null,null,null,null,null,null,null,null,null,null,null,null,null,null,null,null,null,null,null,null,null,null,null,null,null,null,null,null,null,null,null,null,null,"MARANA MUNICIPAL- LA PUERTA","AZ0410072","91-000430.0000","","TOWN OF MARANA","I",""]
[null,null,null,null,null,null,null,null,null,null,null,null,null,null,null,null,null,null,null,null,null,null,null,null,null,null,null,null,null,null,null,null,null,null,null,null,null,null,"MARANA MUNICIPAL- MARANA","AZ0410150","91-000454.0000","","TOWN OF MARANA","A",""]
[null,null,null,null,null,null,null,null,null,null,null,null,null,null,null,null,null,null,null,null,null,null,null,null,null,null,null,null,null,null,null,null,null,null,null,null,null,null,"MARANA MUNICIPAL-CORTARO","AZ0410143","91-000452.0000","","TOWN OF MARANA","I",""]
[null,null,null,null,null,null,null,null,null,null,null,null,null,null,null,null,null,null,null,null,null,null,null,null,null,null,null,null,null,null,null,null,null,null,null,null,null,null,"MARANA MUNICIPAL-PALO VERDE","AZ0410136","91-000448.0000","","TOWN OF MARANA","A",""]
[null,null,null,null,null,null,null,null,null,null,null,null,null,null,null,null,null,null,null,null,null,null,null,null,null,null,null,null,null,null,null,null,null,null,null,null,null,null,"MARANA-AIRLINE LAMBERT","AZ0410138","91-000449.0000","","TOWN OF MARANA","A",""]
[null,null,null,null,null,null,null,null,null,null,null,null,null,null,null,null,null,null,null,null,null,null,null,null,null,null,null,null,null,null,null,null,null,null,null,null,null,null,"MARANA-PICTURE ROCKS","AZ0410092","91-000433.0000","","TOWN OF MARANA","A",""]
[null,null,null,null,null,null,null,null,null,null,null,null,null,null,null,null,null,null,null,null,null,null,null,null,null,null,null,null,null,null,null,null,null,null,null,null,null,null,"MARICOPA DOMESTIC WATER","AZ0411036","91-000534.0000","","MARICOPA DOMESTIC WATER","A",""]
[null,null,null,null,null,null,null,null,null,null,null,null,null,null,null,null,null,null,null,null,null,null,null,null,null,null,null,null,null,null,null,null,null,null,null,null,null,null,"MARICOPA MTN DWID 1","AZ0411087","91-000550.0000","","MARICOPA MTN DWID","A",""]
[null,null,null,null,null,null,null,null,null,null,null,null,null,null,null,null,null,null,null,null,null,null,null,null,null,null,null,null,null,null,null,null,null,null,null,null,null,null,"MARICOPA MTN DWID 2","AZ0411322","91-000572.0000","","MARICOPA MTN DWID","A",""]
[null,null,null,null,null,null,null,null,null,null,null,null,null,null,null,null,null,null,null,null,null,null,null,null,null,null,null,null,null,null,null,null,null,null,null,null,null,null,"MARINA VILLAGE","AZ0415011","91-000743.0000","W-03039A","BROOKE WATER LLC","A","Brooke Water LLC - MARINA VILLAGE       "]
[null,null,null,null,null,null,null,null,null,null,null,null,null,null,null,null,null,null,null,null,null,null,null,null,null,null,null,null,null,null,null,null,null,null,null,null,null,null,"MAYER DOMESTIC WATER IMPR","AZ0413039","91-000628.0000","","MAYER DWID","A",""]
[null,null,null,null,null,null,null,null,null,null,null,null,null,null,null,null,null,null,null,null,null,null,null,null,null,null,null,null,null,null,null,null,null,null,null,null,null,null,"MCNEAL WC","AZ0402016","91-000037.0000","W-02658A","PETERSEN TRUST UTD","A","McNeal Water Company"]
[null,null,null,null,null,null,null,null,null,null,null,null,null,null,null,null,null,null,null,null,null,null,null,null,null,null,null,null,null,null,null,null,null,null,null,null,null,null,"MDWID HUB SYSTEM","AZ0410060","91-000425.0000","","MDWID HUB SYSTEM","A",""]
[null,null,null,null,null,null,null,null,null,null,null,null,null,null,null,null,null,null,null,null,null,null,null,null,null,null,null,null,null,null,null,null,null,null,null,null,null,null,"MESA DEL CABALLO","AZ0404030","91-000133.0000","W-03514A","PAYSON WATER CO","A","Payson Water Co., Inc. - MESA DE CABALLO          "]
[null,null,null,null,null,null,null,null,null,null,null,null,null,null,null,null,null,null,null,null,null,null,null,null,null,null,null,null,null,null,null,null,null,null,null,null,null,null,"MESALAND WATER CO","AZ0410074","91-000431.0000","","MESALAND WATER CO","A",""]
[null,null,null,null,null,null,null,null,null,null,null,null,null,null,null,null,null,null,null,null,null,null,null,null,null,null,null,null,null,null,null,null,null,null,null,null,null,null,"MESCAL LAKES WATER SYSTEM","AZ0402052","91-000062.0000","W-02472A","MESCAL LAKES WATER SYSTEM","A","Mescal Lakes Water Systems Inc."]
[null,null,null,null,null,null,null,null,null,null,null,null,null,null,null,null,null,null,null,null,null,null,null,null,null,null,null,null,null,null,null,null,null,null,null,null,null,null,"MESQUITE WELL ASSOCIATION","AZ0410360","91-000505.0000","","MESQUITE WELL ASSOCIATION","A",""]
[null,null,null,null,null,null,null,null,null,null,null,null,null,null,null,null,null,null,null,null,null,null,null,null,null,null,null,null,null,null,null,null,null,null,null,null,null,null,"METRO DOMESTIC WID","AZ0410076","91-000432.0000","","METRO DOMESTIC WID","A",""]
[null,null,null,null,null,null,null,null,null,null,null,null,null,null,null,null,null,null,null,null,null,null,null,null,null,null,null,null,null,null,null,null,null,null,null,null,null,null,"MI CASA RV CAMPGROUND","AZ0412305","91-000820.0000","","MI CASA RV CAMPGROUND","A",""]
[null,null,null,null,null,null,null,null,null,null,null,null,null,null,null,null,null,null,null,null,null,null,null,null,null,null,null,null,null,null,null,null,null,null,null,null,null,null,"MICHAELS RANCH","AZ0413109","91-000661.0000","W-02624A","MICHAELS RANCH WVA","A","Michael's Ranch Water Users' Association"]
[null,null,null,null,null,null,null,null,null,null,null,null,null,null,null,null,null,null,null,null,null,null,null,null,null,null,null,null,null,null,null,null,null,null,null,null,null,null,"MICHIGAN TRAILER PARK","AZ0407621","91-000286.0000","","MICHIGAN TRAILER PARK","A",""]
[null,null,null,null,null,null,null,null,null,null,null,null,null,null,null,null,null,null,null,null,null,null,null,null,null,null,null,null,null,null,null,null,null,null,null,null,null,null,"MILE MARKER 54 WC","AZ0410480","91-000867.0000","","MILE MARKER 54 WC","A",""]
[null,null,null,null,null,null,null,null,null,null,null,null,null,null,null,null,null,null,null,null,null,null,null,null,null,null,null,null,null,null,null,null,null,null,null,null,null,null,"MINGUS MOUNTAIN ACADEMY","AZ0413281","91-000876.0000","","MINGUS MOUNTAIN ACADEMY","A",""]
[null,null,null,null,null,null,null,null,null,null,null,null,null,null,null,null,null,null,null,null,null,null,null,null,null,null,null,null,null,null,null,null,null,null,null,null,null,null,"MINGUS WEST WATER SYSTEM","AZ0413247","91-000683.0000","","PRESCOTT VALLEY, TOWN OF","A",""]
[null,null,null,null,null,null,null,null,null,null,null,null,null,null,null,null,null,null,null,null,null,null,null,null,null,null,null,null,null,null,null,null,null,null,null,null,null,null,"MIRABELL WATER CO","AZ0410178","91-000468.0000","W-02368A","SOUTHWESTERN UTILITY","A","Mirabell Water Company, Inc."]
[null,null,null,null,null,null,null,null,null,null,null,null,null,null,null,null,null,null,null,null,null,null,null,null,null,null,null,null,null,null,null,null,null,null,null,null,null,null,"MISSION PALMS APARTMENTS","AZ0420570","91-000804.0000","","MISSION PALMS APARTMENTS","A",""]
[null,null,null,null,null,null,null,null,null,null,null,null,null,null,null,null,null,null,null,null,null,null,null,null,null,null,null,null,null,null,null,null,null,null,null,null,null,null,"MISTY MOUNTAIN DWID","AZ0409075","91-000873.0000","","MISTY MOUNTAIN DWID","A",""]
[null,null,null,null,null,null,null,null,null,null,null,null,null,null,null,null,null,null,null,null,null,null,null,null,null,null,null,null,null,null,null,null,null,null,null,null,null,null,"MOBILE GARDENS DOMESTIC WATER","AZ0407086","91-000217.0000","","MOBILE GARDENS DOMESTIC WATER","A",""]
[null,null,null,null,null,null,null,null,null,null,null,null,null,null,null,null,null,null,null,null,null,null,null,null,null,null,null,null,null,null,null,null,null,null,null,null,null,null,"MOBILE HOME PROPERTIES","AZ0410319","91-000497.0000","","MOBILE HOME PROPERTIES INC","A",""]
[null,null,null,null,null,null,null,null,null,null,null,null,null,null,null,null,null,null,null,null,null,null,null,null,null,null,null,null,null,null,null,null,null,null,null,null,null,null,"MOHAWK UTILITY CO","AZ0414030","91-000717.0000","W-02341A","MOHAWK UTILITY CO","A","Mohawk Utility Company"]
[null,null,null,null,null,null,null,null,null,null,null,null,null,null,null,null,null,null,null,null,null,null,null,null,null,null,null,null,null,null,null,null,null,null,null,null,null,null,"MOHAWK VALLEY SCHOOL DISTRICT","AZ0414055","91-000905.0000","","MOHAWK VALLEY SCHOOL DISTRICT","A",""]
[null,null,null,null,null,null,null,null,null,null,null,null,null,null,null,null,null,null,null,null,null,null,null,null,null,null,null,null,null,null,null,null,null,null,null,null,null,null,"MONTE VISTA WATER CO LLC","AZ0402043","91-000057.0000","W-02703A","MONTE VISTA WATER CO","A","Monte Vista Water Co., L.L.C."]
[null,null,null,null,null,null,null,null,null,null,null,null,null,null,null,null,null,null,null,null,null,null,null,null,null,null,null,null,null,null,null,null,null,null,null,null,null,null,"MONTEZUMA HEIGHTS WATER","AZ0413190","91-000677.0000","","MONTEZUMA HEIGHTS WATER","A",""]
[null,null,null,null,null,null,null,null,null,null,null,null,null,null,null,null,null,null,null,null,null,null,null,null,null,null,null,null,null,null,null,null,null,null,null,null,null,null,"MONTEZUMA RIMROCK WC, LLC","AZ0413071","91-000648.0000","W-04254A","MONTEZUMA RIMROCK WC, LLC","A","Montezuma Rimrock Water Company LLC"]
[null,null,null,null,null,null,null,null,null,null,null,null,null,null,null,null,null,null,null,null,null,null,null,null,null,null,null,null,null,null,null,null,null,null,null,null,null,null,"MORENCI WATER ELEC CO (CLIFTON)","AZ0406002","91-000174.0000","W-01049A","MORENCI WATER & ELECTRIC CO","A","Morenci Water and Electric Company CLIFTON           "]
[null,null,null,null,null,null,null,null,null,null,null,null,null,null,null,null,null,null,null,null,null,null,null,null,null,null,null,null,null,null,null,null,null,null,null,null,null,null,"MORMON LAKE WC","AZ0403014","91-000091.0000","W-01472A","MORMON LAKE WC","I","Mormon Lake Water Co."]
[null,null,null,null,null,null,null,null,null,null,null,null,null,null,null,null,null,null,null,null,null,null,null,null,null,null,null,null,null,null,null,null,null,null,null,null,null,null,"MORRISTOWN WATER COMPANY","AZ0407111","91-000231.0000","W-02164A","MORRISTOWN WATER COMPANY","A","Morristown Water Company"]
[null,null,null,null,null,null,null,null,null,null,null,null,null,null,null,null,null,null,null,null,null,null,null,null,null,null,null,null,null,null,null,null,null,null,null,null,null,null,"MOUNTAIN DELL WATER INC","AZ0403015","91-000092.0000","W-01877A","MOUNTAIN DELL WATER INC","A","Mountain Dell Water, Inc."]
[null,null,null,null,null,null,null,null,null,null,null,null,null,null,null,null,null,null,null,null,null,null,null,null,null,null,null,null,null,null,null,null,null,null,null,null,null,null,"MOUNTAIN VIEW CAMPGROUND","AZ0412306","91-000600.0000","","MOUNTAIN VIEW CAMPGROUND","A",""]
[null,null,null,null,null,null,null,null,null,null,null,null,null,null,null,null,null,null,null,null,null,null,null,null,null,null,null,null,null,null,null,null,null,null,null,null,null,null,"MOUNTAIN VIEW MHP","AZ0413419","91-000701.0000","","MOUNTAIN VIEW MHP","A",""]
[null,null,null,null,null,null,null,null,null,null,null,null,null,null,null,null,null,null,null,null,null,null,null,null,null,null,null,null,null,null,null,null,null,null,null,null,null,null,"MOUNTAIN VIEW WELL ASSOC","AZ0407512","91-000271.0000","","MOUNTAIN VIEW WELL ASSOCIATION","I",""]
[null,null,null,null,null,null,null,null,null,null,null,null,null,null,null,null,null,null,null,null,null,null,null,null,null,null,null,null,null,null,null,null,null,null,null,null,null,null,"MOUNTAINAIRE WATER CO","AZ0410460","91-000846.0000","","DUST DEVIL WATER","I",""]
[null,null,null,null,null,null,null,null,null,null,null,null,null,null,null,null,null,null,null,null,null,null,null,null,null,null,null,null,null,null,null,null,null,null,null,null,null,null,"MT FAGAN WATER COOP","AZ0410470","91-000866.0000","","MT FAGAN WATER COOP","A",""]
[null,null,null,null,null,null,null,null,null,null,null,null,null,null,null,null,null,null,null,null,null,null,null,null,null,null,null,null,null,null,null,null,null,null,null,null,null,null,"MT GLEN WS-LINDEN EAST","AZ0409025","91-000379.0000","","MOUNTAIN GLEN WTR SERVICE INC","I",""]
[null,null,null,null,null,null,null,null,null,null,null,null,null,null,null,null,null,null,null,null,null,null,null,null,null,null,null,null,null,null,null,null,null,null,null,null,null,null,"MT LEMMON DWID","AZ0410140","91-000821.0000","","MT LEMMON WATER DISTRICT","A",""]
[null,null,null,null,null,null,null,null,null,null,null,null,null,null,null,null,null,null,null,null,null,null,null,null,null,null,null,null,null,null,null,null,null,null,null,null,null,null,"MT TIPTON WATER CO INC","AZ0408059","91-000333.0000","W-02105A","MT TIPTON WATER CO INC","A","Mount Tipton Water Co., Inc."]
[null,null,null,null,null,null,null,null,null,null,null,null,null,null,null,null,null,null,null,null,null,null,null,null,null,null,null,null,null,null,null,null,null,null,null,null,null,null,"MTC - ARIZONA STATE PRISON - KINGMAN","AZ0408184","91-000882.0000","","MANAGEMENT & TRAINING CORPORATION","A",""]
[null,null,null,null,null,null,null,null,null,null,null,null,null,null,null,null,null,null,null,null,null,null,null,null,null,null,null,null,null,null,null,null,null,null,null,null,null,null,"NACO ESTATES","AZ0402345","91-000879.0000","","NACO ESTATES","A",""]
[null,null,null,null,null,null,null,null,null,null,null,null,null,null,null,null,null,null,null,null,null,null,null,null,null,null,null,null,null,null,null,null,null,null,null,null,null,null,"NACO WATER CO","AZ0402024","91-000043.0000","W-02860A","NACO WATER CO","A","Naco Water Company, LLC MAIN                      "]
[null,null,null,null,null,null,null,null,null,null,null,null,null,null,null,null,null,null,null,null,null,null,null,null,null,null,null,null,null,null,null,null,null,null,null,null,null,null,"NACO WATER CO LLC-BISBEE","AZ0402112","91-000075.0000","W-02860A","NACO WATER CO LLC-BISBEE","A","Naco Water Company, LLC BISBEE                    "]
[null,null,null,null,null,null,null,null,null,null,null,null,null,null,null,null,null,null,null,null,null,null,null,null,null,null,null,null,null,null,null,null,null,null,null,null,null,null,"NAVAJO CO GOVT COMPLEX","AZ0409052","91-000395.0000","","NAVAJO COUNTY GOVERNMENT","I",""]
[null,null,null,null,null,null,null,null,null,null,null,null,null,null,null,null,null,null,null,null,null,null,null,null,null,null,null,null,null,null,null,null,null,null,null,null,null,null,"NEW RIVER UTILITY COMPANY","AZ0407051","91-000200.0000","","NEW RIVER UTILITY COMPANY","I",""]
[null,null,null,null,null,null,null,null,null,null,null,null,null,null,null,null,null,null,null,null,null,null,null,null,null,null,null,null,null,null,null,null,null,null,null,null,null,null,"NEW SADDLEBACK VISTA DWID","AZ0411557","91-000584.0000","","NEW SADDLEBACK VISTA DWID","A",""]
[null,null,null,null,null,null,null,null,null,null,null,null,null,null,null,null,null,null,null,null,null,null,null,null,null,null,null,null,null,null,null,null,null,null,null,null,null,null,"NORTH FLORENCE IMPROVEMEN","AZ0411056","91-000543.0000","","TOWN OF FLORENCE","I",""]
[null,null,null,null,null,null,null,null,null,null,null,null,null,null,null,null,null,null,null,null,null,null,null,null,null,null,null,null,null,null,null,null,null,null,null,null,null,null,"NORTH LA CHOLLA MHP","AZ0420043","91-000764.0000","","NORTH LA CHOLLA MHP","A",""]
[null,null,null,null,null,null,null,null,null,null,null,null,null,null,null,null,null,null,null,null,null,null,null,null,null,null,null,null,null,null,null,null,null,null,null,null,null,null,"NORTH MOHAVE VALLEY CORPORATION","AZ0408068","91-000339.0000","WS-01303A","EPCOR","A","EPCOR Water Arizona, Inc. - NORTH MOHAVE VALLEY       "]
[null,null,null,null,null,null,null,null,null,null,null,null,null,null,null,null,null,null,null,null,null,null,null,null,null,null,null,null,null,null,null,null,null,null,null,null,null,null,"NORTHERN SECTION 4 CO-OP","AZ0411201","91-000566.0000","","NORTHERN SECTION 4 WATER CO-OP","A",""]
[null,null,null,null,null,null,null,null,null,null,null,null,null,null,null,null,null,null,null,null,null,null,null,null,null,null,null,null,null,null,null,null,null,null,null,null,null,null,"NORTHERN SUNRISE WC - CORONADO","AZ0402013","91-000034.0000","W-02465A","LIBERTY UTILITIES","A","NORTHERN SUNRISE WC CORONADO c/o Liberty Utilities (Bella Vista Water) Corp"]
[null,null,null,null,null,null,null,null,null,null,null,null,null,null,null,null,null,null,null,null,null,null,null,null,null,null,null,null,null,null,null,null,null,null,null,null,null,null,"NORTHERN SUNRISE WC - MUSTANG/CRYSTAL","AZ0402054","91-000063.0000","W-02465A","LIBERTY UTILITIES","A","NORTHERN SUNRISE WC MUSTANG CRYSTAL c/o Liberty Utilities (Bella Vista Water) Corp"]
[null,null,null,null,null,null,null,null,null,null,null,null,null,null,null,null,null,null,null,null,null,null,null,null,null,null,null,null,null,null,null,null,null,null,null,null,null,null,"NORTHERN SUNRISE WC - SIERRA SUNSET","AZ0402055","91-000064.0000","","LIBERTY UTILITIES","I",""]
[null,null,null,null,null,null,null,null,null,null,null,null,null,null,null,null,null,null,null,null,null,null,null,null,null,null,null,null,null,null,null,null,null,null,null,null,null,null,"NTM AVIATION","AZ0402401","91-000081.0000","","NTM AVIATION","A",""]
[null,null,null,null,null,null,null,null,null,null,null,null,null,null,null,null,null,null,null,null,null,null,null,null,null,null,null,null,null,null,null,null,null,null,null,null,null,null,"OAK CREEK PUBLIC SERVICE, LLC","AZ0413042","91-000631.0000","W-04304A","OAK CREEK PUBLIC SERVICE, LLC.","A","Oak Creek Public Service, LLC"]
[null,null,null,null,null,null,null,null,null,null,null,null,null,null,null,null,null,null,null,null,null,null,null,null,null,null,null,null,null,null,null,null,null,null,null,null,null,null,"OAK CREEK UTILITY CORP","AZ0403004","91-000828.0000","WS-02061A","OAK CREEK UTILITY CORP","A","Oak Creek Utility Corporation"]
[null,null,null,null,null,null,null,null,null,null,null,null,null,null,null,null,null,null,null,null,null,null,null,null,null,null,null,null,null,null,null,null,null,null,null,null,null,null,"OAK CREEK VALLEY","AZ0413121","91-000665.0000","","OAK CREEK VALLEY HOMEOWNERS AS","A",""]
[null,null,null,null,null,null,null,null,null,null,null,null,null,null,null,null,null,null,null,null,null,null,null,null,null,null,null,null,null,null,null,null,null,null,null,null,null,null,"OAK CREEK WATER CO #1","AZ0413041","91-000630.0000","W-01392A","OAK CREEK WATER NO 1","A","Oak Creek Water Co., No 1"]
[null,null,null,null,null,null,null,null,null,null,null,null,null,null,null,null,null,null,null,null,null,null,null,null,null,null,null,null,null,null,null,null,null,null,null,null,null,null,"OATMAN WATER COMPANY","AZ0408001","91-000307.0000","W-04069A","OATMAN WATER CO LLC","A","Oatman Water Company, L.L.C."]
[null,null,null,null,null,null,null,null,null,null,null,null,null,null,null,null,null,null,null,null,null,null,null,null,null,null,null,null,null,null,null,null,null,null,null,null,null,null,"OJO BONITO ESTATES DWID","AZ0401039","91-000016.0000","","OJO BONITO WATER IMPROVEMNT DS","A",""]
[null,null,null,null,null,null,null,null,null,null,null,null,null,null,null,null,null,null,null,null,null,null,null,null,null,null,null,null,null,null,null,null,null,null,null,null,null,null,"OLD CONCHO WATER USERS","AZ0401011","91-000006.0000","","OLD CONCHO WATER USERS CORP","A",""]
[null,null,null,null,null,null,null,null,null,null,null,null,null,null,null,null,null,null,null,null,null,null,null,null,null,null,null,null,null,null,null,null,null,null,null,null,null,null,"OLIVE AVENUE HOMEOWNERS ASSOC.","AZ0407484","91-000265.0000","","OLIVE AVENUE HOMEOWNERS ASSOC.","A",""]
[null,null,null,null,null,null,null,null,null,null,null,null,null,null,null,null,null,null,null,null,null,null,null,null,null,null,null,null,null,null,null,null,null,null,null,null,null,null,"ON THE GREENS","AZ0413268","91-000851.0000","","OTG RESOURCES, LLC","A",""]
[null,null,null,null,null,null,null,null,null,null,null,null,null,null,null,null,null,null,null,null,null,null,null,null,null,null,null,null,null,null,null,null,null,null,null,null,null,null,"ORACLE NORTH HOA","AZ0410404","91-000509.0000","","ORACLE NORTH HOA","A",""]
[null,null,null,null,null,null,null,null,null,null,null,null,null,null,null,null,null,null,null,null,null,null,null,null,null,null,null,null,null,null,null,null,null,null,null,null,null,null,"ORANGE GROVE WATER CO","AZ0414366","91-000732.0000","","SOMERTON, CITY OF","I",""]
[null,null,null,null,null,null,null,null,null,null,null,null,null,null,null,null,null,null,null,null,null,null,null,null,null,null,null,null,null,null,null,null,null,null,null,null,null,null,"ORCHARD VALLEY MHP","AZ0420159","91-000773.0000","","ORCHARD VALLEY MHP","A",""]
[null,null,null,null,null,null,null,null,null,null,null,null,null,null,null,null,null,null,null,null,null,null,null,null,null,null,null,null,null,null,null,null,null,null,null,null,null,null,"ORO VALLEY WATER UTILITY","AZ0410164","91-000462.0000","","ORO VALLEY WATER UTILITY","A",""]
[null,null,null,null,null,null,null,null,null,null,null,null,null,null,null,null,null,null,null,null,null,null,null,null,null,null,null,null,null,null,null,null,null,null,null,null,null,null,"ORO VALLEY WATER-COUNTRY","AZ0410175","91-000466.0000","","ORO VALLEY WATER UTILITY","A",""]
[null,null,null,null,null,null,null,null,null,null,null,null,null,null,null,null,null,null,null,null,null,null,null,null,null,null,null,null,null,null,null,null,null,null,null,null,null,null,"OUT WEST MOBILE VILLAGE","AZ0411320","91-000570.0000","","MONUMENT LAND DEVELOPMENT","I",""]
[null,null,null,null,null,null,null,null,null,null,null,null,null,null,null,null,null,null,null,null,null,null,null,null,null,null,null,null,null,null,null,null,null,null,null,null,null,null,"PAGE, CITY OF","AZ0403017","91-000093.0000","","PAGE, CITY OF","A",""]
[null,null,null,null,null,null,null,null,null,null,null,null,null,null,null,null,null,null,null,null,null,null,null,null,null,null,null,null,null,null,null,null,null,null,null,null,null,null,"PALM VISTA ESTATES","AZ0420514","91-000794.0000","","PALM VISTA ESTATES","I",""]
[null,null,null,null,null,null,null,null,null,null,null,null,null,null,null,null,null,null,null,null,null,null,null,null,null,null,null,null,null,null,null,null,null,null,null,null,null,null,"PALOMINAS WATER & SEWER C","AZ0402026","91-000044.0000","","PALOMINAS WATER & SEWER COOP","A",""]
[null,null,null,null,null,null,null,null,null,null,null,null,null,null,null,null,null,null,null,null,null,null,null,null,null,null,null,null,null,null,null,null,null,null,null,null,null,null,"PANTANO PROPERTIES HOA","AZ0410281","91-000490.0000","","PANTANO PROPERTIES HOA","A",""]
[null,null,null,null,null,null,null,null,null,null,null,null,null,null,null,null,null,null,null,null,null,null,null,null,null,null,null,null,null,null,null,null,null,null,null,null,null,null,"PAPAGO BUTTE WATER DELIVERY","AZ0411097","91-000552.0000","","PAPAGO BUTTE WATER DELIVERY","A",""]
[null,null,null,null,null,null,null,null,null,null,null,null,null,null,null,null,null,null,null,null,null,null,null,null,null,null,null,null,null,null,null,null,null,null,null,null,null,null,"PARADISE TRAILS / PIONEER VALLEY WS","AZ0408178","91-000864.0000","W-02821A","DOUBLE R WATER DISTRIBUTORS","A","Double R Water Distributors, Inc."]
[null,null,null,null,null,null,null,null,null,null,null,null,null,null,null,null,null,null,null,null,null,null,null,null,null,null,null,null,null,null,null,null,null,null,null,null,null,null,"PARK PLACE APARTMENTS","AZ0420534","91-000798.0000","","PARK PLACE APARTMENTS","A",""]
[null,null,null,null,null,null,null,null,null,null,null,null,null,null,null,null,null,null,null,null,null,null,null,null,null,null,null,null,null,null,null,null,null,null,null,null,null,null,"PARK WATER CO","AZ0411407","91-000583.0000","W-02353A","PARK WATER CO","A","Park Water Company, Inc."]
[null,null,null,null,null,null,null,null,null,null,null,null,null,null,null,null,null,null,null,null,null,null,null,null,null,null,null,null,null,null,null,null,null,null,null,null,null,null,"PARKER, TOWN OF","AZ0415013","91-000744.0000","","PARKER, TOWN OF","A",""]
[null,null,null,null,null,null,null,null,null,null,null,null,null,null,null,null,null,null,null,null,null,null,null,null,null,null,null,null,null,null,null,null,null,null,null,null,null,null,"PATAGONIA WATER DEPT","AZ0412006","91-000592.0000","","PATAGONIA, TOWN OF","A",""]
[null,null,null,null,null,null,null,null,null,null,null,null,null,null,null,null,null,null,null,null,null,null,null,null,null,null,null,null,null,null,null,null,null,null,null,null,null,null,"PATTIES RV PARK","AZ0415004","91-000854.0000","","PATTIES RV PARK","I",""]
[null,null,null,null,null,null,null,null,null,null,null,null,null,null,null,null,null,null,null,null,null,null,null,null,null,null,null,null,null,null,null,null,null,null,null,null,null,null,"PAYSON WATER CO.- FLOWING SPRINGS","AZ0404027","91-000131.0000","W-03514A","PAYSON WATER CO","A","Payson Water Co., Inc. - FLOWING SPRINGS          "]
[null,null,null,null,null,null,null,null,null,null,null,null,null,null,null,null,null,null,null,null,null,null,null,null,null,null,null,null,null,null,null,null,null,null,null,null,null,null,"PAYSON WATER CO.- MEADS RANCH","AZ0404015","91-000124.0000","W-03514A","PAYSON WATER CO","A","Payson Water Co., Inc. - MEADS RANCH              "]
[null,null,null,null,null,null,null,null,null,null,null,null,null,null,null,null,null,null,null,null,null,null,null,null,null,null,null,null,null,null,null,null,null,null,null,null,null,null,"PAYSON, TOWN OF","AZ0404032","91-000134.0000","","PAYSON, TOWN OF","A","PAYSON TOWN OF                          "]
[null,null,null,null,null,null,null,null,null,null,null,null,null,null,null,null,null,null,null,null,null,null,null,null,null,null,null,null,null,null,null,null,null,null,null,null,null,null,"PEACEFUL VALLEY RANCH MHP","AZ0407287","91-000249.0000","","ZELMANOVICS FAMILY TRUST","I",""]
[null,null,null,null,null,null,null,null,null,null,null,null,null,null,null,null,null,null,null,null,null,null,null,null,null,null,null,null,null,null,null,null,null,null,null,null,null,null,"PEEK-A-BOO WATER CO-OP","AZ0407671","91-000293.0000","","PEEK-A-BOO WATER CO-OP","A",""]
[null,null,null,null,null,null,null,null,null,null,null,null,null,null,null,null,null,null,null,null,null,null,null,null,null,null,null,null,null,null,null,null,null,null,null,null,null,null,"PEEPLES VALLEY WATER CO","AZ0413078","91-000653.0000","W-02146A","PEEPLES VALLEY WATER CO","A","Peeples Valley Water Company"]
[null,null,null,null,null,null,null,null,null,null,null,null,null,null,null,null,null,null,null,null,null,null,null,null,null,null,null,null,null,null,null,null,null,null,null,null,null,null,"PFISTER ACRES SYSTEM","AZ0411041","91-000538.0000","","PFISTER ACRES SYSTEM","I",""]
[null,null,null,null,null,null,null,null,null,null,null,null,null,null,null,null,null,null,null,null,null,null,null,null,null,null,null,null,null,null,null,null,null,null,null,null,null,null,"PHELPS DODGE - MORENCI WATER & ELEC (MAIN)","AZ0406003","91-000175.0000","W-01049A","MORENCI WATER & ELECTRIC CO","A","Morenci Water and Electric Company MAIN              "]
[null,null,null,null,null,null,null,null,null,null,null,null,null,null,null,null,null,null,null,null,null,null,null,null,null,null,null,null,null,null,null,null,null,null,null,null,null,null,"PHILADELPHIA WATER SYSTEM","AZ0413113","91-000662.0000","","PHILADELPHIA L L C","A",""]
[null,null,null,null,null,null,null,null,null,null,null,null,null,null,null,null,null,null,null,null,null,null,null,null,null,null,null,null,null,null,null,null,null,null,null,null,null,null,"PICACHO PEAK WATER COMPANY","AZ0411038","91-000536.0000","W-02351A","PICACHO PEAK WATER COMPANY","A","Picacho Peak Water Company"]
[null,null,null,null,null,null,null,null,null,null,null,null,null,null,null,null,null,null,null,null,null,null,null,null,null,null,null,null,null,null,null,null,null,null,null,null,null,null,"PICACHO WATER CO","AZ0411135","91-000564.0000","W-03528A","PICACHO WATER CO","A","Picacho Water Company"]
[null,null,null,null,null,null,null,null,null,null,null,null,null,null,null,null,null,null,null,null,null,null,null,null,null,null,null,null,null,null,null,null,null,null,null,null,null,null,"PICACHO WATER IMPROVEMENT","AZ0411042","91-000539.0000","W-01774A","PICACHO WATER IMPROVEMENT","A","Picacho Water Improvement Corporation"]
[null,null,null,null,null,null,null,null,null,null,null,null,null,null,null,null,null,null,null,null,null,null,null,null,null,null,null,null,null,null,null,null,null,null,null,null,null,null,"PICO VISTA COMMUNITY WELL","AZ0410435","91-000843.0000","","PICO VISTA COMMUNITY WELL","A",""]
[null,null,null,null,null,null,null,null,null,null,null,null,null,null,null,null,null,null,null,null,null,null,null,null,null,null,null,null,null,null,null,null,null,null,null,null,null,null,"PIMA RAMADA MHP","AZ0420495","91-000791.0000","","PIMA RAMADA MHP","A",""]
[null,null,null,null,null,null,null,null,null,null,null,null,null,null,null,null,null,null,null,null,null,null,null,null,null,null,null,null,null,null,null,null,null,null,null,null,null,null,"PIMA UTILITIES COMPANY","AZ0407120","91-000234.0000","W-02199A","PIMA UTILITIES COMPANY","A","PIMA UTILITIES                          "]
[null,null,null,null,null,null,null,null,null,null,null,null,null,null,null,null,null,null,null,null,null,null,null,null,null,null,null,null,null,null,null,null,null,null,null,null,null,null,"PINAL VALLEY WATER SYSTEM","AZ0411009","91-000521.0000","W-01445A","ARIZONA WATER CO - CASA GRANDE","A","Arizona Water Company - PINAL VALLEY         "]
[null,null,null,null,null,null,null,null,null,null,null,null,null,null,null,null,null,null,null,null,null,null,null,null,null,null,null,null,null,null,null,null,null,null,null,null,null,null,"PINE CREEK CANYON DWID","AZ0404044","91-000143.0000","","PINE CREEK CANYON DWID","A",""]
[null,null,null,null,null,null,null,null,null,null,null,null,null,null,null,null,null,null,null,null,null,null,null,null,null,null,null,null,null,null,null,null,null,null,null,null,null,null,"PINE VALLEY WATER CO","AZ0413103","91-000656.0000","W-02181A","LANCE ENTERPRIZES","A","Pine Valley Water Company"]
[null,null,null,null,null,null,null,null,null,null,null,null,null,null,null,null,null,null,null,null,null,null,null,null,null,null,null,null,null,null,null,null,null,null,null,null,null,null,"PINE WATER ASSN DWID","AZ0404016","91-000125.0000","","PINE WATER ASSN DWID","A",""]
[null,null,null,null,null,null,null,null,null,null,null,null,null,null,null,null,null,null,null,null,null,null,null,null,null,null,null,null,null,null,null,null,null,null,null,null,null,null,"PINE WATER CO-PINE","AZ0404043","91-000142.0000","","PINE STRAWBERRY DWID","I",""]
[null,null,null,null,null,null,null,null,null,null,null,null,null,null,null,null,null,null,null,null,null,null,null,null,null,null,null,null,null,null,null,null,null,null,null,null,null,null,"PINECREST WATER CO INC","AZ0401010","91-000005.0000","W-02091A","PINECREST WTR CO INC","A","Pinecrest Water Company, Inc."]
[null,null,null,null,null,null,null,null,null,null,null,null,null,null,null,null,null,null,null,null,null,null,null,null,null,null,null,null,null,null,null,null,null,null,null,null,null,null,"PINEDALE DOMESTIC WATER","AZ0409041","91-000392.0000","","PINEDALE DWID","A",""]
[null,null,null,null,null,null,null,null,null,null,null,null,null,null,null,null,null,null,null,null,null,null,null,null,null,null,null,null,null,null,null,null,null,null,null,null,null,null,"PINEHURST WATER CO","AZ0413043","91-000632.0000","","PINEHURST HOME ASSN","A",""]
[null,null,null,null,null,null,null,null,null,null,null,null,null,null,null,null,null,null,null,null,null,null,null,null,null,null,null,null,null,null,null,null,null,null,null,null,null,null,"PINES TO PALMS MOBILE HOME AND RV PARK","AZ0408156","91-000862.0000","","PINES TO PALMS MOBILE HOME AND RV PARK","I",""]
[null,null,null,null,null,null,null,null,null,null,null,null,null,null,null,null,null,null,null,null,null,null,null,null,null,null,null,null,null,null,null,null,null,null,null,null,null,null,"PINE-STRAWBERRY WATER IMPROVEMENT DISTRICT","AZ0404034","91-000135.0000","","PINE-STRAWBERRY WATER IMPROVEMENT DISTRICT","A",""]
[null,null,null,null,null,null,null,null,null,null,null,null,null,null,null,null,null,null,null,null,null,null,null,null,null,null,null,null,null,null,null,null,null,null,null,null,null,null,"PINETOP WTR COM FACIL DIS","AZ0409021","91-000375.0000","","PINETOP WTR COMM FACILITY DIST","A",""]
[null,null,null,null,null,null,null,null,null,null,null,null,null,null,null,null,null,null,null,null,null,null,null,null,null,null,null,null,null,null,null,null,null,null,null,null,null,null,"PINTO VALLEY MINE","AZ0404321","91-000894.0000","","PINTO VALLEY MINE","I",""]
[null,null,null,null,null,null,null,null,null,null,null,null,null,null,null,null,null,null,null,null,null,null,null,null,null,null,null,null,null,null,null,null,null,null,null,null,null,null,"PIONEER RV RESORT","AZ0407624","91-000287.0000","","ROLES INN OF AMERICA, INC","A",""]
[null,null,null,null,null,null,null,null,null,null,null,null,null,null,null,null,null,null,null,null,null,null,null,null,null,null,null,null,null,null,null,null,null,null,null,null,null,null,"PITA WATER","AZ0420600","91-000809.0000","","PITA WATER","A",""]
[null,null,null,null,null,null,null,null,null,null,null,null,null,null,null,null,null,null,null,null,null,null,null,null,null,null,null,null,null,null,null,null,null,null,null,null,null,null,"POCKETKNIFE WATER CO OP","AZ0410008","91-000896.0000","","POCKETKNIFE WATER CO OP","A",""]
[null,null,null,null,null,null,null,null,null,null,null,null,null,null,null,null,null,null,null,null,null,null,null,null,null,null,null,null,null,null,null,null,null,null,null,null,null,null,"POMERENE DOMESTIC WATER","AZ0402012","91-000033.0000","","POMERENE DOMESTIC WATER","A",""]
[null,null,null,null,null,null,null,null,null,null,null,null,null,null,null,null,null,null,null,null,null,null,null,null,null,null,null,null,null,null,null,null,null,null,null,null,null,null,"PONDEROSA GLEN MHP","AZ0404141","91-000153.0000","","R H BOULDER GRANITE LLC","A",""]
[null,null,null,null,null,null,null,null,null,null,null,null,null,null,null,null,null,null,null,null,null,null,null,null,null,null,null,null,null,null,null,null,null,null,null,null,null,null,"PONDEROSA PARK WATER IMPR","AZ0413044","91-000633.0000","","PONDEROSA PARK WID","A",""]
[null,null,null,null,null,null,null,null,null,null,null,null,null,null,null,null,null,null,null,null,null,null,null,null,null,null,null,null,null,null,null,null,null,null,null,null,null,null,"PONDEROSA UTILITY CORPOR","AZ0403018","91-000094.0000","W-01717A","PONDEROSA UTILITY CORP","A","Ponderosa Utility Corporation"]
[null,null,null,null,null,null,null,null,null,null,null,null,null,null,null,null,null,null,null,null,null,null,null,null,null,null,null,null,null,null,null,null,null,null,null,null,null,null,"PONDEROSA WATER CO","AZ0409023","91-000377.0000","","PONDEROSA DWID","A",""]
[null,null,null,null,null,null,null,null,null,null,null,null,null,null,null,null,null,null,null,null,null,null,null,null,null,null,null,null,null,null,null,null,null,null,null,null,null,null,"PORTER CREEK DWID","AZ0409013","91-000370.0000","","PORTER CREEK DWID","A",""]
[null,null,null,null,null,null,null,null,null,null,null,null,null,null,null,null,null,null,null,null,null,null,null,null,null,null,null,null,null,null,null,null,null,null,null,null,null,null,"PORTER MOUNTAIN DWID","AZ0409024","91-000378.0000","","PORTER MOUNTAIN DWID","A",""]
[null,null,null,null,null,null,null,null,null,null,null,null,null,null,null,null,null,null,null,null,null,null,null,null,null,null,null,null,null,null,null,null,null,null,null,null,null,null,"PRESCOTT VALLEY MUNICIPAL WATER SYSTEM","AZ0413063","91-000647.0000","","PRESCOTT VALLEY MUNICIPAL WATER SYSTEM","A",""]
[null,null,null,null,null,null,null,null,null,null,null,null,null,null,null,null,null,null,null,null,null,null,null,null,null,null,null,null,null,null,null,null,null,null,null,null,null,null,"PRESCOTT VALLEY WATER DIST","AZ0413048","91-000636.0000","","PRESCOTT VALLEY WATER DIST","A",""]
[null,null,null,null,null,null,null,null,null,null,null,null,null,null,null,null,null,null,null,null,null,null,null,null,null,null,null,null,null,null,null,null,null,null,null,null,null,null,"PRESCOTT, CITY OF","AZ0413045","91-000634.0000","","PRESCOTT, CITY OF","A",""]
[null,null,null,null,null,null,null,null,null,null,null,null,null,null,null,null,null,null,null,null,null,null,null,null,null,null,null,null,null,null,null,null,null,null,null,null,null,null,"PUEBLO DEL SOL WATER CO","AZ0402044","91-000058.0000","W-02208A","PUEBLO DEL SOL WATER CO","A","Pueblo Del Sol Water Company"]
[null,null,null,null,null,null,null,null,null,null,null,null,null,null,null,null,null,null,null,null,null,null,null,null,null,null,null,null,null,null,null,null,null,null,null,null,null,null,"PUEBLO HEIGHTS MHP","AZ0404314","91-000156.0000","","PUEBLO HEIGHTS MHP","A",""]
[null,null,null,null,null,null,null,null,null,null,null,null,null,null,null,null,null,null,null,null,null,null,null,null,null,null,null,null,null,null,null,null,null,null,null,null,null,null,"Q MOUNTAIN HOA","AZ0415509","91-000756.0000","W-02518A","Q MOUNTAIN MHP","A","Q Mountain Mobile Home Park DBA Q Mountain Vista"]
[null,null,null,null,null,null,null,null,null,null,null,null,null,null,null,null,null,null,null,null,null,null,null,null,null,null,null,null,null,null,null,null,null,null,null,null,null,null,"Q-MOUNTAIN WATER COMPANY","AZ0415096","91-000753.0000","W-02800A","Q MOUNTAIN WATER CO","A","Q Mountain Water, Inc."]
[null,null,null,null,null,null,null,null,null,null,null,null,null,null,null,null,null,null,null,null,null,null,null,null,null,null,null,null,null,null,null,null,null,null,null,null,null,null,"QUAIL CREEK WATER COMPANY INC.","AZ0410262","91-000482.0000","W-02514A","QUAIL CREEK WATER COMPANY","A","Quail Creek Water Company"]
[null,null,null,null,null,null,null,null,null,null,null,null,null,null,null,null,null,null,null,null,null,null,null,null,null,null,null,null,null,null,null,null,null,null,null,null,null,null,"QUAIL RIDGE DWID","AZ0413307","91-000818.0000","","QUAIL RIDGE DOMESTIC WATER IMPROVEMENT DISTRICT","A",""]
[null,null,null,null,null,null,null,null,null,null,null,null,null,null,null,null,null,null,null,null,null,null,null,null,null,null,null,null,null,null,null,null,null,null,null,null,null,null,"QUAIL RUN HOMEOWNERS ASSOCIATION","AZ0404341","91-000161.0000","","QUAIL RUN HOA","A",""]
[null,null,null,null,null,null,null,null,null,null,null,null,null,null,null,null,null,null,null,null,null,null,null,null,null,null,null,null,null,null,null,null,null,null,null,null,null,null,"QUARTER CIRCLE V BAR RANCH","AZ0413315","91-000689.0000","","ORME SCHOOL","I",""]
[null,null,null,null,null,null,null,null,null,null,null,null,null,null,null,null,null,null,null,null,null,null,null,null,null,null,null,null,null,null,null,null,null,null,null,null,null,null,"QUARTZSITE, TOWN OF","AZ0415346","91-000754.0000","","QUARTZSITE, TOWN OF","A",""]
[null,null,null,null,null,null,null,null,null,null,null,null,null,null,null,null,null,null,null,null,null,null,null,null,null,null,null,null,null,null,null,null,null,null,null,null,null,null,"QUEEN CREEK WATER COMPANY","AZ0407033","91-000194.0000","","QUEEN CREEK WATER DEPARTMENT","A",""]
[null,null,null,null,null,null,null,null,null,null,null,null,null,null,null,null,null,null,null,null,null,null,null,null,null,null,null,null,null,null,null,null,null,null,null,null,null,null,"QUEEN VALLEY DOM. WTR. IMP. DIST.","AZ0411044","91-000541.0000","","QUEEN VALLEY DOM. WTR. IMP. DIST.","A",""]
[null,null,null,null,null,null,null,null,null,null,null,null,null,null,null,null,null,null,null,null,null,null,null,null,null,null,null,null,null,null,null,null,null,null,null,null,null,null,"QUINTERO AREA WATER SYSTEM","AZ0407513","91-000813.0000","","CITY OF PEORIA","I",""]
[null,null,null,null,null,null,null,null,null,null,null,null,null,null,null,null,null,null,null,null,null,null,null,null,null,null,null,null,null,null,null,null,null,null,null,null,null,null,"RAINBOW ACRES","AZ0413340","91-000852.0000","","RAINBOW ACRES","A",""]
[null,null,null,null,null,null,null,null,null,null,null,null,null,null,null,null,null,null,null,null,null,null,null,null,null,null,null,null,null,null,null,null,null,null,null,null,null,null,"RAINDANCE WATER CO-OP","AZ0410278","91-000489.0000","","RAINDANCE WATER CO-OP","A",""]
[null,null,null,null,null,null,null,null,null,null,null,null,null,null,null,null,null,null,null,null,null,null,null,null,null,null,null,null,null,null,null,null,null,null,null,null,null,null,"RANCH WATER SERVICE INC","AZ0408082","91-000344.0000","","RANCH WATER SERVICE INC","A",""]
[null,null,null,null,null,null,null,null,null,null,null,null,null,null,null,null,null,null,null,null,null,null,null,null,null,null,null,null,null,null,null,null,null,null,null,null,null,null,"RANCHEROS BONITOS","AZ0414073","91-000723.0000","W-03254A","NANCY MILLER","A","Rancheros Bonitos Water Co. L.L.C."]
[null,null,null,null,null,null,null,null,null,null,null,null,null,null,null,null,null,null,null,null,null,null,null,null,null,null,null,null,null,null,null,null,null,null,null,null,null,null,"RANCHES AT MARICOPA","AZ0411132","91-000563.0000","","RANCHES AT MARICOPA","A",""]
[null,null,null,null,null,null,null,null,null,null,null,null,null,null,null,null,null,null,null,null,null,null,null,null,null,null,null,null,null,null,null,null,null,null,null,null,null,null,"RANCHO DEL CONEJO COOP","AZ0410142","91-000451.0000","W-02102B","RANCHO DEL CONEJO COOP","A","Rancho Del Conejo Community Water Co-Op, Inc."]
[null,null,null,null,null,null,null,null,null,null,null,null,null,null,null,null,null,null,null,null,null,null,null,null,null,null,null,null,null,null,null,null,null,null,null,null,null,null,"RANCHO LOS AMIGOS LTD PART.","AZ0420068","91-000766.0000","","RANCHO LOS AMIGOS LTD PART.","I",""]
[null,null,null,null,null,null,null,null,null,null,null,null,null,null,null,null,null,null,null,null,null,null,null,null,null,null,null,null,null,null,null,null,null,null,null,null,null,null,"RANCHO SIERRITA WELL ASSN","AZ0410286","91-000493.0000","","RANCHO SIERRITA WELL ASSN","A",""]
[null,null,null,null,null,null,null,null,null,null,null,null,null,null,null,null,null,null,null,null,null,null,null,null,null,null,null,null,null,null,null,null,null,null,null,null,null,null,"RANCHO TIERRA BLANCA POA","AZ0410272","91-000488.0000","","RANCHO TIERRA BLANCA POA","A",""]
[null,null,null,null,null,null,null,null,null,null,null,null,null,null,null,null,null,null,null,null,null,null,null,null,null,null,null,null,null,null,null,null,null,null,null,null,null,null,"RANCHO WELL INC","AZ0407482","91-000264.0000","","RANCHO WELLS INC","A",""]
[null,null,null,null,null,null,null,null,null,null,null,null,null,null,null,null,null,null,null,null,null,null,null,null,null,null,null,null,null,null,null,null,null,null,null,null,null,null,"RANCHWOOD MOBILE HOME PARK","AZ0420205","91-000778.0000","","RANCHWOOD MOBILE HOME PARK","A",""]
[null,null,null,null,null,null,null,null,null,null,null,null,null,null,null,null,null,null,null,null,null,null,null,null,null,null,null,null,null,null,null,null,null,null,null,null,null,null,"RAY WATER COMPANY","AZ0410095","91-000435.0000","W-01380A","RAY WATER COMPANY","A","Ray Water Company, Inc."]
[null,null,null,null,null,null,null,null,null,null,null,null,null,null,null,null,null,null,null,null,null,null,null,null,null,null,null,null,null,null,null,null,null,null,null,null,null,null,"RED ROCK ACRES HOA","AZ0412321","91-000604.0000","","RED ROCK HOME OWNERS ASSOC","A",""]
[null,null,null,null,null,null,null,null,null,null,null,null,null,null,null,null,null,null,null,null,null,null,null,null,null,null,null,null,null,null,null,null,null,null,null,null,null,null,"RED ROCK CORRECTIONAL CENTER","AZ0411138","91-000565.0000","","RED ROCK CORRECTIONAL CENTER","I",""]
[null,null,null,null,null,null,null,null,null,null,null,null,null,null,null,null,null,null,null,null,null,null,null,null,null,null,null,null,null,null,null,null,null,null,null,null,null,null,"RED ROCK CROSSING MOBILE","AZ0413074","91-000650.0000","","RED ROCK CROSSING MOBILE VILLA","A",""]
[null,null,null,null,null,null,null,null,null,null,null,null,null,null,null,null,null,null,null,null,null,null,null,null,null,null,null,null,null,null,null,null,null,null,null,null,null,null,"RED ROCK UTILITIES","AZ0411160","91-000823.0000","WS-04245A","RED ROCK UTILITIES, LLC","A","Red Rock Utilities, LLC"]
[null,null,null,null,null,null,null,null,null,null,null,null,null,null,null,null,null,null,null,null,null,null,null,null,null,null,null,null,null,null,null,null,null,null,null,null,null,null,"Ridgeview Utility Company",null,null,"W-03861A","Ridgeview Utility Company",null,"Ridgeview Utility Company"]
[null,null,null,null,null,null,null,null,null,null,null,null,null,null,null,null,null,null,null,null,null,null,null,null,null,null,null,null,null,null,null,null,null,null,null,null,null,null,"RIGBY WATER CO","AZ0407062","91-000203.0000","","SEQUOIA INDUSTRIES, LTD","I",""]
[null,null,null,null,null,null,null,null,null,null,null,null,null,null,null,null,null,null,null,null,null,null,null,null,null,null,null,null,null,null,null,null,null,null,null,null,null,null,"RIGBY WATER CO-HOLLY ACRE","AZ0407608","91-000283.0000","","SEQUOIA INDUSTRIES, LTD","I",""]
[null,null,null,null,null,null,null,null,null,null,null,null,null,null,null,null,null,null,null,null,null,null,null,null,null,null,null,null,null,null,null,null,null,null,null,null,null,null,"RIGBY WC - CHILDERS","AZ0407609","91-000284.0000","","CITY OF PHOENIX","I",""]
[null,null,null,null,null,null,null,null,null,null,null,null,null,null,null,null,null,null,null,null,null,null,null,null,null,null,null,null,null,null,null,null,null,null,null,null,null,null,"RILLITO WATER USERS INC","AZ0410098","91-000436.0000","W-02003A","RILLITO WATER USERS INC","A","Rillito Water Users Association"]
[null,null,null,null,null,null,null,null,null,null,null,null,null,null,null,null,null,null,null,null,null,null,null,null,null,null,null,null,null,null,null,null,null,null,null,null,null,null,"RIM TRAIL DWID","AZ0404035","91-000136.0000","","RIM TRAIL DWID","I",""]
[null,null,null,null,null,null,null,null,null,null,null,null,null,null,null,null,null,null,null,null,null,null,null,null,null,null,null,null,null,null,null,null,null,null,null,null,null,null,"RINCON COUNTRY EAST RV","AZ0420602","91-000810.0000","","RC EAST LLC","A",""]
[null,null,null,null,null,null,null,null,null,null,null,null,null,null,null,null,null,null,null,null,null,null,null,null,null,null,null,null,null,null,null,null,null,null,null,null,null,null,"RINCON MESA LANDOWNERS","AZ0410199","91-000472.0000","","RINCON MESA LANDOWNER'S ASSN","A",""]
[null,null,null,null,null,null,null,null,null,null,null,null,null,null,null,null,null,null,null,null,null,null,null,null,null,null,null,null,null,null,null,null,null,null,null,null,null,null,"RINCON RANCH ESTATES","AZ0410100","91-000437.0000","","RINCON RANCH ESTATES WATER CO","I",""]
[null,null,null,null,null,null,null,null,null,null,null,null,null,null,null,null,null,null,null,null,null,null,null,null,null,null,null,null,null,null,null,null,null,null,null,null,null,null,"RINCON WATER COMPANY","AZ0410144","91-000453.0000","W-01723A","RINCON WATER COMPANY","A","Rincon Water Company"]
[null,null,null,null,null,null,null,null,null,null,null,null,null,null,null,null,null,null,null,null,null,null,null,null,null,null,null,null,null,null,null,null,null,null,null,null,null,null,"RIO LINDO","AZ0415040","91-000751.0000","W-03039A","BROOKE WATER LLC","A","Brooke Water LLC - RIO LINDO            "]
[null,null,null,null,null,null,null,null,null,null,null,null,null,null,null,null,null,null,null,null,null,null,null,null,null,null,null,null,null,null,null,null,null,null,null,null,null,null,"RIO RICO UTILITIES INC.","AZ0412011","91-000595.0000","WS-02676A","RIO RICO UTILITIES INC.","A","Liberty Utilities (Rio Rico Water and Sewer) Corp"]
[null,null,null,null,null,null,null,null,null,null,null,null,null,null,null,null,null,null,null,null,null,null,null,null,null,null,null,null,null,null,null,null,null,null,null,null,null,null,"RIO VERDE RV PARK","AZ0413425","91-000898.0000","","VORTEX HEALING PARK LLC","A",""]
[null,null,null,null,null,null,null,null,null,null,null,null,null,null,null,null,null,null,null,null,null,null,null,null,null,null,null,null,null,null,null,null,null,null,null,null,null,null,"RIO VERDE UTILITIES, INC.","AZ0407121","91-000235.0000","WS-02156A","RIO VERDE UTILITIES, INC.","A","Rio Verde Utilities, Inc."]
[null,null,null,null,null,null,null,null,null,null,null,null,null,null,null,null,null,null,null,null,null,null,null,null,null,null,null,null,null,null,null,null,null,null,null,null,null,null,"RIO VISTA MHP","AZ0420487","91-000789.0000","","RIO VISTA MHP","A",""]
[null,null,null,null,null,null,null,null,null,null,null,null,null,null,null,null,null,null,null,null,null,null,null,null,null,null,null,null,null,null,null,null,null,null,null,null,null,null,"RIVER RV RANCH","AZ0414086","91-000890.0000","","RIVER RV RANCH LLC","A",""]
[null,null,null,null,null,null,null,null,null,null,null,null,null,null,null,null,null,null,null,null,null,null,null,null,null,null,null,null,null,null,null,null,null,null,null,null,null,null,"RIVERSIDE APTS, LLC","AZ0420129","91-000772.0000","","RIVERSIDE APTS, LLC","I",""]
[null,null,null,null,null,null,null,null,null,null,null,null,null,null,null,null,null,null,null,null,null,null,null,null,null,null,null,null,null,null,null,null,null,null,null,null,null,null,"ROADRUNNER MOBILE HOME PARK","AZ0413338","91-000691.0000","","ROADRUNNER MOBILE HOME PARK","A",""]
[null,null,null,null,null,null,null,null,null,null,null,null,null,null,null,null,null,null,null,null,null,null,null,null,null,null,null,null,null,null,null,null,null,null,null,null,null,null,"ROLLING WHEELS MOBILE HO","AZ0412309","91-000602.0000","","ROLLING WHEELS MOBILE HOME PAR","I",""]
[null,null,null,null,null,null,null,null,null,null,null,null,null,null,null,null,null,null,null,null,null,null,null,null,null,null,null,null,null,null,null,null,null,null,null,null,null,null,"ROOSEVELT LAKE RESORT","AZ0404200","91-000881.0000","W-01958A","ROOSEVELT LAKE RESORT INC","A","Roosevelt Lake Resort, Inc."]
[null,null,null,null,null,null,null,null,null,null,null,null,null,null,null,null,null,null,null,null,null,null,null,null,null,null,null,null,null,null,null,null,null,null,null,null,null,null,"ROSE VALLEY WATER COMPANY","AZ0407065","91-000205.0000","W-01539A","ROSE VALLEY WATER COMPANY","A","Rose Valley Water Company"]
[null,null,null,null,null,null,null,null,null,null,null,null,null,null,null,null,null,null,null,null,null,null,null,null,null,null,null,null,null,null,null,null,null,null,null,null,null,null,"RUBY STAR AIR PARK","AZ0410465","91-000824.0000","","RUBY STAR AIR PARK USERS ASSOC","I",""]
[null,null,null,null,null,null,null,null,null,null,null,null,null,null,null,null,null,null,null,null,null,null,null,null,null,null,null,null,null,null,null,null,null,null,null,null,null,null,"RUNNING BEAR MOBIL RESORT","AZ0409316","91-000404.0000","","RUNNING BEAR MOBIL RESORT","A",""]
[null,null,null,null,null,null,null,null,null,null,null,null,null,null,null,null,null,null,null,null,null,null,null,null,null,null,null,null,null,null,null,null,null,null,null,null,null,null,"SABROSA WATER CO NEW RIV","AZ0407052","91-000201.0000","","CAVE CREEK WATER COMPANY","I",""]
[null,null,null,null,null,null,null,null,null,null,null,null,null,null,null,null,null,null,null,null,null,null,null,null,null,null,null,null,null,null,null,null,null,null,null,null,null,null,"SADDLE MOUNTAIN DAIRY","AZ0407720","91-000814.0000","","SADDLE MOUNTAIN DAIRY","I",""]
[null,null,null,null,null,null,null,null,null,null,null,null,null,null,null,null,null,null,null,null,null,null,null,null,null,null,null,null,null,null,null,null,null,null,null,null,null,null,"SAGE VALLEY M H PARK","AZ0403299","91-000829.0000","","SAGE VALLEY M H PARK","I",""]
[null,null,null,null,null,null,null,null,null,null,null,null,null,null,null,null,null,null,null,null,null,null,null,null,null,null,null,null,null,null,null,null,null,null,null,null,null,null,"SAGUARO ACRES COMMUNITIES FACILITIES DISTRICT","AZ0407670","91-000292.0000","","SAGUARO ACRES COMMUNITIES FACILITIES DISTRICT","A",""]
[null,null,null,null,null,null,null,null,null,null,null,null,null,null,null,null,null,null,null,null,null,null,null,null,null,null,null,null,null,null,null,null,null,null,null,null,null,null,"SAGUARO CORRECTIONAL FACILITY","AZ0411139","91-000848.0000","","CORRECTIONAL CORP OF AMERICA","I",""]
[null,null,null,null,null,null,null,null,null,null,null,null,null,null,null,null,null,null,null,null,null,null,null,null,null,null,null,null,null,null,null,null,null,null,null,null,null,null,"SAGUARO MANAGEMENT, INC.","AZ0407169","91-000242.0000","","SAGUARO VIEW MGMT CO","A",""]
[null,null,null,null,null,null,null,null,null,null,null,null,null,null,null,null,null,null,null,null,null,null,null,null,null,null,null,null,null,null,null,null,null,null,null,null,null,null,"SAGUARO MOBILE HOME PARK","AZ0411381","91-000579.0000","","SAGUARO MOBILE HOME PARK","A",""]
[null,null,null,null,null,null,null,null,null,null,null,null,null,null,null,null,null,null,null,null,null,null,null,null,null,null,null,null,null,null,null,null,null,null,null,null,null,null,"SAGUARO WATER COMPANY","AZ0410177","91-000467.0000","W-01790A","SAGUARO WATER COMPANY","A","Saguaro Water Company"]
[null,null,null,null,null,null,null,null,null,null,null,null,null,null,null,null,null,null,null,null,null,null,null,null,null,null,null,null,null,null,null,null,null,null,null,null,null,null,"SAHUARITA HEIGHTS MHP","AZ0420419","91-000780.0000","","SAHUARITA HEIGHTS MHP","A",""]
[null,null,null,null,null,null,null,null,null,null,null,null,null,null,null,null,null,null,null,null,null,null,null,null,null,null,null,null,null,null,null,null,null,null,null,null,null,null,"SAHUARITA HIGHLANDS","AZ0410414","91-000822.0000","W-01654A","FARMERS WATER COMPANY","A","Farmers Water Company SAHUARITA HIGHLANDS    "]
[null,null,null,null,null,null,null,null,null,null,null,null,null,null,null,null,null,null,null,null,null,null,null,null,null,null,null,null,null,null,null,null,null,null,null,null,null,null,"SAHUARITA VILLAGE WATER CO","AZ0410123","91-000443.0000","","SAHUARITA VILLAGE WATER CO","A",""]
[null,null,null,null,null,null,null,null,null,null,null,null,null,null,null,null,null,null,null,null,null,null,null,null,null,null,null,null,null,null,null,null,null,null,null,null,null,null,"SAHUARITA WATER COMPANY","AZ0410312","91-000495.0000","W-03718A","SAHUARITA WATER COMPANY","A","Sahuarita Water Company L.L.C."]
[null,null,null,null,null,null,null,null,null,null,null,null,null,null,null,null,null,null,null,null,null,null,null,null,null,null,null,null,null,null,null,null,null,null,null,null,null,null,"SALOME WATER COMPANY","AZ0415021","91-000745.0000","W-01084A","SALOME WATER CO","A","William R. Farr DBA Salome Water Company"]
[null,null,null,null,null,null,null,null,null,null,null,null,null,null,null,null,null,null,null,null,null,null,null,null,null,null,null,null,null,null,null,null,null,null,null,null,null,null,"SAMALAYUCA IMPROVEMENT ASSOC.","AZ0410101","91-000438.0000","","SAMALAYUCA IMPROVEMENT ASSOC.","A",""]
[null,null,null,null,null,null,null,null,null,null,null,null,null,null,null,null,null,null,null,null,null,null,null,null,null,null,null,null,null,null,null,null,null,null,null,null,null,null,"SAN LUIS, CITY OF","AZ0414005","91-000710.0000","","SAN LUIS, CITY OF","A",""]
[null,null,null,null,null,null,null,null,null,null,null,null,null,null,null,null,null,null,null,null,null,null,null,null,null,null,null,null,null,null,null,null,null,null,null,null,null,null,"SAN SIMON WATER IMPROVEMENT","AZ0402027","91-000045.0000","","SAN SIMON WATER IMP","A",""]
[null,null,null,null,null,null,null,null,null,null,null,null,null,null,null,null,null,null,null,null,null,null,null,null,null,null,null,null,null,null,null,null,null,null,null,null,null,null,"SAND POINTE MHP & RV PARK","AZ0411388","91-000580.0000","","KOKOMO MALL, LLC","I",""]
[null,null,null,null,null,null,null,null,null,null,null,null,null,null,null,null,null,null,null,null,null,null,null,null,null,null,null,null,null,null,null,null,null,null,null,null,null,null,"SANDARIO WATER CO.","AZ0410093","91-000434.0000","W-01831A","SANDARIO WATER COMPANY","A","Sandario Water Company, Inc."]
[null,null,null,null,null,null,null,null,null,null,null,null,null,null,null,null,null,null,null,null,null,null,null,null,null,null,null,null,null,null,null,null,null,null,null,null,null,null,"SANDARIO WELL #3","AZ0410425","91-000842.0000","","SANDARIO WELL #3","I",""]
[null,null,null,null,null,null,null,null,null,null,null,null,null,null,null,null,null,null,null,null,null,null,null,null,null,null,null,null,null,null,null,null,null,null,null,null,null,null,"SANDERS SCHOOL DISTRICT","AZ0401022","91-000013.0000","","SANDERS SCH DIST","A",""]
[null,null,null,null,null,null,null,null,null,null,null,null,null,null,null,null,null,null,null,null,null,null,null,null,null,null,null,null,null,null,null,null,null,null,null,null,null,null,"SANTA CRUZ WATER CO.","AZ0411131","91-000562.0000","W-20446A","SANTA CRUZ WATER CO.","A","Global Water-Santa Cruz Water Company"]
[null,null,null,null,null,null,null,null,null,null,null,null,null,null,null,null,null,null,null,null,null,null,null,null,null,null,null,null,null,null,null,null,null,null,null,null,null,null,"SASABE BORDER WATER CO","AZ0410047","91-000419.0000","","SASABE BORDER WATER CO","A",""]
[null,null,null,null,null,null,null,null,null,null,null,null,null,null,null,null,null,null,null,null,null,null,null,null,null,null,null,null,null,null,null,null,null,null,null,null,null,null,"SEDONA VENTURE WATER SYST","AZ0413108","91-000660.0000","WS-03449A","EQUITY LIFESTYLE PROPERTIES","A","MHC Operating Limited Partnership DBA The Sedona Venture Water Company"]
[null,null,null,null,null,null,null,null,null,null,null,null,null,null,null,null,null,null,null,null,null,null,null,null,null,null,null,null,null,null,null,null,null,null,null,null,null,null,"SEVEN RANCHES DOMESTIC WATER IMPROVEMENT DISTRICT","AZ0411713","91-000588.0000","","SEVEN RANCHES DOMESTIC WATER IMPROVEMENT DISTRICT","A","SEVEN RANCH DWID                        "]
[null,null,null,null,null,null,null,null,null,null,null,null,null,null,null,null,null,null,null,null,null,null,null,null,null,null,null,null,null,null,null,null,null,null,null,null,null,null,"SHAE WATER COMPANY","AZ0410268","91-000485.0000","","SHAE WATER CO","A",""]
[null,null,null,null,null,null,null,null,null,null,null,null,null,null,null,null,null,null,null,null,null,null,null,null,null,null,null,null,null,null,null,null,null,null,null,null,null,null,"SHANGRI LA II RESORT","AZ0407660","91-000291.0000","W-02474A","SHANGRI LA WATER WORKS","A","Kraus Investment LC DBA Shangri-La Ranch"]
[null,null,null,null,null,null,null,null,null,null,null,null,null,null,null,null,null,null,null,null,null,null,null,null,null,null,null,null,null,null,null,null,null,null,null,null,null,null,"SHANTOS WATER WELL","AZ0410323","91-000498.0000","","SHANTOS WATER WELL","I",""]
[null,null,null,null,null,null,null,null,null,null,null,null,null,null,null,null,null,null,null,null,null,null,null,null,null,null,null,null,null,null,null,null,null,null,null,null,null,null,"SHEPARD WATER CO INC","AZ0414014","91-000712.0000","W-01537A","SHEPARD WATER CO INC","A","Shepard Water Company, Inc."]
[null,null,null,null,null,null,null,null,null,null,null,null,null,null,null,null,null,null,null,null,null,null,null,null,null,null,null,null,null,null,null,null,null,null,null,null,null,null,"SHERMAN PINES HOMEOWNER'S ASSOCIATION","AZ0413049","91-000637.0000","","SHERMAN PINES HOMEOWNER'S ASSOCIATION","A","SHERMAN PINES WATER COMPANY             "]
[null,null,null,null,null,null,null,null,null,null,null,null,null,null,null,null,null,null,null,null,null,null,null,null,null,null,null,null,null,null,null,null,null,null,null,null,null,null,"SHILOH WATER CO","AZ0410450","91-000844.0000","","SHILOH WATER CO","A",""]
[null,null,null,null,null,null,null,null,null,null,null,null,null,null,null,null,null,null,null,null,null,null,null,null,null,null,null,null,null,null,null,null,null,null,null,null,null,null,"SHOW LOW - SOUTH","AZ0409022","91-000376.0000","","CITY OF SHOWLOW","I",""]
[null,null,null,null,null,null,null,null,null,null,null,null,null,null,null,null,null,null,null,null,null,null,null,null,null,null,null,null,null,null,null,null,null,null,null,null,null,null,"SHOW LOW BLUFFS","AZ0409094","91-000865.0000","","CITY OF SHOW LOW","I",""]
[null,null,null,null,null,null,null,null,null,null,null,null,null,null,null,null,null,null,null,null,null,null,null,null,null,null,null,null,null,null,null,null,null,null,null,null,null,null,"SHOW LOW CROSSROADS HOA","AZ0401372","91-000022.0000","","SHOW LOW CROSSROAD HOA INC","A",""]
[null,null,null,null,null,null,null,null,null,null,null,null,null,null,null,null,null,null,null,null,null,null,null,null,null,null,null,null,null,null,null,null,null,null,null,null,null,null,"SHOW LOW, CITY OF","AZ0409026","91-000380.0000","","SHOW LOW, CITY OF","A",""]
[null,null,null,null,null,null,null,null,null,null,null,null,null,null,null,null,null,null,null,null,null,null,null,null,null,null,null,null,null,null,null,null,null,null,null,null,null,null,"SIERRA COURT TRAILER PARK","AZ0420092","91-000767.0000","","SIERRA COURT TRAILER PARK","A",""]
[null,null,null,null,null,null,null,null,null,null,null,null,null,null,null,null,null,null,null,null,null,null,null,null,null,null,null,null,null,null,null,null,null,null,null,null,null,null,"SIERRA PACIFIC MOBILE MAN","AZ0414098","91-000727.0000","","PARKWAY PLAZA LLC","A",""]
[null,null,null,null,null,null,null,null,null,null,null,null,null,null,null,null,null,null,null,null,null,null,null,null,null,null,null,null,null,null,null,null,null,null,null,null,null,null,"SIERRA VERDE RANCH","AZ0413259","91-000685.0000","","SIERRA VERDE RANCH POA","I",""]
[null,null,null,null,null,null,null,null,null,null,null,null,null,null,null,null,null,null,null,null,null,null,null,null,null,null,null,null,null,null,null,null,null,null,null,null,null,null,"SIERRA VISTA MH VILLAGE","AZ0402101","91-000071.0000","","KNEE DEEP PARTNERS","A",""]
[null,null,null,null,null,null,null,null,null,null,null,null,null,null,null,null,null,null,null,null,null,null,null,null,null,null,null,null,null,null,null,null,null,null,null,null,null,null,"SIERRITA MOUNTAIN WELL COOP","AZ0410208","91-000474.0000","","SIERRITA MOUNTAIN WATER COOP","A",""]
[null,null,null,null,null,null,null,null,null,null,null,null,null,null,null,null,null,null,null,null,null,null,null,null,null,null,null,null,null,null,null,null,null,null,null,null,null,null,"SIETE CASAS JOINT VENTURE","AZ0410242","91-000480.0000","","SIETE CASAS JOINT VENTURE","A",""]
[null,null,null,null,null,null,null,null,null,null,null,null,null,null,null,null,null,null,null,null,null,null,null,null,null,null,null,null,null,null,null,null,null,null,null,null,null,null,"SIGNAL PEAK WATER CO, INC","AZ0411079","91-000549.0000","W-20496A","SIGNAL PEAK WATER, INC.","A","AVM-2005, LLC"]
[null,null,null,null,null,null,null,null,null,null,null,null,null,null,null,null,null,null,null,null,null,null,null,null,null,null,null,null,null,null,null,null,null,null,null,null,null,null,"SILVER CHOLLA PARK","AZ0420478","91-000787.0000","","SILVER CHOLLA PARK","A",""]
[null,null,null,null,null,null,null,null,null,null,null,null,null,null,null,null,null,null,null,null,null,null,null,null,null,null,null,null,null,null,null,null,null,null,null,null,null,null,"SILVER CREEK RV","AZ0408064","91-000337.0000","","SILVER CREEK RV","A",""]
[null,null,null,null,null,null,null,null,null,null,null,null,null,null,null,null,null,null,null,null,null,null,null,null,null,null,null,null,null,null,null,null,null,null,null,null,null,null,"SILVER WELL SERVICE CORP","AZ0409027","91-000381.0000","","SILVER WELL SERVICE CORP","I",""]
[null,null,null,null,null,null,null,null,null,null,null,null,null,null,null,null,null,null,null,null,null,null,null,null,null,null,null,null,null,null,null,null,null,null,null,null,null,null,"SILVERBELL IRRIGATION AND DRAINAGE DIST","AZ0411005","91-000520.0000","","SILVERBELL IRRIGATION AND DRAINAGE DIST","A",""]
[null,null,null,null,null,null,null,null,null,null,null,null,null,null,null,null,null,null,null,null,null,null,null,null,null,null,null,null,null,null,null,null,null,null,null,null,null,null,"SILVERBELL WEST","AZ0410162","91-000461.0000","","TUCSON, CITY OF","A",""]
[null,null,null,null,null,null,null,null,null,null,null,null,null,null,null,null,null,null,null,null,null,null,null,null,null,null,null,null,null,null,null,null,null,null,null,null,null,null,"SILVERVIEW RV PARK","AZ0408164","91-000895.0000","","SILVERVIEW RV PARK","A",""]
[null,null,null,null,null,null,null,null,null,null,null,null,null,null,null,null,null,null,null,null,null,null,null,null,null,null,null,null,null,null,null,null,null,null,null,null,null,null,"SITGREAVES WATER CO","AZ0409040","91-000391.0000","W-02078A","SITEGREAVES WATER CO","I","Sitgreaves Water Company"]
[null,null,null,null,null,null,null,null,null,null,null,null,null,null,null,null,null,null,null,null,null,null,null,null,null,null,null,null,null,null,null,null,null,null,null,null,null,null,"SKY-HI DOMESTIC IMP DIST","AZ0409028","91-000382.0000","","SKY-HI DOMESTIC IMP DIST","A",""]
[null,null,null,null,null,null,null,null,null,null,null,null,null,null,null,null,null,null,null,null,null,null,null,null,null,null,null,null,null,null,null,null,null,null,null,null,null,null,"SKYLINE RESORT AND RV PARK","AZ0411556","91-000868.0000","","SKYLINE MHRV LLC","A",""]
[null,null,null,null,null,null,null,null,null,null,null,null,null,null,null,null,null,null,null,null,null,null,null,null,null,null,null,null,null,null,null,null,null,null,null,null,null,null,"SLEEPY HOLLOW MHP","AZ0420094","91-000768.0000","","SLEEPY HOLLOW MHP","I",""]
[null,null,null,null,null,null,null,null,null,null,null,null,null,null,null,null,null,null,null,null,null,null,null,null,null,null,null,null,null,null,null,null,null,null,null,null,null,null,"SNOWBIRD RV PARK","AZ0408066","91-000338.0000","","SNOWBIRD RV PARK","A",""]
[null,null,null,null,null,null,null,null,null,null,null,null,null,null,null,null,null,null,null,null,null,null,null,null,null,null,null,null,null,null,null,null,null,null,null,null,null,null,"SNOWBIRDS MOBILE HOME PA","AZ0407379","91-000258.0000","","SNOWBIRDS MOBILE HOME PA","A",""]
[null,null,null,null,null,null,null,null,null,null,null,null,null,null,null,null,null,null,null,null,null,null,null,null,null,null,null,null,null,null,null,null,null,null,null,null,null,null,"SNOWFLAKE, TOWN OF","AZ0409029","91-000383.0000","","SNOWFLAKE, TOWN OF","A",""]
[null,null,null,null,null,null,null,null,null,null,null,null,null,null,null,null,null,null,null,null,null,null,null,null,null,null,null,null,null,null,null,null,null,null,null,null,null,null,"SNYDER HILL WELL USERS","AZ0410430","91-000516.0000","","ENVIRO DESIGNS","I",""]
[null,null,null,null,null,null,null,null,null,null,null,null,null,null,null,null,null,null,null,null,null,null,null,null,null,null,null,null,null,null,null,null,null,null,null,null,null,null,"SO HI DWID","AZ0408041","91-000329.0000","","SO HI DWID","A",""]
[null,null,null,null,null,null,null,null,null,null,null,null,null,null,null,null,null,null,null,null,null,null,null,null,null,null,null,null,null,null,null,null,null,null,null,null,null,null,"SOFT WINDS MHP","AZ0413122","91-000666.0000","","SOFT WINDS MHP","A",""]
[null,null,null,null,null,null,null,null,null,null,null,null,null,null,null,null,null,null,null,null,null,null,null,null,null,null,null,null,null,null,null,null,null,null,null,null,null,null,"SOLITUDE TRAILS DWID","AZ0404233","91-000154.0000","","SOLITUDE TRAILS DWID","A",""]
[null,null,null,null,null,null,null,null,null,null,null,null,null,null,null,null,null,null,null,null,null,null,null,null,null,null,null,null,null,null,null,null,null,null,null,null,null,null,"SOMERTON, CITY OF","AZ0414015","91-000713.0000","","SOMERTON, CITY OF","A",""]
[null,null,null,null,null,null,null,null,null,null,null,null,null,null,null,null,null,null,null,null,null,null,null,null,null,null,null,null,null,null,null,null,null,null,null,null,null,null,"SONOITA VALLEY WATER CO","AZ0412005","91-000591.0000","W-20435A","SONOITA VALLEY WATER CO.","A","Sonoita Valley Water Company (SOUTH)"]
[null,null,null,null,null,null,null,null,null,null,null,null,null,null,null,null,null,null,null,null,null,null,null,null,null,null,null,null,null,null,null,null,null,null,null,null,null,null,"SONOITA VALLEY WATER COMPANY","AZ0412308","91-000601.0000","W-20435A","SONOITA VALLEY WATER CO.","A","Sonoita Valley Water Company (NORTH)"]
[null,null,null,null,null,null,null,null,null,null,null,null,null,null,null,null,null,null,null,null,null,null,null,null,null,null,null,null,null,null,null,null,null,null,null,null,null,null,"SONOITA WATER UTILITY","AZ0412010","91-000594.0000","","SOUTHWESTERN UTILITY MANAGEMENT","I",""]
[null,null,null,null,null,null,null,null,null,null,null,null,null,null,null,null,null,null,null,null,null,null,null,null,null,null,null,null,null,null,null,null,null,null,null,null,null,null,"SONORAN RIDGE #1","AZ0407732","91-000301.0000","","WATER UTILITY OF GREATER BUCKEYE","A","VWC BUCKEYE DIV - SONORAN RIDGE         "]
[null,null,null,null,null,null,null,null,null,null,null,null,null,null,null,null,null,null,null,null,null,null,null,null,null,null,null,null,null,null,null,null,null,null,null,null,null,null,"SONTEL TRUST WATER CO-OP","AZ0407900","91-000303.0000","","SONTEL WELL COOP","A",""]
[null,null,null,null,null,null,null,null,null,null,null,null,null,null,null,null,null,null,null,null,null,null,null,null,null,null,null,null,null,null,null,null,null,null,null,null,null,null,"SOUTH MOUNTAIN WATER COMPANY","AZ0411061","91-000545.0000","W-03847A","SOUTH MOUNTAIN WATER COMPANY","A","Casa Grande South Water Company"]
[null,null,null,null,null,null,null,null,null,null,null,null,null,null,null,null,null,null,null,null,null,null,null,null,null,null,null,null,null,null,null,null,null,null,null,null,null,null,"SOUTHERN SUNRISE WC - COCHISE/HORSESHOE","AZ0402011","91-000032.0000","W-02465A","LIBERTY UTILITIES","A","SOUTHERN SUNRISE WC COCHISE HORSESHOE   c/o Liberty Utilities (Bella Vista Water) Corp"]
[null,null,null,null,null,null,null,null,null,null,null,null,null,null,null,null,null,null,null,null,null,null,null,null,null,null,null,null,null,null,null,null,null,null,null,null,null,null,"SOUTHERN SUNRISE WC - MIRACLE VALLEY","AZ0402023","91-000042.0000","W-02465A","LIBERTY UTILITIES","A","SOUTHERN SUNRISE WC MIRACLE VALLEY  c/o Liberty Utilities (Bella Vista Water) Corp"]
[null,null,null,null,null,null,null,null,null,null,null,null,null,null,null,null,null,null,null,null,null,null,null,null,null,null,null,null,null,null,null,null,null,null,null,null,null,null,"SOUTHLAND UTL-GOLDEN ACR","AZ0402029","91-000047.0000","W-02062A","SOUTHLAND UTL-GOLDEN ACR","A","Southland Utilities Company, Inc."]
[null,null,null,null,null,null,null,null,null,null,null,null,null,null,null,null,null,null,null,null,null,null,null,null,null,null,null,null,null,null,null,null,null,null,null,null,null,null,"SPANISH TRAIL MOTEL","AZ0420098","91-000857.0000","","VENTURE DISTRIBUTING","I",""]
[null,null,null,null,null,null,null,null,null,null,null,null,null,null,null,null,null,null,null,null,null,null,null,null,null,null,null,null,null,null,null,null,null,null,null,null,null,null,"SPANISH TRAIL WATER COMPANY","AZ0410127","91-000444.0000","W-01816A","SPANISH TRAIL WATER COMPANY","A","Spanish Trail Water Company"]
[null,null,null,null,null,null,null,null,null,null,null,null,null,null,null,null,null,null,null,null,null,null,null,null,null,null,null,null,null,null,null,null,null,null,null,null,null,null,"SPORTSMAN HAVEN","AZ0404018","91-000126.0000","","SPORTSMAN HAVEN","I",""]
[null,null,null,null,null,null,null,null,null,null,null,null,null,null,null,null,null,null,null,null,null,null,null,null,null,null,null,null,null,null,null,null,null,null,null,null,null,null,"SPRINGERVILLE, TOWN OF","AZ0401013","91-000008.0000","","SPRINGERVILLE, TOWN OF","A",""]
[null,null,null,null,null,null,null,null,null,null,null,null,null,null,null,null,null,null,null,null,null,null,null,null,null,null,null,null,null,null,null,null,null,null,null,null,null,null,"SQUAW VALLEY MOBILE HOME","AZ0413154","91-000674.0000","","SQUAW VALLEY MOBILE HOME","I",""]
[null,null,null,null,null,null,null,null,null,null,null,null,null,null,null,null,null,null,null,null,null,null,null,null,null,null,null,null,null,null,null,null,null,null,null,null,null,null,"ST DAVID WATER","AZ0402039","91-000053.0000","","ST DAVID DWID","A",""]
[null,null,null,null,null,null,null,null,null,null,null,null,null,null,null,null,null,null,null,null,null,null,null,null,null,null,null,null,null,null,null,null,null,null,null,null,null,null,"ST JOHNS, CITY OF","AZ0401012","91-000007.0000","","ST JOHNS, CITY OF","A",""]
[null,null,null,null,null,null,null,null,null,null,null,null,null,null,null,null,null,null,null,null,null,null,null,null,null,null,null,null,null,null,null,null,null,null,null,null,null,null,"STAR VALE MHP","AZ0404066","91-000149.0000","","STAR VALE MHP","I",""]
[null,null,null,null,null,null,null,null,null,null,null,null,null,null,null,null,null,null,null,null,null,null,null,null,null,null,null,null,null,null,null,null,null,null,null,null,null,null,"STAR VALE TERRACE HOMES","AZ0404104","91-000880.0000","","STAR VALE TERRACE HOMES","A",""]
[null,null,null,null,null,null,null,null,null,null,null,null,null,null,null,null,null,null,null,null,null,null,null,null,null,null,null,null,null,null,null,null,null,null,null,null,null,null,"STAR VALLEY MOTEL MH & RV","AZ0404073","91-000150.0000","","R H BOULDER GRANITE LLC","A",""]
[null,null,null,null,null,null,null,null,null,null,null,null,null,null,null,null,null,null,null,null,null,null,null,null,null,null,null,null,null,null,null,null,null,null,null,null,null,null,"STARLIGHT WATER COMPANY","AZ0403063","91-000102.0000","W-02848A","STARLIGHT WATER","A","Starlight Water Company, Inc."]
[null,null,null,null,null,null,null,null,null,null,null,null,null,null,null,null,null,null,null,null,null,null,null,null,null,null,null,null,null,null,null,null,null,null,null,null,null,null,"STEPHENS TRAILER PARK","AZ0411364","91-000576.0000","","STEPHENS TRAILER PARK","I",""]
[null,null,null,null,null,null,null,null,null,null,null,null,null,null,null,null,null,null,null,null,null,null,null,null,null,null,null,null,null,null,null,null,null,null,null,null,null,null,"STONEHEDGE ESTATES","AZ0407371","91-000256.0000","","STONEHEDGE ESTATES","A",""]
[null,null,null,null,null,null,null,null,null,null,null,null,null,null,null,null,null,null,null,null,null,null,null,null,null,null,null,null,null,null,null,null,null,null,null,null,null,null,"STRATMAN WATER COMPANY","AZ0402075","91-000067.0000","","ST DAVID DWID","A",""]
[null,null,null,null,null,null,null,null,null,null,null,null,null,null,null,null,null,null,null,null,null,null,null,null,null,null,null,null,null,null,null,null,null,null,null,null,null,null,"STRAWBERRY HOLLOW DWID","AZ0404090","91-000902.0000","","STRAWBERRY HOLLOW DWID","A",""]
[null,null,null,null,null,null,null,null,null,null,null,null,null,null,null,null,null,null,null,null,null,null,null,null,null,null,null,null,null,null,null,null,null,null,null,null,null,null,"STRAWBERRY WATER CO","AZ0404006","91-000121.0000","","STRAWBERRY WATER CO INC","I",""]
[null,null,null,null,null,null,null,null,null,null,null,null,null,null,null,null,null,null,null,null,null,null,null,null,null,null,null,null,null,null,null,null,null,null,null,null,null,null,"SU CASA MHP","AZ0420100","91-000770.0000","","SU CASA MHP","I",""]
[null,null,null,null,null,null,null,null,null,null,null,null,null,null,null,null,null,null,null,null,null,null,null,null,null,null,null,null,null,null,null,null,null,null,null,null,null,null,"SUE JUAN WC","AZ0402032","91-000048.0000","","SUE JUAN WC","I",""]
[null,null,null,null,null,null,null,null,null,null,null,null,null,null,null,null,null,null,null,null,null,null,null,null,null,null,null,null,null,null,null,null,null,null,null,null,null,null,"SULGER WATER COMPANY 2","AZ0402120","91-000076.0000","W-02355A","SULGER WATER COMPANY 2","A","Heart Cab Co., Inc. DBA Sulger Water Company #2"]
[null,null,null,null,null,null,null,null,null,null,null,null,null,null,null,null,null,null,null,null,null,null,null,null,null,null,null,null,null,null,null,null,null,null,null,null,null,null,"SUMMER PINES","AZ0409030","91-000384.0000","W-03511A","NAVAJO WATER CO","A","Navajo Water Co., Inc. - SUMMER PINES             "]
[null,null,null,null,null,null,null,null,null,null,null,null,null,null,null,null,null,null,null,null,null,null,null,null,null,null,null,null,null,null,null,null,null,null,null,null,null,null,"SUMMIT WATER COMPANY","AZ0420178","91-000776.0000","","SUMMIT WATER COMPANY","A",""]
[null,null,null,null,null,null,null,null,null,null,null,null,null,null,null,null,null,null,null,null,null,null,null,null,null,null,null,null,null,null,null,null,null,null,null,null,null,null,"SUMMIT WATER COOP","AZ0420595","91-000806.0000","","SUMMIT WATER COOP","A",""]
[null,null,null,null,null,null,null,null,null,null,null,null,null,null,null,null,null,null,null,null,null,null,null,null,null,null,null,null,null,null,null,null,null,null,null,null,null,null,"SUN LEISURE EST UTIL CO","AZ0414075","91-000724.0000","W-02386A","SUN LEISURE EST UTIL CO INC","A","Sun Leisure Estates Utilities Company, Inc."]
[null,null,null,null,null,null,null,null,null,null,null,null,null,null,null,null,null,null,null,null,null,null,null,null,null,null,null,null,null,null,null,null,null,null,null,null,null,null,"SUN VALLEY","AZ0407195","91-000245.0000","","WATER UTILITY OF GREATER BUCKEYE","A","VWC BUCKEYE DIVISION SUN VALLEY         "]
[null,null,null,null,null,null,null,null,null,null,null,null,null,null,null,null,null,null,null,null,null,null,null,null,null,null,null,null,null,null,null,null,null,null,null,null,null,null,"SUN VALLEY FARMS UNIT VI","AZ0411111","91-000555.0000","W-02425A","SUN VALLEY FARMS UNIT VI","A","Sun Valley Farms Unit VI Water Co., Inc."]
[null,null,null,null,null,null,null,null,null,null,null,null,null,null,null,null,null,null,null,null,null,null,null,null,null,null,null,null,null,null,null,null,null,null,null,null,null,null,"SUN VALLEY UTILITIES COR","AZ0409001","91-000364.0000","","CITY OF HOLBROOK","A",""]
[null,null,null,null,null,null,null,null,null,null,null,null,null,null,null,null,null,null,null,null,null,null,null,null,null,null,null,null,null,null,null,null,null,null,null,null,null,null,"SUNCREST APARTMENTS","AZ0408061","91-000334.0000","","SUNCREST APARTMENTS","I",""]
[null,null,null,null,null,null,null,null,null,null,null,null,null,null,null,null,null,null,null,null,null,null,null,null,null,null,null,null,null,null,null,null,null,null,null,null,null,null,"SUNDANCE/SONORA","AZ0407154","91-000240.0000","","BUCKEYE, CITY OF","A",""]
[null,null,null,null,null,null,null,null,null,null,null,null,null,null,null,null,null,null,null,null,null,null,null,null,null,null,null,null,null,null,null,null,null,null,null,null,null,null,"SUNIZONA WATER CO","AZ0402036","91-000051.0000","W-03912A","SUNIZONA WATER CO","A","Narvol D. Bales DBA Sunizona Water Company"]
[null,null,null,null,null,null,null,null,null,null,null,null,null,null,null,null,null,null,null,null,null,null,null,null,null,null,null,null,null,null,null,null,null,null,null,null,null,null,"SUNLAND WATER COMPANY","AZ0411334","91-000575.0000","W-04015A","SUNLAND WATER COMPANY","A","Great Prairie Oasis, LLC DBA Sunland Water Company"]
[null,null,null,null,null,null,null,null,null,null,null,null,null,null,null,null,null,null,null,null,null,null,null,null,null,null,null,null,null,null,null,null,null,null,null,null,null,null,"SUNRISE MOBILE HOME PARK","AZ0402100","91-000070.0000","","SUNRISE PARK PARTNERS, LLC","A",""]
[null,null,null,null,null,null,null,null,null,null,null,null,null,null,null,null,null,null,null,null,null,null,null,null,null,null,null,null,null,null,null,null,null,null,null,null,null,null,"SUNRISE VISTA UTILITIES","AZ0408133","91-000350.0000","WS-03586A","SUNRISE VISTAS UTILITIES","A","Sunrise Vistas Utilities Company"]
[null,null,null,null,null,null,null,null,null,null,null,null,null,null,null,null,null,null,null,null,null,null,null,null,null,null,null,null,null,null,null,null,null,null,null,null,null,null,"SUNRISE WATER COMPANY","AZ0407070","91-000208.0000","W-02069A","SUNRISE WATER COMPANY","A","Sunrise Water Company"]
[null,null,null,null,null,null,null,null,null,null,null,null,null,null,null,null,null,null,null,null,null,null,null,null,null,null,null,null,null,null,null,null,null,null,null,null,null,null,"SUN-SET MOBILE TRAILER P","AZ0414448","91-000738.0000","","SUN-SET MOBILE TRAILER P","A",""]
[null,null,null,null,null,null,null,null,null,null,null,null,null,null,null,null,null,null,null,null,null,null,null,null,null,null,null,null,null,null,null,null,null,null,null,null,null,null,"SUNSET VILLAGE MOBILE HOME PARK","AZ0413373","91-000695.0000","","SUNSET MOBILE HOME PARK","A",""]
[null,null,null,null,null,null,null,null,null,null,null,null,null,null,null,null,null,null,null,null,null,null,null,null,null,null,null,null,null,null,null,null,null,null,null,null,null,null,"SUNSET VILLAGE MOBILE HOME PARK","AZ0413428","91-000703.0000","","SUNSET VILLAGE","I",""]
[null,null,null,null,null,null,null,null,null,null,null,null,null,null,null,null,null,null,null,null,null,null,null,null,null,null,null,null,null,null,null,null,null,null,null,null,null,null,"SUNSHINERS MOBILE HOME PK","AZ0408080","91-000342.0000","","SUN SHINES INC","A",""]
[null,null,null,null,null,null,null,null,null,null,null,null,null,null,null,null,null,null,null,null,null,null,null,null,null,null,null,null,null,null,null,null,null,null,null,null,null,null,"SUPERSTITION WS","AZ0410311","91-000494.0000","","SUPERSTITION WS","A",""]
[null,null,null,null,null,null,null,null,null,null,null,null,null,null,null,null,null,null,null,null,null,null,null,null,null,null,null,null,null,null,null,null,null,null,null,null,null,null,"SURPRISE, CITY OF","AZ0407500","91-000268.0000","","CITY OF SURPRISE","A",""]
[null,null,null,null,null,null,null,null,null,null,null,null,null,null,null,null,null,null,null,null,null,null,null,null,null,null,null,null,null,null,null,null,null,null,null,null,null,null,"SWEETWATER RANCH","AZ0409086","91-000399.0000","","TAYLOR, TOWN OF","A",""]
[null,null,null,null,null,null,null,null,null,null,null,null,null,null,null,null,null,null,null,null,null,null,null,null,null,null,null,null,null,null,null,null,null,null,null,null,null,null,"TACNA WATER CO","AZ0414018","91-000714.0000","W-01344A","TACNA WATER CO","A","Tacna Water Management Company"]
[null,null,null,null,null,null,null,null,null,null,null,null,null,null,null,null,null,null,null,null,null,null,null,null,null,null,null,null,null,null,null,null,null,null,null,null,null,null,"TALIESIN WEST","AZ0407072","91-000210.0000","","FRANK LLOYD WRIGHT FOUNDATION","I",""]
[null,null,null,null,null,null,null,null,null,null,null,null,null,null,null,null,null,null,null,null,null,null,null,null,null,null,null,null,null,null,null,null,null,null,null,null,null,null,"TALL PINES ESTATES WATER","AZ0403024","91-000096.0000","W-01976A","TALL PINES ESTATES WATER","A","Tall Pine Estates Water & Improvement Association"]
[null,null,null,null,null,null,null,null,null,null,null,null,null,null,null,null,null,null,null,null,null,null,null,null,null,null,null,null,null,null,null,null,null,null,null,null,null,null,"TAL-WI-WI WATER USERS","AZ0401014","91-000825.0000","","TAL-WI-WI WTR USERS ASSN","I",""]
[null,null,null,null,null,null,null,null,null,null,null,null,null,null,null,null,null,null,null,null,null,null,null,null,null,null,null,null,null,null,null,null,null,null,null,null,null,null,"TANGERINE WATER GROUP","AZ0410328","91-000500.0000","","TANGERINE WATER GROUP","I",""]
[null,null,null,null,null,null,null,null,null,null,null,null,null,null,null,null,null,null,null,null,null,null,null,null,null,null,null,null,null,null,null,null,null,null,null,null,null,null,"TARTESSO UNIT 1","AZ0407526","91-000278.0000","","CITY OF BUCKEYE","A",""]
[null,null,null,null,null,null,null,null,null,null,null,null,null,null,null,null,null,null,null,null,null,null,null,null,null,null,null,null,null,null,null,null,null,null,null,null,null,null,"TAYLOR, TOWN OF","AZ0409031","91-000385.0000","","TAYLOR, TOWN OF","A",""]
[null,null,null,null,null,null,null,null,null,null,null,null,null,null,null,null,null,null,null,null,null,null,null,null,null,null,null,null,null,null,null,null,null,null,null,null,null,null,"TEEN CHALLENGE CHRISTIAN","AZ0407675","91-000834.0000","","TEEN CHALLENGE OF AZ, INC","I",""]
[null,null,null,null,null,null,null,null,null,null,null,null,null,null,null,null,null,null,null,null,null,null,null,null,null,null,null,null,null,null,null,null,null,null,null,null,null,null,"THE OAKS MOBILE HOME PARK","AZ0411062","91-000546.0000","","THE OAKS MOBILE HOME PARK","A",""]
[null,null,null,null,null,null,null,null,null,null,null,null,null,null,null,null,null,null,null,null,null,null,null,null,null,null,null,null,null,null,null,null,null,null,null,null,null,null,"THE ORME SCHOOL OF ARIZONA","AZ0413096","91-000655.0000","","THE ORME SCHOOL","A",""]
[null,null,null,null,null,null,null,null,null,null,null,null,null,null,null,null,null,null,null,null,null,null,null,null,null,null,null,null,null,null,null,null,null,null,null,null,null,null,"THE PINES AT SHOWLOW MASTER PROP HOA INC","AZ0409332","91-000407.0000","","SHOW LOW, CITY OF","I",""]
[null,null,null,null,null,null,null,null,null,null,null,null,null,null,null,null,null,null,null,null,null,null,null,null,null,null,null,null,null,null,null,null,null,null,null,null,null,null,"THIM UTILITIES","AZ0410046","91-000418.0000","","METROPOLITAN DWID","A",""]
[null,null,null,null,null,null,null,null,null,null,null,null,null,null,null,null,null,null,null,null,null,null,null,null,null,null,null,null,null,null,null,null,null,null,null,null,null,null,"THIM UTILITY","AZ0410351","91-000502.0000","W-03293A","METROPOLITAN DWID","A","Thim Utility Co - RANCHO VISTA     "]
[null,null,null,null,null,null,null,null,null,null,null,null,null,null,null,null,null,null,null,null,null,null,null,null,null,null,null,null,null,null,null,null,null,null,null,null,null,null,"THIM UTILITY CO","AZ0410117","91-000440.0000","W-03293A","METROPOLITAN DWID","A","Thim Utility Co"]
[null,null,null,null,null,null,null,null,null,null,null,null,null,null,null,null,null,null,null,null,null,null,null,null,null,null,null,null,null,null,null,null,null,null,null,null,null,null,"THIM UTILITY CO #2","AZ0410228","91-000479.0000","W-03293A","METROPOLITAN DWID","A","Thim Utility Co 2                  "]
[null,null,null,null,null,null,null,null,null,null,null,null,null,null,null,null,null,null,null,null,null,null,null,null,null,null,null,null,null,null,null,null,null,null,null,null,null,null,"THIM UTILITY COMPANY","AZ0410206","91-000473.0000","W-02594A","METROPOLITAN DWID","A","Thim Utility Co - WELL 9           "]
[null,null,null,null,null,null,null,null,null,null,null,null,null,null,null,null,null,null,null,null,null,null,null,null,null,null,null,null,null,null,null,null,null,null,null,null,null,null,"THIM WATER CORP #2","AZ0410264","91-000483.0000","W-03293A","METROPOLITAN DWID","A","Thim Water Corporation"]
[null,null,null,null,null,null,null,null,null,null,null,null,null,null,null,null,null,null,null,null,null,null,null,null,null,null,null,null,null,null,null,null,null,null,null,null,null,null,"THUNDERBIRD FARMS IMPROVEMENT","AZ0411100","91-000553.0000","","THUNDERBIRD FARMS IMPROVEMENT DISTRICT","A",""]
[null,null,null,null,null,null,null,null,null,null,null,null,null,null,null,null,null,null,null,null,null,null,null,null,null,null,null,null,null,null,null,null,null,null,null,null,null,null,"THUNDERBIRD MEADOWS","AZ0413056","91-000641.0000","W-20809A","ACME WATER COMPANY","A","ACME Water, LLC - THUNDERBIRD MEADOWS        "]
[null,null,null,null,null,null,null,null,null,null,null,null,null,null,null,null,null,null,null,null,null,null,null,null,null,null,null,null,null,null,null,null,null,null,null,null,null,null,"TIERRA BUENA WATER CO.","AZ0407073","91-000211.0000","W-02076A","TIERRA BUENA WATER CO.","A","Tierra Buena Water Company, Inc."]
[null,null,null,null,null,null,null,null,null,null,null,null,null,null,null,null,null,null,null,null,null,null,null,null,null,null,null,null,null,null,null,null,null,null,null,null,null,null,"TIERRA LINDA HOA WC","AZ0410411","91-000514.0000","W-20810A","GARY SMYTH","A","Tierra Linda Water Company, Inc."]
[null,null,null,null,null,null,null,null,null,null,null,null,null,null,null,null,null,null,null,null,null,null,null,null,null,null,null,null,null,null,null,null,null,null,null,null,null,null,"TIERRA MESA ESTATES WTR","AZ0414080","91-000725.0000","W-02498A","NANCY MILLER","A","Tierra Mesa Estates Water Co."]
[null,null,null,null,null,null,null,null,null,null,null,null,null,null,null,null,null,null,null,null,null,null,null,null,null,null,null,null,null,null,null,null,null,null,null,null,null,null,"TIMBER KNOLLS DWID","AZ0401015","91-000010.0000","","TIMBER KNOLLS DOMESTIC WATER IMPROVEMENT DISTRICT","A",""]
[null,null,null,null,null,null,null,null,null,null,null,null,null,null,null,null,null,null,null,null,null,null,null,null,null,null,null,null,null,null,null,null,null,null,null,null,null,null,"TIMBERLAND ACRES","AZ0409005","91-000367.0000","","TIMBERLAND ACRES W I D","A",""]
[null,null,null,null,null,null,null,null,null,null,null,null,null,null,null,null,null,null,null,null,null,null,null,null,null,null,null,null,null,null,null,null,null,null,null,null,null,null,"TIMBERLINE MOBILE HOME PK","AZ0409300","91-000401.0000","","TIMBERLINE MOBILE HOME PARK","A",""]
[null,null,null,null,null,null,null,null,null,null,null,null,null,null,null,null,null,null,null,null,null,null,null,null,null,null,null,null,null,null,null,null,null,null,null,null,null,null,"TO: PALOMA RANCH PALOMA RANCH","AZ0407411","91-000262.0000","","PALOMA RANCH","A",""]
[null,null,null,null,null,null,null,null,null,null,null,null,null,null,null,null,null,null,null,null,null,null,null,null,null,null,null,null,null,null,null,null,null,null,null,null,null,null,"TOMBSTONE, CITY OF","AZ0402033","91-000049.0000","","TOMBSTONE WATER DEPT","A",""]
[null,null,null,null,null,null,null,null,null,null,null,null,null,null,null,null,null,null,null,null,null,null,null,null,null,null,null,null,null,null,null,null,null,null,null,null,null,null,"TONTO BASIN WATER - LR GARDENS EAST","AZ0404022","91-000128.0000","W-03515A","TONTO BASIN WATER COMPANY","A","Tonto Basin Water Co., Inc. - LR GARDENS EAST     "]
[null,null,null,null,null,null,null,null,null,null,null,null,null,null,null,null,null,null,null,null,null,null,null,null,null,null,null,null,null,null,null,null,null,null,null,null,null,null,"TONTO BASIN WATER - LR GARDENS WEST","AZ0404047","91-000144.0000","W-03515A","TONTO BASIN WATER COMPANY","A","Tonto Basin Water Co., Inc. - LR GARDENS WEST     "]
[null,null,null,null,null,null,null,null,null,null,null,null,null,null,null,null,null,null,null,null,null,null,null,null,null,null,null,null,null,null,null,null,null,null,null,null,null,null,"TONTO BASIN WATER - ROOSEVELT LAKE ESTATE","AZ0404036","91-000137.0000","W-03515A","TONTO BASIN WATER COMPANY","A","Tonto Basin Water Co., Inc. ROOSEVELT LAKE ESTATES"]
[null,null,null,null,null,null,null,null,null,null,null,null,null,null,null,null,null,null,null,null,null,null,null,null,null,null,null,null,null,null,null,null,null,null,null,null,null,null,"TONTO BASIN WATER- NORTH BAY ESTATES","AZ0404049","91-000145.0000","W-03515A","TONTO BASIN WATER COMPANY","A","Tonto Basin Water Co., Inc. - NORTH BAY ESTATES   "]
[null,null,null,null,null,null,null,null,null,null,null,null,null,null,null,null,null,null,null,null,null,null,null,null,null,null,null,null,null,null,null,null,null,null,null,null,null,null,"TONTO CREEK WATER CO","AZ0404021","91-000127.0000","W-20682A","TONTO CREEK WATER COMPANY LLC","A","Tonto Creek Water Company, LLC"]
[null,null,null,null,null,null,null,null,null,null,null,null,null,null,null,null,null,null,null,null,null,null,null,null,null,null,null,null,null,null,null,null,null,null,null,null,null,null,"TONTO HILLS UTILITY COMPANY","AZ0407076","91-000212.0000","","TONTO HILLS DWID","A",""]
[null,null,null,null,null,null,null,null,null,null,null,null,null,null,null,null,null,null,null,null,null,null,null,null,null,null,null,null,null,null,null,null,null,null,null,null,null,null,"TONTO VILLAGE WATER CO","AZ0404023","91-000129.0000","W-01580A","JEFF & DIANNE DANIELS","A","Tonto Village Water Company, Inc. DBA Tonto Village Water Company"]
[null,null,null,null,null,null,null,null,null,null,null,null,null,null,null,null,null,null,null,null,null,null,null,null,null,null,null,null,null,null,null,null,null,null,null,null,null,null,"TOPOCK WATER SYSTEM","AZ0408033","91-000323.0000","","CITY OF NEEDLES","I",""]
[null,null,null,null,null,null,null,null,null,null,null,null,null,null,null,null,null,null,null,null,null,null,null,null,null,null,null,null,null,null,null,null,null,null,null,null,null,null,"TORTOLITA WATER COMPANY INC","AZ0410154","91-000457.0000","W-02301A","TORTOLITA WATER COMPANY INC","I",""]
[null,null,null,null,null,null,null,null,null,null,null,null,null,null,null,null,null,null,null,null,null,null,null,null,null,null,null,null,null,null,null,null,null,null,null,null,null,null,"TOWN & COUNTRY / PRESTON","AZ0412311","91-000603.0000","","NOGALES PROPERTY MANAGEMENT","A",""]
[null,null,null,null,null,null,null,null,null,null,null,null,null,null,null,null,null,null,null,null,null,null,null,null,null,null,null,null,null,null,null,null,null,null,null,null,null,null,"TOWN & COUNTRY MOBILE ESTATES","AZ0420109","91-000771.0000","","TOWN & COUNTRY MOBILE ESTATES","A",""]
[null,null,null,null,null,null,null,null,null,null,null,null,null,null,null,null,null,null,null,null,null,null,null,null,null,null,null,null,null,null,null,null,null,null,null,null,null,null,"TOWN OF BUCKEYE","AZ0407089","91-000219.0000","","CITY OF BUCKEYE","A",""]
[null,null,null,null,null,null,null,null,null,null,null,null,null,null,null,null,null,null,null,null,null,null,null,null,null,null,null,null,null,null,null,null,null,null,null,null,null,null,"TOWN OF CHINO VALLEY","AZ0413137","91-000669.0000","","TOWN OF CHINO VALLEY","A",""]
[null,null,null,null,null,null,null,null,null,null,null,null,null,null,null,null,null,null,null,null,null,null,null,null,null,null,null,null,null,null,null,null,null,null,null,null,null,null,"TOWN OF DUNCAN-HUNTER WTR","AZ0406009","91-000178.0000","","DUNCAN, TOWN OF","A",""]
[null,null,null,null,null,null,null,null,null,null,null,null,null,null,null,null,null,null,null,null,null,null,null,null,null,null,null,null,null,null,null,null,null,null,null,null,null,null,"TOWN OF FLORENCE","AZ0411017","91-000524.0000","","TOWN OF FLORENCE","A",""]
[null,null,null,null,null,null,null,null,null,null,null,null,null,null,null,null,null,null,null,null,null,null,null,null,null,null,null,null,null,null,null,null,null,null,null,null,null,null,"TOWN OF GILBERT","AZ0407092","91-000222.0000","","TOWN OF GILBERT","A",""]
[null,null,null,null,null,null,null,null,null,null,null,null,null,null,null,null,null,null,null,null,null,null,null,null,null,null,null,null,null,null,null,null,null,null,null,null,null,null,"TOWN OF STAR VALLEY WATER DEPT.","AZ0404037","91-000138.0000","","TOWN OF STAR VALLEY","A",""]
[null,null,null,null,null,null,null,null,null,null,null,null,null,null,null,null,null,null,null,null,null,null,null,null,null,null,null,null,null,null,null,null,null,null,null,null,null,null,"TRAILS WEST MHP","AZ0410408","91-000511.0000","","TRAILS WEST MHP","A",""]
[null,null,null,null,null,null,null,null,null,null,null,null,null,null,null,null,null,null,null,null,null,null,null,null,null,null,null,null,null,null,null,null,null,null,null,null,null,null,"TRIPLE G DAIRY","AZ0407713","91-000300.0000","","TRIPLE G DAIRY","A",""]
[null,null,null,null,null,null,null,null,null,null,null,null,null,null,null,null,null,null,null,null,null,null,null,null,null,null,null,null,null,null,null,null,null,null,null,null,null,null,"TRUXTON CANYON WATER CO","AZ0408035","91-000324.0000","W-02168A","CLAUDE NEAL FAMILY TRUST-NEAL,MARK","A","Truxton Canyon Water Company, Inc"]
[null,null,null,null,null,null,null,null,null,null,null,null,null,null,null,null,null,null,null,null,null,null,null,null,null,null,null,null,null,null,null,null,null,null,null,null,null,null,"TUCSON READY MIX - ORANGE G","AZ0420447","91-000858.0000",""," ","I",""]
[null,null,null,null,null,null,null,null,null,null,null,null,null,null,null,null,null,null,null,null,null,null,null,null,null,null,null,null,null,null,null,null,null,null,null,null,null,null,"TUCSON WATER-CATALINA","AZ0410171","91-000464.0000","","TUCSON, CITY OF","A",""]
[null,null,null,null,null,null,null,null,null,null,null,null,null,null,null,null,null,null,null,null,null,null,null,null,null,null,null,null,null,null,null,null,null,null,null,null,null,null,"TUCSON WATER-CORONA","AZ0410169","91-000463.0000","","TUCSON, CITY OF","A",""]
[null,null,null,null,null,null,null,null,null,null,null,null,null,null,null,null,null,null,null,null,null,null,null,null,null,null,null,null,null,null,null,null,null,null,null,null,null,null,"TUCSON WATER-DIAMOND BELL","AZ0410159","91-000460.0000","","TUCSON, CITY OF","A",""]
[null,null,null,null,null,null,null,null,null,null,null,null,null,null,null,null,null,null,null,null,null,null,null,null,null,null,null,null,null,null,null,null,null,null,null,null,null,null,"TUCSON WATER-RANCHO DEL SOL LINDO","AZ0410173","91-000465.0000","","TUCSON, CITY OF","A",""]
[null,null,null,null,null,null,null,null,null,null,null,null,null,null,null,null,null,null,null,null,null,null,null,null,null,null,null,null,null,null,null,null,null,null,null,null,null,null,"TUCSON WATER-SIERRITA FOOTHILLS","AZ0410270","91-000487.0000","","TUCSON, CITY OF","A",""]
[null,null,null,null,null,null,null,null,null,null,null,null,null,null,null,null,null,null,null,null,null,null,null,null,null,null,null,null,null,null,null,null,null,null,null,null,null,null,"TUCSON WATER-SUNSET RANCH","AZ0410325","91-000499.0000","","CITY OF TUCSON","I",""]
[null,null,null,null,null,null,null,null,null,null,null,null,null,null,null,null,null,null,null,null,null,null,null,null,null,null,null,null,null,null,null,null,null,null,null,null,null,null,"TUCSON WATER-THUNDERHEAD RANCH","AZ0410179","91-000469.0000","","TUCSON, CITY OF","A",""]
[null,null,null,null,null,null,null,null,null,null,null,null,null,null,null,null,null,null,null,null,null,null,null,null,null,null,null,null,null,null,null,null,null,null,null,null,null,null,"TUCSON WATER-VALLEY VIEW","AZ0410158","91-000459.0000","","TUCSON, CITY OF","A",""]
[null,null,null,null,null,null,null,null,null,null,null,null,null,null,null,null,null,null,null,null,null,null,null,null,null,null,null,null,null,null,null,null,null,null,null,null,null,null,"TUCSON, CITY OF","AZ0410112","91-000439.0000","","CITY OF TUCSON/TUCSON WATER","A",""]
[null,null,null,null,null,null,null,null,null,null,null,null,null,null,null,null,null,null,null,null,null,null,null,null,null,null,null,null,null,null,null,null,null,null,null,null,null,null,"TURNER RANCHES WATER","AZ0401053","91-000019.0000","W-01677A","ALPINE DWID","A","Turner Ranches Water & Sanitation Company"]
[null,null,null,null,null,null,null,null,null,null,null,null,null,null,null,null,null,null,null,null,null,null,null,null,null,null,null,null,null,null,null,null,null,null,null,null,null,null,"TWIN BUTTES TRAILER PARK","AZ0402360","91-000827.0000","","TWIN BUTTES TRAILER PARK","A",""]
[null,null,null,null,null,null,null,null,null,null,null,null,null,null,null,null,null,null,null,null,null,null,null,null,null,null,null,null,null,null,null,null,null,null,null,null,null,null,"TWIN LAKES MOBILE PARK","AZ0404318","91-000157.0000","","TWIN LAKES MOBILE PARK","A",""]
[null,null,null,null,null,null,null,null,null,null,null,null,null,null,null,null,null,null,null,null,null,null,null,null,null,null,null,null,null,null,null,null,null,null,null,null,null,null,"TWO TANKS COMMUNITY WELL","AZ0407524","91-000277.0000","","TWO TANKS COMMUNITY WELL","A",""]
[null,null,null,null,null,null,null,null,null,null,null,null,null,null,null,null,null,null,null,null,null,null,null,null,null,null,null,null,null,null,null,null,null,null,null,null,null,null,"US ARMY YPG - MAIN ADMINISTRATIVE AREA","AZ0414403","91-000735.0000","","U.S. ARMY GARRISON YUMA PROVING GROUND","A",""]
[null,null,null,null,null,null,null,null,null,null,null,null,null,null,null,null,null,null,null,null,null,null,null,null,null,null,null,null,null,null,null,null,null,null,null,null,null,null,"US ARMY-FORT HUACHUCA","AZ0402078","91-000068.0000","","US ARMY-FORT HUACHUCA","A",""]
[null,null,null,null,null,null,null,null,null,null,null,null,null,null,null,null,null,null,null,null,null,null,null,null,null,null,null,null,null,null,null,null,null,null,null,null,null,null,"USDJ FBP FED CORR INST","AZ0405306","91-000172.0000","","FCI SAFFORD - BOP","A",""]
[null,null,null,null,null,null,null,null,null,null,null,null,null,null,null,null,null,null,null,null,null,null,null,null,null,null,null,null,null,null,null,null,null,null,null,null,null,null,"USFS-CONF-BLUE RIDGE RANGER STATION","AZ0403584","91-000113.0000","","USFS-COCONINO NATIONAL FOREST","I",""]
[null,null,null,null,null,null,null,null,null,null,null,null,null,null,null,null,null,null,null,null,null,null,null,null,null,null,null,null,null,null,null,null,null,null,null,null,null,null,"USFS-KNF-TUSAYAN ADMIN","AZ0403659","91-000114.0000","","USFS-KNF-TUSAYAN ADMIN","A","USFS KNF TUSAYAN ADMIN                  "]
[null,null,null,null,null,null,null,null,null,null,null,null,null,null,null,null,null,null,null,null,null,null,null,null,null,null,null,null,null,null,null,null,null,null,null,null,null,null,"USMC-AIR STATION-MAIN","AZ0414082","91-000726.0000","","MARINE CORPS AIR STATION","A",""]
[null,null,null,null,null,null,null,null,null,null,null,null,null,null,null,null,null,null,null,null,null,null,null,null,null,null,null,null,null,null,null,null,null,null,null,null,null,null,"VAIL WATER COMPANY","AZ0410041","91-000417.0000","W-01651B","VAIL WATER COMPANY","A","Vail Water Company"]
[null,null,null,null,null,null,null,null,null,null,null,null,null,null,null,null,null,null,null,null,null,null,null,null,null,null,null,null,null,null,null,null,null,null,null,null,null,null,"VALENCIA WATER COMPANY","AZ0407078","91-000213.0000","W-01212A","VALENCIA WATER COMPANY","A","CITY OF BUCKEYE - VALENCIA TOWN DIVISION"]
[null,null,null,null,null,null,null,null,null,null,null,null,null,null,null,null,null,null,null,null,null,null,null,null,null,null,null,null,null,null,null,null,null,null,null,null,null,null,"VALLE AIRPORT GRAND CANYO","AZ0403084","91-000105.0000","","VALLE AIRPORT GRAND CANYO","A",""]
[null,null,null,null,null,null,null,null,null,null,null,null,null,null,null,null,null,null,null,null,null,null,null,null,null,null,null,null,null,null,null,null,null,null,null,null,null,null,"VALLE ESCONDIDO DWID","AZ0411409","91-000884.0000","","VALLE ESCONDIDO DWID","A",""]
[null,null,null,null,null,null,null,null,null,null,null,null,null,null,null,null,null,null,null,null,null,null,null,null,null,null,null,null,null,null,null,null,null,null,null,null,null,null,"VALLE VERDE DEL NORTE WATER COOP","AZ0410152","91-000455.0000","","VALLE VERDE DEL NORTE WTR COOP","A",""]
[null,null,null,null,null,null,null,null,null,null,null,null,null,null,null,null,null,null,null,null,null,null,null,null,null,null,null,null,null,null,null,null,null,null,null,null,null,null,"VALLE VERDE WATER CO","AZ0412009","91-000593.0000","W-01431A","VALLE VERDE WATER COMPANY","A","Valle Verde Water Company - EAST        "]
[null,null,null,null,null,null,null,null,null,null,null,null,null,null,null,null,null,null,null,null,null,null,null,null,null,null,null,null,null,null,null,null,null,null,null,null,null,null,"VALLE VERDE WATER CO LOS","AZ0412025","91-000819.0000","W-01431A","SOUTHWESTERN UTILITY MGMT, INC.","I","Valle Verde Water Company - WEST        "]
[null,null,null,null,null,null,null,null,null,null,null,null,null,null,null,null,null,null,null,null,null,null,null,null,null,null,null,null,null,null,null,null,null,null,null,null,null,null,"VALLEY PIONEERS WC, INC","AZ0408038","91-000326.0000","W-02033A","VALLEY PIONEERS WATER CO","A","Valley Pioneer's Water Company, Inc."]
[null,null,null,null,null,null,null,null,null,null,null,null,null,null,null,null,null,null,null,null,null,null,null,null,null,null,null,null,null,null,null,null,null,null,null,null,null,null,"VALLEY UTILITIES WATER COMPANY","AZ0407079","91-000214.0000","W-01412A","VALLEY UTILITIES WATER COMPANY","A","Valley Utilities Water Company, Inc."]
[null,null,null,null,null,null,null,null,null,null,null,null,null,null,null,null,null,null,null,null,null,null,null,null,null,null,null,null,null,null,null,null,null,null,null,null,null,null,"VALLEY VIEW MHP","AZ0406305","91-000179.0000","","VALLEY VIEW MHP","I",""]
[null,null,null,null,null,null,null,null,null,null,null,null,null,null,null,null,null,null,null,null,null,null,null,null,null,null,null,null,null,null,null,null,null,null,null,null,null,null,"VALLEY VIEW WATER COMPANY","AZ0407677","91-000294.0000","W-02148A","FMF PROPERTY LLC","A","Valley View Water Company"]
[null,null,null,null,null,null,null,null,null,null,null,null,null,null,null,null,null,null,null,null,null,null,null,null,null,null,null,null,null,null,null,null,null,null,null,null,null,null,"VALLEY VISTA WATER CO","AZ0414009","91-000711.0000","","YUMA COUNTY HOUSING DEPT","A",""]
[null,null,null,null,null,null,null,null,null,null,null,null,null,null,null,null,null,null,null,null,null,null,null,null,null,null,null,null,null,null,null,null,null,null,null,null,null,null,"VAN BUREN WELL CO-OP","AZ0410401","91-000507.0000","","VAN BUREN WELL CO-OP","I",""]
[null,null,null,null,null,null,null,null,null,null,null,null,null,null,null,null,null,null,null,null,null,null,null,null,null,null,null,null,null,null,null,null,null,null,null,null,null,null,"VERDE GLEN WATER COMPANY","AZ0404040","91-000141.0000","","VERDE GLEN PROPERTY OWNERS ASN","I",""]
[null,null,null,null,null,null,null,null,null,null,null,null,null,null,null,null,null,null,null,null,null,null,null,null,null,null,null,null,null,null,null,null,null,null,null,null,null,null,"VERDE LAKES WTR-STILL WTR","AZ0413513","91-000706.0000","W-02372A","VERDE LAKES WATER CORP","A","Verde Lakes Water Corporation - STILLWATER          "]
[null,null,null,null,null,null,null,null,null,null,null,null,null,null,null,null,null,null,null,null,null,null,null,null,null,null,null,null,null,null,null,null,null,null,null,null,null,null,"VERDE LEE WATER CO","AZ0406004","91-000176.0000","W-02096A","VERDE LEE WATER COMPANY","A","Forrest G. & Alice W. Wilkerson DBA Verde Lee Water Co., Inc."]
[null,null,null,null,null,null,null,null,null,null,null,null,null,null,null,null,null,null,null,null,null,null,null,null,null,null,null,null,null,null,null,null,null,null,null,null,null,null,"VERDE LKS WATER-CLEAR CK","AZ0413130","91-000668.0000","W-02372A","VERDE LAKES WATER CORP","A","Verde Lakes Water Corporation - BIG VALLEY          "]
[null,null,null,null,null,null,null,null,null,null,null,null,null,null,null,null,null,null,null,null,null,null,null,null,null,null,null,null,null,null,null,null,null,null,null,null,null,null,"VERDE LKS WATER-VERDE LKS","AZ0413059","91-000644.0000","W-02372A","VERDE LAKES WATER CORP","A","Verde Lakes Water Corporation - DINKY CREEK         "]
[null,null,null,null,null,null,null,null,null,null,null,null,null,null,null,null,null,null,null,null,null,null,null,null,null,null,null,null,null,null,null,null,null,null,null,null,null,null,"VERDE SANTA FE","AZ0413164","91-000812.0000","","COTTONWOOD, CITY OF","A",""]
[null,null,null,null,null,null,null,null,null,null,null,null,null,null,null,null,null,null,null,null,null,null,null,null,null,null,null,null,null,null,null,null,null,null,null,null,null,null,"VERDE VALLEY MANOR","AZ0413127","91-000667.0000","","VERDE VALLEY MANOR","A",""]
[null,null,null,null,null,null,null,null,null,null,null,null,null,null,null,null,null,null,null,null,null,null,null,null,null,null,null,null,null,null,null,null,null,null,null,null,null,null,"VERNON D W I D","AZ0401019","91-000012.0000","","VERNON DOMESTIC WATER","A",""]
[null,null,null,null,null,null,null,null,null,null,null,null,null,null,null,null,null,null,null,null,null,null,null,null,null,null,null,null,null,null,null,null,null,null,null,null,null,null,"VERNON VALLEY WATER CO","AZ0401054","91-000020.0000","W-20540A","VERNON VALLEY WATER CO","A","Vernon Valley Water, Inc."]
[null,null,null,null,null,null,null,null,null,null,null,null,null,null,null,null,null,null,null,null,null,null,null,null,null,null,null,null,null,null,null,null,null,null,null,null,null,null,"VERRADO WATER SYSTEM","AZ0407519","91-000274.0000","","VERRADO WATER SYSTEM","I",""]
[null,null,null,null,null,null,null,null,null,null,null,null,null,null,null,null,null,null,null,null,null,null,null,null,null,null,null,null,null,null,null,null,null,null,null,null,null,null,"VIA VERDE WEST MHP","AZ0420420","91-000781.0000","","VIA VERDE WEST MHP","A",""]
[null,null,null,null,null,null,null,null,null,null,null,null,null,null,null,null,null,null,null,null,null,null,null,null,null,null,null,null,null,null,null,null,null,null,null,null,null,null,"VIEWPOINT SUBD","AZ0413314","91-000688.0000","","PRESCOTT VALLEY, TOWN OF","A",""]
[null,null,null,null,null,null,null,null,null,null,null,null,null,null,null,null,null,null,null,null,null,null,null,null,null,null,null,null,null,null,null,null,null,null,null,null,null,null,"VILLA CAPRI MOB. HOME PARK, L.L.C.","AZ0420445","91-000784.0000","","VILLA CAPRI MOB. HOME PARK, L.L.C.","A",""]
[null,null,null,null,null,null,null,null,null,null,null,null,null,null,null,null,null,null,null,null,null,null,null,null,null,null,null,null,null,null,null,null,null,null,null,null,null,null,"VILLA GRANDE DWID","AZ0411321","91-000571.0000","","VILLA GRANDE DWID","A",""]
[null,null,null,null,null,null,null,null,null,null,null,null,null,null,null,null,null,null,null,null,null,null,null,null,null,null,null,null,null,null,null,null,null,null,null,null,null,null,"VILLAGE OF ORANGEWOOD","AZ0407682","91-000295.0000","","FRIENDLY VILLAGE OF ORANGEWOOD","A",""]
[null,null,null,null,null,null,null,null,null,null,null,null,null,null,null,null,null,null,null,null,null,null,null,null,null,null,null,null,null,null,null,null,null,null,null,null,null,null,"VILLAGES OF QUEEN CREEK UNIT II","AZ0407904","91-000306.0000","","H2O WATER CO","I",""]
[null,null,null,null,null,null,null,null,null,null,null,null,null,null,null,null,null,null,null,null,null,null,null,null,null,null,null,null,null,null,null,null,null,null,null,null,null,null,"VIRGIN MOUNTAIN UTILITIES","AZ0408173","91-000356.0000","W-03551A","VIRGIN MOUNTAIN UTILITIES","A","Virgin Mountain Utilities Company, Inc."]
[null,null,null,null,null,null,null,null,null,null,null,null,null,null,null,null,null,null,null,null,null,null,null,null,null,null,null,null,null,null,null,null,null,null,null,null,null,null,"VIRGIN MT ESTATES MHP","AZ0408142","91-000353.0000","","VIRGIN MT ESTATES MHP","A",""]
[null,null,null,null,null,null,null,null,null,null,null,null,null,null,null,null,null,null,null,null,null,null,null,null,null,null,null,null,null,null,null,null,null,null,null,null,null,null,"VISION QUEST LODGE MARY","AZ0402372","91-000080.0000","","VISION QUEST LODGE MARY","I",""]
[null,null,null,null,null,null,null,null,null,null,null,null,null,null,null,null,null,null,null,null,null,null,null,null,null,null,null,null,null,null,null,null,null,null,null,null,null,null,"VISTA DEL NORTE MHP","AZ0420439","91-000782.0000","","VISTA DEL NORTE MHP","A",""]
[null,null,null,null,null,null,null,null,null,null,null,null,null,null,null,null,null,null,null,null,null,null,null,null,null,null,null,null,null,null,null,null,null,null,null,null,null,null,"VISTANCIA PUBLIC WTR SYS"," AZ0407520","91-000275.0000","","VISTANCIA PUBLIC WTR SYS","I",""]
[null,null,null,null,null,null,null,null,null,null,null,null,null,null,null,null,null,null,null,null,null,null,null,null,null,null,null,null,null,null,null,null,null,null,null,null,null,null,"VOYAGER WATER COMPANY","AZ0410035","91-000416.0000","W-02104A","VOYAGER WATER COMPANY","A","Voyager Water Company"]
[null,null,null,null,null,null,null,null,null,null,null,null,null,null,null,null,null,null,null,null,null,null,null,null,null,null,null,null,null,null,null,null,null,null,null,null,null,null,"WAGON WHEEL WINERY","AZ0403103","91-000901.0000","","ROTTER FAMILY TRUST","A",""]
[null,null,null,null,null,null,null,null,null,null,null,null,null,null,null,null,null,null,null,null,null,null,null,null,null,null,null,null,null,null,null,null,null,null,null,null,null,null,"WALDEN MEADOWS COMM COOP","AZ0413184","91-000676.0000","W-02369A","WALDEN MEADOWS COMM CO-OP","A","Walden Meadows Community Co-Op"]
[null,null,null,null,null,null,null,null,null,null,null,null,null,null,null,null,null,null,null,null,null,null,null,null,null,null,null,null,null,null,null,null,null,null,null,null,null,null,"WALNUT CREEK WATER CO","AZ0408078","91-000341.0000","W-02466A","WALNUT CREEK WATER CO","A","Walnut Creek Water Company, Inc."]
[null,null,null,null,null,null,null,null,null,null,null,null,null,null,null,null,null,null,null,null,null,null,null,null,null,null,null,null,null,null,null,null,null,null,null,null,null,null,"WATER UT. OF GREATER BUCKEYE","AZ0407114","91-000233.0000","","WATER UT. OF GREATER BUCKEYE","A","VWC BUCKEYE DIV BULFER PRIMROSE         "]
[null,null,null,null,null,null,null,null,null,null,null,null,null,null,null,null,null,null,null,null,null,null,null,null,null,null,null,null,null,null,null,null,null,null,null,null,null,null,"WATER UTILITY OF GREATER TONOPAH, INC.","AZ0407071","91-000209.0000","W-02450A","WATER UTILITY OF GREATER TONOPAH, INC","A","Water Utility of Greater Tonopah, LLC. SUNSHINE  "]
[null,null,null,null,null,null,null,null,null,null,null,null,null,null,null,null,null,null,null,null,null,null,null,null,null,null,null,null,null,null,null,null,null,null,null,null,null,null,"WATER UTILITY OF NORTHERN SCOTTSDALE","AZ0407179","91-000243.0000","W-03720A","WATER UTILITY OF NORTHERN SCOTTSDALE","A","Water Utility of Northern Scottsdale, LLC"]
[null,null,null,null,null,null,null,null,null,null,null,null,null,null,null,null,null,null,null,null,null,null,null,null,null,null,null,null,null,null,null,null,null,null,null,null,null,null,"WELLS FARGO WATER CO, INC","AZ0410269","91-000486.0000","","WELLS FARGO WATER COMPANY","A",""]
[null,null,null,null,null,null,null,null,null,null,null,null,null,null,null,null,null,null,null,null,null,null,null,null,null,null,null,null,null,null,null,null,null,null,null,null,null,null,"WELLTON, TOWN OF","AZ0414022","91-000715.0000","","WELLTON, TOWN OF","A",""]
[null,null,null,null,null,null,null,null,null,null,null,null,null,null,null,null,null,null,null,null,null,null,null,null,null,null,null,null,null,null,null,null,null,null,null,null,null,null,"WELLTON-MOHAWK IRRIGATIO","AZ0414390","91-000733.0000","","WELTON-MOHAWK IRRIGATION DIST","A",""]
[null,null,null,null,null,null,null,null,null,null,null,null,null,null,null,null,null,null,null,null,null,null,null,null,null,null,null,null,null,null,null,null,null,null,null,null,null,null,"WENDEN, TOWN OF","AZ0415023","91-000746.0000","","WENDEN DWID","A",""]
[null,null,null,null,null,null,null,null,null,null,null,null,null,null,null,null,null,null,null,null,null,null,null,null,null,null,null,null,null,null,null,null,null,null,null,null,null,null,"WEST END WATER COMPANY","AZ0407067","91-000206.0000","W-01157A","WEST END WATER COMPANY","A","West End Water Co. - WITTMAN        "]
[null,null,null,null,null,null,null,null,null,null,null,null,null,null,null,null,null,null,null,null,null,null,null,null,null,null,null,null,null,null,null,null,null,null,null,null,null,null,"WEST PHOENIX ESTATES #6","AZ0407733","91-000302.0000","W-02450A","WATER UTILITY OF GREATER TONOPAH, INC","A","Water Utility of Greater Tonopah, LLC. WEST PHOENIX ESTATES 6 DWID      "]
[null,null,null,null,null,null,null,null,null,null,null,null,null,null,null,null,null,null,null,null,null,null,null,null,null,null,null,null,null,null,null,null,null,null,null,null,null,null,"WEST VILLAGE WATER CO","AZ0403021","91-000095.0000","W-03211A","WEST VILLAGE WATER CO","A","F. Wayne Thompson and Dorothy Thompson DBA West Village Water Company"]
[null,null,null,null,null,null,null,null,null,null,null,null,null,null,null,null,null,null,null,null,null,null,null,null,null,null,null,null,null,null,null,null,null,null,null,null,null,null,"WESTEND WATER CO-WHEAT","AZ0407167","91-000241.0000","W-01157A","WEST END WATER CO","A","West End Water Co. - WHEAT          "]
[null,null,null,null,null,null,null,null,null,null,null,null,null,null,null,null,null,null,null,null,null,null,null,null,null,null,null,null,null,null,null,null,null,null,null,null,null,null,"WHETSTONE RANCH WATER SYSTEM","AZ0402125","91-000859.0000","","BENSON, CITY OF","A",""]
[null,null,null,null,null,null,null,null,null,null,null,null,null,null,null,null,null,null,null,null,null,null,null,null,null,null,null,null,null,null,null,null,null,null,null,null,null,null,"WHETSTONE VILLAGE MOBILE","AZ0402104","91-000072.0000","","WHETSTONE VILLAGE MOBILE","A",""]
[null,null,null,null,null,null,null,null,null,null,null,null,null,null,null,null,null,null,null,null,null,null,null,null,null,null,null,null,null,null,null,null,null,null,null,null,null,null,"WHETSTONE WD","AZ0402038","91-000052.0000","","WHETSTONE WATER DISTRICT","A",""]
[null,null,null,null,null,null,null,null,null,null,null,null,null,null,null,null,null,null,null,null,null,null,null,null,null,null,null,null,null,null,null,null,null,null,null,null,null,null,"WHISPERING PINES","AZ0404039","91-000140.0000","W-03514A","PAYSON WATER CO","A","Payson Water Co., Inc. - WHISPERING PINES         "]
[null,null,null,null,null,null,null,null,null,null,null,null,null,null,null,null,null,null,null,null,null,null,null,null,null,null,null,null,null,null,null,null,null,null,null,null,null,null,"WHISPERING WIND MHP","AZ0411365","91-000577.0000","","WHISPERING WIND MHP LLC","A",""]
[null,null,null,null,null,null,null,null,null,null,null,null,null,null,null,null,null,null,null,null,null,null,null,null,null,null,null,null,null,null,null,null,null,null,null,null,null,null,"WHITE CITRUS WATER CO","AZ0407123","91-000236.0000","","WHITE CITRUS WATER CO","I",""]
[null,null,null,null,null,null,null,null,null,null,null,null,null,null,null,null,null,null,null,null,null,null,null,null,null,null,null,null,null,null,null,null,null,null,null,null,null,null,"WHITE HILLS TRAILER PARK","AZ0413378","91-000696.0000","","BILLY & MARY MILLER LIVING TRU","A",""]
[null,null,null,null,null,null,null,null,null,null,null,null,null,null,null,null,null,null,null,null,null,null,null,null,null,null,null,null,null,null,null,null,null,null,null,null,null,null,"WHITE HILLS WC, INC.","AZ0408039","91-000327.0000","W-01982A","WHITE HILLS WATER CO INC","A","White Hills Water Company, Inc. UNITS 3 4 6   "]
[null,null,null,null,null,null,null,null,null,null,null,null,null,null,null,null,null,null,null,null,null,null,null,null,null,null,null,null,null,null,null,null,null,null,null,null,null,null,"WHITE HILLS WTR CO INC 1","AZ0408149","91-000836.0000","W-01982A","WHITE HILLS WATER CO INC","A","White Hills Water Company, Inc. UNIT 1        "]
[null,null,null,null,null,null,null,null,null,null,null,null,null,null,null,null,null,null,null,null,null,null,null,null,null,null,null,null,null,null,null,null,null,null,null,null,null,null,"WHITE HORSE RANCH OWNERS ASSN","AZ0413221","91-000682.0000","W-04161A","WHITE HORSE RANCH OWNERS ASSN","A","White Horse Ranch Owners Association, Inc."]
[null,null,null,null,null,null,null,null,null,null,null,null,null,null,null,null,null,null,null,null,null,null,null,null,null,null,null,null,null,null,null,null,null,null,null,null,null,null,"WHITE MOUNTAIN LAKES EST","AZ0409034","91-000387.0000","W-01983A","VOYAGER AT WHITE MOUNTAIN LAKES WATER CO.","A","Voyager at White Mountain Lakes Water Company, Inc."]
[null,null,null,null,null,null,null,null,null,null,null,null,null,null,null,null,null,null,null,null,null,null,null,null,null,null,null,null,null,null,null,null,null,null,null,null,null,null,"WHITE MOUNTAIN SUMMER HOMES","AZ0409036","91-000389.0000","","WHITE MOUNTAIN SUMMER HOMES","A",""]
[null,null,null,null,null,null,null,null,null,null,null,null,null,null,null,null,null,null,null,null,null,null,null,null,null,null,null,null,null,null,null,null,null,null,null,null,null,null,"WHITE MOUNTAIN WATER CO","AZ0409330","91-000406.0000","W-02470A","WHITE MOUNTAIN WATER CO","A","White Mountain Water Company"]
[null,null,null,null,null,null,null,null,null,null,null,null,null,null,null,null,null,null,null,null,null,null,null,null,null,null,null,null,null,null,null,null,null,null,null,null,null,null,"WHY DOMESTIC WATER IMPROVMENET DISTRICT","AZ0410118","91-000441.0000","","WHY DOMESTIC WATER IMPROVEMENT DISTRICT","A",""]
[null,null,null,null,null,null,null,null,null,null,null,null,null,null,null,null,null,null,null,null,null,null,null,null,null,null,null,null,null,null,null,null,null,null,null,null,null,null,"WICKENBURG RANCH ESTATES","AZ0413358","91-000903.0000","","WICKENBURG RANCH ESTATES","A",""]
[null,null,null,null,null,null,null,null,null,null,null,null,null,null,null,null,null,null,null,null,null,null,null,null,null,null,null,null,null,null,null,null,null,null,null,null,null,null,"WICKENBURG, TOWN OF","AZ0407045","91-000198.0000","","WICKENBURG, TOWN OF","A",""]
[null,null,null,null,null,null,null,null,null,null,null,null,null,null,null,null,null,null,null,null,null,null,null,null,null,null,null,null,null,null,null,null,null,null,null,null,null,null,"WILD FLOWER WELL","AZ0410265","91-000484.0000","","WILD FLOWER WELL","A",""]
[null,null,null,null,null,null,null,null,null,null,null,null,null,null,null,null,null,null,null,null,null,null,null,null,null,null,null,null,null,null,null,null,null,null,null,null,null,null,"WILDHORSE ESTATES","AZ0411245","91-000567.0000","","JOHNSON UTILITIES LLC","I",""]
[null,null,null,null,null,null,null,null,null,null,null,null,null,null,null,null,null,null,null,null,null,null,null,null,null,null,null,null,null,null,null,null,null,null,null,null,null,null,"WILLCOX, CITY OF","AZ0402035","91-000050.0000","","WILLCOX, CITY OF","A",""]
[null,null,null,null,null,null,null,null,null,null,null,null,null,null,null,null,null,null,null,null,null,null,null,null,null,null,null,null,null,null,null,null,null,null,null,null,null,null,"WILLIAMS, CITY OF","AZ0403026","91-000097.0000","","WILLIAMS, CITY OF","A",""]
[null,null,null,null,null,null,null,null,null,null,null,null,null,null,null,null,null,null,null,null,null,null,null,null,null,null,null,null,null,null,null,null,null,null,null,null,null,null,"WILLOW LAKES PROPERTY OWNERS ASSOCIATION","AZ0402042","91-000056.0000","W-02173A","WILLOW LAKES TRUSTEES","A","Willow Lakes Property Owners Association, Inc."]
[null,null,null,null,null,null,null,null,null,null,null,null,null,null,null,null,null,null,null,null,null,null,null,null,null,null,null,null,null,null,null,null,null,null,null,null,null,null,"WILLOW VALLEY WC-KING STREET","AZ0408040","91-000328.0000","WS-01303A","EPCOR","A","EPCOR Water Arizona, Inc. - WILLOW VALLEY / KING STREET "]
[null,null,null,null,null,null,null,null,null,null,null,null,null,null,null,null,null,null,null,null,null,null,null,null,null,null,null,null,null,null,null,null,null,null,null,null,null,null,"WILLOW VALLEY WC-LAKE CIMARRON","AZ0408129","91-000349.0000","WS-01303A","EPCOR","A","EPCOR Water Arizona, Inc. - WILLOW VALLEY/LAKE CIMARRON"]
[null,null,null,null,null,null,null,null,null,null,null,null,null,null,null,null,null,null,null,null,null,null,null,null,null,null,null,null,null,null,null,null,null,null,null,null,null,null,"WILLOWS MOBILE HOME PARK","AZ0413138","91-000670.0000","","THE WILLOWS MHP AT CAMP VERDE","I",""]
[null,null,null,null,null,null,null,null,null,null,null,null,null,null,null,null,null,null,null,null,null,null,null,null,null,null,null,null,null,null,null,null,null,null,null,null,null,null,"WILMOT WATER USERS GROUP","AZ0410402","91-000508.0000","","WILMOT ROAD WATER USERS GROUP","A",""]
[null,null,null,null,null,null,null,null,null,null,null,null,null,null,null,null,null,null,null,null,null,null,null,null,null,null,null,null,null,null,null,null,null,null,null,null,null,null,"WINCHESTER WATER CO. LLC","AZ0402110","91-000074.0000","W-04081A","WINCHESTER WATER CO. LLC","A","Winchester Water Company, L.L.C."]
[null,null,null,null,null,null,null,null,null,null,null,null,null,null,null,null,null,null,null,null,null,null,null,null,null,null,null,null,null,null,null,null,null,null,null,null,null,null,"WINSLOW, CITY OF","AZ0409035","91-000388.0000","","WINSLOW, CITY OF","A",""]
[null,null,null,null,null,null,null,null,null,null,null,null,null,null,null,null,null,null,null,null,null,null,null,null,null,null,null,null,null,null,null,null,null,null,null,null,null,null,"WINTERHAVEN WATER AND CO","AZ0410119","91-000442.0000","","WINTERHAVEN WATER AND DEV CO","A",""]
[null,null,null,null,null,null,null,null,null,null,null,null,null,null,null,null,null,null,null,null,null,null,null,null,null,null,null,null,null,null,null,null,null,null,null,null,null,null,"WONDERLAND ACRES DWID","AZ0409060","91-000397.0000","","WONDERLAND ACRES DWID","A",""]
[null,null,null,null,null,null,null,null,null,null,null,null,null,null,null,null,null,null,null,null,null,null,null,null,null,null,null,null,null,null,null,null,null,null,null,null,null,null,"WOODRUFF DOMESTIC WTR CO","AZ0409050","91-000394.0000","W-04264A","WOODRUFF DWID","A","Woodruff Water Company, Inc."]
[null,null,null,null,null,null,null,null,null,null,null,null,null,null,null,null,null,null,null,null,null,null,null,null,null,null,null,null,null,null,null,null,null,null,null,null,null,null,"WORDEN WATER CO","AZ0410132","91-000447.0000","W-20391A","WORDEN WATER CO","A","Janice E. Worden and Lawrence A. Worden DBA Worden Water Company"]
[null,null,null,null,null,null,null,null,null,null,null,null,null,null,null,null,null,null,null,null,null,null,null,null,null,null,null,null,null,null,null,null,null,null,null,null,null,null,"WUGB - SWEETWATER II","AZ0407129","91-000238.0000","","WATER UTILITY OF GREATER BUCKE- DARLENE HUTCHCRAFT","A","VWC BUCKEYE DIVISION SWEETWATER 2       "]
[null,null,null,null,null,null,null,null,null,null,null,null,null,null,null,null,null,null,null,null,null,null,null,null,null,null,null,null,null,null,null,null,null,null,null,null,null,null,"WUGT - BUCKEYE RANCH","AZ0407618","91-000285.0000","W-02450A","WATER UTILITY OF GREATER TONOPAH","A","Water Utility of Greater Tonopah, LLC.  B D BUCKEYE RANCH DWID             "]
[null,null,null,null,null,null,null,null,null,null,null,null,null,null,null,null,null,null,null,null,null,null,null,null,null,null,null,null,null,null,null,null,null,null,null,null,null,null,"WUGT - DIXIE WELL","AZ0407030","91-000192.0000","W-02450A","WATER UTILITY OF GREATER TONOPAH, INC","A","Water Utility of Greater Tonopah, LLC. DIXIE WATER COMPANY "]
[null,null,null,null,null,null,null,null,null,null,null,null,null,null,null,null,null,null,null,null,null,null,null,null,null,null,null,null,null,null,null,null,null,null,null,null,null,null,"WUGT - GARDEN CITY","AZ0407037","91-000195.0000","W-02450A","WATER UTILITY OF GREATER TONOPAH, INC","A","Water Utility of Greater Tonopah, LLC. GARDEN "]
[null,null,null,null,null,null,null,null,null,null,null,null,null,null,null,null,null,null,null,null,null,null,null,null,null,null,null,null,null,null,null,null,null,null,null,null,null,null,"WUGT - ROSE VIEW WELL","AZ0407082","91-000216.0000","W-02450A","WATER UTILITY OF GREATER TONOPAH, INC","A","Water Utility of Greater Tonopah, LLC. ROSEVIEW WATER COMPANY             "]
[null,null,null,null,null,null,null,null,null,null,null,null,null,null,null,null,null,null,null,null,null,null,null,null,null,null,null,null,null,null,null,null,null,null,null,null,null,null,"YARNELL WATER IMPROVEMENT ASSN","AZ0413057","91-000642.0000","W-02255A","YARNELL WATER IMPROVEMENT ASSN","A","Yarnell Water Improvement Association, Inc."]
[null,null,null,null,null,null,null,null,null,null,null,null,null,null,null,null,null,null,null,null,null,null,null,null,null,null,null,null,null,null,null,null,null,null,null,null,null,null,"YAVAPAI COUNTRY CLUB WATER","AZ0413058","91-000643.0000","","YAVAPAI COUNTRY CLUB WATER CO.","A",""]
[null,null,null,null,null,null,null,null,null,null,null,null,null,null,null,null,null,null,null,null,null,null,null,null,null,null,null,null,null,null,null,null,null,null,null,null,null,null,"YAVAPAI ESTATES","AZ0413077","91-000652.0000","W-20809A","ACME WATER COMPANY","A","ACME Water, LLC"]
[null,null,null,null,null,null,null,null,null,null,null,null,null,null,null,null,null,null,null,null,null,null,null,null,null,null,null,null,null,null,null,null,null,null,null,null,null,null,"YOUNG PUBLIC SCHOOL","AZ0404063","91-000147.0000","","YOUNG PUBLIC SCHOOL","I",""]
[null,null,null,null,null,null,null,null,null,null,null,null,null,null,null,null,null,null,null,null,null,null,null,null,null,null,null,null,null,null,null,null,null,null,null,null,null,null,"YUCCA WATER ASSOCIATION","AZ0408042","91-000330.0000","W-01937A","YUCCA WATER ASSOC","A","Yucca Water Association, Inc."]
[null,null,null,null,null,null,null,null,null,null,null,null,null,null,null,null,null,null,null,null,null,null,null,null,null,null,null,null,null,null,null,null,null,null,null,null,null,null,"YUMA LAKES RESORT","AZ0414314","91-000900.0000","","COLORADO RIVER ADVENTURE INC","A",""]
[null,null,null,null,null,null,null,null,null,null,null,null,null,null,null,null,null,null,null,null,null,null,null,null,null,null,null,null,null,null,null,null,null,null,null,null,null,null,"YUMA WEST MHP","AZ0414391","91-000734.0000","","YUMA WEST MHP","A",""]
[null,null,null,null,null,null,null,null,null,null,null,null,null,null,null,null,null,null,null,null,null,null,null,null,null,null,null,null,null,null,null,null,null,null,null,null,null,null,"YUMA, CITY OF","AZ0414024","91-000716.0000","","YUMA, CITY OF","A",""]
[null,null,null,null,null,null,null,null,null,null,null,null,null,null,null,null,null,null,null,null,null,null,null,null,null,null,null,null,null,null,null,null,null,null,null,null,null,null,"ZOO STAGE WATER CO-OP","AZ0410420","91-000515.0000","","ZOO STAGE WATER CO-OP","I",""]
[null,null,null,null,null,null,null,null,null,null,null,null,null,null,null,null,null,null,null,null,null,null,null,null,null,null,null,null,null,null,null,null,null,null,null,null,null,null,"NA","NA","NA","NA","NA","NA","NA"]

{"sheet":"AR11","index":36,"n_rows":39,"n_cols":14,"rows_kept":39,"cut":false,"hidden":false,"merged":[[5,0,5,4],[33,0,34,4],[26,1,30,4],[7,0,7,2],[7,3,7,4],[8,0,8,2],[8,3,8,4],[6,1,6,4]]}
[{"$f":"'AR1'!B12","v":0},null,null,null,null,null,null,"AR11"]
["Annual Report",null,null,null,null,null,null,{"$f":"\"Annual Report page \"&E39","v":"Annual Report page 15"}]
[{"$f":"AR_Page12","v":"Utility Shutoffs / Disconnects"}]
[{"$f":"IF('AR1'!B19=\"\",\"\",'AR1'!B19)","v":"12/31/20"}]
[]
["Utility Shutoffs / Disconnects"]
["Name of the System:",{"$f":"'AR8'!C7","v":0}]
["ADEQ Public Water System Number:",null,null,{"$f":"'AR8'!D8","v":""}]
["ADWR PCC Number:",null,null,{"$f":"'AR8'!D9","v":""}]
[]
[]
["Month","Termination without Notice R14-2-410.B","Termination with Notice R14-2-410.C","Other"]
["January",null,null,null,null,null,null,null,null,{"$f":"IF(B13<>\"\",\"Complete\",\"Incomplete\")","v":"Incomplete"},{"$f":"IF(C13<>\"\",\"Complete\",\"Incomplete\")","v":"Incomplete"},"Incomplete",{"$f":"IF(J13=\"Incomplete\",\"Incomplete\",IF(K13=\"Incomplete\",\"Incomplete\",IF(L13=\"Incomplete\",\"Incomplete\",\"Complete\")))","v":"Incomplete"}]
["February",null,null,null,null,null,null,null,null,"Incomplete","Incomplete","Incomplete",{"$f":"IF(J14=\"Incomplete\",\"Incomplete\",IF(K14=\"Incomplete\",\"Incomplete\",IF(L14=\"Incomplete\",\"Incomplete\",\"Complete\")))","v":"Incomplete"}]
["March",null,null,null,null,null,null,null,null,"Incomplete","Incomplete","Incomplete","Incomplete"]
["April",null,null,null,null,null,null,null,null,"Incomplete","Incomplete","Incomplete","Incomplete"]
["May",null,null,null,null,null,null,null,null,"Incomplete","Incomplete","Incomplete","Incomplete"]
["June",null,null,null,null,null,null,null,null,"Incomplete","Incomplete","Incomplete","Incomplete",{"$f":"IF(M13=\"Incomplete\",\"Incomplete\",IF(M14=\"Incomplete\",\"Incomplete\",IF(M15=\"Incomplete\",\"Incomplete\",IF(M16=\"Incomplete\",\"Incomplete\",IF(M16=\"Incomplete\",\"Incomplete\",IF(M17=\"Incomplete\",\"Incomplete\",IF(M18=\"Incomplete\",\"Incomplete\",\"Complete\")))))))","v":"Incomplete"}]
["July",null,null,null,null,null,null,null,null,"Incomplete","Incomplete","Incomplete","Incomplete"]
["August",null,null,null,null,null,null,null,null,"Incomplete","Incomplete","Incomplete","Incomplete"]
["September",null,null,null,null,null,null,null,null,"Incomplete","Incomplete","Incomplete","Incomplete"]
["October",null,null,null,null,null,null,null,null,"Incomplete","Incomplete","Incomplete","Incomplete"]
["November",null,null,null,null,null,null,null,null,"Incomplete","Incomplete","Incomplete","Incomplete"]
["December",null,null,null,null,null,null,null,null,"Incomplete","Incomplete","Incomplete","Incomplete",{"$f":"IF(M19=\"Incomplete\",\"Incomplete\",IF(M20=\"Incomplete\",\"Incomplete\",IF(M21=\"Incomplete\",\"Incomplete\",IF(M22=\"Incomplete\",\"Incomplete\",IF(M22=\"Incomplete\",\"Incomplete\",IF(M23=\"Incomplete\",\"Incomplete\",IF(M24=\"Incomplete\",\"Incomplete\",\"Complete\")))))))","v":"Incomplete"}]
["Total",{"$f":"SUM(B13:B24)","v":0},{"$f":"SUM(C13:C24)","v":0},{"$f":"SUM(D13:D24)","v":0}]
[]
["Other (description):",null,null,null,null,null,null,null,null,null,null,null,null,{"$f":"IF(B27<>\"\",\"Complete\",\"Incomplete\")","v":"Incomplete"}]
[null,null,null,null,null,null,null,null,null,null,null,null,null,{"$f":"IF(N18=\"Incomplete\",\"Incomplete\",IF(N24=\"Incomplete\",\"Incomplete\",IF(N27=\"Incomplete\",\"Incomplete\",\"Complete\")))","v":"Incomplete"}]
[]
[]
[]
[]
[]
["Instructions: Fill out the Grey Cells with the relevent information.  Input 0 or none if there is nothing recorded in that account or there is no applicable information to report."]
[]
[]
[]
[null,null,null,null,{"$f":"\"Page \"&E39","v":"Page 15"}]
[null,null,null,null,{"$f":"'AR10'!I60+1","v":15}]

{"sheet":"AR11 (b)","index":37,"n_rows":39,"n_cols":14,"rows_kept":39,"cut":false,"hidden":true,"merged":[[26,1,30,4],[33,0,34,4],[5,0,5,4],[6,1,6,4],[7,0,7,2],[7,3,7,4],[8,0,8,2],[8,3,8,4]]}
[{"$f":"'AR1'!B12","v":0},null,null,null,null,null,null,"AR11",null,null,null,null,null,{"$f":"IF(C1<>\"\",\"Complete\",\"Incomplete\")","v":"Incomplete"}]
["Annual Report",null,null,null,null,null,null,{"$f":"\"Annual Report page \"&E39","v":"Annual Report page 15"}]
[{"$f":"AR_Page12","v":"Utility Shutoffs / Disconnects"},null,null,null,null,null,null,null,null,null,null,null,null,{"$f":"IF(C3<>\"\",\"Complete\",\"Incomplete\")","v":"Incomplete"}]
[{"$f":"IF('AR1'!B19=\"\",\"\",'AR1'!B19)","v":"12/31/20"}]
[]
["Utility Shutoffs / Disconnects"]
["Name of the System:",{"$f":"'AR8 (b)'!C7","v":0}]
["ADEQ Public Water System Number:",null,null,{"$f":"'AR8 (b)'!D8","v":""}]
["ADWR PCC Number:",null,null,{"$f":"'AR8 (b)'!D9","v":""}]
[]
[]
["Month","Termination without Notice R14-2-410.B","Termination with Notice R14-2-410.C","Other"]
["January",null,null,null,null,null,null,null,null,{"$f":"IF(B13<>\"\",\"Complete\",\"Incomplete\")","v":"Incomplete"},"Incomplete","Incomplete",{"$f":"IF(J13=\"Incomplete\",\"Incomplete\",IF(K13=\"Incomplete\",\"Incomplete\",IF(L13=\"Incomplete\",\"Incomplete\",\"Complete\")))","v":"Incomplete"}]
["February",null,null,null,null,null,null,null,null,"Incomplete","Incomplete","Incomplete",{"$f":"IF(J14=\"Incomplete\",\"Incomplete\",IF(K14=\"Incomplete\",\"Incomplete\",IF(L14=\"Incomplete\",\"Incomplete\",\"Complete\")))","v":"Incomplete"}]
["March",null,null,null,null,null,null,null,null,"Incomplete","Incomplete","Incomplete","Incomplete"]
["April",null,null,null,null,null,null,null,null,"Incomplete","Incomplete","Incomplete","Incomplete"]
["May",null,null,null,null,null,null,null,null,"Incomplete","Incomplete","Incomplete","Incomplete"]
["June",null,null,null,null,null,null,null,null,"Incomplete","Incomplete","Incomplete","Incomplete",{"$f":"IF(M13=\"Incomplete\",\"Incomplete\",IF(M14=\"Incomplete\",\"Incomplete\",IF(M15=\"Incomplete\",\"Incomplete\",IF(M16=\"Incomplete\",\"Incomplete\",IF(M16=\"Incomplete\",\"Incomplete\",IF(M17=\"Incomplete\",\"Incomplete\",IF(M18=\"Incomplete\",\"Incomplete\",\"Complete\")))))))","v":"Incomplete"}]
["July",null,null,null,null,null,null,null,null,"Incomplete","Incomplete","Incomplete","Incomplete"]
["August",null,null,null,null,null,null,null,null,"Incomplete","Incomplete","Incomplete","Incomplete"]
["September",null,null,null,null,null,null,null,null,"Incomplete","Incomplete","Incomplete","Incomplete"]
["October",null,null,null,null,null,null,null,null,"Incomplete","Incomplete","Incomplete","Incomplete"]
["November",null,null,null,null,null,null,null,null,"Incomplete","Incomplete","Incomplete","Incomplete"]
["December",null,null,null,null,null,null,null,null,"Incomplete","Incomplete","Incomplete","Incomplete",{"$f":"IF(M19=\"Incomplete\",\"Incomplete\",IF(M20=\"Incomplete\",\"Incomplete\",IF(M21=\"Incomplete\",\"Incomplete\",IF(M22=\"Incomplete\",\"Incomplete\",IF(M22=\"Incomplete\",\"Incomplete\",IF(M23=\"Incomplete\",\"Incomplete\",IF(M24=\"Incomplete\",\"Incomplete\",\"Complete\")))))))","v":"Incomplete"}]
["Total",{"$f":"SUM(B13:B24)","v":0},{"$f":"SUM(C13:C24)","v":0},{"$f":"SUM(D13:D24)","v":0}]
[]
["Other (description):",null,null,null,null,null,null,null,null,null,null,null,null,{"$f":"IF(B27<>\"\",\"Complete\",\"Incomplete\")","v":"Incomplete"}]
[null,null,null,null,null,null,null,null,null,null,null,null,null,{"$f":"IF(N1=\"Incomplete\",\"Incomplete\",IF(N3=\"Incomplete\",\"Incomplete\",IF(N18=\"Incomplete\",\"Incomplete\",IF(N24=\"Incomplete\",\"Incomplete\",IF(N27=\"Incomplete\",\"Incomplete\",\"Complete\")))))","v":"Incomplete"}]
[]
[]
[]
[]
[]
["Instructions: Fill out the Grey Cells with the relevent information.  Input 0 or none if there is nothing recorded in that account or there is no applicable information to report."]
[]
[]
[]
[null,null,null,null,{"$f":"\"Page \"&E39&\"b\"","v":"Page 15b"}]
[null,null,null,null,{"$f":"'AR10'!I60+1","v":15}]

{"sheet":"AR11 (c)","index":38,"n_rows":39,"n_cols":14,"rows_kept":39,"cut":false,"hidden":true,"merged":[[26,1,30,4],[33,0,34,4],[5,0,5,4],[6,1,6,4],[7,0,7,2],[7,3,7,4],[8,0,8,2],[8,3,8,4]]}
[{"$f":"'AR1'!B12","v":0},null,null,null,null,null,null,"AR11",null,null,null,null,null,{"$f":"IF(C1<>\"\",\"Complete\",\"Incomplete\")","v":"Incomplete"}]
["Annual Report",null,null,null,null,null,null,{"$f":"\"Annual Report page \"&E39","v":"Annual Report page 15"}]
[{"$f":"AR_Page12","v":"Utility Shutoffs / Disconnects"},null,null,null,null,null,null,null,null,null,null,null,null,{"$f":"IF(C3<>\"\",\"Complete\",\"Incomplete\")","v":"Incomplete"}]
[{"$f":"IF('AR1'!B19=\"\",\"\",'AR1'!B19)","v":"12/31/20"}]
[]
["Utility Shutoffs / Disconnects"]
["Name of the System:",{"$f":"'AR8 (c)'!C7","v":0}]
["ADEQ Public Water System Number:",null,null,{"$f":"'AR8 (c)'!D8","v":""}]
["ADWR PCC Number:",null,null,{"$f":"'AR8 (c)'!D9","v":""}]
[]
[]
["Month","Termination without Notice R14-2-410.B","Termination with Notice R14-2-410.C","Other"]
["January",null,null,null,null,null,null,null,null,{"$f":"IF(B13<>\"\",\"Complete\",\"Incomplete\")","v":"Incomplete"},"Incomplete","Incomplete",{"$f":"IF(J13=\"Incomplete\",\"Incomplete\",IF(K13=\"Incomplete\",\"Incomplete\",IF(L13=\"Incomplete\",\"Incomplete\",\"Complete\")))","v":"Incomplete"}]
["February",null,null,null,null,null,null,null,null,"Incomplete","Incomplete","Incomplete",{"$f":"IF(J14=\"Incomplete\",\"Incomplete\",IF(K14=\"Incomplete\",\"Incomplete\",IF(L14=\"Incomplete\",\"Incomplete\",\"Complete\")))","v":"Incomplete"}]
["March",null,null,null,null,null,null,null,null,"Incomplete","Incomplete","Incomplete","Incomplete"]
["April",null,null,null,null,null,null,null,null,"Incomplete","Incomplete","Incomplete","Incomplete"]
["May",null,null,null,null,null,null,null,null,"Incomplete","Incomplete","Incomplete","Incomplete"]
["June",null,null,null,null,null,null,null,null,"Incomplete","Incomplete","Incomplete","Incomplete",{"$f":"IF(M13=\"Incomplete\",\"Incomplete\",IF(M14=\"Incomplete\",\"Incomplete\",IF(M15=\"Incomplete\",\"Incomplete\",IF(M16=\"Incomplete\",\"Incomplete\",IF(M16=\"Incomplete\",\"Incomplete\",IF(M17=\"Incomplete\",\"Incomplete\",IF(M18=\"Incomplete\",\"Incomplete\",\"Complete\")))))))","v":"Incomplete"}]
["July",null,null,null,null,null,null,null,null,"Incomplete","Incomplete","Incomplete","Incomplete"]
["August",null,null,null,null,null,null,null,null,"Incomplete","Incomplete","Incomplete","Incomplete"]
["September",null,null,null,null,null,null,null,null,"Incomplete","Incomplete","Incomplete","Incomplete"]
["October",null,null,null,null,null,null,null,null,"Incomplete","Incomplete","Incomplete","Incomplete"]
["November",null,null,null,null,null,null,null,null,"Incomplete","Incomplete","Incomplete","Incomplete"]
["December",null,null,null,null,null,null,null,null,"Incomplete","Incomplete","Incomplete","Incomplete",{"$f":"IF(M19=\"Incomplete\",\"Incomplete\",IF(M20=\"Incomplete\",\"Incomplete\",IF(M21=\"Incomplete\",\"Incomplete\",IF(M22=\"Incomplete\",\"Incomplete\",IF(M22=\"Incomplete\",\"Incomplete\",IF(M23=\"Incomplete\",\"Incomplete\",IF(M24=\"Incomplete\",\"Incomplete\",\"Complete\")))))))","v":"Incomplete"}]
["Total",{"$f":"SUM(B13:B24)","v":0},{"$f":"SUM(C13:C24)","v":0},{"$f":"SUM(D13:D24)","v":0}]
[]
["Other (description):",null,null,null,null,null,null,null,null,null,null,null,null,{"$f":"IF(B27<>\"\",\"Complete\",\"Incomplete\")","v":"Incomplete"}]
[null,null,null,null,null,null,null,null,null,null,null,null,null,{"$f":"IF(N1=\"Incomplete\",\"Incomplete\",IF(N3=\"Incomplete\",\"Incomplete\",IF(N18=\"Incomplete\",\"Incomplete\",IF(N24=\"Incomplete\",\"Incomplete\",IF(N27=\"Incomplete\",\"Incomplete\",\"Complete\")))))","v":"Incomplete"}]
[]
[]
[]
[]
[]
["Instructions: Fill out the Grey Cells with the relevent information.  Input 0 or none if there is nothing recorded in that account or there is no applicable information to report."]
[]
[]
[]
[null,null,null,null,{"$f":"\"Page \"&E39&\"c\"","v":"Page 15c"}]
[null,null,null,null,{"$f":"'AR10'!I60+1","v":15}]

{"sheet":"AR11 (d)","index":39,"n_rows":39,"n_cols":14,"rows_kept":39,"cut":false,"hidden":true,"merged":[[26,1,30,4],[33,0,34,4],[5,0,5,4],[6,1,6,4],[7,0,7,2],[7,3,7,4],[8,0,8,2],[8,3,8,4]]}
[{"$f":"'AR1'!B12","v":0},null,null,null,null,null,null,"AR11",null,null,null,null,null,{"$f":"IF(C1<>\"\",\"Complete\",\"Incomplete\")","v":"Incomplete"}]
["Annual Report",null,null,null,null,null,null,{"$f":"\"Annual Report page \"&E39","v":"Annual Report page 15"}]
[{"$f":"AR_Page12","v":"Utility Shutoffs / Disconnects"},null,null,null,null,null,null,null,null,null,null,null,null,{"$f":"IF(C3<>\"\",\"Complete\",\"Incomplete\")","v":"Incomplete"}]
[{"$f":"IF('AR1'!B19=\"\",\"\",'AR1'!B19)","v":"12/31/20"}]
[]
["Utility Shutoffs / Disconnects"]
["Name of the System:",{"$f":"'AR8 (d)'!C7","v":0}]
["ADEQ Public Water System Number:",null,null,{"$f":"'AR8 (d)'!D8","v":""}]
["ADWR PCC Number:",null,null,{"$f":"'AR8 (d)'!D9","v":""}]
[]
[]
["Month","Termination without Notice R14-2-410.B","Termination with Notice R14-2-410.C","Other"]
["January",null,null,null,null,null,null,null,null,{"$f":"IF(B13<>\"\",\"Complete\",\"Incomplete\")","v":"Incomplete"},"Incomplete","Incomplete",{"$f":"IF(J13=\"Incomplete\",\"Incomplete\",IF(K13=\"Incomplete\",\"Incomplete\",IF(L13=\"Incomplete\",\"Incomplete\",\"Complete\")))","v":"Incomplete"}]
["February",null,null,null,null,null,null,null,null,"Incomplete","Incomplete","Incomplete",{"$f":"IF(J14=\"Incomplete\",\"Incomplete\",IF(K14=\"Incomplete\",\"Incomplete\",IF(L14=\"Incomplete\",\"Incomplete\",\"Complete\")))","v":"Incomplete"}]
["March",null,null,null,null,null,null,null,null,"Incomplete","Incomplete","Incomplete","Incomplete"]
["April",null,null,null,null,null,null,null,null,"Incomplete","Incomplete","Incomplete","Incomplete"]
["May",null,null,null,null,null,null,null,null,"Incomplete","Incomplete","Incomplete","Incomplete"]
["June",null,null,null,null,null,null,null,null,"Incomplete","Incomplete","Incomplete","Incomplete",{"$f":"IF(M13=\"Incomplete\",\"Incomplete\",IF(M14=\"Incomplete\",\"Incomplete\",IF(M15=\"Incomplete\",\"Incomplete\",IF(M16=\"Incomplete\",\"Incomplete\",IF(M16=\"Incomplete\",\"Incomplete\",IF(M17=\"Incomplete\",\"Incomplete\",IF(M18=\"Incomplete\",\"Incomplete\",\"Complete\")))))))","v":"Incomplete"}]
["July",null,null,null,null,null,null,null,null,"Incomplete","Incomplete","Incomplete","Incomplete"]
["August",null,null,null,null,null,null,null,null,"Incomplete","Incomplete","Incomplete","Incomplete"]
["September",null,null,null,null,null,null,null,null,"Incomplete","Incomplete","Incomplete","Incomplete"]
["October",null,null,null,null,null,null,null,null,"Incomplete","Incomplete","Incomplete","Incomplete"]
["November",null,null,null,null,null,null,null,null,"Incomplete","Incomplete","Incomplete","Incomplete"]
["December",null,null,null,null,null,null,null,null,"Incomplete","Incomplete","Incomplete","Incomplete",{"$f":"IF(M19=\"Incomplete\",\"Incomplete\",IF(M20=\"Incomplete\",\"Incomplete\",IF(M21=\"Incomplete\",\"Incomplete\",IF(M22=\"Incomplete\",\"Incomplete\",IF(M22=\"Incomplete\",\"Incomplete\",IF(M23=\"Incomplete\",\"Incomplete\",IF(M24=\"Incomplete\",\"Incomplete\",\"Complete\")))))))","v":"Incomplete"}]
["Total",{"$f":"SUM(B13:B24)","v":0},{"$f":"SUM(C13:C24)","v":0},{"$f":"SUM(D13:D24)","v":0}]
[]
["Other (description):",null,null,null,null,null,null,null,null,null,null,null,null,{"$f":"IF(B27<>\"\",\"Complete\",\"Incomplete\")","v":"Incomplete"}]
[null,null,null,null,null,null,null,null,null,null,null,null,null,{"$f":"IF(N1=\"Incomplete\",\"Incomplete\",IF(N3=\"Incomplete\",\"Incomplete\",IF(N18=\"Incomplete\",\"Incomplete\",IF(N24=\"Incomplete\",\"Incomplete\",IF(N27=\"Incomplete\",\"Incomplete\",\"Complete\")))))","v":"Incomplete"}]
[]
[]
[]
[]
[]
["Instructions: Fill out the Grey Cells with the relevent information.  Input 0 or none if there is nothing recorded in that account or there is no applicable information to report."]
[]
[]
[]
[null,null,null,null,{"$f":"\"Page \"&E39&\"d\"","v":"Page 15d"}]
[null,null,null,null,{"$f":"'AR10'!I60+1","v":15}]

{"sheet":"AR11 (e)","index":40,"n_rows":39,"n_cols":14,"rows_kept":39,"cut":false,"hidden":true,"merged":[[26,1,30,4],[33,0,34,4],[5,0,5,4],[6,1,6,4],[7,0,7,2],[7,3,7,4],[8,0,8,2],[8,3,8,4]]}
[{"$f":"'AR1'!B12","v":0},null,null,null,null,null,null,"AR11",null,null,null,null,null,{"$f":"IF(C1<>\"\",\"Complete\",\"Incomplete\")","v":"Incomplete"}]
["Annual Report",null,null,null,null,null,null,{"$f":"\"Annual Report page \"&E39","v":"Annual Report page 15"}]
[{"$f":"AR_Page12","v":"Utility Shutoffs / Disconnects"},null,null,null,null,null,null,null,null,null,null,null,null,{"$f":"IF(C3<>\"\",\"Complete\",\"Incomplete\")","v":"Incomplete"}]
[{"$f":"IF('AR1'!B19=\"\",\"\",'AR1'!B19)","v":"12/31/20"}]
[]
["Utility Shutoffs / Disconnects"]
["Name of the System:",{"$f":"'AR8 (e)'!C7","v":0}]
["ADEQ Public Water System Number:",null,null,{"$f":"'AR8 (e)'!D8","v":""}]
["ADWR PCC Number:",null,null,{"$f":"'AR8 (e)'!D9","v":""}]
[]
[]
["Month","Termination without Notice R14-2-410.B","Termination with Notice R14-2-410.C","Other"]
["January",null,null,null,null,null,null,null,null,{"$f":"IF(B13<>\"\",\"Complete\",\"Incomplete\")","v":"Incomplete"},"Incomplete","Incomplete",{"$f":"IF(J13=\"Incomplete\",\"Incomplete\",IF(K13=\"Incomplete\",\"Incomplete\",IF(L13=\"Incomplete\",\"Incomplete\",\"Complete\")))","v":"Incomplete"}]
["February",null,null,null,null,null,null,null,null,"Incomplete","Incomplete","Incomplete",{"$f":"IF(J14=\"Incomplete\",\"Incomplete\",IF(K14=\"Incomplete\",\"Incomplete\",IF(L14=\"Incomplete\",\"Incomplete\",\"Complete\")))","v":"Incomplete"}]
["March",null,null,null,null,null,null,null,null,"Incomplete","Incomplete","Incomplete","Incomplete"]
["April",null,null,null,null,null,null,null,null,"Incomplete","Incomplete","Incomplete","Incomplete"]
["May",null,null,null,null,null,null,null,null,"Incomplete","Incomplete","Incomplete","Incomplete"]
["June",null,null,null,null,null,null,null,null,"Incomplete","Incomplete","Incomplete","Incomplete",{"$f":"IF(M13=\"Incomplete\",\"Incomplete\",IF(M14=\"Incomplete\",\"Incomplete\",IF(M15=\"Incomplete\",\"Incomplete\",IF(M16=\"Incomplete\",\"Incomplete\",IF(M16=\"Incomplete\",\"Incomplete\",IF(M17=\"Incomplete\",\"Incomplete\",IF(M18=\"Incomplete\",\"Incomplete\",\"Complete\")))))))","v":"Incomplete"}]
["July",null,null,null,null,null,null,null,null,"Incomplete","Incomplete","Incomplete","Incomplete"]
["August",null,null,null,null,null,null,null,null,"Incomplete","Incomplete","Incomplete","Incomplete"]
["September",null,null,null,null,null,null,null,null,"Incomplete","Incomplete","Incomplete","Incomplete"]
["October",null,null,null,null,null,null,null,null,"Incomplete","Incomplete","Incomplete","Incomplete"]
["November",null,null,null,null,null,null,null,null,"Incomplete","Incomplete","Incomplete","Incomplete"]
["December",null,null,null,null,null,null,null,null,"Incomplete","Incomplete","Incomplete","Incomplete",{"$f":"IF(M19=\"Incomplete\",\"Incomplete\",IF(M20=\"Incomplete\",\"Incomplete\",IF(M21=\"Incomplete\",\"Incomplete\",IF(M22=\"Incomplete\",\"Incomplete\",IF(M22=\"Incomplete\",\"Incomplete\",IF(M23=\"Incomplete\",\"Incomplete\",IF(M24=\"Incomplete\",\"Incomplete\",\"Complete\")))))))","v":"Incomplete"}]
["Total",{"$f":"SUM(B13:B24)","v":0},{"$f":"SUM(C13:C24)","v":0},{"$f":"SUM(D13:D24)","v":0}]
[]
["Other (description):",null,null,null,null,null,null,null,null,null,null,null,null,{"$f":"IF(B27<>\"\",\"Complete\",\"Incomplete\")","v":"Incomplete"}]
[null,null,null,null,null,null,null,null,null,null,null,null,null,{"$f":"IF(N1=\"Incomplete\",\"Incomplete\",IF(N3=\"Incomplete\",\"Incomplete\",IF(N18=\"Incomplete\",\"Incomplete\",IF(N24=\"Incomplete\",\"Incomplete\",IF(N27=\"Incomplete\",\"Incomplete\",\"Complete\")))))","v":"Incomplete"}]
[]
[]
[]
[]
[]
["Instructions: Fill out the Grey Cells with the relevent information.  Input 0 or none if there is nothing recorded in that account or there is no applicable information to report."]
[]
[]
[]
[null,null,null,null,{"$f":"\"Page \"&E39&\"e\"","v":"Page 15e"}]
[null,null,null,null,{"$f":"'AR10'!I60+1","v":15}]

{"sheet":"AR11 (f)","index":41,"n_rows":39,"n_cols":14,"rows_kept":39,"cut":false,"hidden":true,"merged":[[26,1,30,4],[33,0,34,4],[5,0,5,4],[6,1,6,4],[7,0,7,2],[7,3,7,4],[8,0,8,2],[8,3,8,4]]}
[{"$f":"'AR1'!B12","v":0},null,null,null,null,null,null,"AR11",null,null,null,null,null,{"$f":"IF(C1<>\"\",\"Complete\",\"Incomplete\")","v":"Incomplete"}]
["Annual Report",null,null,null,null,null,null,{"$f":"\"Annual Report page \"&E39","v":"Annual Report page 15"}]
[{"$f":"AR_Page12","v":"Utility Shutoffs / Disconnects"},null,null,null,null,null,null,null,null,null,null,null,null,{"$f":"IF(C3<>\"\",\"Complete\",\"Incomplete\")","v":"Incomplete"}]
[{"$f":"IF('AR1'!B19=\"\",\"\",'AR1'!B19)","v":"12/31/20"}]
[]
["Utility Shutoffs / Disconnects"]
["Name of the System:",{"$f":"'AR8 (f)'!C7","v":0}]
["ADEQ Public Water System Number:",null,null,{"$f":"'AR8 (f)'!D8","v":""}]
["ADWR PCC Number:",null,null,{"$f":"'AR8 (f)'!D9","v":""}]
[]
[]
["Month","Termination without Notice R14-2-410.B","Termination with Notice R14-2-410.C","Other"]
["January",null,null,null,null,null,null,null,null,{"$f":"IF(B13<>\"\",\"Complete\",\"Incomplete\")","v":"Incomplete"},"Incomplete","Incomplete",{"$f":"IF(J13=\"Incomplete\",\"Incomplete\",IF(K13=\"Incomplete\",\"Incomplete\",IF(L13=\"Incomplete\",\"Incomplete\",\"Complete\")))","v":"Incomplete"}]
["February",null,null,null,null,null,null,null,null,"Incomplete","Incomplete","Incomplete",{"$f":"IF(J14=\"Incomplete\",\"Incomplete\",IF(K14=\"Incomplete\",\"Incomplete\",IF(L14=\"Incomplete\",\"Incomplete\",\"Complete\")))","v":"Incomplete"}]
["March",null,null,null,null,null,null,null,null,"Incomplete","Incomplete","Incomplete","Incomplete"]
["April",null,null,null,null,null,null,null,null,"Incomplete","Incomplete","Incomplete","Incomplete"]
["May",null,null,null,null,null,null,null,null,"Incomplete","Incomplete","Incomplete","Incomplete"]
["June",null,null,null,null,null,null,null,null,"Incomplete","Incomplete","Incomplete","Incomplete",{"$f":"IF(M13=\"Incomplete\",\"Incomplete\",IF(M14=\"Incomplete\",\"Incomplete\",IF(M15=\"Incomplete\",\"Incomplete\",IF(M16=\"Incomplete\",\"Incomplete\",IF(M16=\"Incomplete\",\"Incomplete\",IF(M17=\"Incomplete\",\"Incomplete\",IF(M18=\"Incomplete\",\"Incomplete\",\"Complete\")))))))","v":"Incomplete"}]
["July",null,null,null,null,null,null,null,null,"Incomplete","Incomplete","Incomplete","Incomplete"]
["August",null,null,null,null,null,null,null,null,"Incomplete","Incomplete","Incomplete","Incomplete"]
["September",null,null,null,null,null,null,null,null,"Incomplete","Incomplete","Incomplete","Incomplete"]
["October",null,null,null,null,null,null,null,null,"Incomplete","Incomplete","Incomplete","Incomplete"]
["November",null,null,null,null,null,null,null,null,"Incomplete","Incomplete","Incomplete","Incomplete"]
["December",null,null,null,null,null,null,null,null,"Incomplete","Incomplete","Incomplete","Incomplete",{"$f":"IF(M19=\"Incomplete\",\"Incomplete\",IF(M20=\"Incomplete\",\"Incomplete\",IF(M21=\"Incomplete\",\"Incomplete\",IF(M22=\"Incomplete\",\"Incomplete\",IF(M22=\"Incomplete\",\"Incomplete\",IF(M23=\"Incomplete\",\"Incomplete\",IF(M24=\"Incomplete\",\"Incomplete\",\"Complete\")))))))","v":"Incomplete"}]
["Total",{"$f":"SUM(B13:B24)","v":0},{"$f":"SUM(C13:C24)","v":0},{"$f":"SUM(D13:D24)","v":0}]
[]
["Other (description):",null,null,null,null,null,null,null,null,null,null,null,null,{"$f":"IF(B27<>\"\",\"Complete\",\"Incomplete\")","v":"Incomplete"}]
[null,null,null,null,null,null,null,null,null,null,null,null,null,{"$f":"IF(N1=\"Incomplete\",\"Incomplete\",IF(N3=\"Incomplete\",\"Incomplete\",IF(N18=\"Incomplete\",\"Incomplete\",IF(N24=\"Incomplete\",\"Incomplete\",IF(N27=\"Incomplete\",\"Incomplete\",\"Complete\")))))","v":"Incomplete"}]
[]
[]
[]
[]
[]
["Instructions: Fill out the Grey Cells with the relevent information.  Input 0 or none if there is nothing recorded in that account or there is no applicable information to report."]
[]
[]
[]
[null,null,null,null,{"$f":"\"Page \"&E39&\"f\"","v":"Page 15f"}]
[null,null,null,null,{"$f":"'AR10'!I60+1","v":15}]

{"sheet":"AR11 (g)","index":42,"n_rows":39,"n_cols":14,"rows_kept":39,"cut":false,"hidden":true,"merged":[[26,1,30,4],[33,0,34,4],[5,0,5,4],[6,1,6,4],[7,0,7,2],[7,3,7,4],[8,0,8,2],[8,3,8,4]]}
[{"$f":"'AR1'!B12","v":0},null,null,null,null,null,null,"AR11",null,null,null,null,null,{"$f":"IF(C1<>\"\",\"Complete\",\"Incomplete\")","v":"Incomplete"}]
["Annual Report",null,null,null,null,null,null,{"$f":"\"Annual Report page \"&E39","v":"Annual Report page 15"}]
[{"$f":"AR_Page12","v":"Utility Shutoffs / Disconnects"},null,null,null,null,null,null,null,null,null,null,null,null,{"$f":"IF(C3<>\"\",\"Complete\",\"Incomplete\")","v":"Incomplete"}]
[{"$f":"IF('AR1'!B19=\"\",\"\",'AR1'!B19)","v":"12/31/20"}]
[]
["Utility Shutoffs / Disconnects"]
["Name of the System:",{"$f":"'AR8 (g)'!C7","v":0}]
["ADEQ Public Water System Number:",null,null,{"$f":"'AR8 (g)'!D8","v":""}]
["ADWR PCC Number:",null,null,{"$f":"'AR8 (g)'!D9","v":""}]
[]
[]
["Month","Termination without Notice R14-2-410.B","Termination with Notice R14-2-410.C","Other"]
["January",null,null,null,null,null,null,null,null,{"$f":"IF(B13<>\"\",\"Complete\",\"Incomplete\")","v":"Incomplete"},"Incomplete","Incomplete",{"$f":"IF(J13=\"Incomplete\",\"Incomplete\",IF(K13=\"Incomplete\",\"Incomplete\",IF(L13=\"Incomplete\",\"Incomplete\",\"Complete\")))","v":"Incomplete"}]
["February",null,null,null,null,null,null,null,null,"Incomplete","Incomplete","Incomplete",{"$f":"IF(J14=\"Incomplete\",\"Incomplete\",IF(K14=\"Incomplete\",\"Incomplete\",IF(L14=\"Incomplete\",\"Incomplete\",\"Complete\")))","v":"Incomplete"}]
["March",null,null,null,null,null,null,null,null,"Incomplete","Incomplete","Incomplete","Incomplete"]
["April",null,null,null,null,null,null,null,null,"Incomplete","Incomplete","Incomplete","Incomplete"]
["May",null,null,null,null,null,null,null,null,"Incomplete","Incomplete","Incomplete","Incomplete"]
["June",null,null,null,null,null,null,null,null,"Incomplete","Incomplete","Incomplete","Incomplete",{"$f":"IF(M13=\"Incomplete\",\"Incomplete\",IF(M14=\"Incomplete\",\"Incomplete\",IF(M15=\"Incomplete\",\"Incomplete\",IF(M16=\"Incomplete\",\"Incomplete\",IF(M16=\"Incomplete\",\"Incomplete\",IF(M17=\"Incomplete\",\"Incomplete\",IF(M18=\"Incomplete\",\"Incomplete\",\"Complete\")))))))","v":"Incomplete"}]
["July",null,null,null,null,null,null,null,null,"Incomplete","Incomplete","Incomplete","Incomplete"]
["August",null,null,null,null,null,null,null,null,"Incomplete","Incomplete","Incomplete","Incomplete"]
["September",null,null,null,null,null,null,null,null,"Incomplete","Incomplete","Incomplete","Incomplete"]
["October",null,null,null,null,null,null,null,null,"Incomplete","Incomplete","Incomplete","Incomplete"]
["November",null,null,null,null,null,null,null,null,"Incomplete","Incomplete","Incomplete","Incomplete"]
["December",null,null,null,null,null,null,null,null,"Incomplete","Incomplete","Incomplete","Incomplete",{"$f":"IF(M19=\"Incomplete\",\"Incomplete\",IF(M20=\"Incomplete\",\"Incomplete\",IF(M21=\"Incomplete\",\"Incomplete\",IF(M22=\"Incomplete\",\"Incomplete\",IF(M22=\"Incomplete\",\"Incomplete\",IF(M23=\"Incomplete\",\"Incomplete\",IF(M24=\"Incomplete\",\"Incomplete\",\"Complete\")))))))","v":"Incomplete"}]
["Total",{"$f":"SUM(B13:B24)","v":0},{"$f":"SUM(C13:C24)","v":0},{"$f":"SUM(D13:D24)","v":0}]
[]
["Other (description):",null,null,null,null,null,null,null,null,null,null,null,null,{"$f":"IF(B27<>\"\",\"Complete\",\"Incomplete\")","v":"Incomplete"}]
[null,null,null,null,null,null,null,null,null,null,null,null,null,{"$f":"IF(N1=\"Incomplete\",\"Incomplete\",IF(N3=\"Incomplete\",\"Incomplete\",IF(N18=\"Incomplete\",\"Incomplete\",IF(N24=\"Incomplete\",\"Incomplete\",IF(N27=\"Incomplete\",\"Incomplete\",\"Complete\")))))","v":"Incomplete"}]
[]
[]
[]
[]
[]
["Instructions: Fill out the Grey Cells with the relevent information.  Input 0 or none if there is nothing recorded in that account or there is no applicable information to report."]
[]
[]
[]
[null,null,null,null,{"$f":"\"Page \"&E39&\"g\"","v":"Page 15g"}]
[null,null,null,null,{"$f":"'AR10'!I60+1","v":15}]

{"sheet":"AR11 (h)","index":43,"n_rows":39,"n_cols":14,"rows_kept":39,"cut":false,"hidden":true,"merged":[[26,1,30,4],[33,0,34,4],[5,0,5,4],[6,1,6,4],[7,0,7,2],[7,3,7,4],[8,0,8,2],[8,3,8,4]]}
[{"$f":"'AR1'!B12","v":0},null,null,null,null,null,null,"AR11",null,null,null,null,null,{"$f":"IF(C1<>\"\",\"Complete\",\"Incomplete\")","v":"Incomplete"}]
["Annual Report",null,null,null,null,null,null,{"$f":"\"Annual Report page \"&E39","v":"Annual Report page 15"}]
[{"$f":"AR_Page12","v":"Utility Shutoffs / Disconnects"},null,null,null,null,null,null,null,null,null,null,null,null,{"$f":"IF(C3<>\"\",\"Complete\",\"Incomplete\")","v":"Incomplete"}]
[{"$f":"IF('AR1'!B19=\"\",\"\",'AR1'!B19)","v":"12/31/20"}]
[]
["Utility Shutoffs / Disconnects"]
["Name of the System:",{"$f":"'AR8 (h)'!C7","v":0}]
["ADEQ Public Water System Number:",null,null,{"$f":"'AR8 (h)'!D8","v":""}]
["ADWR PCC Number:",null,null,{"$f":"'AR8 (h)'!D9","v":""}]
[]
[]
["Month","Termination without Notice R14-2-410.B","Termination with Notice R14-2-410.C","Other"]
["January",null,null,null,null,null,null,null,null,{"$f":"IF(B13<>\"\",\"Complete\",\"Incomplete\")","v":"Incomplete"},"Incomplete","Incomplete",{"$f":"IF(J13=\"Incomplete\",\"Incomplete\",IF(K13=\"Incomplete\",\"Incomplete\",IF(L13=\"Incomplete\",\"Incomplete\",\"Complete\")))","v":"Incomplete"}]
["February",null,null,null,null,null,null,null,null,"Incomplete","Incomplete","Incomplete",{"$f":"IF(J14=\"Incomplete\",\"Incomplete\",IF(K14=\"Incomplete\",\"Incomplete\",IF(L14=\"Incomplete\",\"Incomplete\",\"Complete\")))","v":"Incomplete"}]
["March",null,null,null,null,null,null,null,null,"Incomplete","Incomplete","Incomplete","Incomplete"]
["April",null,null,null,null,null,null,null,null,"Incomplete","Incomplete","Incomplete","Incomplete"]
["May",null,null,null,null,null,null,null,null,"Incomplete","Incomplete","Incomplete","Incomplete"]
["June",null,null,null,null,null,null,null,null,"Incomplete","Incomplete","Incomplete","Incomplete",{"$f":"IF(M13=\"Incomplete\",\"Incomplete\",IF(M14=\"Incomplete\",\"Incomplete\",IF(M15=\"Incomplete\",\"Incomplete\",IF(M16=\"Incomplete\",\"Incomplete\",IF(M16=\"Incomplete\",\"Incomplete\",IF(M17=\"Incomplete\",\"Incomplete\",IF(M18=\"Incomplete\",\"Incomplete\",\"Complete\")))))))","v":"Incomplete"}]
["July",null,null,null,null,null,null,null,null,"Incomplete","Incomplete","Incomplete","Incomplete"]
["August",null,null,null,null,null,null,null,null,"Incomplete","Incomplete","Incomplete","Incomplete"]
["September",null,null,null,null,null,null,null,null,"Incomplete","Incomplete","Incomplete","Incomplete"]
["October",null,null,null,null,null,null,null,null,"Incomplete","Incomplete","Incomplete","Incomplete"]
["November",null,null,null,null,null,null,null,null,"Incomplete","Incomplete","Incomplete","Incomplete"]
["December",null,null,null,null,null,null,null,null,"Incomplete","Incomplete","Incomplete","Incomplete",{"$f":"IF(M19=\"Incomplete\",\"Incomplete\",IF(M20=\"Incomplete\",\"Incomplete\",IF(M21=\"Incomplete\",\"Incomplete\",IF(M22=\"Incomplete\",\"Incomplete\",IF(M22=\"Incomplete\",\"Incomplete\",IF(M23=\"Incomplete\",\"Incomplete\",IF(M24=\"Incomplete\",\"Incomplete\",\"Complete\")))))))","v":"Incomplete"}]
["Total",{"$f":"SUM(B13:B24)","v":0},{"$f":"SUM(C13:C24)","v":0},{"$f":"SUM(D13:D24)","v":0}]
[]
["Other (description):",null,null,null,null,null,null,null,null,null,null,null,null,{"$f":"IF(B27<>\"\",\"Complete\",\"Incomplete\")","v":"Incomplete"}]
[null,null,null,null,null,null,null,null,null,null,null,null,null,{"$f":"IF(N1=\"Incomplete\",\"Incomplete\",IF(N3=\"Incomplete\",\"Incomplete\",IF(N18=\"Incomplete\",\"Incomplete\",IF(N24=\"Incomplete\",\"Incomplete\",IF(N27=\"Incomplete\",\"Incomplete\",\"Complete\")))))","v":"Incomplete"}]
[]
[]
[]
[]
[]
["Instructions: Fill out the Grey Cells with the relevent information.  Input 0 or none if there is nothing recorded in that account or there is no applicable information to report."]
[]
[]
[]
[null,null,null,null,{"$f":"\"Page \"&E39&\"h\"","v":"Page 15h"}]
[null,null,null,null,{"$f":"'AR10'!I60+1","v":15}]

{"sheet":"AR12","index":44,"n_rows":29,"n_cols":15,"rows_kept":29,"cut":false,"hidden":false,"merged":[[20,0,21,8],[5,0,5,8],[6,6,6,7],[6,0,6,5],[9,0,17,8],[8,0,8,8]]}
[{"$f":"'AR1'!$B$12","v":0},null,null,null,null,null,null,null,null,"AR 12"]
["Annual Report",null,null,null,null,null,null,null,null,{"$f":"\"Annual Report Page \"&I29","v":"Annual Report Page 16"}]
[{"$f":"A6","v":"Property Taxes"}]
[{"$f":"IF('AR1'!B19=\"\",\"\",'AR1'!B19)","v":"12/31/20"}]
[]
["Property Taxes"]
["Amount of actual property taxes paid during Calendar Year 2020 was ",null,null,null,null,null,null,null,null,null,null,null,null,{"$f":"IF(G7<>\"\",\"Complete\",\"Incomplete\")","v":"Incomplete"}]
[]
["If no property taxes paid, explain why.",null,null,null,null,null,null,null,null,null,"Table of Contents"]
[null,null,null,null,null,null,null,null,null,null,null,null,null,{"$f":"IF(A10<>\"\",\"Complete\",\"Incomplete\")","v":"Incomplete"},{"$f":"IF(N7=\"Incomplete\",\"Incomplete\",IF(N10=\"Incomplete\",\"Incomplete\",\"Complete\"))","v":"Incomplete"}]
[]
[]
[]
[]
[]
[]
[]
[]
[]
[]
["Instructions: Fill out the Grey Cells with the relevant information.  Input 0 or none if there is nothing recorded in that account or there is no applicable information to report."]
[]
[]
[]
[]
[]
[]
[null,null,null,null,null,null,null,null,{"$f":"\"Page \"&I29","v":"Page 16"}]
[null,null,null,null,null,null,null,null,{"$f":"'AR11'!E39+1","v":16}]

{"sheet":"AR13","index":45,"n_rows":63,"n_cols":15,"rows_kept":63,"cut":false,"hidden":false,"merged":[[47,7,47,8],[48,4,48,5],[49,7,49,8],[56,5,56,8],[48,7,48,8],[51,3,51,5],[62,0,62,8],[55,5,55,8],[5,0,5,8],[7,2,7,3],[8,2,8,3],[10,4,10,6],[11,4,11,6],[12,1,12,2],[11,1,11,3],[10,1,10,3],[46,3,46,6],[45,3,45,8],[40,4,40,8],[42,4,42,8],[15,1,16,8],[12,3,12,6],[43,4,43,8],[46,7,46,8],[19,1,19,3],[22,1,26,8],[36,1,36,8],[33,1,33,8],[39,4,39,8]]}
[{"$f":"'AR1'!$B$12","v":0},null,null,null,null,null,null,null,null,"AR 13"]
["Annual Report",null,null,null,null,null,null,null,null,{"$f":"\"Annual Report Page \"&I61","v":"Annual Report Page 17"}]
[{"$f":"A6","v":"Verification and Sworn Statement (Taxes)"}]
[{"$f":"IF('AR1'!B19=\"\",\"\",'AR1'!B19)","v":"12/31/20"}]
[]
["Verification and Sworn Statement (Taxes)"]
[]
["Verification:","State of ",null,null,"I, the undersigned of the ",null,null,null,null,null,"Table of Contents",null,{"$f":"ISBLANK(C8)","v":true},{"$f":"IF(M8=TRUE,\"Incomplete\",\"Complete\")","v":"Incomplete"}]
[null,null,"(state name)"]
[]
[null,"County of (county name):",null,null,null,null,null,null,null,null,null,null,{"$f":"ISBLANK(E11)","v":true},{"$f":"IF(M11=TRUE,\"Incomplete\",\"Complete\")","v":"Incomplete"}]
[null,"Name (owner or official) title:",null,null,null,null,null,null,null,null,null,null,{"$f":"ISBLANK(E12)","v":true},{"$f":"IF(M12=TRUE,\"Incomplete\",\"Complete\")","v":"Incomplete"}]
[null,"Company name:",null,{"$f":"'AR15'!D13:G13","v":0},null,null,null,null,null,null,null,null,null,null,{"$f":"IF(N8=\"Incomplete\",\"Incomplete\",IF(N11=\"Incomplete\",\"Incomplete\",IF(N12=\"Incomplete\",\"Incomplete\",\"Complete\")))","v":"Incomplete"}]
[]
[]
[null,"DO SAY THAT THIS ANNUAL UTILITY PROPERTY TAX AND SALES TAX REPORT TO THE ARIZONA CORPORATION COMMISSION."]
[]
[]
[]
[null,"FOR THE YEAR ENDING:",null,null,{"$f":"'AR1'!B19","v":"12/31/20"}]
[]
[]
[null,"HAS BEEN PREPARED UNDER MY DIRECTION, FROM THE ORIGINAL BOOKS, PAPERS AND RECORDS OF SAID UTILITY; THAT I HAVE CAREFULLY EXAMINED THE SAME, AND DECLARE THE SAME TO BE A COMPLETE AND CORRECT STATEMENT OF BUSINESS AND AFFAIRS OF SAID UTILITY FOR THE PERIOD COVERED BY THIS REPORT IN RESPECT TO EACH AND EVERY MATTER AND THING SET FORTH, TO THE BEST OF MY KNOWLEDGE, INFORMATION AND BELIEF."]
[]
[]
[]
[]
[]
[]
[]
[]
[]
[]
["Sworn Statement:",null,null,null,null,null,null,null,null,null,null,null,{"$f":"ISBLANK(B34)","v":true},{"$f":"IF(M34=TRUE,\"Incomplete\",\"Complete\")","v":"Incomplete"}]
[]
[]
[null,null,null,null,null,null,null,null,null,null,null,null,{"$f":"ISBLANK(B37)","v":true},{"$f":"IF(M37=TRUE,\"Incomplete\",\"Complete\")","v":"Incomplete"}]
[]
[]
[]
[null,null,null,null,"signature of owner/official"]
[]
[null,null,null,null,null,null,null,null,null,null,null,null,null,{"$f":"IF(E43<>\"\",\"Complete\",\"Incomplete\")","v":"Incomplete"},{"$f":"IF(N34=\"Incomplete\",\"Incomplete\",IF(N37=\"Incomplete\",\"Incomplete\",IF(N43=\"Incomplete\",\"Incomplete\",\"Complete\")))","v":"Incomplete"}]
[null,null,null,null,"telephone no.",null,null,null,null,null,null,null,null,null,{"$f":"IF(O13=\"Incomplete\",\"Incomplete\",IF(O43=\"Incomplete\",\"Incomplete\",\"Complete\"))","v":"Incomplete"}]
[]
[null,null,null,"SUBSCRIBED AND SWORN TO BEFORE ME A NOTARY PUBLIC"]
[null,null,null,"IN AND FOR THE COUNTY "]
[null,null,null,null,null,null,null,"(county name)"]
[null,null,null,"THIS",null,null,"DAY OF"]
[null,null,null,null,null,null,null,"(month) and (year)"]
[]
[null,null,null,"MY COMMISSION EXPIRES"]
[null,null,null,null,null,null,"(date)"]
[]
[]
[]
[null,null,null,null,null,"(signature of notary public)"]
[]
[]
[null,null,null,null,null,null,null,null,{"$f":"\"Page \"&I61","v":"Page 17"}]
[null,null,null,null,null,null,null,null,{"$f":"'AR12'!I29+1","v":17}]
[]
["Note:  Print this form out, sign on the signature line and have the notary complete and sign prior to submission."]

{"sheet":"AR14","index":46,"n_rows":67,"n_cols":13,"rows_kept":67,"cut":false,"hidden":false,"merged":[[5,0,5,8],[66,0,66,8],[11,3,11,6],[40,4,40,5],[44,5,44,8],[45,5,45,8],[47,5,47,8],[13,1,14,8],[20,1,24,8],[31,1,33,8],[38,4,38,5],[37,3,37,7],[39,4,39,6],[40,6,40,7],[60,5,60,8],[61,5,61,8],[7,2,7,3],[8,2,8,3],[9,4,9,6],[10,4,10,6],[41,4,41,5],[17,1,17,2],[53,4,53,5],[53,7,53,8],[54,7,54,8],[56,3,56,5],[48,5,48,8],[51,3,51,5],[51,6,51,8],[52,6,52,8],[50,3,50,8]]}
[{"$f":"'AR1'!$B$12","v":0},null,null,null,null,null,null,null,null,"AR 14"]
["Annual Report",null,null,null,null,null,null,null,null,{"$f":"\"Annual Report Page \"&I65","v":"Annual Report Page 18"}]
[{"$f":"A6","v":"Verification and Sworn Statement "}]
[{"$f":"IF('AR1'!B19=\"\",\"\",'AR1'!B19)","v":"12/31/20"}]
[]
["Verification and Sworn Statement "]
["Verification:"]
[null,"State of ",{"$f":"'AR13'!C8:D8","v":0},null,"I, the undersigned of the "]
[null,null,"(state name)",null,null,null,null,null,null,null,"Table of Contents"]
[null,"County of (county name):",null,null,{"$f":"'AR13'!E11:G11","v":0}]
[null,"Name (owner or official) title:",null,null,{"$f":"'AR13'!E12:G12","v":0}]
[null,"Company name:",null,{"$f":"'AR15'!D13:G13","v":0}]
[]
[null,"DO SAY THAT THIS ANNUAL UTILITY PROPERTY TAX AND SALES TAX REPORT TO THE ARIZONA CORPORATION COMMISSION."]
[]
[]
[]
[null,"FOR THE YEAR ENDING:",null,{"$f":"'AR1'!B19","v":"12/31/20"}]
[]
[]
[null,"HAS BEEN PREPARED UNDER MY DIRECTION, FROM THE ORIGINAL BOOKS, PAPERS AND RECORDS OF SAID UTILITY; THAT I HAVE CAREFULLY EXAMINED THE SAME, AND DECLARE THE SAME TO BE A COMPLETE AND CORRECT STATEMENT OF BUSINESS AND AFFAIRS OF SAID UTILITY FOR THE PERIOD COVERED BY THIS REPORT IN RESPECT TO EACH AND EVERY MATTER AND THING SET FORTH, TO THE BEST OF MY KNOWLEDGE, INFORMATION AND BELIEF."]
[]
[]
[]
[]
[]
[]
[]
[]
[]
[]
["Sworn Statement:","IN ACCORDANCE WITH THE REQUIREMENTS OF TITLE 40, ARTICLE 8, SECTION 40-401, ARIZONA REVISED STATUTES, IT IS HEREIN REPORTED THAT THE GROSS OPERATING REVENUE OF SAID UTILITY DERIVED FROM ARIZONA INTRASTATE UTILITY OPERATIONS DURING THE CALENDAR YEAR WAS:"]
[]
[]
[]
[]
[]
[null,null,null,"Arizona Intrastate Gross Operating Revenues Only ($)"]
[null,null,null,null,null,null,null,null,null,null,null,{"$f":"IF(E39<>\"\",\"Complete\",\"Incomplete\")","v":"Incomplete"}]
[null,null,null,null,"(The amount in the box above includes"]
[null,null,null,null,null,null,"in sales taxes ",null,null,null,null,{"$f":"IF(E41<>\"\",\"Complete\",\"Incomplete\")","v":"Incomplete"}]
[null,null,null,null,"billed or collected)",null,null,null,null,null,null,null,{"$f":"IF(L39=\"Incomplete\",\"Incomplete\",IF(L41=\"Incomplete\",\"Incomplete\",\"Complete\"))","v":"Incomplete"}]
[]
[]
[]
[null,null,null,null,null,"signature of owner/official"]
[]
[null,null,null,null,null,{"$f":"'AR13'!E43","v":0}]
[null,null,null,null,null,"telephone no."]
[]
[null,null,null,"SUBSCRIBED AND SWORN TO BEFORE ME A NOTARY PUBLIC"]
[null,null,null,"IN AND FOR THE COUNTY "]
[null,null,null,null,null,null,"(county name)"]
[null,null,null,"THIS",null,null,"DAY OF"]
[null,null,null,null,null,null,null,"(month) and (year)"]
[]
[null,null,null,"MY COMMISSION EXPIRES"]
[null,null,null,null,null,null,"(date)"]
[]
[]
[]
[null,null,null,null,null,"(signature of notary public)"]
[]
[null,null,null,null,null,null,null,null,{"$f":"\"Page \"&I65","v":"Page 18"}]
[null,null,null,null,null,null,null,null,{"$f":"'AR13'!I61+1","v":18}]
[]
["Note:  Print this form out, sign on the signature line and have the notary complete and sign prior to submission."]

{"sheet":"AR15","index":47,"n_rows":68,"n_cols":16,"rows_kept":68,"cut":false,"hidden":false,"merged":[[7,4,7,6],[37,4,37,6],[67,0,68,8],[61,4,61,8],[60,4,60,8],[42,5,42,8],[56,3,56,5],[50,6,50,8],[51,6,51,8],[54,7,54,8],[8,2,8,3],[10,4,10,6],[53,4,53,5],[53,7,53,8],[11,4,11,6],[12,3,12,6],[5,0,5,8],[49,3,49,8],[50,3,50,5],[11,1,11,3],[10,1,10,3],[22,1,26,8],[29,1,32,8],[38,4,38,5],[43,5,43,8],[45,5,45,8],[46,5,46,8],[12,1,12,2],[36,4,36,5],[15,1,16,8],[19,1,19,2],[7,2,7,3]]}
[{"$f":"'AR1'!$B$12","v":0},null,null,null,null,null,null,null,null,"AR 15"]
["Annual Report",null,null,null,null,null,null,null,null,{"$f":"\"Annual Report Page \"&I66","v":"Annual Report Page 19"}]
[{"$f":"A6","v":"Verification and Sworn Statement (Residential Revenue)"}]
[{"$f":"IF('AR1'!B19=\"\",\"\",'AR1'!B19)","v":"12/31/20"}]
[]
["Verification and Sworn Statement (Residential Revenue)"]
["Verification:"]
[null,"State of ",{"$f":"'AR13'!C8:D8","v":0},null,"I, the undersigned of the ",null,null,null,null,null,null,null,null,{"$f":"IF(C8<>\"\",\"Complete\",\"Incomplete\")","v":"Complete"}]
[null,null,"(state name)",null,null,null,null,null,null,null,"Table of Contents"]
[]
[null,"County of (county name):",null,null,{"$f":"'AR13'!E11:G11","v":0},null,null,null,null,null,null,null,null,{"$f":"IF(E11<>\"\",\"Complete\",\"Incomplete\")","v":"Complete"}]
[null,"Name (owner or official) title:",null,null,{"$f":"'AR13'!E12:G12","v":0},null,null,null,null,null,null,null,null,{"$f":"IF(E12<>\"\",\"Complete\",\"Incomplete\")","v":"Complete"}]
[null,"Company name:",null,{"$f":"'AR1'!B12","v":0},null,null,null,null,null,null,null,null,null,null,{"$f":"IF(N8=\"Incomplete\",\"Incomplete\",IF(N11=\"Incomplete\",\"Incomplete\",IF(N12=\"Incomplete\",\"Incomplete\",\"Complete\")))","v":"Complete"}]
[]
[]
[null,"DO SAY THAT THIS ANNUAL UTILITY PROPERTY TAX AND SALES TAX REPORT TO THE ARIZONA CORPORATION COMMISSION."]
[]
[]
[]
[null,"FOR THE YEAR ENDING: ",null,{"$f":"'AR1'!B19","v":"12/31/20"}]
[]
[]
[null,"HAS BEEN PREPARED UNDER MY DIRECTION, FROM THE ORIGINAL BOOKS, PAPERS AND RECORDS OF SAID UTILITY; THAT I HAVE CAREFULLY EXAMINED THE SAME, AND DECLARE THE SAME TO BE A COMPLETE AND CORRECT STATEMENT OF BUSINESS AND AFFAIRS OF SAID UTILITY FOR THE PERIOD COVERED BY THIS REPORT IN RESPECT TO EACH AND EVERY MATTER AND THING SET FORTH, TO THE BEST OF MY KNOWLEDGE, INFORMATION AND BELIEF."]
[]
[]
[]
[]
[]
[]
["Sworn Statement:","IN ACCORDANCE WITH THE REQUIREMENTS OF TITLE 40, ARTICLE 8, SECTION 40-401, ARIZONA REVISED STATUTES, IT IS HEREIN REPORTED THAT THE GROSS OPERATING REVENUE OF SAID UTILITY DERIVED FROM ARIZONA INTRASTATE UTILITY OPERATIONS RECEIVED FROM RESIDENTIAL CUSTOMERS DURING THE CALENDAR YEAR WAS:"]
[]
[]
[]
[]
[]
[null,null,"Arizona Intrastate Gross Operating Revenues Only ($)"]
[null,null,null,null,null,null,null,null,null,null,null,null,null,{"$f":"IF(E37<>\"\",\"Complete\",\"Incomplete\")","v":"Incomplete"}]
[null,null,null,null,"(The amount in the box above includes"]
[null,null,null,null,null,null,"in sales taxes ",null,null,null,null,null,null,{"$f":"IF(E39<>\"\",\"Complete\",\"Incomplete\")","v":"Incomplete"}]
[null,null,null,null,"billed or collected)"]
[]
[]
[]
[null,null,null,null,null,"signature of owner/official"]
[]
[null,null,null,null,null,{"$f":"'AR13'!E43","v":0},null,null,null,null,null,null,null,{"$f":"IF(AR_Phone<>\"\",\"Complete\",\"Incomplete\")","v":"Complete"}]
[null,null,null,null,null,"telephone no.",null,null,null,null,null,null,null,null,{"$f":"IF(N37=\"Incomplete\",\"Incomplete\",IF(N39=\"Incomplete\",\"Incomplete\",IF(N46=\"Incomplete\",\"Incomplete\",\"Complete\")))","v":"Incomplete"},{"$f":"IF(O13=\"Incomplete\",\"Incomplete\",IF(O47=\"Incomplete\",\"Incomplete\",\"Complete\"))","v":"Incomplete"}]
[]
[]
[null,null,null,"SUBSCRIBED AND SWORN TO BEFORE ME A NOTARY PUBLIC"]
[null,null,null,"IN AND FOR THE COUNTY "]
[null,null,null,null,null,null,"(county name)"]
[]
[null,null,null,"THIS",null,null,"DAY OF"]
[null,null,null,null,null,null,null,"(month) and (year)"]
[]
[null,null,null,"MY COMMISSION EXPIRES"]
[null,null,null,null,null,null,"(date)"]
[]
[]
[]
[null,null,null,null,"(signature of notary public)"]
[]
[]
[null,null,null,null,null,null,null,null,{"$f":"\"Page \"&I66","v":"Page 19"}]
[null,null,null,null,null,null,null,null,{"$f":"'AR14'!I65+1","v":19}]
[]
["Note:  Be sure to complete the information in the Grey highlighted cells.  Then print this form out, sign on the signature line and have the notary complete and sign prior to submission."]

{"sheet":"AR16","index":48,"n_rows":56,"n_cols":14,"rows_kept":56,"cut":false,"hidden":false,"merged":[[49,4,49,8],[55,0,56,8],[42,7,42,8],[44,3,44,5],[48,4,48,8],[39,6,39,8],[41,4,41,5],[41,7,41,8],[31,5,31,8],[33,5,33,8],[34,5,34,8],[37,3,37,8],[38,3,38,5],[10,4,10,6],[11,1,11,3],[11,4,11,6],[5,0,5,8],[38,6,38,8],[15,1,15,2],[7,2,7,3],[7,4,7,6],[12,1,12,2],[12,3,12,6],[8,2,8,3],[10,1,10,3],[20,1,26,8],[30,5,30,8]]}
[{"$f":"'AR1'!$B$12","v":0},null,null,null,null,null,null,null,null,"AR 16"]
["Annual Report",null,null,null,null,null,null,null,null,{"$f":"\"Annual Report Page \"&I54","v":"Annual Report Page 20"}]
[{"$f":"AR15_Page17","v":" for Income Tax Statement of Certification"}]
[{"$f":"IF('AR1'!B19=\"\",\"\",'AR1'!B19)","v":"12/31/20"}]
[]
[{"$f":"K13&\" for Income Tax Statement of Certification\"","v":" for Income Tax Statement of Certification"}]
["Verification:"]
[null,"State of ",{"$f":"'AR13'!C8:D8","v":0},null,"I, the undersigned of the "]
[null,null,"(state name)",null,null,null,null,null,null,null,"Table of Contents"]
[]
[null,"County of (county name):",null,null,{"$f":"'AR13'!E11:G11","v":0}]
[null,"Name (owner or official) title:",null,null,{"$f":"'AR13'!E12:G12","v":0}]
[null,"Company name:",null,{"$f":"'AR1'!B12","v":0},null,null,null,null,null,null,null,"Select the methodology used to account for the income tax on contributions and advances",{"$f":"ISBLANK(K13)","v":true},{"$f":"IF(M13=TRUE,\"Incomplete\",\"Complete\")","v":"Incomplete"}]
[null,null,null,null,null,null,null,null,null,null,{"$f":"IF(M13=TRUE,\"\",IF(K13=\"Self-pay Method\",\"This statement is not necessary for you and should not be completed, signed and notarized.\",\"Please complete, and sign/notarize this form and include with your annual report.\"))","v":""}]
[]
[null,"FOR THE YEAR ENDING: ",null,{"$f":"'AR1'!B19","v":"12/31/20"}]
[]
[]
[]
[]
["Sworn Statement:",{"$f":"CONCATENATE(M25,K21,M26)","v":"IN ACCORDANCE WITH THE REQUIREMENTS OF DECISION NO. 77084, BECAUSE THE UTILITY REQUIRES THE GROSS UP OF ADVANCES AND CONTRIBUTIONS, I HEREBY STATE THAT THE UTILITY  A NET INCREASE IN CURRENT INCOME TAX EXPENSE OR A DECREASE IN DEFERRED TAX ASSET FOR A CARRY FORWARD ACCORDING TO GAAP IN AN AMOUNT EQUAL TO OR GREATER THAN THE AMOUNT OF THE REQUIRED GROSS UP PAID BY DEVELOPERS IN THE PERIOD COVERED BY THIS ANNUAL REPORT."},null,null,null,null,null,null,null,null,null,"Identify the tax impact related to advance and/or contributions in the calendar year.",{"$f":"ISBLANK(K21)","v":true},{"$f":"IF(M21=TRUE,\"Incomplete\",\"Complete\")","v":"Incomplete"}]
[null,null,null,null,null,null,null,null,null,null,null,null,null,{"$f":"IF(N13=\"Incomplete\",\"Incomplete\",IF(N21=\"Incomplete\",\"Incomplete\",\"Complete\"))","v":"Incomplete"}]
[]
[]
[null,null,null,null,null,null,null,null,null,null,null,null,"IN ACCORDANCE WITH THE REQUIREMENTS OF DECISION NO. 77084, BECAUSE THE UTILITY REQUIRES THE GROSS UP OF ADVANCES AND CONTRIBUTIONS, I HEREBY STATE THAT THE UTILITY "]
[null,null,null,null,null,null,null,null,null,null,null,null," A NET INCREASE IN CURRENT INCOME TAX EXPENSE OR A DECREASE IN DEFERRED TAX ASSET FOR A CARRY FORWARD ACCORDING TO GAAP IN AN AMOUNT EQUAL TO OR GREATER THAN THE AMOUNT OF THE REQUIRED GROSS UP PAID BY DEVELOPERS IN THE PERIOD COVERED BY THIS ANNUAL REPORT."]
[]
[]
[]
[]
[]
[null,null,null,null,null,"signature of owner/official"]
[]
[null,null,null,null,null,{"$f":"'AR13'!E43","v":0}]
[null,null,null,null,null,"telephone no."]
[]
[]
[null,null,null,"SUBSCRIBED AND SWORN TO BEFORE ME A NOTARY PUBLIC"]
[null,null,null,"IN AND FOR THE COUNTY "]
[null,null,null,null,null,null,"(county name)"]
[]
[null,null,null,"THIS",null,null,"DAY OF"]
[null,null,null,null,null,null,null,"(month) and (year)"]
[]
[null,null,null,"MY COMMISSION EXPIRES"]
[null,null,null,null,null,null,"(date)"]
[]
[]
[]
[null,null,null,null,"(signature of notary public)"]
[]
[]
[null,null,null,null,null,null,null,null,{"$f":"\"Page \"&I54","v":"Page 20"}]
[null,null,null,null,null,null,null,null,{"$f":"'AR15'!I66+1","v":20}]
[]
["Note:  Be sure to complete the information in the Grey highlighted cells.  Then if necessary, print this form out, sign on the signature line and have the notary complete and sign prior to submission."]

{"sheet":"Sch Title","index":49,"n_rows":68,"n_cols":11,"rows_kept":68,"cut":false,"hidden":true,"merged":[[61,0,62,4],[13,0,13,1],[6,6,6,10],[56,5,58,10],[14,0,14,1],[31,0,31,1],[47,0,47,1],[55,0,56,4],[58,0,59,4]]}
[{"$f":"'AR1'!$B$12","v":0},null,null,null,"Title Page",{"$f":"A1","v":0},null,null,null,null,"Title Page - Prev Case"]
["Short Form Rate Application",null,null,null,null,"Short Form Rate Application"]
["Title Page",null,null,null,null,"Title Page"]
[{"$f":"B12","v":"Test Year Ended 12/31/20"},null,null,null,null,{"$f":"A4","v":"Test Year Ended 12/31/20"}]
[]
[]
[null,null,null,null,null,null,"Plant in Service and Accumulated Depreciation balances approved in the last Decision:"]
[null,null,null,null,null,null,"Acct. No.","Description","Plant in Service","Accumulated Depreciation","Fully Depreciated"]
[null,null,null,null,null,null,{"$f":"'Sch 4'!A9","v":301},{"$f":"'Sch 4'!B9","v":"Organization"},null,null,{"$f":"'AR4'!G9","v":0}]
[null,null,null,null,null,null,{"$f":"'Sch 4'!A10","v":302},{"$f":"'Sch 4'!B10","v":"Franchises"},null,null,{"$f":"'AR4'!G10","v":0}]
["Company Name:",{"$f":"IF('AR1'!B12=\"\",\"\",'AR1'!B12)","v":""},null,null,null,null,{"$f":"'Sch 4'!A11","v":303},{"$f":"'Sch 4'!B11","v":"Land and Land Rights"},null,null,{"$f":"'AR4'!G11","v":0}]
["Test Year Ended:",{"$f":"IF('AR1'!B19=\"\",\"\",\"Test Year Ended \"&'AR1'!B19)","v":"Test Year Ended 12/31/20"},null,null,null,null,{"$f":"'Sch 4'!A12","v":304},{"$f":"'Sch 4'!B12","v":"Structures and Improvements"},null,null,{"$f":"'AR4'!G12","v":0}]
[null,null,null,null,null,null,{"$f":"'Sch 4'!A13","v":305},{"$f":"'Sch 4'!B13","v":"Collecting & Improving Reservoirs"},null,null,{"$f":"'AR4'!G13","v":0}]
["Table of contents:",null,null,null,null,null,{"$f":"'Sch 4'!A14","v":306},{"$f":"'Sch 4'!B14","v":"Lake, River, Canal Intakes"},null,null,{"$f":"'AR4'!G14","v":0}]
["Require Schedules for filing:",null,"Page NO.","Complete",null,null,{"$f":"'Sch 4'!A15","v":307},{"$f":"'Sch 4'!B15","v":"Wells and Springs"},null,null,{"$f":"'AR4'!G15","v":0}]
["Schedule 1",{"$f":"Sch10_BalSht","v":"BALANCE SHEET"},{"$f":"'Sch 1'!D48","v":"Page 18"},null,null,null,{"$f":"'Sch 4'!A16","v":308},{"$f":"'Sch 4'!B16","v":"Infiltration Galleries"},null,null,{"$f":"'AR4'!G16","v":0}]
["Schedule 2",{"$f":"Sch6_PltDesc","v":"WATER COMPANY PLANT DESCRIPTION "},{"$f":"'Sch 2'!L65","v":"Page 20"},null,null,null,{"$f":"'Sch 4'!A17","v":309},{"$f":"'Sch 4'!B17","v":"Supply Mains"},null,null,{"$f":"'AR4'!G17","v":0}]
["Schedule 3",{"$f":"Sch4_Plt_Sum","v":"PLANT SUMMARY"},{"$f":"'Sch 3'!F53","v":"Page 22"},null,null,null,{"$f":"'Sch 4'!A18","v":310},{"$f":"'Sch 4'!B18","v":"Power Generation Equipment"},null,null,{"$f":"'AR4'!G18","v":0}]
["Schedule 4",{"$f":"Sch5_UPIS","v":"UTILITY PLANT IN SERVICE"},{"$f":"'Sch 4'!E54","v":"Page 23"},null,null,null,{"$f":"'Sch 4'!A19","v":311},{"$f":"'Sch 4'!B19","v":"Pumping Equipment"},null,null,{"$f":"'AR4'!G19","v":0}]
["Schedule 4b",{"$f":"Sch4a_RB","v":"ORIGINAL COST RATE BASE"},{"$f":"'Sch 4b'!C47","v":"Page 23b"},{"$f":"'Sch 4b'!G42","v":"Incomplete"},null,null,{"$f":"'Sch 4'!A20","v":320},{"$f":"'Sch 4'!B20","v":"Water Treatment Equipment"},null,null,{"$f":"'AR4'!G20","v":0}]
["Schedule 5",{"$f":"Sch7_WatUse","v":"WATER USE DATA SHEET"},{"$f":"'Sch 5'!I55","v":"Page 24"},null,null,null,{"$f":"'Sch 4'!A21","v":320.10000000000002},{"$f":"'Sch 4'!B21","v":"Water Treatment Plants"},null,null,{"$f":"'AR4'!G21","v":0}]
["Schedule 6",{"$f":"Sch14_BillCt","v":"BILL COUNT SUMMARY"},{"$f":"'Sch 6'!K67","v":"Page 25"},{"$f":"'Sch 6'!E79","v":"Incomplete"},null,null,{"$f":"'Sch 4'!A22","v":320.2},{"$f":"'Sch 4'!B22","v":"Solution Chemical Feeders"},null,null,{"$f":"'AR4'!G22","v":0}]
["Schedule 7",{"$f":"Sch1_rates","v":"CURRENT AND PROPOSED RATES"},{"$f":"'Sch 7'!G59","v":"Page 26"},{"$f":"'Sch 7'!P35","v":"Incomplete"},null,null,{"$f":"'Sch 4'!A23","v":320.3},{"$f":"'Sch 4'!B23","v":"Point-of-Use Treatment Devices"},null,null,{"$f":"'AR4'!G23","v":0}]
["Schedule 7b","TYPICAL BILL ANALYSIS",null,null,null,null,{"$f":"'Sch 4'!A24","v":330},{"$f":"'Sch 4'!B24","v":"Distribution Reservoirs and Standpipes"},null,null,{"$f":"'AR4'!G24","v":0}]
["Schedule 8",{"$f":"Sch2_Oth_Chgs","v":"CURRENT AND PROPOSED SERVICE CHARGES"},{"$f":"'Sch 8'!G56","v":"Page 27"},{"$f":"'Sch 8'!Q38","v":"Incomplete"},null,null,{"$f":"'Sch 4'!A25","v":330.1},{"$f":"'Sch 4'!B25","v":"Storage Tanks"},null,null,{"$f":"'AR4'!G25","v":0}]
["Schedule 9",{"$f":"Sch8_IS","v":"COMPARATIVE INCOME STATEMENT"},{"$f":"'Sch 9'!H67","v":"Page 28"},{"$f":"'Sch 9'!V58","v":"Incomplete"},null,null,{"$f":"'Sch 4'!A26","v":330.2},{"$f":"'Sch 4'!B26","v":"Pressure Tanks"},null,null,{"$f":"'AR4'!G26","v":0}]
["Schedule 10",{"$f":"Sch9_DepExp","v":"CALCULATION OF DEPRECIATION EXPENSE"},{"$f":"'Sch 10'!G62","v":"Page 30"},null,null,null,{"$f":"'Sch 4'!A27","v":331},{"$f":"'Sch 4'!B27","v":"Transmission and Distribution Mains"},null,null,{"$f":"'AR4'!G27","v":0}]
["Schedule 11",{"$f":"'Sch 11'!A7","v":"PRO FORMA ADDITIONS/SUBTRACTIONS FROM TEST YEAR"},{"$f":"'Sch 11'!G67","v":"Page 31"},{"$f":"'Sch 11'!M61","v":"Incomplete"},null,null,{"$f":"'Sch 4'!A28","v":333},{"$f":"'Sch 4'!B28","v":"Services"},null,null,{"$f":"'AR4'!G28","v":0}]
["Schedule 12",{"$f":"'Sch 12'!A7","v":"PRO FORMA PROPERTY TAX CALCULATION"},{"$f":"'Sch 12'!C40","v":"Page 33"},{"$f":"'Sch 12'!G26","v":"Incomplete"},null,null,{"$f":"'Sch 4'!A29","v":334},{"$f":"'Sch 4'!B29","v":"Meters and Meter Installations"},null,null,{"$f":"'AR4'!G29","v":0}]
[null,null,null,null,null,null,{"$f":"'Sch 4'!A30","v":335},{"$f":"'Sch 4'!B30","v":"Hydrants"},null,null,{"$f":"'AR4'!G30","v":0}]
[null,null,null,null,null,null,{"$f":"'Sch 4'!A31","v":336},{"$f":"'Sch 4'!B31","v":"Backflow Prevention Devices"},null,null,{"$f":"'AR4'!G31","v":0}]
["Optional Schedules for filing:",null,"Page NO.",null,null,null,{"$f":"'Sch 4'!A32","v":339},{"$f":"'Sch 4'!B32","v":"Other Plant and Misc. Equipment"},null,null,{"$f":"'AR4'!G32","v":0}]
["Schedule 13",{"$f":"'Sch 13'!A9","v":"CASH AVAILABILITY"},{"$f":"'Sch 13'!E43","v":"Page 34"},{"$f":"'Sch 13'!C49","v":"Incomplete"},null,null,{"$f":"'Sch 4'!A33","v":340},{"$f":"'Sch 4'!B33","v":"Office Furniture and Equipment"},null,null,{"$f":"'AR4'!G33","v":0}]
["Schedule 14",{"$f":"'Sch 14'!A6","v":"WATER CONSERVATION ADJUSTMENT"},{"$f":"'Sch 14'!F58","v":"Page 35"},{"$f":"'Sch 14'!L11","v":"Incomplete"},null,null,{"$f":"'Sch 4'!A34","v":340.1},{"$f":"'Sch 4'!B34","v":"Computer & Software"},null,null,{"$f":"'AR4'!G34","v":0}]
["Schedule 15",{"$f":"'Sch 15'!A9","v":"PURCHASED WATER ADJUSTOR MECHANISM (PWAM)"},{"$f":"'Sch 15'!E52","v":"Page 36"},{"$f":"'Sch 15'!J19","v":"Incomplete"},null,null,{"$f":"'Sch 4'!A35","v":341},{"$f":"'Sch 4'!B35","v":"Transportation Equipment"},null,null,{"$f":"'AR4'!G35","v":0}]
["Schedule 16",{"$f":"'Sch 16'!A9","v":"PURCHASED POWER ADJUSTOR MECHANISM (PPAM)"},{"$f":"'Sch 16'!F52","v":"Page 37"},{"$f":"'Sch 16'!J19","v":"Incomplete"},null,null,{"$f":"'Sch 4'!A36","v":342},{"$f":"'Sch 4'!B36","v":"Stores Equipment"},null,null,{"$f":"'AR4'!G36","v":0}]
["Schedule 17",{"$f":"ERRF","v":"EMERGENCY REPAIR AND REPLACEMENT FUND"},{"$f":"'Sch 17'!F54","v":"Page 38"},{"$f":"'Sch 17'!K23","v":"Incomplete"},null,null,{"$f":"'Sch 4'!A37","v":343},{"$f":"'Sch 4'!B37","v":"Tools, Shop and Garage Equipment"},null,null,{"$f":"'AR4'!G37","v":0}]
["Schedule 18",{"$f":"'Sch 18'!A9","v":"SYSTEM IMPROVEMENT FUND SURCHARGE (SIFS)"},{"$f":"'Sch 18'!J57","v":"Page 39"},{"$f":"'Sch 18'!J65","v":"Incomplete"},null,null,{"$f":"'Sch 4'!A38","v":344},{"$f":"'Sch 4'!B38","v":"Laboratory Equipment"},null,null,{"$f":"'AR4'!G38","v":0}]
["Schedule 19",{"$f":"'Sch 19'!A6","v":"CHECKLIST"},{"$f":"'Sch 19'!O34","v":"Page 43"},null,null,null,{"$f":"'Sch 4'!A39","v":345},{"$f":"'Sch 4'!B39","v":"Power Operated Equipment"},null,null,{"$f":"'AR4'!G39","v":0}]
["Item # 4",{"$f":"Item4","v":"PLANT ADDITIONS"},{"$f":"'Item #4'!F40","v":"Page 44"},null,null,null,{"$f":"'Sch 4'!A40","v":346},{"$f":"'Sch 4'!B40","v":"Communication Equipment"},null,null,{"$f":"'AR4'!G40","v":0}]
["Item # 5",{"$f":"Item5","v":"SALARIES AND WAGES"},{"$f":"'Item #5'!F52","v":"Page 45"},null,null,null,{"$f":"'Sch 4'!A41","v":347},{"$f":"'Sch 4'!B41","v":"Miscellaneous Equipment"},null,null,{"$f":"'AR4'!G41","v":0}]
["Item # 6",{"$f":"Item6","v":"PURCHASED WATER"},{"$f":"'Item #6'!F45","v":"Page 46"},null,null,null,{"$f":"'Sch 4'!A42","v":348},{"$f":"'Sch 4'!B42","v":"Other Tangible Plant"},null,null,{"$f":"'AR4'!G42","v":0}]
["Item # 7",{"$f":"PurPow","v":"PURCHASED POWER"},{"$f":"'Item #7'!F47","v":"Page 47"},null,null,null,null,"TOTAL",{"$f":"SUM(I9:I42)","v":0},{"$f":"SUM(J9:J42)","v":0},{"$f":"SUM(K9:K42)","v":0}]
["Item # 8",{"$f":"'Item #8'!A8","v":"REPAIRS AND MAINTENANCE"},{"$f":"'Item #8'!F45","v":"Page 48"}]
["Item # 9",{"$f":"'Item #9'!A8","v":"OUTSIDE SERVICES"},{"$f":"'Item #9'!F52","v":"Page 49"}]
[]
[]
["Work papers (not to be included with the filing but made available to Staff upon request):",null,null,null,null,null,"Last Decision No."]
["Work Paper 1",{"$f":"sCH3_pLANT_aDDS","v":"PLANT ADDITIONS AND RETIREMENT BY YEAR"},null,null,null,null,"Last Decision Test Year."]
["Work Paper 2",{"$f":"AccDep","v":"PLANT ACCUMULATED DEPRECIATION"},null,null,null,null,"Sufficiency Date of last rate Case"]
["Work Paper 3",{"$f":"Sch12_AIAC","v":"ADVANCES IN AID OF CONSTRUCTION "},null,{"$f":"'WP 3'!O41","v":"Incomplete"},null,null,"Last Decision Effective Date"]
["Work Paper 4",{"$f":"Sch13_CIAC","v":"GROSS CONTRIBUTIONS IN AID OF CONSTRUCTION "},null,{"$f":"'WP 4'!M40","v":"Incomplete"},null,null,"Months To Get Last Decision ",null,{"$f":"(I51-I50)/30","v":0}]
["Work Paper 5",{"$f":"Sch11_SuppFin","v":"SUPPLEMENTAL FINANCIAL INFORMATION (LONG TERM DEBT)"},null,{"$f":"'WP 5'!M26","v":"Incomplete"}]
[]
[]
["Note 1: the Schedules highlighted in grey require additional input to properly complete the rate application.  All other Schedules are linked and therefore automatically populate."]
[null,null,null,null,null,"General Instructions:  Update the cells highlighted in GREY on this sheet and throughout with the information being requested as part of the rate increase application process.  Each sheet will contain more specific instructions as necessary.  Update fully depreciated amounts if they differ from the Annual Report.\n\n"]
[]
["Note 2: Items #4 through #9 are not required to be used for the filing but instead have been provided as a frame of reference.  As long as the required information is presented the Company may use any format it may have."]
[]
[]
["Note 3: While the work papers do not need to be filed with the application, Work papers 1, 3, 4, and 5 need to be completed and available upon request, as they contain information that is necessary for the audit of the rate application."]
[]
[]
[]
[]
[null,null,null,null,{"$f":"\"Page \" &E68","v":"Page 16"},null,null,null,null,null,{"$f":"\"Page \" &K68","v":"Page 17"}]
[null,null,null,null,16,null,null,null,null,null,{"$f":"E68+1","v":17}]

{"sheet":"Sch 1","index":50,"n_rows":53,"n_cols":9,"rows_kept":53,"cut":false,"hidden":true,"merged":[[45,5,46,8],[7,0,7,3],[42,5,43,5],[42,0,43,3],[39,0,40,3],[7,5,7,8]]}
[{"$f":"'AR1'!$B$12","v":0},null,null,{"$f":"'Sch Title'!$A$16","v":"Schedule 1"},null,{"$f":"'AR1'!$B$12","v":0},null,null,{"$f":"'Sch Title'!$A$16","v":"Schedule 1"}]
[{"$f":"'Sch Title'!$A$2","v":"Short Form Rate Application"},null,null,{"$f":"\" Short Form Rate Application Page No. \"&D49","v":" Short Form Rate Application Page No. 18"},null,{"$f":"'Sch Title'!$A$2","v":"Short Form Rate Application"},null,null,{"$f":"\" Short Form Rate Application Page No. \"&I49","v":" Short Form Rate Application Page No. 19"}]
[{"$f":"Sch10_BalSht","v":"BALANCE SHEET"},null,null,null,null,{"$f":"F8","v":"BALANCE SHEET CONTINUED"}]
[{"$f":"'Sch Title'!$A$4","v":"Test Year Ended 12/31/20"},null,null,null,null,{"$f":"'Sch Title'!$A$4","v":"Test Year Ended 12/31/20"}]
[null,null,null,null,"Table of contents"]
[]
[]
["BALANCE SHEET",null,null,null,null,"BALANCE SHEET CONTINUED"]
[]
["Acct. No.",null,"BALANCE AT BEGINNING OF TEST YEAR","BALANCE AT END OF TEST YEAR",{"$f":"'AR5'!F8","v":""},"Acct. No.",null,"BALANCE AT BEGINNING OF TEST YEAR","BALANCE AT END OF TEST YEAR"]
[null,"ASSETS",null,null,{"$f":"'AR5'!F9","v":""},null,"LIABILITIES"]
[null,null,null,null,null,null,"CURRENT LIABILITES"]
[null,"CURRENT AND ACCRUED ASSETS",null,null,null,231,"Accounts Payable",{"$f":"IF('AR5'!J10=\"\",\"\",'AR5'!J10)","v":""},{"$f":"IF('AR5'!K10=\"\",\"\",'AR5'!K10)","v":""}]
[131,"Cash",{"$f":"IF('AR5'!D10=\"\",\"\",'AR5'!D10)","v":""},{"$f":"IF('AR5'!E10=\"\",\"\",'AR5'!E10)","v":""},null,232,"Notes Payable (Current Portion)",{"$f":"IF('AR5'!J11=\"\",\"\",'AR5'!J11)","v":""},{"$f":"IF('AR5'!K11=\"\",\"\",'AR5'!K11)","v":""}]
[134,"Working Funds",{"$f":"IF('AR5'!D11=\"\",\"\",'AR5'!D11)","v":""},{"$f":"IF('AR5'!E11=\"\",\"\",'AR5'!E11)","v":""},null,234,"Notes/Accounts Payable to Associated Companies",{"$f":"IF('AR5'!J12=\"\",\"\",'AR5'!J12)","v":""},{"$f":"IF('AR5'!K12=\"\",\"\",'AR5'!K12)","v":""}]
[135,"Temporary Cash Investments",{"$f":"IF('AR5'!D12=\"\",\"\",'AR5'!D12)","v":""},{"$f":"IF('AR5'!E12=\"\",\"\",'AR5'!E12)","v":""},null,235,"Customer Deposits",{"$f":"IF('AR5'!J13=\"\",\"\",'AR5'!J13)","v":""},{"$f":"IF('AR5'!K13=\"\",\"\",'AR5'!K13)","v":""}]
[141,"Customer Accounts Receivable",{"$f":"IF('AR5'!D13=\"\",\"\",'AR5'!D13)","v":""},{"$f":"IF('AR5'!E13=\"\",\"\",'AR5'!E13)","v":""},null,236,"Accrued Taxes",{"$f":"IF('AR5'!J14=\"\",\"\",'AR5'!J14)","v":""},{"$f":"IF('AR5'!K14=\"\",\"\",'AR5'!K14)","v":""}]
[146,"Notes/Receivables from Associated Companies",{"$f":"IF('AR5'!D14=\"\",\"\",'AR5'!D14)","v":""},{"$f":"IF('AR5'!E14=\"\",\"\",'AR5'!E14)","v":""},null,237,"Accrued Interest",{"$f":"IF('AR5'!J15=\"\",\"\",'AR5'!J15)","v":""},{"$f":"IF('AR5'!K15=\"\",\"\",'AR5'!K15)","v":""}]
[151,"Plant Material and Supplies",{"$f":"IF('AR5'!D15=\"\",\"\",'AR5'!D15)","v":""},{"$f":"IF('AR5'!E15=\"\",\"\",'AR5'!E15)","v":""},null,241,"Miscellaneous Current and Accrued Liabilities",{"$f":"IF('AR5'!J16=\"\",\"\",'AR5'!J16)","v":""},{"$f":"IF('AR5'!K16=\"\",\"\",'AR5'!K16)","v":""}]
[162,"Prepayments",{"$f":"IF('AR5'!D16=\"\",\"\",'AR5'!D16)","v":""},{"$f":"IF('AR5'!E16=\"\",\"\",'AR5'!E16)","v":""},null,null,"TOTAL CURRENT LIABILITIES",{"$f":"SUM(H13:H19)","v":0},{"$f":"SUM(I13:I19)","v":0}]
[174,"Miscellaneous Current and Accrued Assets",{"$f":"IF('AR5'!D17=\"\",\"\",'AR5'!D17)","v":""},{"$f":"IF('AR5'!E17=\"\",\"\",'AR5'!E17)","v":""}]
[null,"TOTAL CURRENT AND ACCRUED ASSETS",{"$f":"SUM(C14:C21)","v":0},{"$f":"SUM(D14:D21)","v":0},null,null,"LONG-TERM DEBT (Over 12 Months)"]
[null,null,null,null,null,224,"Long-Term Notes and Bonds",{"$f":"'AR5'!J20","v":0},{"$f":"'AR5'!K20","v":0}]
[null,"FIXED ASSETS"]
[101,"Utility Plant in Service",{"$f":"IF('AR5'!D21=\"\",\"\",'AR5'!D21)","v":0},{"$f":"IF('AR5'!E21=\"\",\"\",'AR5'!E21)","v":0},null,null,"DEFERRED CREDITS"]
[103,"Property Held for Future Use",{"$f":"IF('AR5'!D22=\"\",\"\",'AR5'!D22)","v":""},{"$f":"IF('AR5'!E22=\"\",\"\",'AR5'!E22)","v":""},null,251,"Unamortized Premium on Debt",{"$f":"IF('AR5'!J23=\"\",\"\",'AR5'!J23)","v":""},{"$f":"IF('AR5'!K23=\"\",\"\",'AR5'!K23)","v":""}]
[105,"Construction Work in Progress",{"$f":"IF('AR5'!D23=\"\",\"\",'AR5'!D23)","v":""},{"$f":"IF('AR5'!E23=\"\",\"\",'AR5'!E23)","v":""},null,252,"Advances in Aid of Construction",{"$f":"IF('AR5'!J24=\"\",\"\",'AR5'!J24)","v":""},{"$f":"IF('AR5'!K24=\"\",\"\",'AR5'!K24)","v":""}]
[108,"Accumulated Depreciation – Utility Plant (\"AD-UP\")",{"$f":"IF('AR5'!D24=\"\",\"\",'AR5'!D24)","v":""},{"$f":"IF('AR5'!E24=\"\",\"\",'AR5'!E24)","v":0},null,255,"Accumulated Deferred Investment Tax Credits",{"$f":"IF('AR5'!J25=\"\",\"\",'AR5'!J25)","v":""},{"$f":"IF('AR5'!K25=\"\",\"\",'AR5'!K25)","v":""}]
[121,"Non-Utility Property",{"$f":"IF('AR5'!D25=\"\",\"\",'AR5'!D25)","v":""},{"$f":"IF('AR5'!E25=\"\",\"\",'AR5'!E25)","v":""},null,271,"Gross Contributions in Aid of Construction",{"$f":"IF('AR5'!J26=\"\",\"\",'AR5'!J26)","v":""},{"$f":"IF('AR5'!K26=\"\",\"\",'AR5'!K26)","v":""}]
[122,"Accumulated Depreciation – Non Utility (\"AD-NU\")",{"$f":"IF('AR5'!D26=\"\",\"\",'AR5'!D26)","v":""},{"$f":"IF('AR5'!E26=\"\",\"\",'AR5'!E26)","v":""},null,272,"Less:  Amortization of Contributions",{"$f":"IF('AR5'!J27=\"\",\"\",'AR5'!J27)","v":""},{"$f":"IF('AR5'!K27=\"\",\"\",'AR5'!K27)","v":""}]
[null,"TOTAL FIXED ASSETS",{"$f":"SUM(C25:C30)","v":0},{"$f":"SUM(D25:D30)","v":0},null,281,"Accumulated Deferred Income Tax",{"$f":"IF('AR5'!J28=\"\",\"\",'AR5'!J28)","v":""},{"$f":"IF('AR5'!K28=\"\",\"\",'AR5'!K28)","v":""}]
[null,null,null,null,null,null,"TOTAL DEFERRED CREDITS",{"$f":"SUM(H26:H31)","v":0},{"$f":"SUM(I26:I31)","v":0}]
[null,"TOTAL ASSETS",{"$f":"C22+C31","v":0},{"$f":"D22+D31","v":0}]
[null,null,null,null,null,null,"TOTAL LIABILITIES",{"$f":"H20+H23+H32","v":0},{"$f":"I32+I23+I20","v":0}]
[]
[null,null,null,null,null,null,"CAPITAL ACCOUNTS"]
[null,null,null,null,null,201,"Common Stock Issued",{"$f":"IF('AR5'!J33=\"\",\"\",'AR5'!J33)","v":""},{"$f":"IF('AR5'!K33=\"\",\"\",'AR5'!K33)","v":""}]
[null,null,null,null,null,211,"Paid in Capital in Excess of Par Value",{"$f":"IF('AR5'!J34=\"\",\"\",'AR5'!J34)","v":""},{"$f":"IF('AR5'!K34=\"\",\"\",'AR5'!K34)","v":""}]
[null,null,null,null,null,215,"Retained Earnings",{"$f":"IF('AR5'!J35=\"\",\"\",'AR5'!J35)","v":""},{"$f":"IF('AR5'!K35=\"\",\"\",'AR5'!K35)","v":""}]
[{"$f":"\"* This item automatically populates with information from your annual report \"&'AR5'!E44","v":"* This item automatically populates with information from your annual report Page 6"},null,null,null,null,218,"Proprietary Capital (Sole Props and Partnerships)",{"$f":"IF('AR5'!J36=\"\",\"\",'AR5'!J36)","v":""},{"$f":"IF('AR5'!K36=\"\",\"\",'AR5'!K36)","v":""}]
[null,null,null,null,null,null,"TOTAL CAPITAL",{"$f":"SUM(H37:H40)","v":0},{"$f":"SUM(I37:I40)","v":0}]
[]
["Note:  Total Assets should equal the sum of Total Liabilities and Total Capital. If either of the cells below are pink with red font then double check your data entry to ensure accuracy."]
[null,null,null,null,null,null,"TOTAL LIABILITIES AND CAPITAL",{"$f":"H34+H41","v":0},{"$f":"I34+I41","v":0}]
[]
[null,null,null,null,null,{"$f":"\"* This item automatically populates with information from your annual report \"&'AR5'!K44","v":"* This item automatically populates with information from your annual report Page 7"}]
[]
[null,null,null,{"$f":"\"Page \" &D49","v":"Page 18"},null,null,null,null,{"$f":"\"Page \" &I49","v":"Page 19"}]
[null,null,null,{"$f":"'Sch Title'!K68+1","v":18},null,null,null,null,{"$f":"D49+1","v":19}]
[]
[]
[]
[null,"Variances",{"$f":"C33-H44","v":0},{"$f":"D33-I44","v":0}]

{"sheet":"Sch 2","index":51,"n_rows":70,"n_cols":23,"rows_kept":70,"cut":false,"hidden":true,"merged":[[5,13,5,20],[5,0,5,11],[10,0,10,11],[6,0,6,1],[7,0,7,1],[6,2,6,3],[9,17,9,20],[24,0,24,11],[9,13,9,15],[33,13,33,20],[31,13,31,20],[28,0,28,2],[43,13,43,20],[69,0,70,11],[69,12,70,21],[34,13,41,20],[44,13,50,20],[53,13,61,20],[38,4,38,5],[52,13,52,20],[38,0,38,2],[59,0,59,11],[46,6,46,9],[46,0,46,3]]}
[{"$f":"'AR1'!$B$12","v":0},null,null,null,null,null,null,null,null,null,null,{"$f":"'Sch Title'!$A$17","v":"Schedule 2"},{"$f":"'AR1'!$B$12","v":0},null,null,null,null,null,null,null,null,{"$f":"'Sch Title'!$A$17","v":"Schedule 2"}]
[{"$f":"'Sch Title'!$A$2","v":"Short Form Rate Application"},null,null,null,null,null,null,null,null,null,null,{"$f":"\" Short Form Rate Application Page No. \"&L66","v":" Short Form Rate Application Page No. 20"},{"$f":"'Sch Title'!$A$2","v":"Short Form Rate Application"},null,null,null,null,null,null,null,null,{"$f":"\" Short Form Rate Application Page No. \"&V66","v":" Short Form Rate Application Page No. 21"}]
[{"$f":"Sch6_PltDesc","v":"WATER COMPANY PLANT DESCRIPTION "},null,null,null,null,null,null,null,null,null,null,null,{"$f":"Sch6_PltDesc","v":"WATER COMPANY PLANT DESCRIPTION "}]
[{"$f":"'Sch Title'!$A$4","v":"Test Year Ended 12/31/20"},null,null,null,null,null,null,null,null,null,null,null,{"$f":"'Sch Title'!$A$4","v":"Test Year Ended 12/31/20"},null,null,null,null,null,null,null,null,null,"Table of contents"]
[]
["WATER COMPANY PLANT DESCRIPTION ",null,null,null,null,null,null,null,null,null,null,null,null,"Water Utility Plant Description (Continued)"]
["Name of the System:",null,{"$f":"'AR9'!C7","v":0}]
["ADEQ Public Water System Number",null,{"$f":"'AR9'!D8","v":""}]
["ADWR PCC Number:",null,{"$f":"'AR9'!D9","v":""}]
[null,null,null,null,null,null,null,null,null,null,null,null,null,"MAINS",null,null,null,"CUSTOMER METERS"]
["WELLS",null,null,null,null,null,null,null,null,null,null,null,null,"Size (in inches)","Material","Length (in feet)",null,"Size (in inches)","Quantity","Percent over 1,00,000 gallons","Percent over 10 years old"]
["Well registry 55# (55-XXXXXX):","Pump Horsepower","Pump Yield (gpm)","Casing Depth (feet)","Casing Diameter (inches)","Pump Motor Type **","Year Drilled","Water level 2010","Water level 2019","Meter Size (inches)","How measured:","Active",null,{"$f":"IF('AR9'!A13=\"\",\"\",'AR9'!A13)","v":""},{"$f":"IF('AR9'!B13=\"\",\"\",'AR9'!B13)","v":""},{"$f":"IF('AR9'!C13=\"\",\"\",'AR9'!C13)","v":""},null,{"$f":"IF('AR9'!F13=\"\",\"\",'AR9'!F13)","v":""},{"$f":"IF('AR9'!G13=\"\",\"\",'AR9'!G13)","v":""},{"$f":"IF('AR9'!H13=\"\",\"\",'AR9'!H13)","v":""},{"$f":"IF('AR9'!I13=\"\",\"\",'AR9'!I13)","v":""}]
[{"$f":"IF('AR8'!A11=\"\",\"\",'AR8'!A11)","v":""},{"$f":"IF('AR8'!B11=\"\",\"\",'AR8'!B11)","v":""},{"$f":"IF('AR8'!C11=\"\",\"\",'AR8'!C11)","v":""},{"$f":"IF('AR8'!D11=\"\",\"\",'AR8'!D11)","v":""},{"$f":"IF('AR8'!E11=\"\",\"\",'AR8'!E11)","v":""},{"$f":"IF('AR8'!F11=\"\",\"\",'AR8'!F11)","v":""},{"$f":"IF('AR8'!G11=\"\",\"\",'AR8'!G11)","v":""},{"$f":"IF('AR8'!H11=\"\",\"\",'AR8'!H11)","v":""},{"$f":"IF('AR8'!I11=\"\",\"\",'AR8'!I11)","v":""},{"$f":"IF('AR8'!J11=\"\",\"\",'AR8'!J11)","v":""},{"$f":"IF('AR8'!K11=\"\",\"\",'AR8'!K11)","v":""},{"$f":"IF('AR8'!L11=\"\",\"\",'AR8'!L11)","v":""},null,{"$f":"IF('AR9'!A14=\"\",\"\",'AR9'!A14)","v":""},{"$f":"IF('AR9'!B14=\"\",\"\",'AR9'!B14)","v":""},{"$f":"IF('AR9'!C14=\"\",\"\",'AR9'!C14)","v":""},null,{"$f":"IF('AR9'!F14=\"\",\"\",'AR9'!F14)","v":""},{"$f":"IF('AR9'!G14=\"\",\"\",'AR9'!G14)","v":""},{"$f":"IF('AR9'!H14=\"\",\"\",'AR9'!H14)","v":""},{"$f":"IF('AR9'!I14=\"\",\"\",'AR9'!I14)","v":""}]
[{"$f":"IF('AR8'!A12=\"\",\"\",'AR8'!A12)","v":""},{"$f":"IF('AR8'!B12=\"\",\"\",'AR8'!B12)","v":""},{"$f":"IF('AR8'!C12=\"\",\"\",'AR8'!C12)","v":""},{"$f":"IF('AR8'!D12=\"\",\"\",'AR8'!D12)","v":""},{"$f":"IF('AR8'!E12=\"\",\"\",'AR8'!E12)","v":""},{"$f":"IF('AR8'!F12=\"\",\"\",'AR8'!F12)","v":""},{"$f":"IF('AR8'!G12=\"\",\"\",'AR8'!G12)","v":""},{"$f":"IF('AR8'!H12=\"\",\"\",'AR8'!H12)","v":""},{"$f":"IF('AR8'!I12=\"\",\"\",'AR8'!I12)","v":""},{"$f":"IF('AR8'!J12=\"\",\"\",'AR8'!J12)","v":""},{"$f":"IF('AR8'!K12=\"\",\"\",'AR8'!K12)","v":""},{"$f":"IF('AR8'!L12=\"\",\"\",'AR8'!L12)","v":""},null,{"$f":"IF('AR9'!A15=\"\",\"\",'AR9'!A15)","v":""},{"$f":"IF('AR9'!B15=\"\",\"\",'AR9'!B15)","v":""},{"$f":"IF('AR9'!C15=\"\",\"\",'AR9'!C15)","v":""},null,{"$f":"IF('AR9'!F15=\"\",\"\",'AR9'!F15)","v":""},{"$f":"IF('AR9'!G15=\"\",\"\",'AR9'!G15)","v":""},{"$f":"IF('AR9'!H15=\"\",\"\",'AR9'!H15)","v":""},{"$f":"IF('AR9'!I15=\"\",\"\",'AR9'!I15)","v":""}]
[{"$f":"IF('AR8'!A13=\"\",\"\",'AR8'!A13)","v":""},{"$f":"IF('AR8'!B13=\"\",\"\",'AR8'!B13)","v":""},{"$f":"IF('AR8'!C13=\"\",\"\",'AR8'!C13)","v":""},{"$f":"IF('AR8'!D13=\"\",\"\",'AR8'!D13)","v":""},{"$f":"IF('AR8'!E13=\"\",\"\",'AR8'!E13)","v":""},{"$f":"IF('AR8'!F13=\"\",\"\",'AR8'!F13)","v":""},{"$f":"IF('AR8'!G13=\"\",\"\",'AR8'!G13)","v":""},{"$f":"IF('AR8'!H13=\"\",\"\",'AR8'!H13)","v":""},{"$f":"IF('AR8'!I13=\"\",\"\",'AR8'!I13)","v":""},{"$f":"IF('AR8'!J13=\"\",\"\",'AR8'!J13)","v":""},{"$f":"IF('AR8'!K13=\"\",\"\",'AR8'!K13)","v":""},{"$f":"IF('AR8'!L13=\"\",\"\",'AR8'!L13)","v":""},null,{"$f":"IF('AR9'!A16=\"\",\"\",'AR9'!A16)","v":""},{"$f":"IF('AR9'!B16=\"\",\"\",'AR9'!B16)","v":""},{"$f":"IF('AR9'!C16=\"\",\"\",'AR9'!C16)","v":""},null,{"$f":"IF('AR9'!F16=\"\",\"\",'AR9'!F16)","v":""},{"$f":"IF('AR9'!G16=\"\",\"\",'AR9'!G16)","v":""},{"$f":"IF('AR9'!H16=\"\",\"\",'AR9'!H16)","v":""},{"$f":"IF('AR9'!I16=\"\",\"\",'AR9'!I16)","v":""}]
[{"$f":"IF('AR8'!A14=\"\",\"\",'AR8'!A14)","v":""},{"$f":"IF('AR8'!B14=\"\",\"\",'AR8'!B14)","v":""},{"$f":"IF('AR8'!C14=\"\",\"\",'AR8'!C14)","v":""},{"$f":"IF('AR8'!D14=\"\",\"\",'AR8'!D14)","v":""},{"$f":"IF('AR8'!E14=\"\",\"\",'AR8'!E14)","v":""},{"$f":"IF('AR8'!F14=\"\",\"\",'AR8'!F14)","v":""},{"$f":"IF('AR8'!G14=\"\",\"\",'AR8'!G14)","v":""},{"$f":"IF('AR8'!H14=\"\",\"\",'AR8'!H14)","v":""},{"$f":"IF('AR8'!I14=\"\",\"\",'AR8'!I14)","v":""},{"$f":"IF('AR8'!J14=\"\",\"\",'AR8'!J14)","v":""},{"$f":"IF('AR8'!K14=\"\",\"\",'AR8'!K14)","v":""},{"$f":"IF('AR8'!L14=\"\",\"\",'AR8'!L14)","v":""},null,{"$f":"IF('AR9'!A17=\"\",\"\",'AR9'!A17)","v":""},{"$f":"IF('AR9'!B17=\"\",\"\",'AR9'!B17)","v":""},{"$f":"IF('AR9'!C17=\"\",\"\",'AR9'!C17)","v":""},null,{"$f":"IF('AR9'!F17=\"\",\"\",'AR9'!F17)","v":""},{"$f":"IF('AR9'!G17=\"\",\"\",'AR9'!G17)","v":""},{"$f":"IF('AR9'!H17=\"\",\"\",'AR9'!H17)","v":""},{"$f":"IF('AR9'!I17=\"\",\"\",'AR9'!I17)","v":""}]
[{"$f":"IF('AR8'!A15=\"\",\"\",'AR8'!A15)","v":""},{"$f":"IF('AR8'!B15=\"\",\"\",'AR8'!B15)","v":""},{"$f":"IF('AR8'!C15=\"\",\"\",'AR8'!C15)","v":""},{"$f":"IF('AR8'!D15=\"\",\"\",'AR8'!D15)","v":""},{"$f":"IF('AR8'!E15=\"\",\"\",'AR8'!E15)","v":""},{"$f":"IF('AR8'!F15=\"\",\"\",'AR8'!F15)","v":""},{"$f":"IF('AR8'!G15=\"\",\"\",'AR8'!G15)","v":""},{"$f":"IF('AR8'!H15=\"\",\"\",'AR8'!H15)","v":""},{"$f":"IF('AR8'!I15=\"\",\"\",'AR8'!I15)","v":""},{"$f":"IF('AR8'!J15=\"\",\"\",'AR8'!J15)","v":""},{"$f":"IF('AR8'!K15=\"\",\"\",'AR8'!K15)","v":""},{"$f":"IF('AR8'!L15=\"\",\"\",'AR8'!L15)","v":""},null,{"$f":"IF('AR9'!A18=\"\",\"\",'AR9'!A18)","v":""},{"$f":"IF('AR9'!B18=\"\",\"\",'AR9'!B18)","v":""},{"$f":"IF('AR9'!C18=\"\",\"\",'AR9'!C18)","v":""},null,{"$f":"IF('AR9'!F18=\"\",\"\",'AR9'!F18)","v":""},{"$f":"IF('AR9'!G18=\"\",\"\",'AR9'!G18)","v":""},{"$f":"IF('AR9'!H18=\"\",\"\",'AR9'!H18)","v":""},{"$f":"IF('AR9'!I18=\"\",\"\",'AR9'!I18)","v":""}]
[{"$f":"IF('AR8'!A16=\"\",\"\",'AR8'!A16)","v":""},{"$f":"IF('AR8'!B16=\"\",\"\",'AR8'!B16)","v":""},{"$f":"IF('AR8'!C16=\"\",\"\",'AR8'!C16)","v":""},{"$f":"IF('AR8'!D16=\"\",\"\",'AR8'!D16)","v":""},{"$f":"IF('AR8'!E16=\"\",\"\",'AR8'!E16)","v":""},{"$f":"IF('AR8'!F16=\"\",\"\",'AR8'!F16)","v":""},{"$f":"IF('AR8'!G16=\"\",\"\",'AR8'!G16)","v":""},{"$f":"IF('AR8'!H16=\"\",\"\",'AR8'!H16)","v":""},{"$f":"IF('AR8'!I16=\"\",\"\",'AR8'!I16)","v":""},{"$f":"IF('AR8'!J16=\"\",\"\",'AR8'!J16)","v":""},{"$f":"IF('AR8'!K16=\"\",\"\",'AR8'!K16)","v":""},{"$f":"IF('AR8'!L16=\"\",\"\",'AR8'!L16)","v":""},null,{"$f":"IF('AR9'!A19=\"\",\"\",'AR9'!A19)","v":""},{"$f":"IF('AR9'!B19=\"\",\"\",'AR9'!B19)","v":""},{"$f":"IF('AR9'!C19=\"\",\"\",'AR9'!C19)","v":""},null,{"$f":"IF('AR9'!F19=\"\",\"\",'AR9'!F19)","v":""},{"$f":"IF('AR9'!G19=\"\",\"\",'AR9'!G19)","v":""},{"$f":"IF('AR9'!H19=\"\",\"\",'AR9'!H19)","v":""},{"$f":"IF('AR9'!I19=\"\",\"\",'AR9'!I19)","v":""}]
[{"$f":"IF('AR8'!A17=\"\",\"\",'AR8'!A17)","v":""},{"$f":"IF('AR8'!B17=\"\",\"\",'AR8'!B17)","v":""},{"$f":"IF('AR8'!C17=\"\",\"\",'AR8'!C17)","v":""},{"$f":"IF('AR8'!D17=\"\",\"\",'AR8'!D17)","v":""},{"$f":"IF('AR8'!E17=\"\",\"\",'AR8'!E17)","v":""},{"$f":"IF('AR8'!F17=\"\",\"\",'AR8'!F17)","v":""},{"$f":"IF('AR8'!G17=\"\",\"\",'AR8'!G17)","v":""},{"$f":"IF('AR8'!H17=\"\",\"\",'AR8'!H17)","v":""},{"$f":"IF('AR8'!I17=\"\",\"\",'AR8'!I17)","v":""},{"$f":"IF('AR8'!J17=\"\",\"\",'AR8'!J17)","v":""},{"$f":"IF('AR8'!K17=\"\",\"\",'AR8'!K17)","v":""},{"$f":"IF('AR8'!L17=\"\",\"\",'AR8'!L17)","v":""},null,{"$f":"IF('AR9'!A20=\"\",\"\",'AR9'!A20)","v":""},{"$f":"IF('AR9'!B20=\"\",\"\",'AR9'!B20)","v":""},{"$f":"IF('AR9'!C20=\"\",\"\",'AR9'!C20)","v":""},null,{"$f":"IF('AR9'!F20=\"\",\"\",'AR9'!F20)","v":""},{"$f":"IF('AR9'!G20=\"\",\"\",'AR9'!G20)","v":""},{"$f":"IF('AR9'!H20=\"\",\"\",'AR9'!H20)","v":""},{"$f":"IF('AR9'!I20=\"\",\"\",'AR9'!I20)","v":""}]
[{"$f":"IF('AR8'!A18=\"\",\"\",'AR8'!A18)","v":""},{"$f":"IF('AR8'!B18=\"\",\"\",'AR8'!B18)","v":""},{"$f":"IF('AR8'!C18=\"\",\"\",'AR8'!C18)","v":""},{"$f":"IF('AR8'!D18=\"\",\"\",'AR8'!D18)","v":""},{"$f":"IF('AR8'!E18=\"\",\"\",'AR8'!E18)","v":""},{"$f":"IF('AR8'!F18=\"\",\"\",'AR8'!F18)","v":""},{"$f":"IF('AR8'!G18=\"\",\"\",'AR8'!G18)","v":""},{"$f":"IF('AR8'!H18=\"\",\"\",'AR8'!H18)","v":""},{"$f":"IF('AR8'!I18=\"\",\"\",'AR8'!I18)","v":""},{"$f":"IF('AR8'!J18=\"\",\"\",'AR8'!J18)","v":""},{"$f":"IF('AR8'!K18=\"\",\"\",'AR8'!K18)","v":""},{"$f":"IF('AR8'!L18=\"\",\"\",'AR8'!L18)","v":""},null,{"$f":"IF('AR9'!A21=\"\",\"\",'AR9'!A21)","v":""},{"$f":"IF('AR9'!B21=\"\",\"\",'AR9'!B21)","v":""},{"$f":"IF('AR9'!C21=\"\",\"\",'AR9'!C21)","v":""},null,{"$f":"IF('AR9'!F21=\"\",\"\",'AR9'!F21)","v":""},{"$f":"IF('AR9'!G21=\"\",\"\",'AR9'!G21)","v":""},{"$f":"IF('AR9'!H21=\"\",\"\",'AR9'!H21)","v":""},{"$f":"IF('AR9'!I21=\"\",\"\",'AR9'!I21)","v":""}]
[{"$f":"IF('AR8'!A19=\"\",\"\",'AR8'!A19)","v":""},{"$f":"IF('AR8'!B19=\"\",\"\",'AR8'!B19)","v":""},{"$f":"IF('AR8'!C19=\"\",\"\",'AR8'!C19)","v":""},{"$f":"IF('AR8'!D19=\"\",\"\",'AR8'!D19)","v":""},{"$f":"IF('AR8'!E19=\"\",\"\",'AR8'!E19)","v":""},{"$f":"IF('AR8'!F19=\"\",\"\",'AR8'!F19)","v":""},{"$f":"IF('AR8'!G19=\"\",\"\",'AR8'!G19)","v":""},{"$f":"IF('AR8'!H19=\"\",\"\",'AR8'!H19)","v":""},{"$f":"IF('AR8'!I19=\"\",\"\",'AR8'!I19)","v":""},{"$f":"IF('AR8'!J19=\"\",\"\",'AR8'!J19)","v":""},{"$f":"IF('AR8'!K19=\"\",\"\",'AR8'!K19)","v":""},{"$f":"IF('AR8'!L19=\"\",\"\",'AR8'!L19)","v":""},null,{"$f":"IF('AR9'!A22=\"\",\"\",'AR9'!A22)","v":""},{"$f":"IF('AR9'!B22=\"\",\"\",'AR9'!B22)","v":""},{"$f":"IF('AR9'!C22=\"\",\"\",'AR9'!C22)","v":""},null,{"$f":"IF('AR9'!F22=\"\",\"\",'AR9'!F22)","v":""},{"$f":"IF('AR9'!G22=\"\",\"\",'AR9'!G22)","v":""},{"$f":"IF('AR9'!H22=\"\",\"\",'AR9'!H22)","v":""},{"$f":"IF('AR9'!I22=\"\",\"\",'AR9'!I22)","v":""}]
[{"$f":"IF('AR8'!A20=\"\",\"\",'AR8'!A20)","v":""},{"$f":"IF('AR8'!B20=\"\",\"\",'AR8'!B20)","v":""},{"$f":"IF('AR8'!C20=\"\",\"\",'AR8'!C20)","v":""},{"$f":"IF('AR8'!D20=\"\",\"\",'AR8'!D20)","v":""},{"$f":"IF('AR8'!E20=\"\",\"\",'AR8'!E20)","v":""},{"$f":"IF('AR8'!F20=\"\",\"\",'AR8'!F20)","v":""},{"$f":"IF('AR8'!G20=\"\",\"\",'AR8'!G20)","v":""},{"$f":"IF('AR8'!H20=\"\",\"\",'AR8'!H20)","v":""},{"$f":"IF('AR8'!I20=\"\",\"\",'AR8'!I20)","v":""},{"$f":"IF('AR8'!J20=\"\",\"\",'AR8'!J20)","v":""},{"$f":"IF('AR8'!K20=\"\",\"\",'AR8'!K20)","v":""},{"$f":"IF('AR8'!L20=\"\",\"\",'AR8'!L20)","v":""},null,{"$f":"IF('AR9'!A23=\"\",\"\",'AR9'!A23)","v":""},{"$f":"IF('AR9'!B23=\"\",\"\",'AR9'!B23)","v":""},{"$f":"IF('AR9'!C23=\"\",\"\",'AR9'!C23)","v":""},null,{"$f":"IF('AR9'!F23=\"\",\"\",'AR9'!F23)","v":""},{"$f":"IF('AR9'!G23=\"\",\"\",'AR9'!G23)","v":""},{"$f":"IF('AR9'!H23=\"\",\"\",'AR9'!H23)","v":""},{"$f":"IF('AR9'!I23=\"\",\"\",'AR9'!I23)","v":""}]
[{"$f":"IF('AR8'!A21=\"\",\"\",'AR8'!A21)","v":""},{"$f":"IF('AR8'!B21=\"\",\"\",'AR8'!B21)","v":""},{"$f":"IF('AR8'!C21=\"\",\"\",'AR8'!C21)","v":""},{"$f":"IF('AR8'!D21=\"\",\"\",'AR8'!D21)","v":""},{"$f":"IF('AR8'!E21=\"\",\"\",'AR8'!E21)","v":""},{"$f":"IF('AR8'!F21=\"\",\"\",'AR8'!F21)","v":""},{"$f":"IF('AR8'!G21=\"\",\"\",'AR8'!G21)","v":""},{"$f":"IF('AR8'!H21=\"\",\"\",'AR8'!H21)","v":""},{"$f":"IF('AR8'!I21=\"\",\"\",'AR8'!I21)","v":""},{"$f":"IF('AR8'!J21=\"\",\"\",'AR8'!J21)","v":""},{"$f":"IF('AR8'!K21=\"\",\"\",'AR8'!K21)","v":""},{"$f":"IF('AR8'!L21=\"\",\"\",'AR8'!L21)","v":""},null,{"$f":"IF('AR9'!A24=\"\",\"\",'AR9'!A24)","v":""},{"$f":"IF('AR9'!B24=\"\",\"\",'AR9'!B24)","v":""},{"$f":"IF('AR9'!C24=\"\",\"\",'AR9'!C24)","v":""},null,{"$f":"IF('AR9'!F24=\"\",\"\",'AR9'!F24)","v":""},{"$f":"IF('AR9'!G24=\"\",\"\",'AR9'!G24)","v":""},{"$f":"IF('AR9'!H24=\"\",\"\",'AR9'!H24)","v":""},{"$f":"IF('AR9'!I24=\"\",\"\",'AR9'!I24)","v":""}]
[{"$f":"IF('AR8'!A22=\"\",\"\",'AR8'!A22)","v":""},{"$f":"IF('AR8'!B22=\"\",\"\",'AR8'!B22)","v":""},{"$f":"IF('AR8'!C22=\"\",\"\",'AR8'!C22)","v":""},{"$f":"IF('AR8'!D22=\"\",\"\",'AR8'!D22)","v":""},{"$f":"IF('AR8'!E22=\"\",\"\",'AR8'!E22)","v":""},{"$f":"IF('AR8'!F22=\"\",\"\",'AR8'!F22)","v":""},{"$f":"IF('AR8'!G22=\"\",\"\",'AR8'!G22)","v":""},{"$f":"IF('AR8'!H22=\"\",\"\",'AR8'!H22)","v":""},{"$f":"IF('AR8'!I22=\"\",\"\",'AR8'!I22)","v":""},{"$f":"IF('AR8'!J22=\"\",\"\",'AR8'!J22)","v":""},{"$f":"IF('AR8'!K22=\"\",\"\",'AR8'!K22)","v":""},{"$f":"IF('AR8'!L22=\"\",\"\",'AR8'!L22)","v":""},null,{"$f":"IF('AR9'!A25=\"\",\"\",'AR9'!A25)","v":""},{"$f":"IF('AR9'!B25=\"\",\"\",'AR9'!B25)","v":""},{"$f":"IF('AR9'!C25=\"\",\"\",'AR9'!C25)","v":""},null,{"$f":"IF('AR9'!F25=\"\",\"\",'AR9'!F25)","v":""},{"$f":"IF('AR9'!G25=\"\",\"\",'AR9'!G25)","v":""},{"$f":"IF('AR9'!H25=\"\",\"\",'AR9'!H25)","v":""},{"$f":"IF('AR9'!I25=\"\",\"\",'AR9'!I25)","v":""}]
["* Arizona Department of Water Resources Identification Number",null,null,null,null,null,null,null,null,null,null,null,null,null,null,null,null,{"$f":"IF('AR9'!F26=\"\",\"\",'AR9'!F26)","v":""},{"$f":"IF('AR9'!G26=\"\",\"\",'AR9'!G26)","v":""},{"$f":"IF('AR9'!H26=\"\",\"\",'AR9'!H26)","v":""},{"$f":"IF('AR9'!I26=\"\",\"\",'AR9'!I26)","v":""}]
[null,null,null,null,null,null,null,null,null,null,null,null,null,null,null,null,null,{"$f":"IF('AR9'!F27=\"\",\"\",'AR9'!F27)","v":""},{"$f":"IF('AR9'!G27=\"\",\"\",'AR9'!G27)","v":""},{"$f":"IF('AR9'!H27=\"\",\"\",'AR9'!H27)","v":""},{"$f":"IF('AR9'!I27=\"\",\"\",'AR9'!I27)","v":""}]
[null,null,null,null,null,null,null,null,null,null,null,null,null,null,null,null,null,{"$f":"IF('AR9'!F28=\"\",\"\",'AR9'!F28)","v":""},{"$f":"IF('AR9'!G28=\"\",\"\",'AR9'!G28)","v":""},{"$f":"IF('AR9'!H28=\"\",\"\",'AR9'!H28)","v":""},{"$f":"IF('AR9'!I28=\"\",\"\",'AR9'!I28)","v":""}]
[null,null,null,null,null,null,null,null,null,null,null,null,null,null,null,null,null,{"$f":"IF('AR9'!F29=\"\",\"\",'AR9'!F29)","v":""},{"$f":"IF('AR9'!G29=\"\",\"\",'AR9'!G29)","v":""},{"$f":"IF('AR9'!H29=\"\",\"\",'AR9'!H29)","v":""},{"$f":"IF('AR9'!I29=\"\",\"\",'AR9'!I29)","v":""}]
["SERVICE LINES"]
["Material","Percent of system","Year installed"]
[{"$f":"IF('AR9'!B30=\"\",\"\",'AR9'!B30)","v":""},{"$f":"IF('AR9'!C30=\"\",\"\",'AR9'!C30)","v":""},{"$f":"IF('AR9'!D30=\"\",\"\",'AR9'!D30)","v":""}]
[{"$f":"IF('AR9'!B31=\"\",\"\",'AR9'!B31)","v":""},{"$f":"IF('AR9'!C31=\"\",\"\",'AR9'!C31)","v":""},{"$f":"IF('AR9'!D31=\"\",\"\",'AR9'!D31)","v":""},null,null,null,null,null,null,null,null,null,null,"For the following three items, please list the utility owned assets in each category."]
[{"$f":"IF('AR9'!B32=\"\",\"\",'AR9'!B32)","v":""},{"$f":"IF('AR9'!C32=\"\",\"\",'AR9'!C32)","v":""},{"$f":"IF('AR9'!D32=\"\",\"\",'AR9'!D32)","v":""}]
[{"$f":"IF('AR9'!B33=\"\",\"\",'AR9'!B33)","v":""},{"$f":"IF('AR9'!C33=\"\",\"\",'AR9'!C33)","v":""},{"$f":"IF('AR9'!D33=\"\",\"\",'AR9'!D33)","v":""},null,null,null,null,null,null,null,null,null,null,"TREATMENT EQUIPMENT:"]
[{"$f":"IF('AR9'!B34=\"\",\"\",'AR9'!B34)","v":""},{"$f":"IF('AR9'!C34=\"\",\"\",'AR9'!C34)","v":""},{"$f":"IF('AR9'!D34=\"\",\"\",'AR9'!D34)","v":""},null,null,null,null,null,null,null,null,null,null,{"$f":"IF('AR9'!M11=\"\",\"\",'AR9'!M11)","v":""}]
[]
[]
[]
["BOOSTER PUMPS",null,null,null,"FIRE HYDRANTS"]
["Horsepower","GPM","Quantity",null,"Quantity Standard*","Quantity Other"]
[{"$f":"IF('AR9'!A39=\"\",\"\",'AR9'!A39)","v":""},{"$f":"IF('AR9'!B39=\"\",\"\",'AR9'!B39)","v":""},{"$f":"IF('AR9'!C39=\"\",\"\",'AR9'!C39)","v":""},null,"Standard *",{"$f":"IF('AR9'!G39=\"\",\"\",'AR9'!G39)","v":""}]
[{"$f":"IF('AR9'!A40=\"\",\"\",'AR9'!A40)","v":""},{"$f":"IF('AR9'!B40=\"\",\"\",'AR9'!B40)","v":""},{"$f":"IF('AR9'!C40=\"\",\"\",'AR9'!C40)","v":""},null,"Other",{"$f":"IF('AR9'!G40=\"\",\"\",'AR9'!G40)","v":""}]
[{"$f":"IF('AR9'!A41=\"\",\"\",'AR9'!A41)","v":""},{"$f":"IF('AR9'!B41=\"\",\"\",'AR9'!B41)","v":""},{"$f":"IF('AR9'!C41=\"\",\"\",'AR9'!C41)","v":""}]
[{"$f":"IF('AR9'!A42=\"\",\"\",'AR9'!A42)","v":""},{"$f":"IF('AR9'!B42=\"\",\"\",'AR9'!B42)","v":""},{"$f":"IF('AR9'!C42=\"\",\"\",'AR9'!C42)","v":""},null,null,null,null,null,null,null,null,null,null,"STRUCTURES:"]
[null,null,null,null,null,null,null,null,null,null,null,null,null,{"$f":"IF('AR9'!M17=\"\",\"\",'AR9'!M17)","v":""}]
[]
["STORAGE TANKS",null,null,null,null,null,"PRESSURE/BLADDER TANKS"]
["Capacity","Material","Quantity","Year installed",null,null,"Capacity (gallons)","Material","Quantity","Year installed"]
[{"$f":"IF('AR9'!A46=\"\",\"\",'AR9'!A46)","v":""},{"$f":"IF('AR9'!B46=\"\",\"\",'AR9'!B46)","v":""},{"$f":"IF('AR9'!C46=\"\",\"\",'AR9'!C46)","v":""},{"$f":"IF('AR9'!D46=\"\",\"\",'AR9'!D46)","v":""},null,null,{"$f":"IF('AR9'!F46=\"\",\"\",'AR9'!F46)","v":""},{"$f":"IF('AR9'!G46=\"\",\"\",'AR9'!G46)","v":""},{"$f":"IF('AR9'!H46=\"\",\"\",'AR9'!H46)","v":""},{"$f":"IF('AR9'!I46=\"\",\"\",'AR9'!I46)","v":""}]
[{"$f":"IF('AR9'!A47=\"\",\"\",'AR9'!A47)","v":""},{"$f":"IF('AR9'!B47=\"\",\"\",'AR9'!B47)","v":""},{"$f":"IF('AR9'!C47=\"\",\"\",'AR9'!C47)","v":""},{"$f":"IF('AR9'!D47=\"\",\"\",'AR9'!D47)","v":""},null,null,{"$f":"IF('AR9'!F47=\"\",\"\",'AR9'!F47)","v":""},{"$f":"IF('AR9'!G47=\"\",\"\",'AR9'!G47)","v":""},{"$f":"IF('AR9'!H47=\"\",\"\",'AR9'!H47)","v":""},{"$f":"IF('AR9'!I47=\"\",\"\",'AR9'!I47)","v":""}]
[{"$f":"IF('AR9'!A48=\"\",\"\",'AR9'!A48)","v":""},{"$f":"IF('AR9'!B48=\"\",\"\",'AR9'!B48)","v":""},{"$f":"IF('AR9'!C48=\"\",\"\",'AR9'!C48)","v":""},{"$f":"IF('AR9'!D48=\"\",\"\",'AR9'!D48)","v":""},null,null,{"$f":"IF('AR9'!F48=\"\",\"\",'AR9'!F48)","v":""},{"$f":"IF('AR9'!G48=\"\",\"\",'AR9'!G48)","v":""},{"$f":"IF('AR9'!H48=\"\",\"\",'AR9'!H48)","v":""},{"$f":"IF('AR9'!I48=\"\",\"\",'AR9'!I48)","v":""}]
[{"$f":"IF('AR9'!A49=\"\",\"\",'AR9'!A49)","v":""},{"$f":"IF('AR9'!B49=\"\",\"\",'AR9'!B49)","v":""},{"$f":"IF('AR9'!C49=\"\",\"\",'AR9'!C49)","v":""},{"$f":"IF('AR9'!D49=\"\",\"\",'AR9'!D49)","v":""},null,null,{"$f":"IF('AR9'!F49=\"\",\"\",'AR9'!F49)","v":""},{"$f":"IF('AR9'!G49=\"\",\"\",'AR9'!G49)","v":""},{"$f":"IF('AR9'!H49=\"\",\"\",'AR9'!H49)","v":""},{"$f":"IF('AR9'!I49=\"\",\"\",'AR9'!I49)","v":""}]
[{"$f":"IF('AR9'!A50=\"\",\"\",'AR9'!A50)","v":""},{"$f":"IF('AR9'!B50=\"\",\"\",'AR9'!B50)","v":""},{"$f":"IF('AR9'!C50=\"\",\"\",'AR9'!C50)","v":""},{"$f":"IF('AR9'!D50=\"\",\"\",'AR9'!D50)","v":""},null,null,{"$f":"IF('AR9'!F50=\"\",\"\",'AR9'!F50)","v":""},{"$f":"IF('AR9'!G50=\"\",\"\",'AR9'!G50)","v":""},{"$f":"IF('AR9'!H50=\"\",\"\",'AR9'!H50)","v":""},{"$f":"IF('AR9'!I50=\"\",\"\",'AR9'!I50)","v":""},null,null,null,"OTHER:"]
[{"$f":"IF('AR9'!A51=\"\",\"\",'AR9'!A51)","v":""},{"$f":"IF('AR9'!B51=\"\",\"\",'AR9'!B51)","v":""},{"$f":"IF('AR9'!C51=\"\",\"\",'AR9'!C51)","v":""},{"$f":"IF('AR9'!D51=\"\",\"\",'AR9'!D51)","v":""},null,null,{"$f":"IF('AR9'!F51=\"\",\"\",'AR9'!F51)","v":""},{"$f":"IF('AR9'!G51=\"\",\"\",'AR9'!G51)","v":""},{"$f":"IF('AR9'!H51=\"\",\"\",'AR9'!H51)","v":""},{"$f":"IF('AR9'!I51=\"\",\"\",'AR9'!I51)","v":""},null,null,null,{"$f":"IF('AR9'!M23=\"\",\"\",'AR9'!M23)","v":""}]
[]
[]
[]
[]
[]
["* - A standard fire hydrant has two 2.5 inch hose connection nozzles with 7.5 threads per inch, and one 4.5 inch pumper connection nozzle with 4 threads per inch."]
[]
[]
[]
[]
[null,null,null,null,null,null,null,null,null,null,null,{"$f":"\"Page \" &L66","v":"Page 20"},null,null,null,null,null,null,null,null,null,{"$f":"\"Page \" &V66","v":"Page 21"}]
[null,null,null,null,null,null,null,null,null,null,null,{"$f":"'Sch 1'!I49+1","v":20},null,null,null,null,null,null,null,null,null,{"$f":"L66+1","v":21}]
[]
[]
[]
["Note: This page automatically populates with information from your annual report.",null,null,null,null,null,null,null,null,null,null,null,{"$f":"A70","v":"Note: This page automatically populates with information from your annual report."}]

{"sheet":"Sch 2 (b)","index":52,"n_rows":70,"n_cols":23,"rows_kept":70,"cut":false,"hidden":true,"merged":[[28,0,28,2],[34,13,41,20],[38,0,38,2],[38,4,38,5],[5,0,5,11],[5,13,5,20],[6,0,6,1],[6,2,6,3],[7,0,7,1],[9,13,9,15],[10,0,10,11],[24,0,24,11],[31,13,31,20],[33,13,33,20],[9,17,9,20],[69,0,70,11],[69,12,70,21],[43,13,43,20],[44,13,50,20],[52,13,52,20],[53,13,61,20],[59,0,59,11],[46,0,46,3],[46,5,46,8]]}
[{"$f":"'AR1'!$B$12","v":0},null,null,null,null,null,null,null,null,null,null,{"$f":"'Sch Title'!$A$17&\"b\"","v":"Schedule 2b"},{"$f":"'AR1'!$B$12","v":0},null,null,null,null,null,null,null,null,{"$f":"'Sch Title'!$A$17&\"b\"","v":"Schedule 2b"}]
[{"$f":"'Sch Title'!$A$2","v":"Short Form Rate Application"},null,null,null,null,null,null,null,null,null,null,{"$f":"\" Short Form Rate Application Page No. \"&L66","v":" Short Form Rate Application Page No. 20"},{"$f":"'Sch Title'!$A$2","v":"Short Form Rate Application"},null,null,null,null,null,null,null,null,{"$f":"\" Short Form Rate Application Page No. \"&V66","v":" Short Form Rate Application Page No. 21"}]
[{"$f":"Sch6_PltDesc","v":"WATER COMPANY PLANT DESCRIPTION "},null,null,null,null,null,null,null,null,null,null,null,{"$f":"Sch6_PltDesc","v":"WATER COMPANY PLANT DESCRIPTION "}]
[{"$f":"'Sch Title'!$A$4","v":"Test Year Ended 12/31/20"},null,null,null,null,null,null,null,null,null,null,null,{"$f":"'Sch Title'!$A$4","v":"Test Year Ended 12/31/20"},null,null,null,null,null,null,null,null,null,"Table of contents"]
[]
["WATER COMPANY PLANT DESCRIPTION ",null,null,null,null,null,null,null,null,null,null,null,null,"WATER COMPANY PLANT DESCRIPTION  (Continued)"]
["Name of the System:",null,{"$f":"'AR9 (b)'!C7","v":0}]
["ADEQ Public Water System Number",null,{"$f":"'AR9 (b)'!D8","v":""}]
["ADWR PCC Number:",null,{"$f":"'AR9 (b)'!D9","v":""}]
[null,null,null,null,null,null,null,null,null,null,null,null,null,"MAINS",null,null,null,"CUSTOMER METERS"]
["WELLS",null,null,null,null,null,null,null,null,null,null,null,null,"Size (in inches)","Material","Length (in feet)",null,"Size (in inches)","Quantity","Percent over 1,00,000 gallons","Percent over 10 years old"]
["Well registry 55# (55-XXXXXX):","Pump Horsepower","Pump Yield (gpm)","Casing Depth (feet)","Casing Diameter (inches)","Pump Motor Type **","Year Drilled","Water level 2010","Water level 2019","Meter Size (inches)","How measured:","Active",null,{"$f":"IF('AR9 (b)'!A13=\"\",\"\",'AR9 (b)'!A13)","v":""},{"$f":"IF('AR9 (b)'!B13=\"\",\"\",'AR9 (b)'!B13)","v":""},{"$f":"IF('AR9 (b)'!C13=\"\",\"\",'AR9 (b)'!C13)","v":""},null,{"$f":"IF('AR9 (b)'!F13=\"\",\"\",'AR9 (b)'!F13)","v":""},{"$f":"IF('AR9 (b)'!G13=\"\",\"\",'AR9 (b)'!G13)","v":""},{"$f":"IF('AR9 (b)'!H13=\"\",\"\",'AR9 (b)'!H13)","v":""},{"$f":"IF('AR9 (b)'!I13=\"\",\"\",'AR9 (b)'!I13)","v":""}]
[{"$f":"IF('AR8 (b)'!A11=\"\",\"\",'AR8 (b)'!A11)","v":""},{"$f":"IF('AR8 (b)'!B11=\"\",\"\",'AR8 (b)'!B11)","v":""},{"$f":"IF('AR8 (b)'!C11=\"\",\"\",'AR8 (b)'!C11)","v":""},{"$f":"IF('AR8 (b)'!D11=\"\",\"\",'AR8 (b)'!D11)","v":""},{"$f":"IF('AR8 (b)'!E11=\"\",\"\",'AR8 (b)'!E11)","v":""},{"$f":"IF('AR8 (b)'!F11=\"\",\"\",'AR8 (b)'!F11)","v":""},{"$f":"IF('AR8 (b)'!G11=\"\",\"\",'AR8 (b)'!G11)","v":""},null,null,{"$f":"IF('AR8 (b)'!J11=\"\",\"\",'AR8 (b)'!J11)","v":""},{"$f":"IF('AR8 (b)'!K11=\"\",\"\",'AR8 (b)'!K11)","v":""},{"$f":"IF('AR8 (b)'!L11=\"\",\"\",'AR8 (b)'!L11)","v":""},null,{"$f":"IF('AR9 (b)'!A14=\"\",\"\",'AR9 (b)'!A14)","v":""},{"$f":"IF('AR9 (b)'!B14=\"\",\"\",'AR9 (b)'!B14)","v":""},{"$f":"IF('AR9 (b)'!C14=\"\",\"\",'AR9 (b)'!C14)","v":""},null,{"$f":"IF('AR9 (b)'!F14=\"\",\"\",'AR9 (b)'!F14)","v":""},{"$f":"IF('AR9 (b)'!G14=\"\",\"\",'AR9 (b)'!G14)","v":""},{"$f":"IF('AR9 (b)'!H14=\"\",\"\",'AR9 (b)'!H14)","v":""},{"$f":"IF('AR9 (b)'!I14=\"\",\"\",'AR9 (b)'!I14)","v":""}]
[{"$f":"IF('AR8 (b)'!A12=\"\",\"\",'AR8 (b)'!A12)","v":""},{"$f":"IF('AR8 (b)'!B12=\"\",\"\",'AR8 (b)'!B12)","v":""},{"$f":"IF('AR8 (b)'!C12=\"\",\"\",'AR8 (b)'!C12)","v":""},{"$f":"IF('AR8 (b)'!D12=\"\",\"\",'AR8 (b)'!D12)","v":""},{"$f":"IF('AR8 (b)'!E12=\"\",\"\",'AR8 (b)'!E12)","v":""},{"$f":"IF('AR8 (b)'!F12=\"\",\"\",'AR8 (b)'!F12)","v":""},{"$f":"IF('AR8 (b)'!G12=\"\",\"\",'AR8 (b)'!G12)","v":""},null,null,{"$f":"IF('AR8 (b)'!J12=\"\",\"\",'AR8 (b)'!J12)","v":""},{"$f":"IF('AR8 (b)'!K12=\"\",\"\",'AR8 (b)'!K12)","v":""},{"$f":"IF('AR8 (b)'!L12=\"\",\"\",'AR8 (b)'!L12)","v":""},null,{"$f":"IF('AR9 (b)'!A15=\"\",\"\",'AR9 (b)'!A15)","v":""},{"$f":"IF('AR9 (b)'!B15=\"\",\"\",'AR9 (b)'!B15)","v":""},{"$f":"IF('AR9 (b)'!C15=\"\",\"\",'AR9 (b)'!C15)","v":""},null,{"$f":"IF('AR9 (b)'!F15=\"\",\"\",'AR9 (b)'!F15)","v":""},{"$f":"IF('AR9 (b)'!G15=\"\",\"\",'AR9 (b)'!G15)","v":""},{"$f":"IF('AR9 (b)'!H15=\"\",\"\",'AR9 (b)'!H15)","v":""},{"$f":"IF('AR9 (b)'!I15=\"\",\"\",'AR9 (b)'!I15)","v":""}]
[{"$f":"IF('AR8 (b)'!A13=\"\",\"\",'AR8 (b)'!A13)","v":""},{"$f":"IF('AR8 (b)'!B13=\"\",\"\",'AR8 (b)'!B13)","v":""},{"$f":"IF('AR8 (b)'!C13=\"\",\"\",'AR8 (b)'!C13)","v":""},{"$f":"IF('AR8 (b)'!D13=\"\",\"\",'AR8 (b)'!D13)","v":""},{"$f":"IF('AR8 (b)'!E13=\"\",\"\",'AR8 (b)'!E13)","v":""},{"$f":"IF('AR8 (b)'!F13=\"\",\"\",'AR8 (b)'!F13)","v":""},{"$f":"IF('AR8 (b)'!G13=\"\",\"\",'AR8 (b)'!G13)","v":""},null,null,{"$f":"IF('AR8 (b)'!J13=\"\",\"\",'AR8 (b)'!J13)","v":""},{"$f":"IF('AR8 (b)'!K13=\"\",\"\",'AR8 (b)'!K13)","v":""},{"$f":"IF('AR8 (b)'!L13=\"\",\"\",'AR8 (b)'!L13)","v":""},null,{"$f":"IF('AR9 (b)'!A16=\"\",\"\",'AR9 (b)'!A16)","v":""},{"$f":"IF('AR9 (b)'!B16=\"\",\"\",'AR9 (b)'!B16)","v":""},{"$f":"IF('AR9 (b)'!C16=\"\",\"\",'AR9 (b)'!C16)","v":""},null,{"$f":"IF('AR9 (b)'!F16=\"\",\"\",'AR9 (b)'!F16)","v":""},{"$f":"IF('AR9 (b)'!G16=\"\",\"\",'AR9 (b)'!G16)","v":""},{"$f":"IF('AR9 (b)'!H16=\"\",\"\",'AR9 (b)'!H16)","v":""},{"$f":"IF('AR9 (b)'!I16=\"\",\"\",'AR9 (b)'!I16)","v":""}]
[{"$f":"IF('AR8 (b)'!A14=\"\",\"\",'AR8 (b)'!A14)","v":""},{"$f":"IF('AR8 (b)'!B14=\"\",\"\",'AR8 (b)'!B14)","v":""},{"$f":"IF('AR8 (b)'!C14=\"\",\"\",'AR8 (b)'!C14)","v":""},{"$f":"IF('AR8 (b)'!D14=\"\",\"\",'AR8 (b)'!D14)","v":""},{"$f":"IF('AR8 (b)'!E14=\"\",\"\",'AR8 (b)'!E14)","v":""},{"$f":"IF('AR8 (b)'!F14=\"\",\"\",'AR8 (b)'!F14)","v":""},{"$f":"IF('AR8 (b)'!G14=\"\",\"\",'AR8 (b)'!G14)","v":""},null,null,{"$f":"IF('AR8 (b)'!J14=\"\",\"\",'AR8 (b)'!J14)","v":""},{"$f":"IF('AR8 (b)'!K14=\"\",\"\",'AR8 (b)'!K14)","v":""},{"$f":"IF('AR8 (b)'!L14=\"\",\"\",'AR8 (b)'!L14)","v":""},null,{"$f":"IF('AR9 (b)'!A17=\"\",\"\",'AR9 (b)'!A17)","v":""},{"$f":"IF('AR9 (b)'!B17=\"\",\"\",'AR9 (b)'!B17)","v":""},{"$f":"IF('AR9 (b)'!C17=\"\",\"\",'AR9 (b)'!C17)","v":""},null,{"$f":"IF('AR9 (b)'!F17=\"\",\"\",'AR9 (b)'!F17)","v":""},{"$f":"IF('AR9 (b)'!G17=\"\",\"\",'AR9 (b)'!G17)","v":""},{"$f":"IF('AR9 (b)'!H17=\"\",\"\",'AR9 (b)'!H17)","v":""},{"$f":"IF('AR9 (b)'!I17=\"\",\"\",'AR9 (b)'!I17)","v":""}]
[{"$f":"IF('AR8 (b)'!A15=\"\",\"\",'AR8 (b)'!A15)","v":""},{"$f":"IF('AR8 (b)'!B15=\"\",\"\",'AR8 (b)'!B15)","v":""},{"$f":"IF('AR8 (b)'!C15=\"\",\"\",'AR8 (b)'!C15)","v":""},{"$f":"IF('AR8 (b)'!D15=\"\",\"\",'AR8 (b)'!D15)","v":""},{"$f":"IF('AR8 (b)'!E15=\"\",\"\",'AR8 (b)'!E15)","v":""},{"$f":"IF('AR8 (b)'!F15=\"\",\"\",'AR8 (b)'!F15)","v":""},{"$f":"IF('AR8 (b)'!G15=\"\",\"\",'AR8 (b)'!G15)","v":""},null,null,{"$f":"IF('AR8 (b)'!J15=\"\",\"\",'AR8 (b)'!J15)","v":""},{"$f":"IF('AR8 (b)'!K15=\"\",\"\",'AR8 (b)'!K15)","v":""},{"$f":"IF('AR8 (b)'!L15=\"\",\"\",'AR8 (b)'!L15)","v":""},null,{"$f":"IF('AR9 (b)'!A18=\"\",\"\",'AR9 (b)'!A18)","v":""},{"$f":"IF('AR9 (b)'!B18=\"\",\"\",'AR9 (b)'!B18)","v":""},{"$f":"IF('AR9 (b)'!C18=\"\",\"\",'AR9 (b)'!C18)","v":""},null,{"$f":"IF('AR9 (b)'!F18=\"\",\"\",'AR9 (b)'!F18)","v":""},{"$f":"IF('AR9 (b)'!G18=\"\",\"\",'AR9 (b)'!G18)","v":""},{"$f":"IF('AR9 (b)'!H18=\"\",\"\",'AR9 (b)'!H18)","v":""},{"$f":"IF('AR9 (b)'!I18=\"\",\"\",'AR9 (b)'!I18)","v":""}]
[{"$f":"IF('AR8 (b)'!A16=\"\",\"\",'AR8 (b)'!A16)","v":""},{"$f":"IF('AR8 (b)'!B16=\"\",\"\",'AR8 (b)'!B16)","v":""},{"$f":"IF('AR8 (b)'!C16=\"\",\"\",'AR8 (b)'!C16)","v":""},{"$f":"IF('AR8 (b)'!D16=\"\",\"\",'AR8 (b)'!D16)","v":""},{"$f":"IF('AR8 (b)'!E16=\"\",\"\",'AR8 (b)'!E16)","v":""},{"$f":"IF('AR8 (b)'!F16=\"\",\"\",'AR8 (b)'!F16)","v":""},{"$f":"IF('AR8 (b)'!G16=\"\",\"\",'AR8 (b)'!G16)","v":""},null,null,{"$f":"IF('AR8 (b)'!J16=\"\",\"\",'AR8 (b)'!J16)","v":""},{"$f":"IF('AR8 (b)'!K16=\"\",\"\",'AR8 (b)'!K16)","v":""},{"$f":"IF('AR8 (b)'!L16=\"\",\"\",'AR8 (b)'!L16)","v":""},null,{"$f":"IF('AR9 (b)'!A19=\"\",\"\",'AR9 (b)'!A19)","v":""},{"$f":"IF('AR9 (b)'!B19=\"\",\"\",'AR9 (b)'!B19)","v":""},{"$f":"IF('AR9 (b)'!C19=\"\",\"\",'AR9 (b)'!C19)","v":""},null,{"$f":"IF('AR9 (b)'!F19=\"\",\"\",'AR9 (b)'!F19)","v":""},{"$f":"IF('AR9 (b)'!G19=\"\",\"\",'AR9 (b)'!G19)","v":""},{"$f":"IF('AR9 (b)'!H19=\"\",\"\",'AR9 (b)'!H19)","v":""},{"$f":"IF('AR9 (b)'!I19=\"\",\"\",'AR9 (b)'!I19)","v":""}]
[{"$f":"IF('AR8 (b)'!A17=\"\",\"\",'AR8 (b)'!A17)","v":""},{"$f":"IF('AR8 (b)'!B17=\"\",\"\",'AR8 (b)'!B17)","v":""},{"$f":"IF('AR8 (b)'!C17=\"\",\"\",'AR8 (b)'!C17)","v":""},{"$f":"IF('AR8 (b)'!D17=\"\",\"\",'AR8 (b)'!D17)","v":""},{"$f":"IF('AR8 (b)'!E17=\"\",\"\",'AR8 (b)'!E17)","v":""},{"$f":"IF('AR8 (b)'!F17=\"\",\"\",'AR8 (b)'!F17)","v":""},{"$f":"IF('AR8 (b)'!G17=\"\",\"\",'AR8 (b)'!G17)","v":""},null,null,{"$f":"IF('AR8 (b)'!J17=\"\",\"\",'AR8 (b)'!J17)","v":""},{"$f":"IF('AR8 (b)'!K17=\"\",\"\",'AR8 (b)'!K17)","v":""},{"$f":"IF('AR8 (b)'!L17=\"\",\"\",'AR8 (b)'!L17)","v":""},null,{"$f":"IF('AR9 (b)'!A20=\"\",\"\",'AR9 (b)'!A20)","v":""},{"$f":"IF('AR9 (b)'!B20=\"\",\"\",'AR9 (b)'!B20)","v":""},{"$f":"IF('AR9 (b)'!C20=\"\",\"\",'AR9 (b)'!C20)","v":""},null,{"$f":"IF('AR9 (b)'!F20=\"\",\"\",'AR9 (b)'!F20)","v":""},{"$f":"IF('AR9 (b)'!G20=\"\",\"\",'AR9 (b)'!G20)","v":""},{"$f":"IF('AR9 (b)'!H20=\"\",\"\",'AR9 (b)'!H20)","v":""},{"$f":"IF('AR9 (b)'!I20=\"\",\"\",'AR9 (b)'!I20)","v":""}]
[{"$f":"IF('AR8 (b)'!A18=\"\",\"\",'AR8 (b)'!A18)","v":""},{"$f":"IF('AR8 (b)'!B18=\"\",\"\",'AR8 (b)'!B18)","v":""},{"$f":"IF('AR8 (b)'!C18=\"\",\"\",'AR8 (b)'!C18)","v":""},{"$f":"IF('AR8 (b)'!D18=\"\",\"\",'AR8 (b)'!D18)","v":""},{"$f":"IF('AR8 (b)'!E18=\"\",\"\",'AR8 (b)'!E18)","v":""},{"$f":"IF('AR8 (b)'!F18=\"\",\"\",'AR8 (b)'!F18)","v":""},{"$f":"IF('AR8 (b)'!G18=\"\",\"\",'AR8 (b)'!G18)","v":""},null,null,{"$f":"IF('AR8 (b)'!J18=\"\",\"\",'AR8 (b)'!J18)","v":""},{"$f":"IF('AR8 (b)'!K18=\"\",\"\",'AR8 (b)'!K18)","v":""},{"$f":"IF('AR8 (b)'!L18=\"\",\"\",'AR8 (b)'!L18)","v":""},null,{"$f":"IF('AR9 (b)'!A21=\"\",\"\",'AR9 (b)'!A21)","v":""},{"$f":"IF('AR9 (b)'!B21=\"\",\"\",'AR9 (b)'!B21)","v":""},{"$f":"IF('AR9 (b)'!C21=\"\",\"\",'AR9 (b)'!C21)","v":""},null,{"$f":"IF('AR9 (b)'!F21=\"\",\"\",'AR9 (b)'!F21)","v":""},{"$f":"IF('AR9 (b)'!G21=\"\",\"\",'AR9 (b)'!G21)","v":""},{"$f":"IF('AR9 (b)'!H21=\"\",\"\",'AR9 (b)'!H21)","v":""},{"$f":"IF('AR9 (b)'!I21=\"\",\"\",'AR9 (b)'!I21)","v":""}]
[{"$f":"IF('AR8 (b)'!A19=\"\",\"\",'AR8 (b)'!A19)","v":""},{"$f":"IF('AR8 (b)'!B19=\"\",\"\",'AR8 (b)'!B19)","v":""},{"$f":"IF('AR8 (b)'!C19=\"\",\"\",'AR8 (b)'!C19)","v":""},{"$f":"IF('AR8 (b)'!D19=\"\",\"\",'AR8 (b)'!D19)","v":""},{"$f":"IF('AR8 (b)'!E19=\"\",\"\",'AR8 (b)'!E19)","v":""},{"$f":"IF('AR8 (b)'!F19=\"\",\"\",'AR8 (b)'!F19)","v":""},{"$f":"IF('AR8 (b)'!G19=\"\",\"\",'AR8 (b)'!G19)","v":""},null,null,{"$f":"IF('AR8 (b)'!J19=\"\",\"\",'AR8 (b)'!J19)","v":""},{"$f":"IF('AR8 (b)'!K19=\"\",\"\",'AR8 (b)'!K19)","v":""},{"$f":"IF('AR8 (b)'!L19=\"\",\"\",'AR8 (b)'!L19)","v":""},null,{"$f":"IF('AR9 (b)'!A22=\"\",\"\",'AR9 (b)'!A22)","v":""},{"$f":"IF('AR9 (b)'!B22=\"\",\"\",'AR9 (b)'!B22)","v":""},{"$f":"IF('AR9 (b)'!C22=\"\",\"\",'AR9 (b)'!C22)","v":""},null,{"$f":"IF('AR9 (b)'!F22=\"\",\"\",'AR9 (b)'!F22)","v":""},{"$f":"IF('AR9 (b)'!G22=\"\",\"\",'AR9 (b)'!G22)","v":""},{"$f":"IF('AR9 (b)'!H22=\"\",\"\",'AR9 (b)'!H22)","v":""},{"$f":"IF('AR9 (b)'!I22=\"\",\"\",'AR9 (b)'!I22)","v":""}]
[{"$f":"IF('AR8 (b)'!A20=\"\",\"\",'AR8 (b)'!A20)","v":""},{"$f":"IF('AR8 (b)'!B20=\"\",\"\",'AR8 (b)'!B20)","v":""},{"$f":"IF('AR8 (b)'!C20=\"\",\"\",'AR8 (b)'!C20)","v":""},{"$f":"IF('AR8 (b)'!D20=\"\",\"\",'AR8 (b)'!D20)","v":""},{"$f":"IF('AR8 (b)'!E20=\"\",\"\",'AR8 (b)'!E20)","v":""},{"$f":"IF('AR8 (b)'!F20=\"\",\"\",'AR8 (b)'!F20)","v":""},{"$f":"IF('AR8 (b)'!G20=\"\",\"\",'AR8 (b)'!G20)","v":""},null,null,{"$f":"IF('AR8 (b)'!J20=\"\",\"\",'AR8 (b)'!J20)","v":""},{"$f":"IF('AR8 (b)'!K20=\"\",\"\",'AR8 (b)'!K20)","v":""},{"$f":"IF('AR8 (b)'!L20=\"\",\"\",'AR8 (b)'!L20)","v":""},null,{"$f":"IF('AR9 (b)'!A23=\"\",\"\",'AR9 (b)'!A23)","v":""},{"$f":"IF('AR9 (b)'!B23=\"\",\"\",'AR9 (b)'!B23)","v":""},{"$f":"IF('AR9 (b)'!C23=\"\",\"\",'AR9 (b)'!C23)","v":""},null,{"$f":"IF('AR9 (b)'!F23=\"\",\"\",'AR9 (b)'!F23)","v":""},{"$f":"IF('AR9 (b)'!G23=\"\",\"\",'AR9 (b)'!G23)","v":""},{"$f":"IF('AR9 (b)'!H23=\"\",\"\",'AR9 (b)'!H23)","v":""},{"$f":"IF('AR9 (b)'!I23=\"\",\"\",'AR9 (b)'!I23)","v":""}]
[{"$f":"IF('AR8 (b)'!A21=\"\",\"\",'AR8 (b)'!A21)","v":""},{"$f":"IF('AR8 (b)'!B21=\"\",\"\",'AR8 (b)'!B21)","v":""},{"$f":"IF('AR8 (b)'!C21=\"\",\"\",'AR8 (b)'!C21)","v":""},{"$f":"IF('AR8 (b)'!D21=\"\",\"\",'AR8 (b)'!D21)","v":""},{"$f":"IF('AR8 (b)'!E21=\"\",\"\",'AR8 (b)'!E21)","v":""},{"$f":"IF('AR8 (b)'!F21=\"\",\"\",'AR8 (b)'!F21)","v":""},{"$f":"IF('AR8 (b)'!G21=\"\",\"\",'AR8 (b)'!G21)","v":""},null,null,{"$f":"IF('AR8 (b)'!J21=\"\",\"\",'AR8 (b)'!J21)","v":""},{"$f":"IF('AR8 (b)'!K21=\"\",\"\",'AR8 (b)'!K21)","v":""},{"$f":"IF('AR8 (b)'!L21=\"\",\"\",'AR8 (b)'!L21)","v":""},null,{"$f":"IF('AR9 (b)'!A24=\"\",\"\",'AR9 (b)'!A24)","v":""},{"$f":"IF('AR9 (b)'!B24=\"\",\"\",'AR9 (b)'!B24)","v":""},{"$f":"IF('AR9 (b)'!C24=\"\",\"\",'AR9 (b)'!C24)","v":""},null,{"$f":"IF('AR9 (b)'!F24=\"\",\"\",'AR9 (b)'!F24)","v":""},{"$f":"IF('AR9 (b)'!G24=\"\",\"\",'AR9 (b)'!G24)","v":""},{"$f":"IF('AR9 (b)'!H24=\"\",\"\",'AR9 (b)'!H24)","v":""},{"$f":"IF('AR9 (b)'!I24=\"\",\"\",'AR9 (b)'!I24)","v":""}]
[{"$f":"IF('AR8 (b)'!A22=\"\",\"\",'AR8 (b)'!A22)","v":""},{"$f":"IF('AR8 (b)'!B22=\"\",\"\",'AR8 (b)'!B22)","v":""},{"$f":"IF('AR8 (b)'!C22=\"\",\"\",'AR8 (b)'!C22)","v":""},{"$f":"IF('AR8 (b)'!D22=\"\",\"\",'AR8 (b)'!D22)","v":""},{"$f":"IF('AR8 (b)'!E22=\"\",\"\",'AR8 (b)'!E22)","v":""},{"$f":"IF('AR8 (b)'!F22=\"\",\"\",'AR8 (b)'!F22)","v":""},{"$f":"IF('AR8 (b)'!G22=\"\",\"\",'AR8 (b)'!G22)","v":""},null,null,{"$f":"IF('AR8 (b)'!J22=\"\",\"\",'AR8 (b)'!J22)","v":""},{"$f":"IF('AR8 (b)'!K22=\"\",\"\",'AR8 (b)'!K22)","v":""},{"$f":"IF('AR8 (b)'!L22=\"\",\"\",'AR8 (b)'!L22)","v":""},null,{"$f":"IF('AR9 (b)'!A25=\"\",\"\",'AR9 (b)'!A25)","v":""},{"$f":"IF('AR9 (b)'!B25=\"\",\"\",'AR9 (b)'!B25)","v":""},{"$f":"IF('AR9 (b)'!C25=\"\",\"\",'AR9 (b)'!C25)","v":""},null,{"$f":"IF('AR9 (b)'!F25=\"\",\"\",'AR9 (b)'!F25)","v":""},{"$f":"IF('AR9 (b)'!G25=\"\",\"\",'AR9 (b)'!G25)","v":""},{"$f":"IF('AR9 (b)'!H25=\"\",\"\",'AR9 (b)'!H25)","v":""},{"$f":"IF('AR9 (b)'!I25=\"\",\"\",'AR9 (b)'!I25)","v":""}]
["* Arizona Department of Water Resources Identification Number",null,null,null,null,null,null,null,null,null,null,null,null,null,null,null,null,{"$f":"IF('AR9 (b)'!F26=\"\",\"\",'AR9 (b)'!F26)","v":""},{"$f":"IF('AR9 (b)'!G26=\"\",\"\",'AR9 (b)'!G26)","v":""},{"$f":"IF('AR9 (b)'!H26=\"\",\"\",'AR9 (b)'!H26)","v":""},{"$f":"IF('AR9 (b)'!I26=\"\",\"\",'AR9 (b)'!I26)","v":""}]
[null,null,null,null,null,null,null,null,null,null,null,null,null,null,null,null,null,{"$f":"IF('AR9 (b)'!F27=\"\",\"\",'AR9 (b)'!F27)","v":""},{"$f":"IF('AR9 (b)'!G27=\"\",\"\",'AR9 (b)'!G27)","v":""},{"$f":"IF('AR9 (b)'!H27=\"\",\"\",'AR9 (b)'!H27)","v":""},{"$f":"IF('AR9 (b)'!I27=\"\",\"\",'AR9 (b)'!I27)","v":""}]
[null,null,null,null,null,null,null,null,null,null,null,null,null,null,null,null,null,{"$f":"IF('AR9 (b)'!F28=\"\",\"\",'AR9 (b)'!F28)","v":""},{"$f":"IF('AR9 (b)'!G28=\"\",\"\",'AR9 (b)'!G28)","v":""},{"$f":"IF('AR9 (b)'!H28=\"\",\"\",'AR9 (b)'!H28)","v":""},{"$f":"IF('AR9 (b)'!I28=\"\",\"\",'AR9 (b)'!I28)","v":""}]
[null,null,null,null,null,null,null,null,null,null,null,null,null,null,null,null,null,{"$f":"IF('AR9 (b)'!F29=\"\",\"\",'AR9 (b)'!F29)","v":""},{"$f":"IF('AR9 (b)'!G29=\"\",\"\",'AR9 (b)'!G29)","v":""},{"$f":"IF('AR9 (b)'!H29=\"\",\"\",'AR9 (b)'!H29)","v":""},{"$f":"IF('AR9 (b)'!I29=\"\",\"\",'AR9 (b)'!I29)","v":""}]
["SERVICE LINES"]
["Material","Percent of system","Year installed"]
[{"$f":"IF('AR9 (b)'!B30=\"\",\"\",'AR9 (b)'!B30)","v":""},{"$f":"IF('AR9 (b)'!C30=\"\",\"\",'AR9 (b)'!C30)","v":""},{"$f":"IF('AR9 (b)'!D30=\"\",\"\",'AR9 (b)'!D30)","v":""}]
[{"$f":"IF('AR9 (b)'!B31=\"\",\"\",'AR9 (b)'!B31)","v":""},{"$f":"IF('AR9 (b)'!C31=\"\",\"\",'AR9 (b)'!C31)","v":""},{"$f":"IF('AR9 (b)'!D31=\"\",\"\",'AR9 (b)'!D31)","v":""},null,null,null,null,null,null,null,null,null,null,"For the following three items, please list the utility owned assets in each category."]
[{"$f":"IF('AR9 (b)'!B32=\"\",\"\",'AR9 (b)'!B32)","v":""},{"$f":"IF('AR9 (b)'!C32=\"\",\"\",'AR9 (b)'!C32)","v":""},{"$f":"IF('AR9 (b)'!D32=\"\",\"\",'AR9 (b)'!D32)","v":""}]
[{"$f":"IF('AR9 (b)'!B33=\"\",\"\",'AR9 (b)'!B33)","v":""},{"$f":"IF('AR9 (b)'!C33=\"\",\"\",'AR9 (b)'!C33)","v":""},{"$f":"IF('AR9 (b)'!D33=\"\",\"\",'AR9 (b)'!D33)","v":""},null,null,null,null,null,null,null,null,null,null,"TREATMENT EQUIPMENT:"]
[{"$f":"IF('AR9 (b)'!B34=\"\",\"\",'AR9 (b)'!B34)","v":""},{"$f":"IF('AR9 (b)'!C34=\"\",\"\",'AR9 (b)'!C34)","v":""},{"$f":"IF('AR9 (b)'!D34=\"\",\"\",'AR9 (b)'!D34)","v":""},null,null,null,null,null,null,null,null,null,null,{"$f":"IF('AR9 (b)'!M11=\"\",\"\",'AR9 (b)'!M11)","v":""}]
[]
[]
[]
["BOOSTER PUMPS",null,null,null,"FIRE HYDRANTS"]
["Horsepower","GPM","Quantity",null,"Quantity Standard*","Quantity Other"]
[{"$f":"IF('AR9 (b)'!A39=\"\",\"\",'AR9 (b)'!A39)","v":""},{"$f":"IF('AR9 (b)'!B39=\"\",\"\",'AR9 (b)'!B39)","v":""},{"$f":"IF('AR9 (b)'!C39=\"\",\"\",'AR9 (b)'!C39)","v":""},null,"Standard *",{"$f":"IF('AR9 (b)'!G39=\"\",\"\",'AR9 (b)'!G39)","v":""}]
[{"$f":"IF('AR9 (b)'!A40=\"\",\"\",'AR9 (b)'!A40)","v":""},{"$f":"IF('AR9 (b)'!B40=\"\",\"\",'AR9 (b)'!B40)","v":""},{"$f":"IF('AR9 (b)'!C40=\"\",\"\",'AR9 (b)'!C40)","v":""},null,"Other",{"$f":"IF('AR9 (b)'!G40=\"\",\"\",'AR9 (b)'!G40)","v":""}]
[{"$f":"IF('AR9 (b)'!A41=\"\",\"\",'AR9 (b)'!A41)","v":""},{"$f":"IF('AR9 (b)'!B41=\"\",\"\",'AR9 (b)'!B41)","v":""},{"$f":"IF('AR9 (b)'!C41=\"\",\"\",'AR9 (b)'!C41)","v":""}]
[{"$f":"IF('AR9 (b)'!A42=\"\",\"\",'AR9 (b)'!A42)","v":""},{"$f":"IF('AR9 (b)'!B42=\"\",\"\",'AR9 (b)'!B42)","v":""},{"$f":"IF('AR9 (b)'!C42=\"\",\"\",'AR9 (b)'!C42)","v":""},null,null,null,null,null,null,null,null,null,null,"STRUCTURES:"]
[null,null,null,null,null,null,null,null,null,null,null,null,null,{"$f":"IF('AR9 (b)'!M17=\"\",\"\",'AR9 (b)'!M17)","v":""}]
[]
["STORAGE TANKS",null,null,null,null,"PRESSURE/BLADDER TANKS"]
["Capacity (gallons)","Material","Quantity","Year installed",null,"Capacity (gallons)","Material","Quantity","Year installed"]
[{"$f":"IF('AR9 (b)'!A46=\"\",\"\",'AR9 (b)'!A46)","v":""},{"$f":"IF('AR9 (b)'!B46=\"\",\"\",'AR9 (b)'!B46)","v":""},{"$f":"IF('AR9 (b)'!C46=\"\",\"\",'AR9 (b)'!C46)","v":""},{"$f":"IF('AR9 (b)'!D46=\"\",\"\",'AR9 (b)'!D46)","v":""},null,{"$f":"IF('AR9 (b)'!F46=\"\",\"\",'AR9 (b)'!F46)","v":""},{"$f":"IF('AR9 (b)'!G46=\"\",\"\",'AR9 (b)'!G46)","v":""},{"$f":"IF('AR9 (b)'!H46=\"\",\"\",'AR9 (b)'!H46)","v":""},{"$f":"IF('AR9 (b)'!I46=\"\",\"\",'AR9 (b)'!I46)","v":""}]
[{"$f":"IF('AR9 (b)'!A47=\"\",\"\",'AR9 (b)'!A47)","v":""},{"$f":"IF('AR9 (b)'!B47=\"\",\"\",'AR9 (b)'!B47)","v":""},{"$f":"IF('AR9 (b)'!C47=\"\",\"\",'AR9 (b)'!C47)","v":""},{"$f":"IF('AR9 (b)'!D47=\"\",\"\",'AR9 (b)'!D47)","v":""},null,{"$f":"IF('AR9 (b)'!F47=\"\",\"\",'AR9 (b)'!F47)","v":""},{"$f":"IF('AR9 (b)'!G47=\"\",\"\",'AR9 (b)'!G47)","v":""},{"$f":"IF('AR9 (b)'!H47=\"\",\"\",'AR9 (b)'!H47)","v":""},{"$f":"IF('AR9 (b)'!I47=\"\",\"\",'AR9 (b)'!I47)","v":""}]
[{"$f":"IF('AR9 (b)'!A48=\"\",\"\",'AR9 (b)'!A48)","v":""},{"$f":"IF('AR9 (b)'!B48=\"\",\"\",'AR9 (b)'!B48)","v":""},{"$f":"IF('AR9 (b)'!C48=\"\",\"\",'AR9 (b)'!C48)","v":""},{"$f":"IF('AR9 (b)'!D48=\"\",\"\",'AR9 (b)'!D48)","v":""},null,{"$f":"IF('AR9 (b)'!F48=\"\",\"\",'AR9 (b)'!F48)","v":""},{"$f":"IF('AR9 (b)'!G48=\"\",\"\",'AR9 (b)'!G48)","v":""},{"$f":"IF('AR9 (b)'!H48=\"\",\"\",'AR9 (b)'!H48)","v":""},{"$f":"IF('AR9 (b)'!I48=\"\",\"\",'AR9 (b)'!I48)","v":""}]
[{"$f":"IF('AR9 (b)'!A49=\"\",\"\",'AR9 (b)'!A49)","v":""},{"$f":"IF('AR9 (b)'!B49=\"\",\"\",'AR9 (b)'!B49)","v":""},{"$f":"IF('AR9 (b)'!C49=\"\",\"\",'AR9 (b)'!C49)","v":""},{"$f":"IF('AR9 (b)'!D49=\"\",\"\",'AR9 (b)'!D49)","v":""},null,{"$f":"IF('AR9 (b)'!F49=\"\",\"\",'AR9 (b)'!F49)","v":""},{"$f":"IF('AR9 (b)'!G49=\"\",\"\",'AR9 (b)'!G49)","v":""},{"$f":"IF('AR9 (b)'!H49=\"\",\"\",'AR9 (b)'!H49)","v":""},{"$f":"IF('AR9 (b)'!I49=\"\",\"\",'AR9 (b)'!I49)","v":""}]
[{"$f":"IF('AR9 (b)'!A50=\"\",\"\",'AR9 (b)'!A50)","v":""},{"$f":"IF('AR9 (b)'!B50=\"\",\"\",'AR9 (b)'!B50)","v":""},{"$f":"IF('AR9 (b)'!C50=\"\",\"\",'AR9 (b)'!C50)","v":""},{"$f":"IF('AR9 (b)'!D50=\"\",\"\",'AR9 (b)'!D50)","v":""},null,{"$f":"IF('AR9 (b)'!F50=\"\",\"\",'AR9 (b)'!F50)","v":""},{"$f":"IF('AR9 (b)'!G50=\"\",\"\",'AR9 (b)'!G50)","v":""},{"$f":"IF('AR9 (b)'!H50=\"\",\"\",'AR9 (b)'!H50)","v":""},{"$f":"IF('AR9 (b)'!I50=\"\",\"\",'AR9 (b)'!I50)","v":""},null,null,null,null,"OTHER:"]
[{"$f":"IF('AR9 (b)'!A51=\"\",\"\",'AR9 (b)'!A51)","v":""},{"$f":"IF('AR9 (b)'!B51=\"\",\"\",'AR9 (b)'!B51)","v":""},{"$f":"IF('AR9 (b)'!C51=\"\",\"\",'AR9 (b)'!C51)","v":""},{"$f":"IF('AR9 (b)'!D51=\"\",\"\",'AR9 (b)'!D51)","v":""},null,{"$f":"IF('AR9 (b)'!F51=\"\",\"\",'AR9 (b)'!F51)","v":""},{"$f":"IF('AR9 (b)'!G51=\"\",\"\",'AR9 (b)'!G51)","v":""},{"$f":"IF('AR9 (b)'!H51=\"\",\"\",'AR9 (b)'!H51)","v":""},{"$f":"IF('AR9 (b)'!I51=\"\",\"\",'AR9 (b)'!I51)","v":""},null,null,null,null,{"$f":"IF('AR9 (b)'!M23=\"\",\"\",'AR9 (b)'!M23)","v":""}]
[]
[]
[]
[]
[]
["* - A standard fire hydrant has two 2.5 inch hose connection nozzles with 7.5 threads per inch, and one 4.5 inch pumper connection nozzle with 4 threads per inch."]
[]
[]
[]
[]
[null,null,null,null,null,null,null,null,null,null,null,{"$f":"\"Page \" &L66&\"b\"","v":"Page 20b"},null,null,null,null,null,null,null,null,null,{"$f":"\"Page \" &V66&\"b\"","v":"Page 21b"}]
[null,null,null,null,null,null,null,null,null,null,null,{"$f":"'Sch 1'!I49+1","v":20},null,null,null,null,null,null,null,null,null,{"$f":"L66+1","v":21}]
[]
[]
[]
["Note: This page automatically populates with information from your annual report.",null,null,null,null,null,null,null,null,null,null,null,{"$f":"A70","v":"Note: This page automatically populates with information from your annual report."}]

{"sheet":"Sch 2 (c)","index":53,"n_rows":69,"n_cols":23,"rows_kept":69,"cut":false,"hidden":true,"merged":[[9,17,9,20],[34,13,41,20],[38,0,38,2],[38,4,38,5],[5,0,5,11],[5,13,5,20],[6,0,6,1],[6,2,6,3],[7,0,7,1],[9,13,9,15],[10,0,10,11],[24,0,24,11],[31,13,31,20],[33,13,33,20],[28,0,28,2],[64,0,65,11],[64,12,65,21],[43,13,43,20],[44,13,50,20],[52,13,52,20],[53,13,61,20],[59,0,59,11],[46,0,46,3],[46,5,46,8]]}
[{"$f":"'AR1'!$B$12","v":0},null,null,null,null,null,null,null,null,null,null,{"$f":"'Sch Title'!$A$17&\"c\"","v":"Schedule 2c"},{"$f":"'AR1'!$B$12","v":0},null,null,null,null,null,null,null,null,{"$f":"'Sch Title'!$A$17&\"c\"","v":"Schedule 2c"}]
[{"$f":"'Sch Title'!$A$2","v":"Short Form Rate Application"},null,null,null,null,null,null,null,null,null,null,{"$f":"\" Short Form Rate Application Page No. \"&L69","v":" Short Form Rate Application Page No. 20"},{"$f":"'Sch Title'!$A$2","v":"Short Form Rate Application"},null,null,null,null,null,null,null,null,{"$f":"\" Short Form Rate Application Page No. \"&V69","v":" Short Form Rate Application Page No. 21"}]
[{"$f":"Sch6_PltDesc","v":"WATER COMPANY PLANT DESCRIPTION "},null,null,null,null,null,null,null,null,null,null,null,{"$f":"Sch6_PltDesc","v":"WATER COMPANY PLANT DESCRIPTION "}]
[{"$f":"'Sch Title'!$A$4","v":"Test Year Ended 12/31/20"},null,null,null,null,null,null,null,null,null,null,null,{"$f":"'Sch Title'!$A$4","v":"Test Year Ended 12/31/20"},null,null,null,null,null,null,null,null,null,"Table of contents"]
[]
["WATER COMPANY PLANT DESCRIPTION ",null,null,null,null,null,null,null,null,null,null,null,null,"WATER COMPANY PLANT DESCRIPTION  (Continued)"]
["Name of the System:",null,{"$f":"'AR9 (c)'!C7","v":0}]
["ADEQ Public Water System Number",null,{"$f":"'AR9 (c)'!D8","v":""}]
["ADWR PCC Number:",null,{"$f":"'AR9 (c)'!D9","v":""}]
[null,null,null,null,null,null,null,null,null,null,null,null,null,"MAINS",null,null,null,"CUSTOMER METERS"]
["WELLS",null,null,null,null,null,null,null,null,null,null,null,null,"Size (in inches)","Material","Length (in feet)",null,"Size (in inches)","Quantity","Percent over 1,00,000 gallons","Percent over 10 years old"]
["Well registry 55# (55-XXXXXX):","Pump Horsepower","Pump Yield (gpm)","Casing Depth (feet)","Casing Diameter (inches)","Pump Motor Type **","Year Drilled","Water level 2010","Water level 2019","Meter Size (inches)","How measured:","Active",null,{"$f":"IF('AR9 (c)'!A13=\"\",\"\",'AR9 (c)'!A13)","v":""},{"$f":"IF('AR9 (c)'!B13=\"\",\"\",'AR9 (c)'!B13)","v":""},{"$f":"IF('AR9 (c)'!C13=\"\",\"\",'AR9 (c)'!C13)","v":""},null,{"$f":"IF('AR9 (c)'!F13=\"\",\"\",'AR9 (c)'!F13)","v":""},{"$f":"IF('AR9 (c)'!G13=\"\",\"\",'AR9 (c)'!G13)","v":""},{"$f":"IF('AR9 (c)'!H13=\"\",\"\",'AR9 (c)'!H13)","v":""},{"$f":"IF('AR9 (c)'!I13=\"\",\"\",'AR9 (c)'!I13)","v":""}]
[{"$f":"IF('AR8 (c)'!A11=\"\",\"\",'AR8 (c)'!A11)","v":""},{"$f":"IF('AR8 (c)'!B11=\"\",\"\",'AR8 (c)'!B11)","v":""},{"$f":"IF('AR8 (c)'!C11=\"\",\"\",'AR8 (c)'!C11)","v":""},{"$f":"IF('AR8 (c)'!D11=\"\",\"\",'AR8 (c)'!D11)","v":""},{"$f":"IF('AR8 (c)'!E11=\"\",\"\",'AR8 (c)'!E11)","v":""},{"$f":"IF('AR8 (c)'!F11=\"\",\"\",'AR8 (c)'!F11)","v":""},{"$f":"IF('AR8 (c)'!G11=\"\",\"\",'AR8 (c)'!G11)","v":""},{"$f":"IF('AR8 (c)'!H11=\"\",\"\",'AR8 (c)'!H11)","v":""},{"$f":"IF('AR8 (c)'!I11=\"\",\"\",'AR8 (c)'!I11)","v":""},{"$f":"IF('AR8 (c)'!J11=\"\",\"\",'AR8 (c)'!J11)","v":""},{"$f":"IF('AR8 (c)'!K11=\"\",\"\",'AR8 (c)'!K11)","v":""},{"$f":"IF('AR8 (c)'!L11=\"\",\"\",'AR8 (c)'!L11)","v":""},null,{"$f":"IF('AR9 (c)'!A14=\"\",\"\",'AR9 (c)'!A14)","v":""},{"$f":"IF('AR9 (c)'!B14=\"\",\"\",'AR9 (c)'!B14)","v":""},{"$f":"IF('AR9 (c)'!C14=\"\",\"\",'AR9 (c)'!C14)","v":""},null,{"$f":"IF('AR9 (c)'!F14=\"\",\"\",'AR9 (c)'!F14)","v":""},{"$f":"IF('AR9 (c)'!G14=\"\",\"\",'AR9 (c)'!G14)","v":""},{"$f":"IF('AR9 (c)'!H14=\"\",\"\",'AR9 (c)'!H14)","v":""},{"$f":"IF('AR9 (c)'!I14=\"\",\"\",'AR9 (c)'!I14)","v":""}]
[{"$f":"IF('AR8 (c)'!A12=\"\",\"\",'AR8 (c)'!A12)","v":""},{"$f":"IF('AR8 (c)'!B12=\"\",\"\",'AR8 (c)'!B12)","v":""},{"$f":"IF('AR8 (c)'!C12=\"\",\"\",'AR8 (c)'!C12)","v":""},{"$f":"IF('AR8 (c)'!D12=\"\",\"\",'AR8 (c)'!D12)","v":""},{"$f":"IF('AR8 (c)'!E12=\"\",\"\",'AR8 (c)'!E12)","v":""},{"$f":"IF('AR8 (c)'!F12=\"\",\"\",'AR8 (c)'!F12)","v":""},{"$f":"IF('AR8 (c)'!G12=\"\",\"\",'AR8 (c)'!G12)","v":""},{"$f":"IF('AR8 (c)'!H12=\"\",\"\",'AR8 (c)'!H12)","v":""},{"$f":"IF('AR8 (c)'!I12=\"\",\"\",'AR8 (c)'!I12)","v":""},{"$f":"IF('AR8 (c)'!J12=\"\",\"\",'AR8 (c)'!J12)","v":""},{"$f":"IF('AR8 (c)'!K12=\"\",\"\",'AR8 (c)'!K12)","v":""},{"$f":"IF('AR8 (c)'!L12=\"\",\"\",'AR8 (c)'!L12)","v":""},null,{"$f":"IF('AR9 (c)'!A15=\"\",\"\",'AR9 (c)'!A15)","v":""},{"$f":"IF('AR9 (c)'!B15=\"\",\"\",'AR9 (c)'!B15)","v":""},{"$f":"IF('AR9 (c)'!C15=\"\",\"\",'AR9 (c)'!C15)","v":""},null,{"$f":"IF('AR9 (c)'!F15=\"\",\"\",'AR9 (c)'!F15)","v":""},{"$f":"IF('AR9 (c)'!G15=\"\",\"\",'AR9 (c)'!G15)","v":""},{"$f":"IF('AR9 (c)'!H15=\"\",\"\",'AR9 (c)'!H15)","v":""},{"$f":"IF('AR9 (c)'!I15=\"\",\"\",'AR9 (c)'!I15)","v":""}]
[{"$f":"IF('AR8 (c)'!A13=\"\",\"\",'AR8 (c)'!A13)","v":""},{"$f":"IF('AR8 (c)'!B13=\"\",\"\",'AR8 (c)'!B13)","v":""},{"$f":"IF('AR8 (c)'!C13=\"\",\"\",'AR8 (c)'!C13)","v":""},{"$f":"IF('AR8 (c)'!D13=\"\",\"\",'AR8 (c)'!D13)","v":""},{"$f":"IF('AR8 (c)'!E13=\"\",\"\",'AR8 (c)'!E13)","v":""},{"$f":"IF('AR8 (c)'!F13=\"\",\"\",'AR8 (c)'!F13)","v":""},{"$f":"IF('AR8 (c)'!G13=\"\",\"\",'AR8 (c)'!G13)","v":""},{"$f":"IF('AR8 (c)'!H13=\"\",\"\",'AR8 (c)'!H13)","v":""},{"$f":"IF('AR8 (c)'!I13=\"\",\"\",'AR8 (c)'!I13)","v":""},{"$f":"IF('AR8 (c)'!J13=\"\",\"\",'AR8 (c)'!J13)","v":""},{"$f":"IF('AR8 (c)'!K13=\"\",\"\",'AR8 (c)'!K13)","v":""},{"$f":"IF('AR8 (c)'!L13=\"\",\"\",'AR8 (c)'!L13)","v":""},null,{"$f":"IF('AR9 (c)'!A16=\"\",\"\",'AR9 (c)'!A16)","v":""},{"$f":"IF('AR9 (c)'!B16=\"\",\"\",'AR9 (c)'!B16)","v":""},{"$f":"IF('AR9 (c)'!C16=\"\",\"\",'AR9 (c)'!C16)","v":""},null,{"$f":"IF('AR9 (c)'!F16=\"\",\"\",'AR9 (c)'!F16)","v":""},{"$f":"IF('AR9 (c)'!G16=\"\",\"\",'AR9 (c)'!G16)","v":""},{"$f":"IF('AR9 (c)'!H16=\"\",\"\",'AR9 (c)'!H16)","v":""},{"$f":"IF('AR9 (c)'!I16=\"\",\"\",'AR9 (c)'!I16)","v":""}]
[{"$f":"IF('AR8 (c)'!A14=\"\",\"\",'AR8 (c)'!A14)","v":""},{"$f":"IF('AR8 (c)'!B14=\"\",\"\",'AR8 (c)'!B14)","v":""},{"$f":"IF('AR8 (c)'!C14=\"\",\"\",'AR8 (c)'!C14)","v":""},{"$f":"IF('AR8 (c)'!D14=\"\",\"\",'AR8 (c)'!D14)","v":""},{"$f":"IF('AR8 (c)'!E14=\"\",\"\",'AR8 (c)'!E14)","v":""},{"$f":"IF('AR8 (c)'!F14=\"\",\"\",'AR8 (c)'!F14)","v":""},{"$f":"IF('AR8 (c)'!G14=\"\",\"\",'AR8 (c)'!G14)","v":""},{"$f":"IF('AR8 (c)'!H14=\"\",\"\",'AR8 (c)'!H14)","v":""},{"$f":"IF('AR8 (c)'!I14=\"\",\"\",'AR8 (c)'!I14)","v":""},{"$f":"IF('AR8 (c)'!J14=\"\",\"\",'AR8 (c)'!J14)","v":""},{"$f":"IF('AR8 (c)'!K14=\"\",\"\",'AR8 (c)'!K14)","v":""},{"$f":"IF('AR8 (c)'!L14=\"\",\"\",'AR8 (c)'!L14)","v":""},null,{"$f":"IF('AR9 (c)'!A17=\"\",\"\",'AR9 (c)'!A17)","v":""},{"$f":"IF('AR9 (c)'!B17=\"\",\"\",'AR9 (c)'!B17)","v":""},{"$f":"IF('AR9 (c)'!C17=\"\",\"\",'AR9 (c)'!C17)","v":""},null,{"$f":"IF('AR9 (c)'!F17=\"\",\"\",'AR9 (c)'!F17)","v":""},{"$f":"IF('AR9 (c)'!G17=\"\",\"\",'AR9 (c)'!G17)","v":""},{"$f":"IF('AR9 (c)'!H17=\"\",\"\",'AR9 (c)'!H17)","v":""},{"$f":"IF('AR9 (c)'!I17=\"\",\"\",'AR9 (c)'!I17)","v":""}]
[{"$f":"IF('AR8 (c)'!A15=\"\",\"\",'AR8 (c)'!A15)","v":""},{"$f":"IF('AR8 (c)'!B15=\"\",\"\",'AR8 (c)'!B15)","v":""},{"$f":"IF('AR8 (c)'!C15=\"\",\"\",'AR8 (c)'!C15)","v":""},{"$f":"IF('AR8 (c)'!D15=\"\",\"\",'AR8 (c)'!D15)","v":""},{"$f":"IF('AR8 (c)'!E15=\"\",\"\",'AR8 (c)'!E15)","v":""},{"$f":"IF('AR8 (c)'!F15=\"\",\"\",'AR8 (c)'!F15)","v":""},{"$f":"IF('AR8 (c)'!G15=\"\",\"\",'AR8 (c)'!G15)","v":""},{"$f":"IF('AR8 (c)'!H15=\"\",\"\",'AR8 (c)'!H15)","v":""},{"$f":"IF('AR8 (c)'!I15=\"\",\"\",'AR8 (c)'!I15)","v":""},{"$f":"IF('AR8 (c)'!J15=\"\",\"\",'AR8 (c)'!J15)","v":""},{"$f":"IF('AR8 (c)'!K15=\"\",\"\",'AR8 (c)'!K15)","v":""},{"$f":"IF('AR8 (c)'!L15=\"\",\"\",'AR8 (c)'!L15)","v":""},null,{"$f":"IF('AR9 (c)'!A18=\"\",\"\",'AR9 (c)'!A18)","v":""},{"$f":"IF('AR9 (c)'!B18=\"\",\"\",'AR9 (c)'!B18)","v":""},{"$f":"IF('AR9 (c)'!C18=\"\",\"\",'AR9 (c)'!C18)","v":""},null,{"$f":"IF('AR9 (c)'!F18=\"\",\"\",'AR9 (c)'!F18)","v":""},{"$f":"IF('AR9 (c)'!G18=\"\",\"\",'AR9 (c)'!G18)","v":""},{"$f":"IF('AR9 (c)'!H18=\"\",\"\",'AR9 (c)'!H18)","v":""},{"$f":"IF('AR9 (c)'!I18=\"\",\"\",'AR9 (c)'!I18)","v":""}]
[{"$f":"IF('AR8 (c)'!A16=\"\",\"\",'AR8 (c)'!A16)","v":""},{"$f":"IF('AR8 (c)'!B16=\"\",\"\",'AR8 (c)'!B16)","v":""},{"$f":"IF('AR8 (c)'!C16=\"\",\"\",'AR8 (c)'!C16)","v":""},{"$f":"IF('AR8 (c)'!D16=\"\",\"\",'AR8 (c)'!D16)","v":""},{"$f":"IF('AR8 (c)'!E16=\"\",\"\",'AR8 (c)'!E16)","v":""},{"$f":"IF('AR8 (c)'!F16=\"\",\"\",'AR8 (c)'!F16)","v":""},{"$f":"IF('AR8 (c)'!G16=\"\",\"\",'AR8 (c)'!G16)","v":""},{"$f":"IF('AR8 (c)'!H16=\"\",\"\",'AR8 (c)'!H16)","v":""},{"$f":"IF('AR8 (c)'!I16=\"\",\"\",'AR8 (c)'!I16)","v":""},{"$f":"IF('AR8 (c)'!J16=\"\",\"\",'AR8 (c)'!J16)","v":""},{"$f":"IF('AR8 (c)'!K16=\"\",\"\",'AR8 (c)'!K16)","v":""},{"$f":"IF('AR8 (c)'!L16=\"\",\"\",'AR8 (c)'!L16)","v":""},null,{"$f":"IF('AR9 (c)'!A19=\"\",\"\",'AR9 (c)'!A19)","v":""},{"$f":"IF('AR9 (c)'!B19=\"\",\"\",'AR9 (c)'!B19)","v":""},{"$f":"IF('AR9 (c)'!C19=\"\",\"\",'AR9 (c)'!C19)","v":""},null,{"$f":"IF('AR9 (c)'!F19=\"\",\"\",'AR9 (c)'!F19)","v":""},{"$f":"IF('AR9 (c)'!G19=\"\",\"\",'AR9 (c)'!G19)","v":""},{"$f":"IF('AR9 (c)'!H19=\"\",\"\",'AR9 (c)'!H19)","v":""},{"$f":"IF('AR9 (c)'!I19=\"\",\"\",'AR9 (c)'!I19)","v":""}]
[{"$f":"IF('AR8 (c)'!A17=\"\",\"\",'AR8 (c)'!A17)","v":""},{"$f":"IF('AR8 (c)'!B17=\"\",\"\",'AR8 (c)'!B17)","v":""},{"$f":"IF('AR8 (c)'!C17=\"\",\"\",'AR8 (c)'!C17)","v":""},{"$f":"IF('AR8 (c)'!D17=\"\",\"\",'AR8 (c)'!D17)","v":""},{"$f":"IF('AR8 (c)'!E17=\"\",\"\",'AR8 (c)'!E17)","v":""},{"$f":"IF('AR8 (c)'!F17=\"\",\"\",'AR8 (c)'!F17)","v":""},{"$f":"IF('AR8 (c)'!G17=\"\",\"\",'AR8 (c)'!G17)","v":""},{"$f":"IF('AR8 (c)'!H17=\"\",\"\",'AR8 (c)'!H17)","v":""},{"$f":"IF('AR8 (c)'!I17=\"\",\"\",'AR8 (c)'!I17)","v":""},{"$f":"IF('AR8 (c)'!J17=\"\",\"\",'AR8 (c)'!J17)","v":""},{"$f":"IF('AR8 (c)'!K17=\"\",\"\",'AR8 (c)'!K17)","v":""},{"$f":"IF('AR8 (c)'!L17=\"\",\"\",'AR8 (c)'!L17)","v":""},null,{"$f":"IF('AR9 (c)'!A20=\"\",\"\",'AR9 (c)'!A20)","v":""},{"$f":"IF('AR9 (c)'!B20=\"\",\"\",'AR9 (c)'!B20)","v":""},{"$f":"IF('AR9 (c)'!C20=\"\",\"\",'AR9 (c)'!C20)","v":""},null,{"$f":"IF('AR9 (c)'!F20=\"\",\"\",'AR9 (c)'!F20)","v":""},{"$f":"IF('AR9 (c)'!G20=\"\",\"\",'AR9 (c)'!G20)","v":""},{"$f":"IF('AR9 (c)'!H20=\"\",\"\",'AR9 (c)'!H20)","v":""},{"$f":"IF('AR9 (c)'!I20=\"\",\"\",'AR9 (c)'!I20)","v":""}]
[{"$f":"IF('AR8 (c)'!A18=\"\",\"\",'AR8 (c)'!A18)","v":""},{"$f":"IF('AR8 (c)'!B18=\"\",\"\",'AR8 (c)'!B18)","v":""},{"$f":"IF('AR8 (c)'!C18=\"\",\"\",'AR8 (c)'!C18)","v":""},{"$f":"IF('AR8 (c)'!D18=\"\",\"\",'AR8 (c)'!D18)","v":""},{"$f":"IF('AR8 (c)'!E18=\"\",\"\",'AR8 (c)'!E18)","v":""},{"$f":"IF('AR8 (c)'!F18=\"\",\"\",'AR8 (c)'!F18)","v":""},{"$f":"IF('AR8 (c)'!G18=\"\",\"\",'AR8 (c)'!G18)","v":""},{"$f":"IF('AR8 (c)'!H18=\"\",\"\",'AR8 (c)'!H18)","v":""},{"$f":"IF('AR8 (c)'!I18=\"\",\"\",'AR8 (c)'!I18)","v":""},{"$f":"IF('AR8 (c)'!J18=\"\",\"\",'AR8 (c)'!J18)","v":""},{"$f":"IF('AR8 (c)'!K18=\"\",\"\",'AR8 (c)'!K18)","v":""},{"$f":"IF('AR8 (c)'!L18=\"\",\"\",'AR8 (c)'!L18)","v":""},null,{"$f":"IF('AR9 (c)'!A21=\"\",\"\",'AR9 (c)'!A21)","v":""},{"$f":"IF('AR9 (c)'!B21=\"\",\"\",'AR9 (c)'!B21)","v":""},{"$f":"IF('AR9 (c)'!C21=\"\",\"\",'AR9 (c)'!C21)","v":""},null,{"$f":"IF('AR9 (c)'!F21=\"\",\"\",'AR9 (c)'!F21)","v":""},{"$f":"IF('AR9 (c)'!G21=\"\",\"\",'AR9 (c)'!G21)","v":""},{"$f":"IF('AR9 (c)'!H21=\"\",\"\",'AR9 (c)'!H21)","v":""},{"$f":"IF('AR9 (c)'!I21=\"\",\"\",'AR9 (c)'!I21)","v":""}]
[{"$f":"IF('AR8 (c)'!A19=\"\",\"\",'AR8 (c)'!A19)","v":""},{"$f":"IF('AR8 (c)'!B19=\"\",\"\",'AR8 (c)'!B19)","v":""},{"$f":"IF('AR8 (c)'!C19=\"\",\"\",'AR8 (c)'!C19)","v":""},{"$f":"IF('AR8 (c)'!D19=\"\",\"\",'AR8 (c)'!D19)","v":""},{"$f":"IF('AR8 (c)'!E19=\"\",\"\",'AR8 (c)'!E19)","v":""},{"$f":"IF('AR8 (c)'!F19=\"\",\"\",'AR8 (c)'!F19)","v":""},{"$f":"IF('AR8 (c)'!G19=\"\",\"\",'AR8 (c)'!G19)","v":""},{"$f":"IF('AR8 (c)'!H19=\"\",\"\",'AR8 (c)'!H19)","v":""},{"$f":"IF('AR8 (c)'!I19=\"\",\"\",'AR8 (c)'!I19)","v":""},{"$f":"IF('AR8 (c)'!J19=\"\",\"\",'AR8 (c)'!J19)","v":""},{"$f":"IF('AR8 (c)'!K19=\"\",\"\",'AR8 (c)'!K19)","v":""},{"$f":"IF('AR8 (c)'!L19=\"\",\"\",'AR8 (c)'!L19)","v":""},null,{"$f":"IF('AR9 (c)'!A22=\"\",\"\",'AR9 (c)'!A22)","v":""},{"$f":"IF('AR9 (c)'!B22=\"\",\"\",'AR9 (c)'!B22)","v":""},{"$f":"IF('AR9 (c)'!C22=\"\",\"\",'AR9 (c)'!C22)","v":""},null,{"$f":"IF('AR9 (c)'!F22=\"\",\"\",'AR9 (c)'!F22)","v":""},{"$f":"IF('AR9 (c)'!G22=\"\",\"\",'AR9 (c)'!G22)","v":""},{"$f":"IF('AR9 (c)'!H22=\"\",\"\",'AR9 (c)'!H22)","v":""},{"$f":"IF('AR9 (c)'!I22=\"\",\"\",'AR9 (c)'!I22)","v":""}]
[{"$f":"IF('AR8 (c)'!A20=\"\",\"\",'AR8 (c)'!A20)","v":""},{"$f":"IF('AR8 (c)'!B20=\"\",\"\",'AR8 (c)'!B20)","v":""},{"$f":"IF('AR8 (c)'!C20=\"\",\"\",'AR8 (c)'!C20)","v":""},{"$f":"IF('AR8 (c)'!D20=\"\",\"\",'AR8 (c)'!D20)","v":""},{"$f":"IF('AR8 (c)'!E20=\"\",\"\",'AR8 (c)'!E20)","v":""},{"$f":"IF('AR8 (c)'!F20=\"\",\"\",'AR8 (c)'!F20)","v":""},{"$f":"IF('AR8 (c)'!G20=\"\",\"\",'AR8 (c)'!G20)","v":""},{"$f":"IF('AR8 (c)'!H20=\"\",\"\",'AR8 (c)'!H20)","v":""},{"$f":"IF('AR8 (c)'!I20=\"\",\"\",'AR8 (c)'!I20)","v":""},{"$f":"IF('AR8 (c)'!J20=\"\",\"\",'AR8 (c)'!J20)","v":""},{"$f":"IF('AR8 (c)'!K20=\"\",\"\",'AR8 (c)'!K20)","v":""},{"$f":"IF('AR8 (c)'!L20=\"\",\"\",'AR8 (c)'!L20)","v":""},null,{"$f":"IF('AR9 (c)'!A23=\"\",\"\",'AR9 (c)'!A23)","v":""},{"$f":"IF('AR9 (c)'!B23=\"\",\"\",'AR9 (c)'!B23)","v":""},{"$f":"IF('AR9 (c)'!C23=\"\",\"\",'AR9 (c)'!C23)","v":""},null,{"$f":"IF('AR9 (c)'!F23=\"\",\"\",'AR9 (c)'!F23)","v":""},{"$f":"IF('AR9 (c)'!G23=\"\",\"\",'AR9 (c)'!G23)","v":""},{"$f":"IF('AR9 (c)'!H23=\"\",\"\",'AR9 (c)'!H23)","v":""},{"$f":"IF('AR9 (c)'!I23=\"\",\"\",'AR9 (c)'!I23)","v":""}]
[{"$f":"IF('AR8 (c)'!A21=\"\",\"\",'AR8 (c)'!A21)","v":""},{"$f":"IF('AR8 (c)'!B21=\"\",\"\",'AR8 (c)'!B21)","v":""},{"$f":"IF('AR8 (c)'!C21=\"\",\"\",'AR8 (c)'!C21)","v":""},{"$f":"IF('AR8 (c)'!D21=\"\",\"\",'AR8 (c)'!D21)","v":""},{"$f":"IF('AR8 (c)'!E21=\"\",\"\",'AR8 (c)'!E21)","v":""},{"$f":"IF('AR8 (c)'!F21=\"\",\"\",'AR8 (c)'!F21)","v":""},{"$f":"IF('AR8 (c)'!G21=\"\",\"\",'AR8 (c)'!G21)","v":""},{"$f":"IF('AR8 (c)'!H21=\"\",\"\",'AR8 (c)'!H21)","v":""},{"$f":"IF('AR8 (c)'!I21=\"\",\"\",'AR8 (c)'!I21)","v":""},{"$f":"IF('AR8 (c)'!J21=\"\",\"\",'AR8 (c)'!J21)","v":""},{"$f":"IF('AR8 (c)'!K21=\"\",\"\",'AR8 (c)'!K21)","v":""},{"$f":"IF('AR8 (c)'!L21=\"\",\"\",'AR8 (c)'!L21)","v":""},null,{"$f":"IF('AR9 (c)'!A24=\"\",\"\",'AR9 (c)'!A24)","v":""},{"$f":"IF('AR9 (c)'!B24=\"\",\"\",'AR9 (c)'!B24)","v":""},{"$f":"IF('AR9 (c)'!C24=\"\",\"\",'AR9 (c)'!C24)","v":""},null,{"$f":"IF('AR9 (c)'!F24=\"\",\"\",'AR9 (c)'!F24)","v":""},{"$f":"IF('AR9 (c)'!G24=\"\",\"\",'AR9 (c)'!G24)","v":""},{"$f":"IF('AR9 (c)'!H24=\"\",\"\",'AR9 (c)'!H24)","v":""},{"$f":"IF('AR9 (c)'!I24=\"\",\"\",'AR9 (c)'!I24)","v":""}]
[{"$f":"IF('AR8 (c)'!A22=\"\",\"\",'AR8 (c)'!A22)","v":""},{"$f":"IF('AR8 (c)'!B22=\"\",\"\",'AR8 (c)'!B22)","v":""},{"$f":"IF('AR8 (c)'!C22=\"\",\"\",'AR8 (c)'!C22)","v":""},{"$f":"IF('AR8 (c)'!D22=\"\",\"\",'AR8 (c)'!D22)","v":""},{"$f":"IF('AR8 (c)'!E22=\"\",\"\",'AR8 (c)'!E22)","v":""},{"$f":"IF('AR8 (c)'!F22=\"\",\"\",'AR8 (c)'!F22)","v":""},{"$f":"IF('AR8 (c)'!G22=\"\",\"\",'AR8 (c)'!G22)","v":""},{"$f":"IF('AR8 (c)'!H22=\"\",\"\",'AR8 (c)'!H22)","v":""},{"$f":"IF('AR8 (c)'!I22=\"\",\"\",'AR8 (c)'!I22)","v":""},{"$f":"IF('AR8 (c)'!J22=\"\",\"\",'AR8 (c)'!J22)","v":""},{"$f":"IF('AR8 (c)'!K22=\"\",\"\",'AR8 (c)'!K22)","v":""},{"$f":"IF('AR8 (c)'!L22=\"\",\"\",'AR8 (c)'!L22)","v":""},null,{"$f":"IF('AR9 (c)'!A25=\"\",\"\",'AR9 (c)'!A25)","v":""},{"$f":"IF('AR9 (c)'!B25=\"\",\"\",'AR9 (c)'!B25)","v":""},{"$f":"IF('AR9 (c)'!C25=\"\",\"\",'AR9 (c)'!C25)","v":""},null,{"$f":"IF('AR9 (c)'!F25=\"\",\"\",'AR9 (c)'!F25)","v":""},{"$f":"IF('AR9 (c)'!G25=\"\",\"\",'AR9 (c)'!G25)","v":""},{"$f":"IF('AR9 (c)'!H25=\"\",\"\",'AR9 (c)'!H25)","v":""},{"$f":"IF('AR9 (c)'!I25=\"\",\"\",'AR9 (c)'!I25)","v":""}]
["* Arizona Department of Water Resources Identification Number",null,null,null,null,null,null,null,null,null,null,null,null,null,null,null,null,{"$f":"IF('AR9 (c)'!F26=\"\",\"\",'AR9 (c)'!F26)","v":""},{"$f":"IF('AR9 (c)'!G26=\"\",\"\",'AR9 (c)'!G26)","v":""},{"$f":"IF('AR9 (c)'!H26=\"\",\"\",'AR9 (c)'!H26)","v":""},{"$f":"IF('AR9 (c)'!I26=\"\",\"\",'AR9 (c)'!I26)","v":""}]
[null,null,null,null,null,null,null,null,null,null,null,null,null,null,null,null,null,{"$f":"IF('AR9 (c)'!F27=\"\",\"\",'AR9 (c)'!F27)","v":""},{"$f":"IF('AR9 (c)'!G27=\"\",\"\",'AR9 (c)'!G27)","v":""},{"$f":"IF('AR9 (c)'!H27=\"\",\"\",'AR9 (c)'!H27)","v":""},{"$f":"IF('AR9 (c)'!I27=\"\",\"\",'AR9 (c)'!I27)","v":""}]
[null,null,null,null,null,null,null,null,null,null,null,null,null,null,null,null,null,{"$f":"IF('AR9 (c)'!F28=\"\",\"\",'AR9 (c)'!F28)","v":""},{"$f":"IF('AR9 (c)'!G28=\"\",\"\",'AR9 (c)'!G28)","v":""},{"$f":"IF('AR9 (c)'!H28=\"\",\"\",'AR9 (c)'!H28)","v":""},{"$f":"IF('AR9 (c)'!I28=\"\",\"\",'AR9 (c)'!I28)","v":""}]
[null,null,null,null,null,null,null,null,null,null,null,null,null,null,null,null,null,{"$f":"IF('AR9 (c)'!F29=\"\",\"\",'AR9 (c)'!F29)","v":""},{"$f":"IF('AR9 (c)'!G29=\"\",\"\",'AR9 (c)'!G29)","v":""},{"$f":"IF('AR9 (c)'!H29=\"\",\"\",'AR9 (c)'!H29)","v":""},{"$f":"IF('AR9 (c)'!I29=\"\",\"\",'AR9 (c)'!I29)","v":""}]
["SERVICE LINES"]
["Material","Percent of system","Year installed"]
[{"$f":"IF('AR9 (c)'!B30=\"\",\"\",'AR9 (c)'!B30)","v":""},{"$f":"IF('AR9 (c)'!C30=\"\",\"\",'AR9 (c)'!C30)","v":""},{"$f":"IF('AR9 (c)'!D30=\"\",\"\",'AR9 (c)'!D30)","v":""}]
[{"$f":"IF('AR9 (c)'!B31=\"\",\"\",'AR9 (c)'!B31)","v":""},{"$f":"IF('AR9 (c)'!C31=\"\",\"\",'AR9 (c)'!C31)","v":""},{"$f":"IF('AR9 (c)'!D31=\"\",\"\",'AR9 (c)'!D31)","v":""},null,null,null,null,null,null,null,null,null,null,"For the following three items, please list the utility owned assets in each category."]
[{"$f":"IF('AR9 (c)'!B32=\"\",\"\",'AR9 (c)'!B32)","v":""},{"$f":"IF('AR9 (c)'!C32=\"\",\"\",'AR9 (c)'!C32)","v":""},{"$f":"IF('AR9 (c)'!D32=\"\",\"\",'AR9 (c)'!D32)","v":""}]
[{"$f":"IF('AR9 (c)'!B33=\"\",\"\",'AR9 (c)'!B33)","v":""},{"$f":"IF('AR9 (c)'!C33=\"\",\"\",'AR9 (c)'!C33)","v":""},{"$f":"IF('AR9 (c)'!D33=\"\",\"\",'AR9 (c)'!D33)","v":""},null,null,null,null,null,null,null,null,null,null,"TREATMENT EQUIPMENT:"]
[{"$f":"IF('AR9 (c)'!B34=\"\",\"\",'AR9 (c)'!B34)","v":""},{"$f":"IF('AR9 (c)'!C34=\"\",\"\",'AR9 (c)'!C34)","v":""},{"$f":"IF('AR9 (c)'!D34=\"\",\"\",'AR9 (c)'!D34)","v":""},null,null,null,null,null,null,null,null,null,null,{"$f":"IF('AR9 (c)'!M11=\"\",\"\",'AR9 (c)'!M11)","v":""}]
[]
[]
[]
["BOOSTER PUMPS",null,null,null,"FIRE HYDRANTS"]
["Horsepower","GPM","Quantity",null,"Quantity Standard*","Quantity Other"]
[{"$f":"IF('AR9 (c)'!A39=\"\",\"\",'AR9 (c)'!A39)","v":""},{"$f":"IF('AR9 (c)'!B39=\"\",\"\",'AR9 (c)'!B39)","v":""},{"$f":"IF('AR9 (c)'!C39=\"\",\"\",'AR9 (c)'!C39)","v":""},null,"Standard *",{"$f":"IF('AR9 (c)'!G39=\"\",\"\",'AR9 (c)'!G39)","v":""}]
[{"$f":"IF('AR9 (c)'!A40=\"\",\"\",'AR9 (c)'!A40)","v":""},{"$f":"IF('AR9 (c)'!B40=\"\",\"\",'AR9 (c)'!B40)","v":""},{"$f":"IF('AR9 (c)'!C40=\"\",\"\",'AR9 (c)'!C40)","v":""},null,"Other",{"$f":"IF('AR9 (c)'!G40=\"\",\"\",'AR9 (c)'!G40)","v":""}]
[{"$f":"IF('AR9 (c)'!A41=\"\",\"\",'AR9 (c)'!A41)","v":""},{"$f":"IF('AR9 (c)'!B41=\"\",\"\",'AR9 (c)'!B41)","v":""},{"$f":"IF('AR9 (c)'!C41=\"\",\"\",'AR9 (c)'!C41)","v":""}]
[{"$f":"IF('AR9 (c)'!A42=\"\",\"\",'AR9 (c)'!A42)","v":""},{"$f":"IF('AR9 (c)'!B42=\"\",\"\",'AR9 (c)'!B42)","v":""},{"$f":"IF('AR9 (c)'!C42=\"\",\"\",'AR9 (c)'!C42)","v":""},null,null,null,null,null,null,null,null,null,null,"STRUCTURES:"]
[null,null,null,null,null,null,null,null,null,null,null,null,null,{"$f":"IF('AR9 (c)'!M17=\"\",\"\",'AR9 (c)'!M17)","v":""}]
[]
["STORAGE TANKS",null,null,null,null,"PRESSURE/BLADDER TANKS"]
["Capacity (gallons)","Material","Quantity","Year installed",null,"Capacity (gallons)","Material","Quantity","Year installed"]
[{"$f":"IF('AR9 (c)'!A46=\"\",\"\",'AR9 (c)'!A46)","v":""},{"$f":"IF('AR9 (c)'!B46=\"\",\"\",'AR9 (c)'!B46)","v":""},{"$f":"IF('AR9 (c)'!C46=\"\",\"\",'AR9 (c)'!C46)","v":""},{"$f":"IF('AR9 (c)'!D46=\"\",\"\",'AR9 (c)'!D46)","v":""},null,{"$f":"IF('AR9 (c)'!F46=\"\",\"\",'AR9 (c)'!F46)","v":""},{"$f":"IF('AR9 (c)'!G46=\"\",\"\",'AR9 (c)'!G46)","v":""},{"$f":"IF('AR9 (c)'!H46=\"\",\"\",'AR9 (c)'!H46)","v":""},{"$f":"IF('AR9 (c)'!I46=\"\",\"\",'AR9 (c)'!I46)","v":""}]
[{"$f":"IF('AR9 (c)'!A47=\"\",\"\",'AR9 (c)'!A47)","v":""},{"$f":"IF('AR9 (c)'!B47=\"\",\"\",'AR9 (c)'!B47)","v":""},{"$f":"IF('AR9 (c)'!C47=\"\",\"\",'AR9 (c)'!C47)","v":""},{"$f":"IF('AR9 (c)'!D47=\"\",\"\",'AR9 (c)'!D47)","v":""},null,{"$f":"IF('AR9 (c)'!F47=\"\",\"\",'AR9 (c)'!F47)","v":""},{"$f":"IF('AR9 (c)'!G47=\"\",\"\",'AR9 (c)'!G47)","v":""},{"$f":"IF('AR9 (c)'!H47=\"\",\"\",'AR9 (c)'!H47)","v":""},{"$f":"IF('AR9 (c)'!I47=\"\",\"\",'AR9 (c)'!I47)","v":""}]
[{"$f":"IF('AR9 (c)'!A48=\"\",\"\",'AR9 (c)'!A48)","v":""},{"$f":"IF('AR9 (c)'!B48=\"\",\"\",'AR9 (c)'!B48)","v":""},{"$f":"IF('AR9 (c)'!C48=\"\",\"\",'AR9 (c)'!C48)","v":""},{"$f":"IF('AR9 (c)'!D48=\"\",\"\",'AR9 (c)'!D48)","v":""},null,{"$f":"IF('AR9 (c)'!F48=\"\",\"\",'AR9 (c)'!F48)","v":""},{"$f":"IF('AR9 (c)'!G48=\"\",\"\",'AR9 (c)'!G48)","v":""},{"$f":"IF('AR9 (c)'!H48=\"\",\"\",'AR9 (c)'!H48)","v":""},{"$f":"IF('AR9 (c)'!I48=\"\",\"\",'AR9 (c)'!I48)","v":""}]
[{"$f":"IF('AR9 (c)'!A49=\"\",\"\",'AR9 (c)'!A49)","v":""},{"$f":"IF('AR9 (c)'!B49=\"\",\"\",'AR9 (c)'!B49)","v":""},{"$f":"IF('AR9 (c)'!C49=\"\",\"\",'AR9 (c)'!C49)","v":""},{"$f":"IF('AR9 (c)'!D49=\"\",\"\",'AR9 (c)'!D49)","v":""},null,{"$f":"IF('AR9 (c)'!F49=\"\",\"\",'AR9 (c)'!F49)","v":""},{"$f":"IF('AR9 (c)'!G49=\"\",\"\",'AR9 (c)'!G49)","v":""},{"$f":"IF('AR9 (c)'!H49=\"\",\"\",'AR9 (c)'!H49)","v":""},{"$f":"IF('AR9 (c)'!I49=\"\",\"\",'AR9 (c)'!I49)","v":""}]
[{"$f":"IF('AR9 (c)'!A50=\"\",\"\",'AR9 (c)'!A50)","v":""},{"$f":"IF('AR9 (c)'!B50=\"\",\"\",'AR9 (c)'!B50)","v":""},{"$f":"IF('AR9 (c)'!C50=\"\",\"\",'AR9 (c)'!C50)","v":""},{"$f":"IF('AR9 (c)'!D50=\"\",\"\",'AR9 (c)'!D50)","v":""},null,{"$f":"IF('AR9 (c)'!F50=\"\",\"\",'AR9 (c)'!F50)","v":""},{"$f":"IF('AR9 (c)'!G50=\"\",\"\",'AR9 (c)'!G50)","v":""},{"$f":"IF('AR9 (c)'!H50=\"\",\"\",'AR9 (c)'!H50)","v":""},{"$f":"IF('AR9 (c)'!I50=\"\",\"\",'AR9 (c)'!I50)","v":""},null,null,null,null,"OTHER:"]
[{"$f":"IF('AR9 (c)'!A51=\"\",\"\",'AR9 (c)'!A51)","v":""},{"$f":"IF('AR9 (c)'!B51=\"\",\"\",'AR9 (c)'!B51)","v":""},{"$f":"IF('AR9 (c)'!C51=\"\",\"\",'AR9 (c)'!C51)","v":""},{"$f":"IF('AR9 (c)'!D51=\"\",\"\",'AR9 (c)'!D51)","v":""},null,{"$f":"IF('AR9 (c)'!F51=\"\",\"\",'AR9 (c)'!F51)","v":""},{"$f":"IF('AR9 (c)'!G51=\"\",\"\",'AR9 (c)'!G51)","v":""},{"$f":"IF('AR9 (c)'!H51=\"\",\"\",'AR9 (c)'!H51)","v":""},{"$f":"IF('AR9 (c)'!I51=\"\",\"\",'AR9 (c)'!I51)","v":""},null,null,null,null,{"$f":"IF('AR9 (c)'!M23=\"\",\"\",'AR9 (c)'!M23)","v":""}]
[]
[]
[]
[]
[]
["* - A standard fire hydrant has two 2.5 inch hose connection nozzles with 7.5 threads per inch, and one 4.5 inch pumper connection nozzle with 4 threads per inch."]
[]
[]
[]
[]
["Note: This page automatically populates with information from your annual report.",null,null,null,null,null,null,null,null,null,null,null,{"$f":"A65","v":"Note: This page automatically populates with information from your annual report."}]
[]
[]
[null,null,null,null,null,null,null,null,null,null,null,{"$f":"\"Page \" &L69&\"c\"","v":"Page 20c"},null,null,null,null,null,null,null,null,null,{"$f":"\"Page \" &V69&\"c\"","v":"Page 21c"}]
[null,null,null,null,null,null,null,null,null,null,null,{"$f":"'Sch 1'!I49+1","v":20},null,null,null,null,null,null,null,null,null,{"$f":"L69+1","v":21}]

{"sheet":"Sch 2 (d)","index":54,"n_rows":69,"n_cols":23,"rows_kept":69,"cut":false,"hidden":true,"merged":[[9,17,9,20],[34,13,41,20],[38,0,38,2],[38,4,38,5],[5,0,5,11],[5,13,5,20],[6,0,6,1],[6,2,6,3],[7,0,7,1],[9,13,9,15],[10,0,10,11],[24,0,24,11],[31,13,31,20],[33,13,33,20],[28,0,28,2],[64,0,65,11],[64,12,65,21],[43,13,43,20],[44,13,50,20],[52,13,52,20],[53,13,61,20],[59,0,59,11],[46,0,46,3],[46,5,46,8]]}
[{"$f":"'AR1'!$B$12","v":0},null,null,null,null,null,null,null,null,null,null,{"$f":"'Sch Title'!$A$17&\"d\"","v":"Schedule 2d"},{"$f":"'AR1'!$B$12","v":0},null,null,null,null,null,null,null,null,{"$f":"'Sch Title'!$A$17&\"d\"","v":"Schedule 2d"}]
[{"$f":"'Sch Title'!$A$2","v":"Short Form Rate Application"},null,null,null,null,null,null,null,null,null,null,{"$f":"\" Short Form Rate Application Page No. \"&L69","v":" Short Form Rate Application Page No. 20"},{"$f":"'Sch Title'!$A$2","v":"Short Form Rate Application"},null,null,null,null,null,null,null,null,{"$f":"\" Short Form Rate Application Page No. \"&V69","v":" Short Form Rate Application Page No. 21"}]
[{"$f":"Sch6_PltDesc","v":"WATER COMPANY PLANT DESCRIPTION "},null,null,null,null,null,null,null,null,null,null,null,{"$f":"Sch6_PltDesc","v":"WATER COMPANY PLANT DESCRIPTION "}]
[{"$f":"'Sch Title'!$A$4","v":"Test Year Ended 12/31/20"},null,null,null,null,null,null,null,null,null,null,null,{"$f":"'Sch Title'!$A$4","v":"Test Year Ended 12/31/20"},null,null,null,null,null,null,null,null,null,"Table of contents"]
[]
["WATER COMPANY PLANT DESCRIPTION ",null,null,null,null,null,null,null,null,null,null,null,null,"WATER COMPANY PLANT DESCRIPTION  (Continued)"]
["Name of the System:",null,{"$f":"'AR9 (d)'!C7","v":0}]
["ADEQ Public Water System Number",null,{"$f":"'AR9 (d)'!D8","v":""}]
["ADWR PCC Number:",null,{"$f":"'AR9 (d)'!D9","v":""}]
[null,null,null,null,null,null,null,null,null,null,null,null,null,"MAINS",null,null,null,"CUSTOMER METERS"]
["WELLS",null,null,null,null,null,null,null,null,null,null,null,null,"Size (in inches)","Material","Length (in feet)",null,"Size (in inches)","Quantity","Percent over 1,00,000 gallons","Percent over 10 years old"]
["Well registry 55# (55-XXXXXX):","Pump Horsepower","Pump Yield (gpm)","Casing Depth (feet)","Casing Diameter (inches)","Pump Motor Type **","Year Drilled","Water level 2010","Water level 2019","Meter Size (inches)","How measured:","Active",null,{"$f":"IF('AR9 (d)'!A13=\"\",\"\",'AR9 (d)'!A13)","v":""},{"$f":"IF('AR9 (d)'!B13=\"\",\"\",'AR9 (d)'!B13)","v":""},{"$f":"IF('AR9 (d)'!C13=\"\",\"\",'AR9 (d)'!C13)","v":""},null,{"$f":"IF('AR9 (d)'!F13=\"\",\"\",'AR9 (d)'!F13)","v":""},{"$f":"IF('AR9 (d)'!G13=\"\",\"\",'AR9 (d)'!G13)","v":""},{"$f":"IF('AR9 (d)'!H13=\"\",\"\",'AR9 (d)'!H13)","v":""},{"$f":"IF('AR9 (d)'!I13=\"\",\"\",'AR9 (d)'!I13)","v":""}]
[{"$f":"IF('AR8 (d)'!A11=\"\",\"\",'AR8 (d)'!A11)","v":""},{"$f":"IF('AR8 (d)'!B11=\"\",\"\",'AR8 (d)'!B11)","v":""},{"$f":"IF('AR8 (d)'!C11=\"\",\"\",'AR8 (d)'!C11)","v":""},{"$f":"IF('AR8 (d)'!D11=\"\",\"\",'AR8 (d)'!D11)","v":""},{"$f":"IF('AR8 (d)'!E11=\"\",\"\",'AR8 (d)'!E11)","v":""},{"$f":"IF('AR8 (d)'!F11=\"\",\"\",'AR8 (d)'!F11)","v":""},{"$f":"IF('AR8 (d)'!G11=\"\",\"\",'AR8 (d)'!G11)","v":""},{"$f":"IF('AR8 (d)'!H11=\"\",\"\",'AR8 (d)'!H11)","v":""},{"$f":"IF('AR8 (d)'!I11=\"\",\"\",'AR8 (d)'!I11)","v":""},{"$f":"IF('AR8 (d)'!J11=\"\",\"\",'AR8 (d)'!J11)","v":""},{"$f":"IF('AR8 (d)'!K11=\"\",\"\",'AR8 (d)'!K11)","v":""},{"$f":"IF('AR8 (d)'!L11=\"\",\"\",'AR8 (d)'!L11)","v":""},null,{"$f":"IF('AR9 (d)'!A14=\"\",\"\",'AR9 (d)'!A14)","v":""},{"$f":"IF('AR9 (d)'!B14=\"\",\"\",'AR9 (d)'!B14)","v":""},{"$f":"IF('AR9 (d)'!C14=\"\",\"\",'AR9 (d)'!C14)","v":""},null,{"$f":"IF('AR9 (d)'!F14=\"\",\"\",'AR9 (d)'!F14)","v":""},{"$f":"IF('AR9 (d)'!G14=\"\",\"\",'AR9 (d)'!G14)","v":""},{"$f":"IF('AR9 (d)'!H14=\"\",\"\",'AR9 (d)'!H14)","v":""},{"$f":"IF('AR9 (d)'!I14=\"\",\"\",'AR9 (d)'!I14)","v":""}]
[{"$f":"IF('AR8 (d)'!A12=\"\",\"\",'AR8 (d)'!A12)","v":""},{"$f":"IF('AR8 (d)'!B12=\"\",\"\",'AR8 (d)'!B12)","v":""},{"$f":"IF('AR8 (d)'!C12=\"\",\"\",'AR8 (d)'!C12)","v":""},{"$f":"IF('AR8 (d)'!D12=\"\",\"\",'AR8 (d)'!D12)","v":""},{"$f":"IF('AR8 (d)'!E12=\"\",\"\",'AR8 (d)'!E12)","v":""},{"$f":"IF('AR8 (d)'!F12=\"\",\"\",'AR8 (d)'!F12)","v":""},{"$f":"IF('AR8 (d)'!G12=\"\",\"\",'AR8 (d)'!G12)","v":""},{"$f":"IF('AR8 (d)'!H12=\"\",\"\",'AR8 (d)'!H12)","v":""},{"$f":"IF('AR8 (d)'!I12=\"\",\"\",'AR8 (d)'!I12)","v":""},{"$f":"IF('AR8 (d)'!J12=\"\",\"\",'AR8 (d)'!J12)","v":""},{"$f":"IF('AR8 (d)'!K12=\"\",\"\",'AR8 (d)'!K12)","v":""},{"$f":"IF('AR8 (d)'!L12=\"\",\"\",'AR8 (d)'!L12)","v":""},null,{"$f":"IF('AR9 (d)'!A15=\"\",\"\",'AR9 (d)'!A15)","v":""},{"$f":"IF('AR9 (d)'!B15=\"\",\"\",'AR9 (d)'!B15)","v":""},{"$f":"IF('AR9 (d)'!C15=\"\",\"\",'AR9 (d)'!C15)","v":""},null,{"$f":"IF('AR9 (d)'!F15=\"\",\"\",'AR9 (d)'!F15)","v":""},{"$f":"IF('AR9 (d)'!G15=\"\",\"\",'AR9 (d)'!G15)","v":""},{"$f":"IF('AR9 (d)'!H15=\"\",\"\",'AR9 (d)'!H15)","v":""},{"$f":"IF('AR9 (d)'!I15=\"\",\"\",'AR9 (d)'!I15)","v":""}]
[{"$f":"IF('AR8 (d)'!A13=\"\",\"\",'AR8 (d)'!A13)","v":""},{"$f":"IF('AR8 (d)'!B13=\"\",\"\",'AR8 (d)'!B13)","v":""},{"$f":"IF('AR8 (d)'!C13=\"\",\"\",'AR8 (d)'!C13)","v":""},{"$f":"IF('AR8 (d)'!D13=\"\",\"\",'AR8 (d)'!D13)","v":""},{"$f":"IF('AR8 (d)'!E13=\"\",\"\",'AR8 (d)'!E13)","v":""},{"$f":"IF('AR8 (d)'!F13=\"\",\"\",'AR8 (d)'!F13)","v":""},{"$f":"IF('AR8 (d)'!G13=\"\",\"\",'AR8 (d)'!G13)","v":""},{"$f":"IF('AR8 (d)'!H13=\"\",\"\",'AR8 (d)'!H13)","v":""},{"$f":"IF('AR8 (d)'!I13=\"\",\"\",'AR8 (d)'!I13)","v":""},{"$f":"IF('AR8 (d)'!J13=\"\",\"\",'AR8 (d)'!J13)","v":""},{"$f":"IF('AR8 (d)'!K13=\"\",\"\",'AR8 (d)'!K13)","v":""},{"$f":"IF('AR8 (d)'!L13=\"\",\"\",'AR8 (d)'!L13)","v":""},null,{"$f":"IF('AR9 (d)'!A16=\"\",\"\",'AR9 (d)'!A16)","v":""},{"$f":"IF('AR9 (d)'!B16=\"\",\"\",'AR9 (d)'!B16)","v":""},{"$f":"IF('AR9 (d)'!C16=\"\",\"\",'AR9 (d)'!C16)","v":""},null,{"$f":"IF('AR9 (d)'!F16=\"\",\"\",'AR9 (d)'!F16)","v":""},{"$f":"IF('AR9 (d)'!G16=\"\",\"\",'AR9 (d)'!G16)","v":""},{"$f":"IF('AR9 (d)'!H16=\"\",\"\",'AR9 (d)'!H16)","v":""},{"$f":"IF('AR9 (d)'!I16=\"\",\"\",'AR9 (d)'!I16)","v":""}]
[{"$f":"IF('AR8 (d)'!A14=\"\",\"\",'AR8 (d)'!A14)","v":""},{"$f":"IF('AR8 (d)'!B14=\"\",\"\",'AR8 (d)'!B14)","v":""},{"$f":"IF('AR8 (d)'!C14=\"\",\"\",'AR8 (d)'!C14)","v":""},{"$f":"IF('AR8 (d)'!D14=\"\",\"\",'AR8 (d)'!D14)","v":""},{"$f":"IF('AR8 (d)'!E14=\"\",\"\",'AR8 (d)'!E14)","v":""},{"$f":"IF('AR8 (d)'!F14=\"\",\"\",'AR8 (d)'!F14)","v":""},{"$f":"IF('AR8 (d)'!G14=\"\",\"\",'AR8 (d)'!G14)","v":""},{"$f":"IF('AR8 (d)'!H14=\"\",\"\",'AR8 (d)'!H14)","v":""},{"$f":"IF('AR8 (d)'!I14=\"\",\"\",'AR8 (d)'!I14)","v":""},{"$f":"IF('AR8 (d)'!J14=\"\",\"\",'AR8 (d)'!J14)","v":""},{"$f":"IF('AR8 (d)'!K14=\"\",\"\",'AR8 (d)'!K14)","v":""},{"$f":"IF('AR8 (d)'!L14=\"\",\"\",'AR8 (d)'!L14)","v":""},null,{"$f":"IF('AR9 (d)'!A17=\"\",\"\",'AR9 (d)'!A17)","v":""},{"$f":"IF('AR9 (d)'!B17=\"\",\"\",'AR9 (d)'!B17)","v":""},{"$f":"IF('AR9 (d)'!C17=\"\",\"\",'AR9 (d)'!C17)","v":""},null,{"$f":"IF('AR9 (d)'!F17=\"\",\"\",'AR9 (d)'!F17)","v":""},{"$f":"IF('AR9 (d)'!G17=\"\",\"\",'AR9 (d)'!G17)","v":""},{"$f":"IF('AR9 (d)'!H17=\"\",\"\",'AR9 (d)'!H17)","v":""},{"$f":"IF('AR9 (d)'!I17=\"\",\"\",'AR9 (d)'!I17)","v":""}]
[{"$f":"IF('AR8 (d)'!A15=\"\",\"\",'AR8 (d)'!A15)","v":""},{"$f":"IF('AR8 (d)'!B15=\"\",\"\",'AR8 (d)'!B15)","v":""},{"$f":"IF('AR8 (d)'!C15=\"\",\"\",'AR8 (d)'!C15)","v":""},{"$f":"IF('AR8 (d)'!D15=\"\",\"\",'AR8 (d)'!D15)","v":""},{"$f":"IF('AR8 (d)'!E15=\"\",\"\",'AR8 (d)'!E15)","v":""},{"$f":"IF('AR8 (d)'!F15=\"\",\"\",'AR8 (d)'!F15)","v":""},{"$f":"IF('AR8 (d)'!G15=\"\",\"\",'AR8 (d)'!G15)","v":""},{"$f":"IF('AR8 (d)'!H15=\"\",\"\",'AR8 (d)'!H15)","v":""},{"$f":"IF('AR8 (d)'!I15=\"\",\"\",'AR8 (d)'!I15)","v":""},{"$f":"IF('AR8 (d)'!J15=\"\",\"\",'AR8 (d)'!J15)","v":""},{"$f":"IF('AR8 (d)'!K15=\"\",\"\",'AR8 (d)'!K15)","v":""},{"$f":"IF('AR8 (d)'!L15=\"\",\"\",'AR8 (d)'!L15)","v":""},null,{"$f":"IF('AR9 (d)'!A18=\"\",\"\",'AR9 (d)'!A18)","v":""},{"$f":"IF('AR9 (d)'!B18=\"\",\"\",'AR9 (d)'!B18)","v":""},{"$f":"IF('AR9 (d)'!C18=\"\",\"\",'AR9 (d)'!C18)","v":""},null,{"$f":"IF('AR9 (d)'!F18=\"\",\"\",'AR9 (d)'!F18)","v":""},{"$f":"IF('AR9 (d)'!G18=\"\",\"\",'AR9 (d)'!G18)","v":""},{"$f":"IF('AR9 (d)'!H18=\"\",\"\",'AR9 (d)'!H18)","v":""},{"$f":"IF('AR9 (d)'!I18=\"\",\"\",'AR9 (d)'!I18)","v":""}]
[{"$f":"IF('AR8 (d)'!A16=\"\",\"\",'AR8 (d)'!A16)","v":""},{"$f":"IF('AR8 (d)'!B16=\"\",\"\",'AR8 (d)'!B16)","v":""},{"$f":"IF('AR8 (d)'!C16=\"\",\"\",'AR8 (d)'!C16)","v":""},{"$f":"IF('AR8 (d)'!D16=\"\",\"\",'AR8 (d)'!D16)","v":""},{"$f":"IF('AR8 (d)'!E16=\"\",\"\",'AR8 (d)'!E16)","v":""},{"$f":"IF('AR8 (d)'!F16=\"\",\"\",'AR8 (d)'!F16)","v":""},{"$f":"IF('AR8 (d)'!G16=\"\",\"\",'AR8 (d)'!G16)","v":""},{"$f":"IF('AR8 (d)'!H16=\"\",\"\",'AR8 (d)'!H16)","v":""},{"$f":"IF('AR8 (d)'!I16=\"\",\"\",'AR8 (d)'!I16)","v":""},{"$f":"IF('AR8 (d)'!J16=\"\",\"\",'AR8 (d)'!J16)","v":""},{"$f":"IF('AR8 (d)'!K16=\"\",\"\",'AR8 (d)'!K16)","v":""},{"$f":"IF('AR8 (d)'!L16=\"\",\"\",'AR8 (d)'!L16)","v":""},null,{"$f":"IF('AR9 (d)'!A19=\"\",\"\",'AR9 (d)'!A19)","v":""},{"$f":"IF('AR9 (d)'!B19=\"\",\"\",'AR9 (d)'!B19)","v":""},{"$f":"IF('AR9 (d)'!C19=\"\",\"\",'AR9 (d)'!C19)","v":""},null,{"$f":"IF('AR9 (d)'!F19=\"\",\"\",'AR9 (d)'!F19)","v":""},{"$f":"IF('AR9 (d)'!G19=\"\",\"\",'AR9 (d)'!G19)","v":""},{"$f":"IF('AR9 (d)'!H19=\"\",\"\",'AR9 (d)'!H19)","v":""},{"$f":"IF('AR9 (d)'!I19=\"\",\"\",'AR9 (d)'!I19)","v":""}]
[{"$f":"IF('AR8 (d)'!A17=\"\",\"\",'AR8 (d)'!A17)","v":""},{"$f":"IF('AR8 (d)'!B17=\"\",\"\",'AR8 (d)'!B17)","v":""},{"$f":"IF('AR8 (d)'!C17=\"\",\"\",'AR8 (d)'!C17)","v":""},{"$f":"IF('AR8 (d)'!D17=\"\",\"\",'AR8 (d)'!D17)","v":""},{"$f":"IF('AR8 (d)'!E17=\"\",\"\",'AR8 (d)'!E17)","v":""},{"$f":"IF('AR8 (d)'!F17=\"\",\"\",'AR8 (d)'!F17)","v":""},{"$f":"IF('AR8 (d)'!G17=\"\",\"\",'AR8 (d)'!G17)","v":""},{"$f":"IF('AR8 (d)'!H17=\"\",\"\",'AR8 (d)'!H17)","v":""},{"$f":"IF('AR8 (d)'!I17=\"\",\"\",'AR8 (d)'!I17)","v":""},{"$f":"IF('AR8 (d)'!J17=\"\",\"\",'AR8 (d)'!J17)","v":""},{"$f":"IF('AR8 (d)'!K17=\"\",\"\",'AR8 (d)'!K17)","v":""},{"$f":"IF('AR8 (d)'!L17=\"\",\"\",'AR8 (d)'!L17)","v":""},null,{"$f":"IF('AR9 (d)'!A20=\"\",\"\",'AR9 (d)'!A20)","v":""},{"$f":"IF('AR9 (d)'!B20=\"\",\"\",'AR9 (d)'!B20)","v":""},{"$f":"IF('AR9 (d)'!C20=\"\",\"\",'AR9 (d)'!C20)","v":""},null,{"$f":"IF('AR9 (d)'!F20=\"\",\"\",'AR9 (d)'!F20)","v":""},{"$f":"IF('AR9 (d)'!G20=\"\",\"\",'AR9 (d)'!G20)","v":""},{"$f":"IF('AR9 (d)'!H20=\"\",\"\",'AR9 (d)'!H20)","v":""},{"$f":"IF('AR9 (d)'!I20=\"\",\"\",'AR9 (d)'!I20)","v":""}]
[{"$f":"IF('AR8 (d)'!A18=\"\",\"\",'AR8 (d)'!A18)","v":""},{"$f":"IF('AR8 (d)'!B18=\"\",\"\",'AR8 (d)'!B18)","v":""},{"$f":"IF('AR8 (d)'!C18=\"\",\"\",'AR8 (d)'!C18)","v":""},{"$f":"IF('AR8 (d)'!D18=\"\",\"\",'AR8 (d)'!D18)","v":""},{"$f":"IF('AR8 (d)'!E18=\"\",\"\",'AR8 (d)'!E18)","v":""},{"$f":"IF('AR8 (d)'!F18=\"\",\"\",'AR8 (d)'!F18)","v":""},{"$f":"IF('AR8 (d)'!G18=\"\",\"\",'AR8 (d)'!G18)","v":""},{"$f":"IF('AR8 (d)'!H18=\"\",\"\",'AR8 (d)'!H18)","v":""},{"$f":"IF('AR8 (d)'!I18=\"\",\"\",'AR8 (d)'!I18)","v":""},{"$f":"IF('AR8 (d)'!J18=\"\",\"\",'AR8 (d)'!J18)","v":""},{"$f":"IF('AR8 (d)'!K18=\"\",\"\",'AR8 (d)'!K18)","v":""},{"$f":"IF('AR8 (d)'!L18=\"\",\"\",'AR8 (d)'!L18)","v":""},null,{"$f":"IF('AR9 (d)'!A21=\"\",\"\",'AR9 (d)'!A21)","v":""},{"$f":"IF('AR9 (d)'!B21=\"\",\"\",'AR9 (d)'!B21)","v":""},{"$f":"IF('AR9 (d)'!C21=\"\",\"\",'AR9 (d)'!C21)","v":""},null,{"$f":"IF('AR9 (d)'!F21=\"\",\"\",'AR9 (d)'!F21)","v":""},{"$f":"IF('AR9 (d)'!G21=\"\",\"\",'AR9 (d)'!G21)","v":""},{"$f":"IF('AR9 (d)'!H21=\"\",\"\",'AR9 (d)'!H21)","v":""},{"$f":"IF('AR9 (d)'!I21=\"\",\"\",'AR9 (d)'!I21)","v":""}]
[{"$f":"IF('AR8 (d)'!A19=\"\",\"\",'AR8 (d)'!A19)","v":""},{"$f":"IF('AR8 (d)'!B19=\"\",\"\",'AR8 (d)'!B19)","v":""},{"$f":"IF('AR8 (d)'!C19=\"\",\"\",'AR8 (d)'!C19)","v":""},{"$f":"IF('AR8 (d)'!D19=\"\",\"\",'AR8 (d)'!D19)","v":""},{"$f":"IF('AR8 (d)'!E19=\"\",\"\",'AR8 (d)'!E19)","v":""},{"$f":"IF('AR8 (d)'!F19=\"\",\"\",'AR8 (d)'!F19)","v":""},{"$f":"IF('AR8 (d)'!G19=\"\",\"\",'AR8 (d)'!G19)","v":""},{"$f":"IF('AR8 (d)'!H19=\"\",\"\",'AR8 (d)'!H19)","v":""},{"$f":"IF('AR8 (d)'!I19=\"\",\"\",'AR8 (d)'!I19)","v":""},{"$f":"IF('AR8 (d)'!J19=\"\",\"\",'AR8 (d)'!J19)","v":""},{"$f":"IF('AR8 (d)'!K19=\"\",\"\",'AR8 (d)'!K19)","v":""},{"$f":"IF('AR8 (d)'!L19=\"\",\"\",'AR8 (d)'!L19)","v":""},null,{"$f":"IF('AR9 (d)'!A22=\"\",\"\",'AR9 (d)'!A22)","v":""},{"$f":"IF('AR9 (d)'!B22=\"\",\"\",'AR9 (d)'!B22)","v":""},{"$f":"IF('AR9 (d)'!C22=\"\",\"\",'AR9 (d)'!C22)","v":""},null,{"$f":"IF('AR9 (d)'!F22=\"\",\"\",'AR9 (d)'!F22)","v":""},{"$f":"IF('AR9 (d)'!G22=\"\",\"\",'AR9 (d)'!G22)","v":""},{"$f":"IF('AR9 (d)'!H22=\"\",\"\",'AR9 (d)'!H22)","v":""},{"$f":"IF('AR9 (d)'!I22=\"\",\"\",'AR9 (d)'!I22)","v":""}]
[{"$f":"IF('AR8 (d)'!A20=\"\",\"\",'AR8 (d)'!A20)","v":""},{"$f":"IF('AR8 (d)'!B20=\"\",\"\",'AR8 (d)'!B20)","v":""},{"$f":"IF('AR8 (d)'!C20=\"\",\"\",'AR8 (d)'!C20)","v":""},{"$f":"IF('AR8 (d)'!D20=\"\",\"\",'AR8 (d)'!D20)","v":""},{"$f":"IF('AR8 (d)'!E20=\"\",\"\",'AR8 (d)'!E20)","v":""},{"$f":"IF('AR8 (d)'!F20=\"\",\"\",'AR8 (d)'!F20)","v":""},{"$f":"IF('AR8 (d)'!G20=\"\",\"\",'AR8 (d)'!G20)","v":""},{"$f":"IF('AR8 (d)'!H20=\"\",\"\",'AR8 (d)'!H20)","v":""},{"$f":"IF('AR8 (d)'!I20=\"\",\"\",'AR8 (d)'!I20)","v":""},{"$f":"IF('AR8 (d)'!J20=\"\",\"\",'AR8 (d)'!J20)","v":""},{"$f":"IF('AR8 (d)'!K20=\"\",\"\",'AR8 (d)'!K20)","v":""},{"$f":"IF('AR8 (d)'!L20=\"\",\"\",'AR8 (d)'!L20)","v":""},null,{"$f":"IF('AR9 (d)'!A23=\"\",\"\",'AR9 (d)'!A23)","v":""},{"$f":"IF('AR9 (d)'!B23=\"\",\"\",'AR9 (d)'!B23)","v":""},{"$f":"IF('AR9 (d)'!C23=\"\",\"\",'AR9 (d)'!C23)","v":""},null,{"$f":"IF('AR9 (d)'!F23=\"\",\"\",'AR9 (d)'!F23)","v":""},{"$f":"IF('AR9 (d)'!G23=\"\",\"\",'AR9 (d)'!G23)","v":""},{"$f":"IF('AR9 (d)'!H23=\"\",\"\",'AR9 (d)'!H23)","v":""},{"$f":"IF('AR9 (d)'!I23=\"\",\"\",'AR9 (d)'!I23)","v":""}]
[{"$f":"IF('AR8 (d)'!A21=\"\",\"\",'AR8 (d)'!A21)","v":""},{"$f":"IF('AR8 (d)'!B21=\"\",\"\",'AR8 (d)'!B21)","v":""},{"$f":"IF('AR8 (d)'!C21=\"\",\"\",'AR8 (d)'!C21)","v":""},{"$f":"IF('AR8 (d)'!D21=\"\",\"\",'AR8 (d)'!D21)","v":""},{"$f":"IF('AR8 (d)'!E21=\"\",\"\",'AR8 (d)'!E21)","v":""},{"$f":"IF('AR8 (d)'!F21=\"\",\"\",'AR8 (d)'!F21)","v":""},{"$f":"IF('AR8 (d)'!G21=\"\",\"\",'AR8 (d)'!G21)","v":""},{"$f":"IF('AR8 (d)'!H21=\"\",\"\",'AR8 (d)'!H21)","v":""},{"$f":"IF('AR8 (d)'!I21=\"\",\"\",'AR8 (d)'!I21)","v":""},{"$f":"IF('AR8 (d)'!J21=\"\",\"\",'AR8 (d)'!J21)","v":""},{"$f":"IF('AR8 (d)'!K21=\"\",\"\",'AR8 (d)'!K21)","v":""},{"$f":"IF('AR8 (d)'!L21=\"\",\"\",'AR8 (d)'!L21)","v":""},null,{"$f":"IF('AR9 (d)'!A24=\"\",\"\",'AR9 (d)'!A24)","v":""},{"$f":"IF('AR9 (d)'!B24=\"\",\"\",'AR9 (d)'!B24)","v":""},{"$f":"IF('AR9 (d)'!C24=\"\",\"\",'AR9 (d)'!C24)","v":""},null,{"$f":"IF('AR9 (d)'!F24=\"\",\"\",'AR9 (d)'!F24)","v":""},{"$f":"IF('AR9 (d)'!G24=\"\",\"\",'AR9 (d)'!G24)","v":""},{"$f":"IF('AR9 (d)'!H24=\"\",\"\",'AR9 (d)'!H24)","v":""},{"$f":"IF('AR9 (d)'!I24=\"\",\"\",'AR9 (d)'!I24)","v":""}]
[{"$f":"IF('AR8 (d)'!A22=\"\",\"\",'AR8 (d)'!A22)","v":""},{"$f":"IF('AR8 (d)'!B22=\"\",\"\",'AR8 (d)'!B22)","v":""},{"$f":"IF('AR8 (d)'!C22=\"\",\"\",'AR8 (d)'!C22)","v":""},{"$f":"IF('AR8 (d)'!D22=\"\",\"\",'AR8 (d)'!D22)","v":""},{"$f":"IF('AR8 (d)'!E22=\"\",\"\",'AR8 (d)'!E22)","v":""},{"$f":"IF('AR8 (d)'!F22=\"\",\"\",'AR8 (d)'!F22)","v":""},{"$f":"IF('AR8 (d)'!G22=\"\",\"\",'AR8 (d)'!G22)","v":""},{"$f":"IF('AR8 (d)'!H22=\"\",\"\",'AR8 (d)'!H22)","v":""},{"$f":"IF('AR8 (d)'!I22=\"\",\"\",'AR8 (d)'!I22)","v":""},{"$f":"IF('AR8 (d)'!J22=\"\",\"\",'AR8 (d)'!J22)","v":""},{"$f":"IF('AR8 (d)'!K22=\"\",\"\",'AR8 (d)'!K22)","v":""},{"$f":"IF('AR8 (d)'!L22=\"\",\"\",'AR8 (d)'!L22)","v":""},null,{"$f":"IF('AR9 (d)'!A25=\"\",\"\",'AR9 (d)'!A25)","v":""},{"$f":"IF('AR9 (d)'!B25=\"\",\"\",'AR9 (d)'!B25)","v":""},{"$f":"IF('AR9 (d)'!C25=\"\",\"\",'AR9 (d)'!C25)","v":""},null,{"$f":"IF('AR9 (d)'!F25=\"\",\"\",'AR9 (d)'!F25)","v":""},{"$f":"IF('AR9 (d)'!G25=\"\",\"\",'AR9 (d)'!G25)","v":""},{"$f":"IF('AR9 (d)'!H25=\"\",\"\",'AR9 (d)'!H25)","v":""},{"$f":"IF('AR9 (d)'!I25=\"\",\"\",'AR9 (d)'!I25)","v":""}]
["* Arizona Department of Water Resources Identification Number",null,null,null,null,null,null,null,null,null,null,null,null,null,null,null,null,{"$f":"IF('AR9 (d)'!F26=\"\",\"\",'AR9 (d)'!F26)","v":""},{"$f":"IF('AR9 (d)'!G26=\"\",\"\",'AR9 (d)'!G26)","v":""},{"$f":"IF('AR9 (d)'!H26=\"\",\"\",'AR9 (d)'!H26)","v":""},{"$f":"IF('AR9 (d)'!I26=\"\",\"\",'AR9 (d)'!I26)","v":""}]
[null,null,null,null,null,null,null,null,null,null,null,null,null,null,null,null,null,{"$f":"IF('AR9 (d)'!F27=\"\",\"\",'AR9 (d)'!F27)","v":""},{"$f":"IF('AR9 (d)'!G27=\"\",\"\",'AR9 (d)'!G27)","v":""},{"$f":"IF('AR9 (d)'!H27=\"\",\"\",'AR9 (d)'!H27)","v":""},{"$f":"IF('AR9 (d)'!I27=\"\",\"\",'AR9 (d)'!I27)","v":""}]
[null,null,null,null,null,null,null,null,null,null,null,null,null,null,null,null,null,{"$f":"IF('AR9 (d)'!F28=\"\",\"\",'AR9 (d)'!F28)","v":""},{"$f":"IF('AR9 (d)'!G28=\"\",\"\",'AR9 (d)'!G28)","v":""},{"$f":"IF('AR9 (d)'!H28=\"\",\"\",'AR9 (d)'!H28)","v":""},{"$f":"IF('AR9 (d)'!I28=\"\",\"\",'AR9 (d)'!I28)","v":""}]
[null,null,null,null,null,null,null,null,null,null,null,null,null,null,null,null,null,{"$f":"IF('AR9 (d)'!F29=\"\",\"\",'AR9 (d)'!F29)","v":""},{"$f":"IF('AR9 (d)'!G29=\"\",\"\",'AR9 (d)'!G29)","v":""},{"$f":"IF('AR9 (d)'!H29=\"\",\"\",'AR9 (d)'!H29)","v":""},{"$f":"IF('AR9 (d)'!I29=\"\",\"\",'AR9 (d)'!I29)","v":""}]
["SERVICE LINES"]
["Material","Percent of system","Year installed"]
[{"$f":"IF('AR9 (d)'!B30=\"\",\"\",'AR9 (d)'!B30)","v":""},{"$f":"IF('AR9 (d)'!C30=\"\",\"\",'AR9 (d)'!C30)","v":""},{"$f":"IF('AR9 (d)'!D30=\"\",\"\",'AR9 (d)'!D30)","v":""}]
[{"$f":"IF('AR9 (d)'!B31=\"\",\"\",'AR9 (d)'!B31)","v":""},{"$f":"IF('AR9 (d)'!C31=\"\",\"\",'AR9 (d)'!C31)","v":""},{"$f":"IF('AR9 (d)'!D31=\"\",\"\",'AR9 (d)'!D31)","v":""},null,null,null,null,null,null,null,null,null,null,"For the following three items, please list the utility owned assets in each category."]
[{"$f":"IF('AR9 (d)'!B32=\"\",\"\",'AR9 (d)'!B32)","v":""},{"$f":"IF('AR9 (d)'!C32=\"\",\"\",'AR9 (d)'!C32)","v":""},{"$f":"IF('AR9 (d)'!D32=\"\",\"\",'AR9 (d)'!D32)","v":""}]
[{"$f":"IF('AR9 (d)'!B33=\"\",\"\",'AR9 (d)'!B33)","v":""},{"$f":"IF('AR9 (d)'!C33=\"\",\"\",'AR9 (d)'!C33)","v":""},{"$f":"IF('AR9 (d)'!D33=\"\",\"\",'AR9 (d)'!D33)","v":""},null,null,null,null,null,null,null,null,null,null,"TREATMENT EQUIPMENT:"]
[{"$f":"IF('AR9 (d)'!B34=\"\",\"\",'AR9 (d)'!B34)","v":""},{"$f":"IF('AR9 (d)'!C34=\"\",\"\",'AR9 (d)'!C34)","v":""},{"$f":"IF('AR9 (d)'!D34=\"\",\"\",'AR9 (d)'!D34)","v":""},null,null,null,null,null,null,null,null,null,null,{"$f":"IF('AR9 (d)'!M11=\"\",\"\",'AR9 (d)'!M11)","v":""}]
[]
[]
[]
["BOOSTER PUMPS",null,null,null,"FIRE HYDRANTS"]
["Horsepower","GPM","Quantity",null,"Quantity Standard*","Quantity Other"]
[{"$f":"IF('AR9 (d)'!A39=\"\",\"\",'AR9 (d)'!A39)","v":""},{"$f":"IF('AR9 (d)'!B39=\"\",\"\",'AR9 (d)'!B39)","v":""},{"$f":"IF('AR9 (d)'!C39=\"\",\"\",'AR9 (d)'!C39)","v":""},null,"Standard *",{"$f":"IF('AR9 (d)'!G39=\"\",\"\",'AR9 (d)'!G39)","v":""}]
[{"$f":"IF('AR9 (d)'!A40=\"\",\"\",'AR9 (d)'!A40)","v":""},{"$f":"IF('AR9 (d)'!B40=\"\",\"\",'AR9 (d)'!B40)","v":""},{"$f":"IF('AR9 (d)'!C40=\"\",\"\",'AR9 (d)'!C40)","v":""},null,"Other",{"$f":"IF('AR9 (d)'!G40=\"\",\"\",'AR9 (d)'!G40)","v":""}]
[{"$f":"IF('AR9 (d)'!A41=\"\",\"\",'AR9 (d)'!A41)","v":""},{"$f":"IF('AR9 (d)'!B41=\"\",\"\",'AR9 (d)'!B41)","v":""},{"$f":"IF('AR9 (d)'!C41=\"\",\"\",'AR9 (d)'!C41)","v":""}]
[{"$f":"IF('AR9 (d)'!A42=\"\",\"\",'AR9 (d)'!A42)","v":""},{"$f":"IF('AR9 (d)'!B42=\"\",\"\",'AR9 (d)'!B42)","v":""},{"$f":"IF('AR9 (d)'!C42=\"\",\"\",'AR9 (d)'!C42)","v":""},null,null,null,null,null,null,null,null,null,null,"STRUCTURES:"]
[null,null,null,null,null,null,null,null,null,null,null,null,null,{"$f":"IF('AR9 (d)'!M17=\"\",\"\",'AR9 (d)'!M17)","v":""}]
[]
["STORAGE TANKS",null,null,null,null,"PRESSURE/BLADDER TANKS"]
["Capacity (gallons)","Material","Quantity","Year installed",null,"Capacity (gallons)","Material","Quantity","Year installed"]
[{"$f":"IF('AR9 (d)'!A46=\"\",\"\",'AR9 (d)'!A46)","v":""},{"$f":"IF('AR9 (d)'!B46=\"\",\"\",'AR9 (d)'!B46)","v":""},{"$f":"IF('AR9 (d)'!C46=\"\",\"\",'AR9 (d)'!C46)","v":""},{"$f":"IF('AR9 (d)'!D46=\"\",\"\",'AR9 (d)'!D46)","v":""},null,{"$f":"IF('AR9 (d)'!F46=\"\",\"\",'AR9 (d)'!F46)","v":""},{"$f":"IF('AR9 (d)'!G46=\"\",\"\",'AR9 (d)'!G46)","v":""},{"$f":"IF('AR9 (d)'!H46=\"\",\"\",'AR9 (d)'!H46)","v":""},{"$f":"IF('AR9 (d)'!I46=\"\",\"\",'AR9 (d)'!I46)","v":""}]
[{"$f":"IF('AR9 (d)'!A47=\"\",\"\",'AR9 (d)'!A47)","v":""},{"$f":"IF('AR9 (d)'!B47=\"\",\"\",'AR9 (d)'!B47)","v":""},{"$f":"IF('AR9 (d)'!C47=\"\",\"\",'AR9 (d)'!C47)","v":""},{"$f":"IF('AR9 (d)'!D47=\"\",\"\",'AR9 (d)'!D47)","v":""},null,{"$f":"IF('AR9 (d)'!F47=\"\",\"\",'AR9 (d)'!F47)","v":""},{"$f":"IF('AR9 (d)'!G47=\"\",\"\",'AR9 (d)'!G47)","v":""},{"$f":"IF('AR9 (d)'!H47=\"\",\"\",'AR9 (d)'!H47)","v":""},{"$f":"IF('AR9 (d)'!I47=\"\",\"\",'AR9 (d)'!I47)","v":""}]
[{"$f":"IF('AR9 (d)'!A48=\"\",\"\",'AR9 (d)'!A48)","v":""},{"$f":"IF('AR9 (d)'!B48=\"\",\"\",'AR9 (d)'!B48)","v":""},{"$f":"IF('AR9 (d)'!C48=\"\",\"\",'AR9 (d)'!C48)","v":""},{"$f":"IF('AR9 (d)'!D48=\"\",\"\",'AR9 (d)'!D48)","v":""},null,{"$f":"IF('AR9 (d)'!F48=\"\",\"\",'AR9 (d)'!F48)","v":""},{"$f":"IF('AR9 (d)'!G48=\"\",\"\",'AR9 (d)'!G48)","v":""},{"$f":"IF('AR9 (d)'!H48=\"\",\"\",'AR9 (d)'!H48)","v":""},{"$f":"IF('AR9 (d)'!I48=\"\",\"\",'AR9 (d)'!I48)","v":""}]
[{"$f":"IF('AR9 (d)'!A49=\"\",\"\",'AR9 (d)'!A49)","v":""},{"$f":"IF('AR9 (d)'!B49=\"\",\"\",'AR9 (d)'!B49)","v":""},{"$f":"IF('AR9 (d)'!C49=\"\",\"\",'AR9 (d)'!C49)","v":""},{"$f":"IF('AR9 (d)'!D49=\"\",\"\",'AR9 (d)'!D49)","v":""},null,{"$f":"IF('AR9 (d)'!F49=\"\",\"\",'AR9 (d)'!F49)","v":""},{"$f":"IF('AR9 (d)'!G49=\"\",\"\",'AR9 (d)'!G49)","v":""},{"$f":"IF('AR9 (d)'!H49=\"\",\"\",'AR9 (d)'!H49)","v":""},{"$f":"IF('AR9 (d)'!I49=\"\",\"\",'AR9 (d)'!I49)","v":""}]
[{"$f":"IF('AR9 (d)'!A50=\"\",\"\",'AR9 (d)'!A50)","v":""},{"$f":"IF('AR9 (d)'!B50=\"\",\"\",'AR9 (d)'!B50)","v":""},{"$f":"IF('AR9 (d)'!C50=\"\",\"\",'AR9 (d)'!C50)","v":""},{"$f":"IF('AR9 (d)'!D50=\"\",\"\",'AR9 (d)'!D50)","v":""},null,{"$f":"IF('AR9 (d)'!F50=\"\",\"\",'AR9 (d)'!F50)","v":""},{"$f":"IF('AR9 (d)'!G50=\"\",\"\",'AR9 (d)'!G50)","v":""},{"$f":"IF('AR9 (d)'!H50=\"\",\"\",'AR9 (d)'!H50)","v":""},{"$f":"IF('AR9 (d)'!I50=\"\",\"\",'AR9 (d)'!I50)","v":""},null,null,null,null,"OTHER:"]
[{"$f":"IF('AR9 (d)'!A51=\"\",\"\",'AR9 (d)'!A51)","v":""},{"$f":"IF('AR9 (d)'!B51=\"\",\"\",'AR9 (d)'!B51)","v":""},{"$f":"IF('AR9 (d)'!C51=\"\",\"\",'AR9 (d)'!C51)","v":""},{"$f":"IF('AR9 (d)'!D51=\"\",\"\",'AR9 (d)'!D51)","v":""},null,{"$f":"IF('AR9 (d)'!F51=\"\",\"\",'AR9 (d)'!F51)","v":""},{"$f":"IF('AR9 (d)'!G51=\"\",\"\",'AR9 (d)'!G51)","v":""},{"$f":"IF('AR9 (d)'!H51=\"\",\"\",'AR9 (d)'!H51)","v":""},{"$f":"IF('AR9 (d)'!I51=\"\",\"\",'AR9 (d)'!I51)","v":""},null,null,null,null,{"$f":"IF('AR9 (d)'!M23=\"\",\"\",'AR9 (d)'!M23)","v":""}]
[]
[]
[]
[]
[]
["* - A standard fire hydrant has two 2.5 inch hose connection nozzles with 7.5 threads per inch, and one 4.5 inch pumper connection nozzle with 4 threads per inch."]
[]
[]
[]
[]
["Note: This page automatically populates with information from your annual report.",null,null,null,null,null,null,null,null,null,null,null,{"$f":"A65","v":"Note: This page automatically populates with information from your annual report."}]
[]
[]
[null,null,null,null,null,null,null,null,null,null,null,{"$f":"\"Page \" &L69&\"d\"","v":"Page 20d"},null,null,null,null,null,null,null,null,null,{"$f":"\"Page \" &V69&\"d\"","v":"Page 21d"}]
[null,null,null,null,null,null,null,null,null,null,null,{"$f":"'Sch 1'!I49+1","v":20},null,null,null,null,null,null,null,null,null,{"$f":"L69+1","v":21}]

{"sheet":"Sch 2 (e)","index":55,"n_rows":69,"n_cols":23,"rows_kept":69,"cut":false,"hidden":true,"merged":[[9,17,9,20],[34,13,41,20],[38,0,38,2],[38,4,38,5],[5,0,5,11],[5,13,5,20],[6,0,6,1],[6,2,6,3],[7,0,7,1],[9,13,9,15],[10,0,10,11],[24,0,24,11],[31,13,31,20],[33,13,33,20],[28,0,28,2],[64,0,65,11],[64,12,65,21],[43,13,43,20],[44,13,50,20],[52,13,52,20],[53,13,61,20],[59,0,59,11],[46,0,46,3],[46,5,46,8]]}
[{"$f":"'AR1'!$B$12","v":0},null,null,null,null,null,null,null,null,null,null,{"$f":"'Sch Title'!$A$17&\"e\"","v":"Schedule 2e"},{"$f":"'AR1'!$B$12","v":0},null,null,null,null,null,null,null,null,{"$f":"'Sch Title'!$A$17&\"e\"","v":"Schedule 2e"}]
[{"$f":"'Sch Title'!$A$2","v":"Short Form Rate Application"},null,null,null,null,null,null,null,null,null,null,{"$f":"\" Short Form Rate Application Page No. \"&L69","v":" Short Form Rate Application Page No. 20"},{"$f":"'Sch Title'!$A$2","v":"Short Form Rate Application"},null,null,null,null,null,null,null,null,{"$f":"\" Short Form Rate Application Page No. \"&V69","v":" Short Form Rate Application Page No. 21"}]
[{"$f":"Sch6_PltDesc","v":"WATER COMPANY PLANT DESCRIPTION "},null,null,null,null,null,null,null,null,null,null,null,{"$f":"Sch6_PltDesc","v":"WATER COMPANY PLANT DESCRIPTION "}]
[{"$f":"'Sch Title'!$A$4","v":"Test Year Ended 12/31/20"},null,null,null,null,null,null,null,null,null,null,null,{"$f":"'Sch Title'!$A$4","v":"Test Year Ended 12/31/20"},null,null,null,null,null,null,null,null,null,"Table of contents"]
[]
["WATER COMPANY PLANT DESCRIPTION ",null,null,null,null,null,null,null,null,null,null,null,null,"WATER COMPANY PLANT DESCRIPTION  (Continued)"]
["Name of the System:",null,{"$f":"'AR9 (e)'!C7","v":0}]
["ADEQ Public Water System Number",null,{"$f":"'AR9 (e)'!D8","v":""}]
["ADWR PCC Number:",null,{"$f":"'AR9 (e)'!D9","v":""}]
[null,null,null,null,null,null,null,null,null,null,null,null,null,"MAINS",null,null,null,"CUSTOMER METERS"]
["WELLS",null,null,null,null,null,null,null,null,null,null,null,null,"Size (in inches)","Material","Length (in feet)",null,"Size (in inches)","Quantity","Percent over 1,00,000 gallons","Percent over 10 years old"]
["Well registry 55# (55-XXXXXX):","Pump Horsepower","Pump Yield (gpm)","Casing Depth (feet)","Casing Diameter (inches)","Pump Motor Type **","Year Drilled","Water level 2010","Water level 2019","Meter Size (inches)","How measured:","Active",null,{"$f":"IF('AR9 (e)'!A13=\"\",\"\",'AR9 (e)'!A13)","v":""},{"$f":"IF('AR9 (e)'!B13=\"\",\"\",'AR9 (e)'!B13)","v":""},{"$f":"IF('AR9 (e)'!C13=\"\",\"\",'AR9 (e)'!C13)","v":""},null,{"$f":"IF('AR9 (e)'!F13=\"\",\"\",'AR9 (e)'!F13)","v":""},{"$f":"IF('AR9 (e)'!G13=\"\",\"\",'AR9 (e)'!G13)","v":""},{"$f":"IF('AR9 (e)'!H13=\"\",\"\",'AR9 (e)'!H13)","v":""},{"$f":"IF('AR9 (e)'!I13=\"\",\"\",'AR9 (e)'!I13)","v":""}]
[{"$f":"IF('AR8 (e)'!A11=\"\",\"\",'AR8 (e)'!A11)","v":""},{"$f":"IF('AR8 (e)'!B11=\"\",\"\",'AR8 (e)'!B11)","v":""},{"$f":"IF('AR8 (e)'!C11=\"\",\"\",'AR8 (e)'!C11)","v":""},{"$f":"IF('AR8 (e)'!D11=\"\",\"\",'AR8 (e)'!D11)","v":""},{"$f":"IF('AR8 (e)'!E11=\"\",\"\",'AR8 (e)'!E11)","v":""},{"$f":"IF('AR8 (e)'!F11=\"\",\"\",'AR8 (e)'!F11)","v":""},{"$f":"IF('AR8 (e)'!G11=\"\",\"\",'AR8 (e)'!G11)","v":""},{"$f":"IF('AR8 (e)'!H11=\"\",\"\",'AR8 (e)'!H11)","v":""},{"$f":"IF('AR8 (e)'!I11=\"\",\"\",'AR8 (e)'!I11)","v":""},{"$f":"IF('AR8 (e)'!J11=\"\",\"\",'AR8 (e)'!J11)","v":""},{"$f":"IF('AR8 (e)'!K11=\"\",\"\",'AR8 (e)'!K11)","v":""},{"$f":"IF('AR8 (e)'!L11=\"\",\"\",'AR8 (e)'!L11)","v":""},null,{"$f":"IF('AR9 (e)'!A14=\"\",\"\",'AR9 (e)'!A14)","v":""},{"$f":"IF('AR9 (e)'!B14=\"\",\"\",'AR9 (e)'!B14)","v":""},{"$f":"IF('AR9 (e)'!C14=\"\",\"\",'AR9 (e)'!C14)","v":""},null,{"$f":"IF('AR9 (e)'!F14=\"\",\"\",'AR9 (e)'!F14)","v":""},{"$f":"IF('AR9 (e)'!G14=\"\",\"\",'AR9 (e)'!G14)","v":""},{"$f":"IF('AR9 (e)'!H14=\"\",\"\",'AR9 (e)'!H14)","v":""},{"$f":"IF('AR9 (e)'!I14=\"\",\"\",'AR9 (e)'!I14)","v":""}]
[{"$f":"IF('AR8 (e)'!A12=\"\",\"\",'AR8 (e)'!A12)","v":""},{"$f":"IF('AR8 (e)'!B12=\"\",\"\",'AR8 (e)'!B12)","v":""},{"$f":"IF('AR8 (e)'!C12=\"\",\"\",'AR8 (e)'!C12)","v":""},{"$f":"IF('AR8 (e)'!D12=\"\",\"\",'AR8 (e)'!D12)","v":""},{"$f":"IF('AR8 (e)'!E12=\"\",\"\",'AR8 (e)'!E12)","v":""},{"$f":"IF('AR8 (e)'!F12=\"\",\"\",'AR8 (e)'!F12)","v":""},{"$f":"IF('AR8 (e)'!G12=\"\",\"\",'AR8 (e)'!G12)","v":""},{"$f":"IF('AR8 (e)'!H12=\"\",\"\",'AR8 (e)'!H12)","v":""},{"$f":"IF('AR8 (e)'!I12=\"\",\"\",'AR8 (e)'!I12)","v":""},{"$f":"IF('AR8 (e)'!J12=\"\",\"\",'AR8 (e)'!J12)","v":""},{"$f":"IF('AR8 (e)'!K12=\"\",\"\",'AR8 (e)'!K12)","v":""},{"$f":"IF('AR8 (e)'!L12=\"\",\"\",'AR8 (e)'!L12)","v":""},null,{"$f":"IF('AR9 (e)'!A15=\"\",\"\",'AR9 (e)'!A15)","v":""},{"$f":"IF('AR9 (e)'!B15=\"\",\"\",'AR9 (e)'!B15)","v":""},{"$f":"IF('AR9 (e)'!C15=\"\",\"\",'AR9 (e)'!C15)","v":""},null,{"$f":"IF('AR9 (e)'!F15=\"\",\"\",'AR9 (e)'!F15)","v":""},{"$f":"IF('AR9 (e)'!G15=\"\",\"\",'AR9 (e)'!G15)","v":""},{"$f":"IF('AR9 (e)'!H15=\"\",\"\",'AR9 (e)'!H15)","v":""},{"$f":"IF('AR9 (e)'!I15=\"\",\"\",'AR9 (e)'!I15)","v":""}]
[{"$f":"IF('AR8 (e)'!A13=\"\",\"\",'AR8 (e)'!A13)","v":""},{"$f":"IF('AR8 (e)'!B13=\"\",\"\",'AR8 (e)'!B13)","v":""},{"$f":"IF('AR8 (e)'!C13=\"\",\"\",'AR8 (e)'!C13)","v":""},{"$f":"IF('AR8 (e)'!D13=\"\",\"\",'AR8 (e)'!D13)","v":""},{"$f":"IF('AR8 (e)'!E13=\"\",\"\",'AR8 (e)'!E13)","v":""},{"$f":"IF('AR8 (e)'!F13=\"\",\"\",'AR8 (e)'!F13)","v":""},{"$f":"IF('AR8 (e)'!G13=\"\",\"\",'AR8 (e)'!G13)","v":""},{"$f":"IF('AR8 (e)'!H13=\"\",\"\",'AR8 (e)'!H13)","v":""},{"$f":"IF('AR8 (e)'!I13=\"\",\"\",'AR8 (e)'!I13)","v":""},{"$f":"IF('AR8 (e)'!J13=\"\",\"\",'AR8 (e)'!J13)","v":""},{"$f":"IF('AR8 (e)'!K13=\"\",\"\",'AR8 (e)'!K13)","v":""},{"$f":"IF('AR8 (e)'!L13=\"\",\"\",'AR8 (e)'!L13)","v":""},null,{"$f":"IF('AR9 (e)'!A16=\"\",\"\",'AR9 (e)'!A16)","v":""},{"$f":"IF('AR9 (e)'!B16=\"\",\"\",'AR9 (e)'!B16)","v":""},{"$f":"IF('AR9 (e)'!C16=\"\",\"\",'AR9 (e)'!C16)","v":""},null,{"$f":"IF('AR9 (e)'!F16=\"\",\"\",'AR9 (e)'!F16)","v":""},{"$f":"IF('AR9 (e)'!G16=\"\",\"\",'AR9 (e)'!G16)","v":""},{"$f":"IF('AR9 (e)'!H16=\"\",\"\",'AR9 (e)'!H16)","v":""},{"$f":"IF('AR9 (e)'!I16=\"\",\"\",'AR9 (e)'!I16)","v":""}]
[{"$f":"IF('AR8 (e)'!A14=\"\",\"\",'AR8 (e)'!A14)","v":""},{"$f":"IF('AR8 (e)'!B14=\"\",\"\",'AR8 (e)'!B14)","v":""},{"$f":"IF('AR8 (e)'!C14=\"\",\"\",'AR8 (e)'!C14)","v":""},{"$f":"IF('AR8 (e)'!D14=\"\",\"\",'AR8 (e)'!D14)","v":""},{"$f":"IF('AR8 (e)'!E14=\"\",\"\",'AR8 (e)'!E14)","v":""},{"$f":"IF('AR8 (e)'!F14=\"\",\"\",'AR8 (e)'!F14)","v":""},{"$f":"IF('AR8 (e)'!G14=\"\",\"\",'AR8 (e)'!G14)","v":""},{"$f":"IF('AR8 (e)'!H14=\"\",\"\",'AR8 (e)'!H14)","v":""},{"$f":"IF('AR8 (e)'!I14=\"\",\"\",'AR8 (e)'!I14)","v":""},{"$f":"IF('AR8 (e)'!J14=\"\",\"\",'AR8 (e)'!J14)","v":""},{"$f":"IF('AR8 (e)'!K14=\"\",\"\",'AR8 (e)'!K14)","v":""},{"$f":"IF('AR8 (e)'!L14=\"\",\"\",'AR8 (e)'!L14)","v":""},null,{"$f":"IF('AR9 (e)'!A17=\"\",\"\",'AR9 (e)'!A17)","v":""},{"$f":"IF('AR9 (e)'!B17=\"\",\"\",'AR9 (e)'!B17)","v":""},{"$f":"IF('AR9 (e)'!C17=\"\",\"\",'AR9 (e)'!C17)","v":""},null,{"$f":"IF('AR9 (e)'!F17=\"\",\"\",'AR9 (e)'!F17)","v":""},{"$f":"IF('AR9 (e)'!G17=\"\",\"\",'AR9 (e)'!G17)","v":""},{"$f":"IF('AR9 (e)'!H17=\"\",\"\",'AR9 (e)'!H17)","v":""},{"$f":"IF('AR9 (e)'!I17=\"\",\"\",'AR9 (e)'!I17)","v":""}]
[{"$f":"IF('AR8 (e)'!A15=\"\",\"\",'AR8 (e)'!A15)","v":""},{"$f":"IF('AR8 (e)'!B15=\"\",\"\",'AR8 (e)'!B15)","v":""},{"$f":"IF('AR8 (e)'!C15=\"\",\"\",'AR8 (e)'!C15)","v":""},{"$f":"IF('AR8 (e)'!D15=\"\",\"\",'AR8 (e)'!D15)","v":""},{"$f":"IF('AR8 (e)'!E15=\"\",\"\",'AR8 (e)'!E15)","v":""},{"$f":"IF('AR8 (e)'!F15=\"\",\"\",'AR8 (e)'!F15)","v":""},{"$f":"IF('AR8 (e)'!G15=\"\",\"\",'AR8 (e)'!G15)","v":""},{"$f":"IF('AR8 (e)'!H15=\"\",\"\",'AR8 (e)'!H15)","v":""},{"$f":"IF('AR8 (e)'!I15=\"\",\"\",'AR8 (e)'!I15)","v":""},{"$f":"IF('AR8 (e)'!J15=\"\",\"\",'AR8 (e)'!J15)","v":""},{"$f":"IF('AR8 (e)'!K15=\"\",\"\",'AR8 (e)'!K15)","v":""},{"$f":"IF('AR8 (e)'!L15=\"\",\"\",'AR8 (e)'!L15)","v":""},null,{"$f":"IF('AR9 (e)'!A18=\"\",\"\",'AR9 (e)'!A18)","v":""},{"$f":"IF('AR9 (e)'!B18=\"\",\"\",'AR9 (e)'!B18)","v":""},{"$f":"IF('AR9 (e)'!C18=\"\",\"\",'AR9 (e)'!C18)","v":""},null,{"$f":"IF('AR9 (e)'!F18=\"\",\"\",'AR9 (e)'!F18)","v":""},{"$f":"IF('AR9 (e)'!G18=\"\",\"\",'AR9 (e)'!G18)","v":""},{"$f":"IF('AR9 (e)'!H18=\"\",\"\",'AR9 (e)'!H18)","v":""},{"$f":"IF('AR9 (e)'!I18=\"\",\"\",'AR9 (e)'!I18)","v":""}]
[{"$f":"IF('AR8 (e)'!A16=\"\",\"\",'AR8 (e)'!A16)","v":""},{"$f":"IF('AR8 (e)'!B16=\"\",\"\",'AR8 (e)'!B16)","v":""},{"$f":"IF('AR8 (e)'!C16=\"\",\"\",'AR8 (e)'!C16)","v":""},{"$f":"IF('AR8 (e)'!D16=\"\",\"\",'AR8 (e)'!D16)","v":""},{"$f":"IF('AR8 (e)'!E16=\"\",\"\",'AR8 (e)'!E16)","v":""},{"$f":"IF('AR8 (e)'!F16=\"\",\"\",'AR8 (e)'!F16)","v":""},{"$f":"IF('AR8 (e)'!G16=\"\",\"\",'AR8 (e)'!G16)","v":""},{"$f":"IF('AR8 (e)'!H16=\"\",\"\",'AR8 (e)'!H16)","v":""},{"$f":"IF('AR8 (e)'!I16=\"\",\"\",'AR8 (e)'!I16)","v":""},{"$f":"IF('AR8 (e)'!J16=\"\",\"\",'AR8 (e)'!J16)","v":""},{"$f":"IF('AR8 (e)'!K16=\"\",\"\",'AR8 (e)'!K16)","v":""},{"$f":"IF('AR8 (e)'!L16=\"\",\"\",'AR8 (e)'!L16)","v":""},null,{"$f":"IF('AR9 (e)'!A19=\"\",\"\",'AR9 (e)'!A19)","v":""},{"$f":"IF('AR9 (e)'!B19=\"\",\"\",'AR9 (e)'!B19)","v":""},{"$f":"IF('AR9 (e)'!C19=\"\",\"\",'AR9 (e)'!C19)","v":""},null,{"$f":"IF('AR9 (e)'!F19=\"\",\"\",'AR9 (e)'!F19)","v":""},{"$f":"IF('AR9 (e)'!G19=\"\",\"\",'AR9 (e)'!G19)","v":""},{"$f":"IF('AR9 (e)'!H19=\"\",\"\",'AR9 (e)'!H19)","v":""},{"$f":"IF('AR9 (e)'!I19=\"\",\"\",'AR9 (e)'!I19)","v":""}]
[{"$f":"IF('AR8 (e)'!A17=\"\",\"\",'AR8 (e)'!A17)","v":""},{"$f":"IF('AR8 (e)'!B17=\"\",\"\",'AR8 (e)'!B17)","v":""},{"$f":"IF('AR8 (e)'!C17=\"\",\"\",'AR8 (e)'!C17)","v":""},{"$f":"IF('AR8 (e)'!D17=\"\",\"\",'AR8 (e)'!D17)","v":""},{"$f":"IF('AR8 (e)'!E17=\"\",\"\",'AR8 (e)'!E17)","v":""},{"$f":"IF('AR8 (e)'!F17=\"\",\"\",'AR8 (e)'!F17)","v":""},{"$f":"IF('AR8 (e)'!G17=\"\",\"\",'AR8 (e)'!G17)","v":""},{"$f":"IF('AR8 (e)'!H17=\"\",\"\",'AR8 (e)'!H17)","v":""},{"$f":"IF('AR8 (e)'!I17=\"\",\"\",'AR8 (e)'!I17)","v":""},{"$f":"IF('AR8 (e)'!J17=\"\",\"\",'AR8 (e)'!J17)","v":""},{"$f":"IF('AR8 (e)'!K17=\"\",\"\",'AR8 (e)'!K17)","v":""},{"$f":"IF('AR8 (e)'!L17=\"\",\"\",'AR8 (e)'!L17)","v":""},null,{"$f":"IF('AR9 (e)'!A20=\"\",\"\",'AR9 (e)'!A20)","v":""},{"$f":"IF('AR9 (e)'!B20=\"\",\"\",'AR9 (e)'!B20)","v":""},{"$f":"IF('AR9 (e)'!C20=\"\",\"\",'AR9 (e)'!C20)","v":""},null,{"$f":"IF('AR9 (e)'!F20=\"\",\"\",'AR9 (e)'!F20)","v":""},{"$f":"IF('AR9 (e)'!G20=\"\",\"\",'AR9 (e)'!G20)","v":""},{"$f":"IF('AR9 (e)'!H20=\"\",\"\",'AR9 (e)'!H20)","v":""},{"$f":"IF('AR9 (e)'!I20=\"\",\"\",'AR9 (e)'!I20)","v":""}]
[{"$f":"IF('AR8 (e)'!A18=\"\",\"\",'AR8 (e)'!A18)","v":""},{"$f":"IF('AR8 (e)'!B18=\"\",\"\",'AR8 (e)'!B18)","v":""},{"$f":"IF('AR8 (e)'!C18=\"\",\"\",'AR8 (e)'!C18)","v":""},{"$f":"IF('AR8 (e)'!D18=\"\",\"\",'AR8 (e)'!D18)","v":""},{"$f":"IF('AR8 (e)'!E18=\"\",\"\",'AR8 (e)'!E18)","v":""},{"$f":"IF('AR8 (e)'!F18=\"\",\"\",'AR8 (e)'!F18)","v":""},{"$f":"IF('AR8 (e)'!G18=\"\",\"\",'AR8 (e)'!G18)","v":""},{"$f":"IF('AR8 (e)'!H18=\"\",\"\",'AR8 (e)'!H18)","v":""},{"$f":"IF('AR8 (e)'!I18=\"\",\"\",'AR8 (e)'!I18)","v":""},{"$f":"IF('AR8 (e)'!J18=\"\",\"\",'AR8 (e)'!J18)","v":""},{"$f":"IF('AR8 (e)'!K18=\"\",\"\",'AR8 (e)'!K18)","v":""},{"$f":"IF('AR8 (e)'!L18=\"\",\"\",'AR8 (e)'!L18)","v":""},null,{"$f":"IF('AR9 (e)'!A21=\"\",\"\",'AR9 (e)'!A21)","v":""},{"$f":"IF('AR9 (e)'!B21=\"\",\"\",'AR9 (e)'!B21)","v":""},{"$f":"IF('AR9 (e)'!C21=\"\",\"\",'AR9 (e)'!C21)","v":""},null,{"$f":"IF('AR9 (e)'!F21=\"\",\"\",'AR9 (e)'!F21)","v":""},{"$f":"IF('AR9 (e)'!G21=\"\",\"\",'AR9 (e)'!G21)","v":""},{"$f":"IF('AR9 (e)'!H21=\"\",\"\",'AR9 (e)'!H21)","v":""},{"$f":"IF('AR9 (e)'!I21=\"\",\"\",'AR9 (e)'!I21)","v":""}]
[{"$f":"IF('AR8 (e)'!A19=\"\",\"\",'AR8 (e)'!A19)","v":""},{"$f":"IF('AR8 (e)'!B19=\"\",\"\",'AR8 (e)'!B19)","v":""},{"$f":"IF('AR8 (e)'!C19=\"\",\"\",'AR8 (e)'!C19)","v":""},{"$f":"IF('AR8 (e)'!D19=\"\",\"\",'AR8 (e)'!D19)","v":""},{"$f":"IF('AR8 (e)'!E19=\"\",\"\",'AR8 (e)'!E19)","v":""},{"$f":"IF('AR8 (e)'!F19=\"\",\"\",'AR8 (e)'!F19)","v":""},{"$f":"IF('AR8 (e)'!G19=\"\",\"\",'AR8 (e)'!G19)","v":""},{"$f":"IF('AR8 (e)'!H19=\"\",\"\",'AR8 (e)'!H19)","v":""},{"$f":"IF('AR8 (e)'!I19=\"\",\"\",'AR8 (e)'!I19)","v":""},{"$f":"IF('AR8 (e)'!J19=\"\",\"\",'AR8 (e)'!J19)","v":""},{"$f":"IF('AR8 (e)'!K19=\"\",\"\",'AR8 (e)'!K19)","v":""},{"$f":"IF('AR8 (e)'!L19=\"\",\"\",'AR8 (e)'!L19)","v":""},null,{"$f":"IF('AR9 (e)'!A22=\"\",\"\",'AR9 (e)'!A22)","v":""},{"$f":"IF('AR9 (e)'!B22=\"\",\"\",'AR9 (e)'!B22)","v":""},{"$f":"IF('AR9 (e)'!C22=\"\",\"\",'AR9 (e)'!C22)","v":""},null,{"$f":"IF('AR9 (e)'!F22=\"\",\"\",'AR9 (e)'!F22)","v":""},{"$f":"IF('AR9 (e)'!G22=\"\",\"\",'AR9 (e)'!G22)","v":""},{"$f":"IF('AR9 (e)'!H22=\"\",\"\",'AR9 (e)'!H22)","v":""},{"$f":"IF('AR9 (e)'!I22=\"\",\"\",'AR9 (e)'!I22)","v":""}]
[{"$f":"IF('AR8 (e)'!A20=\"\",\"\",'AR8 (e)'!A20)","v":""},{"$f":"IF('AR8 (e)'!B20=\"\",\"\",'AR8 (e)'!B20)","v":""},{"$f":"IF('AR8 (e)'!C20=\"\",\"\",'AR8 (e)'!C20)","v":""},{"$f":"IF('AR8 (e)'!D20=\"\",\"\",'AR8 (e)'!D20)","v":""},{"$f":"IF('AR8 (e)'!E20=\"\",\"\",'AR8 (e)'!E20)","v":""},{"$f":"IF('AR8 (e)'!F20=\"\",\"\",'AR8 (e)'!F20)","v":""},{"$f":"IF('AR8 (e)'!G20=\"\",\"\",'AR8 (e)'!G20)","v":""},{"$f":"IF('AR8 (e)'!H20=\"\",\"\",'AR8 (e)'!H20)","v":""},{"$f":"IF('AR8 (e)'!I20=\"\",\"\",'AR8 (e)'!I20)","v":""},{"$f":"IF('AR8 (e)'!J20=\"\",\"\",'AR8 (e)'!J20)","v":""},{"$f":"IF('AR8 (e)'!K20=\"\",\"\",'AR8 (e)'!K20)","v":""},{"$f":"IF('AR8 (e)'!L20=\"\",\"\",'AR8 (e)'!L20)","v":""},null,{"$f":"IF('AR9 (e)'!A23=\"\",\"\",'AR9 (e)'!A23)","v":""},{"$f":"IF('AR9 (e)'!B23=\"\",\"\",'AR9 (e)'!B23)","v":""},{"$f":"IF('AR9 (e)'!C23=\"\",\"\",'AR9 (e)'!C23)","v":""},null,{"$f":"IF('AR9 (e)'!F23=\"\",\"\",'AR9 (e)'!F23)","v":""},{"$f":"IF('AR9 (e)'!G23=\"\",\"\",'AR9 (e)'!G23)","v":""},{"$f":"IF('AR9 (e)'!H23=\"\",\"\",'AR9 (e)'!H23)","v":""},{"$f":"IF('AR9 (e)'!I23=\"\",\"\",'AR9 (e)'!I23)","v":""}]
[{"$f":"IF('AR8 (e)'!A21=\"\",\"\",'AR8 (e)'!A21)","v":""},{"$f":"IF('AR8 (e)'!B21=\"\",\"\",'AR8 (e)'!B21)","v":""},{"$f":"IF('AR8 (e)'!C21=\"\",\"\",'AR8 (e)'!C21)","v":""},{"$f":"IF('AR8 (e)'!D21=\"\",\"\",'AR8 (e)'!D21)","v":""},{"$f":"IF('AR8 (e)'!E21=\"\",\"\",'AR8 (e)'!E21)","v":""},{"$f":"IF('AR8 (e)'!F21=\"\",\"\",'AR8 (e)'!F21)","v":""},{"$f":"IF('AR8 (e)'!G21=\"\",\"\",'AR8 (e)'!G21)","v":""},{"$f":"IF('AR8 (e)'!H21=\"\",\"\",'AR8 (e)'!H21)","v":""},{"$f":"IF('AR8 (e)'!I21=\"\",\"\",'AR8 (e)'!I21)","v":""},{"$f":"IF('AR8 (e)'!J21=\"\",\"\",'AR8 (e)'!J21)","v":""},{"$f":"IF('AR8 (e)'!K21=\"\",\"\",'AR8 (e)'!K21)","v":""},{"$f":"IF('AR8 (e)'!L21=\"\",\"\",'AR8 (e)'!L21)","v":""},null,{"$f":"IF('AR9 (e)'!A24=\"\",\"\",'AR9 (e)'!A24)","v":""},{"$f":"IF('AR9 (e)'!B24=\"\",\"\",'AR9 (e)'!B24)","v":""},{"$f":"IF('AR9 (e)'!C24=\"\",\"\",'AR9 (e)'!C24)","v":""},null,{"$f":"IF('AR9 (e)'!F24=\"\",\"\",'AR9 (e)'!F24)","v":""},{"$f":"IF('AR9 (e)'!G24=\"\",\"\",'AR9 (e)'!G24)","v":""},{"$f":"IF('AR9 (e)'!H24=\"\",\"\",'AR9 (e)'!H24)","v":""},{"$f":"IF('AR9 (e)'!I24=\"\",\"\",'AR9 (e)'!I24)","v":""}]
[{"$f":"IF('AR8 (e)'!A22=\"\",\"\",'AR8 (e)'!A22)","v":""},{"$f":"IF('AR8 (e)'!B22=\"\",\"\",'AR8 (e)'!B22)","v":""},{"$f":"IF('AR8 (e)'!C22=\"\",\"\",'AR8 (e)'!C22)","v":""},{"$f":"IF('AR8 (e)'!D22=\"\",\"\",'AR8 (e)'!D22)","v":""},{"$f":"IF('AR8 (e)'!E22=\"\",\"\",'AR8 (e)'!E22)","v":""},{"$f":"IF('AR8 (e)'!F22=\"\",\"\",'AR8 (e)'!F22)","v":""},{"$f":"IF('AR8 (e)'!G22=\"\",\"\",'AR8 (e)'!G22)","v":""},{"$f":"IF('AR8 (e)'!H22=\"\",\"\",'AR8 (e)'!H22)","v":""},{"$f":"IF('AR8 (e)'!I22=\"\",\"\",'AR8 (e)'!I22)","v":""},{"$f":"IF('AR8 (e)'!J22=\"\",\"\",'AR8 (e)'!J22)","v":""},{"$f":"IF('AR8 (e)'!K22=\"\",\"\",'AR8 (e)'!K22)","v":""},{"$f":"IF('AR8 (e)'!L22=\"\",\"\",'AR8 (e)'!L22)","v":""},null,{"$f":"IF('AR9 (e)'!A25=\"\",\"\",'AR9 (e)'!A25)","v":""},{"$f":"IF('AR9 (e)'!B25=\"\",\"\",'AR9 (e)'!B25)","v":""},{"$f":"IF('AR9 (e)'!C25=\"\",\"\",'AR9 (e)'!C25)","v":""},null,{"$f":"IF('AR9 (e)'!F25=\"\",\"\",'AR9 (e)'!F25)","v":""},{"$f":"IF('AR9 (e)'!G25=\"\",\"\",'AR9 (e)'!G25)","v":""},{"$f":"IF('AR9 (e)'!H25=\"\",\"\",'AR9 (e)'!H25)","v":""},{"$f":"IF('AR9 (e)'!I25=\"\",\"\",'AR9 (e)'!I25)","v":""}]
["* Arizona Department of Water Resources Identification Number",null,null,null,null,null,null,null,null,null,null,null,null,null,null,null,null,{"$f":"IF('AR9 (e)'!F26=\"\",\"\",'AR9 (e)'!F26)","v":""},{"$f":"IF('AR9 (e)'!G26=\"\",\"\",'AR9 (e)'!G26)","v":""},{"$f":"IF('AR9 (e)'!H26=\"\",\"\",'AR9 (e)'!H26)","v":""},{"$f":"IF('AR9 (e)'!I26=\"\",\"\",'AR9 (e)'!I26)","v":""}]
[null,null,null,null,null,null,null,null,null,null,null,null,null,null,null,null,null,{"$f":"IF('AR9 (e)'!F27=\"\",\"\",'AR9 (e)'!F27)","v":""},{"$f":"IF('AR9 (e)'!G27=\"\",\"\",'AR9 (e)'!G27)","v":""},{"$f":"IF('AR9 (e)'!H27=\"\",\"\",'AR9 (e)'!H27)","v":""},{"$f":"IF('AR9 (e)'!I27=\"\",\"\",'AR9 (e)'!I27)","v":""}]
[null,null,null,null,null,null,null,null,null,null,null,null,null,null,null,null,null,{"$f":"IF('AR9 (e)'!F28=\"\",\"\",'AR9 (e)'!F28)","v":""},{"$f":"IF('AR9 (e)'!G28=\"\",\"\",'AR9 (e)'!G28)","v":""},{"$f":"IF('AR9 (e)'!H28=\"\",\"\",'AR9 (e)'!H28)","v":""},{"$f":"IF('AR9 (e)'!I28=\"\",\"\",'AR9 (e)'!I28)","v":""}]
[null,null,null,null,null,null,null,null,null,null,null,null,null,null,null,null,null,{"$f":"IF('AR9 (e)'!F29=\"\",\"\",'AR9 (e)'!F29)","v":""},{"$f":"IF('AR9 (e)'!G29=\"\",\"\",'AR9 (e)'!G29)","v":""},{"$f":"IF('AR9 (e)'!H29=\"\",\"\",'AR9 (e)'!H29)","v":""},{"$f":"IF('AR9 (e)'!I29=\"\",\"\",'AR9 (e)'!I29)","v":""}]
["SERVICE LINES"]
["Material","Percent of system","Year installed"]
[{"$f":"IF('AR9 (e)'!B30=\"\",\"\",'AR9 (e)'!B30)","v":""},{"$f":"IF('AR9 (e)'!C30=\"\",\"\",'AR9 (e)'!C30)","v":""},{"$f":"IF('AR9 (e)'!D30=\"\",\"\",'AR9 (e)'!D30)","v":""}]
[{"$f":"IF('AR9 (e)'!B31=\"\",\"\",'AR9 (e)'!B31)","v":""},{"$f":"IF('AR9 (e)'!C31=\"\",\"\",'AR9 (e)'!C31)","v":""},{"$f":"IF('AR9 (e)'!D31=\"\",\"\",'AR9 (e)'!D31)","v":""},null,null,null,null,null,null,null,null,null,null,"For the following three items, please list the utility owned assets in each category."]
[{"$f":"IF('AR9 (e)'!B32=\"\",\"\",'AR9 (e)'!B32)","v":""},{"$f":"IF('AR9 (e)'!C32=\"\",\"\",'AR9 (e)'!C32)","v":""},{"$f":"IF('AR9 (e)'!D32=\"\",\"\",'AR9 (e)'!D32)","v":""}]
[{"$f":"IF('AR9 (e)'!B33=\"\",\"\",'AR9 (e)'!B33)","v":""},{"$f":"IF('AR9 (e)'!C33=\"\",\"\",'AR9 (e)'!C33)","v":""},{"$f":"IF('AR9 (e)'!D33=\"\",\"\",'AR9 (e)'!D33)","v":""},null,null,null,null,null,null,null,null,null,null,"TREATMENT EQUIPMENT:"]
[{"$f":"IF('AR9 (e)'!B34=\"\",\"\",'AR9 (e)'!B34)","v":""},{"$f":"IF('AR9 (e)'!C34=\"\",\"\",'AR9 (e)'!C34)","v":""},{"$f":"IF('AR9 (e)'!D34=\"\",\"\",'AR9 (e)'!D34)","v":""},null,null,null,null,null,null,null,null,null,null,{"$f":"IF('AR9 (e)'!M11=\"\",\"\",'AR9 (e)'!M11)","v":""}]
[]
[]
[]
["BOOSTER PUMPS",null,null,null,"FIRE HYDRANTS"]
["Horsepower","GPM","Quantity",null,"Quantity Standard*","Quantity Other"]
[{"$f":"IF('AR9 (e)'!A39=\"\",\"\",'AR9 (e)'!A39)","v":""},{"$f":"IF('AR9 (e)'!B39=\"\",\"\",'AR9 (e)'!B39)","v":""},{"$f":"IF('AR9 (e)'!C39=\"\",\"\",'AR9 (e)'!C39)","v":""},null,"Standard *",{"$f":"IF('AR9 (e)'!G39=\"\",\"\",'AR9 (e)'!G39)","v":""}]
[{"$f":"IF('AR9 (e)'!A40=\"\",\"\",'AR9 (e)'!A40)","v":""},{"$f":"IF('AR9 (e)'!B40=\"\",\"\",'AR9 (e)'!B40)","v":""},{"$f":"IF('AR9 (e)'!C40=\"\",\"\",'AR9 (e)'!C40)","v":""},null,"Other",{"$f":"IF('AR9 (e)'!G40=\"\",\"\",'AR9 (e)'!G40)","v":""}]
[{"$f":"IF('AR9 (e)'!A41=\"\",\"\",'AR9 (e)'!A41)","v":""},{"$f":"IF('AR9 (e)'!B41=\"\",\"\",'AR9 (e)'!B41)","v":""},{"$f":"IF('AR9 (e)'!C41=\"\",\"\",'AR9 (e)'!C41)","v":""}]
[{"$f":"IF('AR9 (e)'!A42=\"\",\"\",'AR9 (e)'!A42)","v":""},{"$f":"IF('AR9 (e)'!B42=\"\",\"\",'AR9 (e)'!B42)","v":""},{"$f":"IF('AR9 (e)'!C42=\"\",\"\",'AR9 (e)'!C42)","v":""},null,null,null,null,null,null,null,null,null,null,"STRUCTURES:"]
[null,null,null,null,null,null,null,null,null,null,null,null,null,{"$f":"IF('AR9 (e)'!M17=\"\",\"\",'AR9 (e)'!M17)","v":""}]
[]
["STORAGE TANKS",null,null,null,null,"PRESSURE/BLADDER TANKS"]
["Capacity (gallons)","Material","Quantity","Year installed",null,"Capacity (gallons)","Material","Quantity","Year installed"]
[{"$f":"IF('AR9 (e)'!A46=\"\",\"\",'AR9 (e)'!A46)","v":""},{"$f":"IF('AR9 (e)'!B46=\"\",\"\",'AR9 (e)'!B46)","v":""},{"$f":"IF('AR9 (e)'!C46=\"\",\"\",'AR9 (e)'!C46)","v":""},{"$f":"IF('AR9 (e)'!D46=\"\",\"\",'AR9 (e)'!D46)","v":""},null,{"$f":"IF('AR9 (e)'!F46=\"\",\"\",'AR9 (e)'!F46)","v":""},{"$f":"IF('AR9 (e)'!G46=\"\",\"\",'AR9 (e)'!G46)","v":""},{"$f":"IF('AR9 (e)'!H46=\"\",\"\",'AR9 (e)'!H46)","v":""},{"$f":"IF('AR9 (e)'!I46=\"\",\"\",'AR9 (e)'!I46)","v":""}]
[{"$f":"IF('AR9 (e)'!A47=\"\",\"\",'AR9 (e)'!A47)","v":""},{"$f":"IF('AR9 (e)'!B47=\"\",\"\",'AR9 (e)'!B47)","v":""},{"$f":"IF('AR9 (e)'!C47=\"\",\"\",'AR9 (e)'!C47)","v":""},{"$f":"IF('AR9 (e)'!D47=\"\",\"\",'AR9 (e)'!D47)","v":""},null,{"$f":"IF('AR9 (e)'!F47=\"\",\"\",'AR9 (e)'!F47)","v":""},{"$f":"IF('AR9 (e)'!G47=\"\",\"\",'AR9 (e)'!G47)","v":""},{"$f":"IF('AR9 (e)'!H47=\"\",\"\",'AR9 (e)'!H47)","v":""},{"$f":"IF('AR9 (e)'!I47=\"\",\"\",'AR9 (e)'!I47)","v":""}]
[{"$f":"IF('AR9 (e)'!A48=\"\",\"\",'AR9 (e)'!A48)","v":""},{"$f":"IF('AR9 (e)'!B48=\"\",\"\",'AR9 (e)'!B48)","v":""},{"$f":"IF('AR9 (e)'!C48=\"\",\"\",'AR9 (e)'!C48)","v":""},{"$f":"IF('AR9 (e)'!D48=\"\",\"\",'AR9 (e)'!D48)","v":""},null,{"$f":"IF('AR9 (e)'!F48=\"\",\"\",'AR9 (e)'!F48)","v":""},{"$f":"IF('AR9 (e)'!G48=\"\",\"\",'AR9 (e)'!G48)","v":""},{"$f":"IF('AR9 (e)'!H48=\"\",\"\",'AR9 (e)'!H48)","v":""},{"$f":"IF('AR9 (e)'!I48=\"\",\"\",'AR9 (e)'!I48)","v":""}]
[{"$f":"IF('AR9 (e)'!A49=\"\",\"\",'AR9 (e)'!A49)","v":""},{"$f":"IF('AR9 (e)'!B49=\"\",\"\",'AR9 (e)'!B49)","v":""},{"$f":"IF('AR9 (e)'!C49=\"\",\"\",'AR9 (e)'!C49)","v":""},{"$f":"IF('AR9 (e)'!D49=\"\",\"\",'AR9 (e)'!D49)","v":""},null,{"$f":"IF('AR9 (e)'!F49=\"\",\"\",'AR9 (e)'!F49)","v":""},{"$f":"IF('AR9 (e)'!G49=\"\",\"\",'AR9 (e)'!G49)","v":""},{"$f":"IF('AR9 (e)'!H49=\"\",\"\",'AR9 (e)'!H49)","v":""},{"$f":"IF('AR9 (e)'!I49=\"\",\"\",'AR9 (e)'!I49)","v":""}]
[{"$f":"IF('AR9 (e)'!A50=\"\",\"\",'AR9 (e)'!A50)","v":""},{"$f":"IF('AR9 (e)'!B50=\"\",\"\",'AR9 (e)'!B50)","v":""},{"$f":"IF('AR9 (e)'!C50=\"\",\"\",'AR9 (e)'!C50)","v":""},{"$f":"IF('AR9 (e)'!D50=\"\",\"\",'AR9 (e)'!D50)","v":""},null,{"$f":"IF('AR9 (e)'!F50=\"\",\"\",'AR9 (e)'!F50)","v":""},{"$f":"IF('AR9 (e)'!G50=\"\",\"\",'AR9 (e)'!G50)","v":""},{"$f":"IF('AR9 (e)'!H50=\"\",\"\",'AR9 (e)'!H50)","v":""},{"$f":"IF('AR9 (e)'!I50=\"\",\"\",'AR9 (e)'!I50)","v":""},null,null,null,null,"OTHER:"]
[{"$f":"IF('AR9 (e)'!A51=\"\",\"\",'AR9 (e)'!A51)","v":""},{"$f":"IF('AR9 (e)'!B51=\"\",\"\",'AR9 (e)'!B51)","v":""},{"$f":"IF('AR9 (e)'!C51=\"\",\"\",'AR9 (e)'!C51)","v":""},{"$f":"IF('AR9 (e)'!D51=\"\",\"\",'AR9 (e)'!D51)","v":""},null,{"$f":"IF('AR9 (e)'!F51=\"\",\"\",'AR9 (e)'!F51)","v":""},{"$f":"IF('AR9 (e)'!G51=\"\",\"\",'AR9 (e)'!G51)","v":""},{"$f":"IF('AR9 (e)'!H51=\"\",\"\",'AR9 (e)'!H51)","v":""},{"$f":"IF('AR9 (e)'!I51=\"\",\"\",'AR9 (e)'!I51)","v":""},null,null,null,null,{"$f":"IF('AR9 (e)'!M23=\"\",\"\",'AR9 (e)'!M23)","v":""}]
[]
[]
[]
[]
[]
["* - A standard fire hydrant has two 2.5 inch hose connection nozzles with 7.5 threads per inch, and one 4.5 inch pumper connection nozzle with 4 threads per inch."]
[]
[]
[]
[]
["Note: This page automatically populates with information from your annual report.",null,null,null,null,null,null,null,null,null,null,null,{"$f":"A65","v":"Note: This page automatically populates with information from your annual report."}]
[]
[]
[null,null,null,null,null,null,null,null,null,null,null,{"$f":"\"Page \" &L69&\"e\"","v":"Page 20e"},null,null,null,null,null,null,null,null,null,{"$f":"\"Page \" &V69&\"e\"","v":"Page 21e"}]
[null,null,null,null,null,null,null,null,null,null,null,{"$f":"'Sch 1'!I49+1","v":20},null,null,null,null,null,null,null,null,null,{"$f":"L69+1","v":21}]

{"sheet":"Sch 2 (f)","index":56,"n_rows":69,"n_cols":23,"rows_kept":69,"cut":false,"hidden":true,"merged":[[9,17,9,20],[34,13,41,20],[38,0,38,2],[38,4,38,5],[5,0,5,11],[5,13,5,20],[6,0,6,1],[6,2,6,3],[7,0,7,1],[9,13,9,15],[10,0,10,11],[24,0,24,11],[31,13,31,20],[33,13,33,20],[28,0,28,2],[64,0,65,11],[64,12,65,21],[43,13,43,20],[44,13,50,20],[52,13,52,20],[53,13,61,20],[59,0,59,11],[46,0,46,3],[46,5,46,8]]}
[{"$f":"'AR1'!$B$12","v":0},null,null,null,null,null,null,null,null,null,null,{"$f":"'Sch Title'!$A$17&\"f\"","v":"Schedule 2f"},{"$f":"'AR1'!$B$12","v":0},null,null,null,null,null,null,null,null,{"$f":"'Sch Title'!$A$17&\"f\"","v":"Schedule 2f"}]
[{"$f":"'Sch Title'!$A$2","v":"Short Form Rate Application"},null,null,null,null,null,null,null,null,null,null,{"$f":"\" Short Form Rate Application Page No. \"&L69","v":" Short Form Rate Application Page No. 20"},{"$f":"'Sch Title'!$A$2","v":"Short Form Rate Application"},null,null,null,null,null,null,null,null,{"$f":"\" Short Form Rate Application Page No. \"&V69","v":" Short Form Rate Application Page No. 21"}]
[{"$f":"Sch6_PltDesc","v":"WATER COMPANY PLANT DESCRIPTION "},null,null,null,null,null,null,null,null,null,null,null,{"$f":"Sch6_PltDesc","v":"WATER COMPANY PLANT DESCRIPTION "}]
[{"$f":"'Sch Title'!$A$4","v":"Test Year Ended 12/31/20"},null,null,null,null,null,null,null,null,null,null,null,{"$f":"'Sch Title'!$A$4","v":"Test Year Ended 12/31/20"},null,null,null,null,null,null,null,null,null,"Table of contents"]
[]
["WATER COMPANY PLANT DESCRIPTION ",null,null,null,null,null,null,null,null,null,null,null,null,"WATER COMPANY PLANT DESCRIPTION  (Continued)"]
["Name of the System:",null,{"$f":"'AR9 (f)'!C7","v":0}]
["ADEQ Public Water System Number",null,{"$f":"'AR9 (f)'!D8","v":""}]
["ADWR PCC Number:",null,{"$f":"'AR9 (f)'!D9","v":""}]
[null,null,null,null,null,null,null,null,null,null,null,null,null,"MAINS",null,null,null,"CUSTOMER METERS"]
["WELLS",null,null,null,null,null,null,null,null,null,null,null,null,"Size (in inches)","Material","Length (in feet)",null,"Size (in inches)","Quantity","Percent over 1,00,000 gallons","Percent over 10 years old"]
["Well registry 55# (55-XXXXXX):","Pump Horsepower","Pump Yield (gpm)","Casing Depth (feet)","Casing Diameter (inches)","Pump Motor Type **","Year Drilled","Water level 2010","Water level 2019","Meter Size (inches)","How measured:","Active",null,{"$f":"IF('AR9 (f)'!A13=\"\",\"\",'AR9 (f)'!A13)","v":""},{"$f":"IF('AR9 (f)'!B13=\"\",\"\",'AR9 (f)'!B13)","v":""},{"$f":"IF('AR9 (f)'!C13=\"\",\"\",'AR9 (f)'!C13)","v":""},null,{"$f":"IF('AR9 (f)'!F13=\"\",\"\",'AR9 (f)'!F13)","v":""},{"$f":"IF('AR9 (f)'!G13=\"\",\"\",'AR9 (f)'!G13)","v":""},{"$f":"IF('AR9 (f)'!H13=\"\",\"\",'AR9 (f)'!H13)","v":""},{"$f":"IF('AR9 (f)'!I13=\"\",\"\",'AR9 (f)'!I13)","v":""}]
[{"$f":"IF('AR8 (f)'!A11=\"\",\"\",'AR8 (f)'!A11)","v":""},{"$f":"IF('AR8 (f)'!B11=\"\",\"\",'AR8 (f)'!B11)","v":""},{"$f":"IF('AR8 (f)'!C11=\"\",\"\",'AR8 (f)'!C11)","v":""},{"$f":"IF('AR8 (f)'!D11=\"\",\"\",'AR8 (f)'!D11)","v":""},{"$f":"IF('AR8 (f)'!E11=\"\",\"\",'AR8 (f)'!E11)","v":""},{"$f":"IF('AR8 (f)'!F11=\"\",\"\",'AR8 (f)'!F11)","v":""},{"$f":"IF('AR8 (f)'!G11=\"\",\"\",'AR8 (f)'!G11)","v":""},{"$f":"IF('AR8 (f)'!H11=\"\",\"\",'AR8 (f)'!H11)","v":""},{"$f":"IF('AR8 (f)'!I11=\"\",\"\",'AR8 (f)'!I11)","v":""},{"$f":"IF('AR8 (f)'!J11=\"\",\"\",'AR8 (f)'!J11)","v":""},{"$f":"IF('AR8 (f)'!K11=\"\",\"\",'AR8 (f)'!K11)","v":""},{"$f":"IF('AR8 (f)'!L11=\"\",\"\",'AR8 (f)'!L11)","v":""},null,{"$f":"IF('AR9 (f)'!A14=\"\",\"\",'AR9 (f)'!A14)","v":""},{"$f":"IF('AR9 (f)'!B14=\"\",\"\",'AR9 (f)'!B14)","v":""},{"$f":"IF('AR9 (f)'!C14=\"\",\"\",'AR9 (f)'!C14)","v":""},null,{"$f":"IF('AR9 (f)'!F14=\"\",\"\",'AR9 (f)'!F14)","v":""},{"$f":"IF('AR9 (f)'!G14=\"\",\"\",'AR9 (f)'!G14)","v":""},{"$f":"IF('AR9 (f)'!H14=\"\",\"\",'AR9 (f)'!H14)","v":""},{"$f":"IF('AR9 (f)'!I14=\"\",\"\",'AR9 (f)'!I14)","v":""}]
[{"$f":"IF('AR8 (f)'!A12=\"\",\"\",'AR8 (f)'!A12)","v":""},{"$f":"IF('AR8 (f)'!B12=\"\",\"\",'AR8 (f)'!B12)","v":""},{"$f":"IF('AR8 (f)'!C12=\"\",\"\",'AR8 (f)'!C12)","v":""},{"$f":"IF('AR8 (f)'!D12=\"\",\"\",'AR8 (f)'!D12)","v":""},{"$f":"IF('AR8 (f)'!E12=\"\",\"\",'AR8 (f)'!E12)","v":""},{"$f":"IF('AR8 (f)'!F12=\"\",\"\",'AR8 (f)'!F12)","v":""},{"$f":"IF('AR8 (f)'!G12=\"\",\"\",'AR8 (f)'!G12)","v":""},{"$f":"IF('AR8 (f)'!H12=\"\",\"\",'AR8 (f)'!H12)","v":""},{"$f":"IF('AR8 (f)'!I12=\"\",\"\",'AR8 (f)'!I12)","v":""},{"$f":"IF('AR8 (f)'!J12=\"\",\"\",'AR8 (f)'!J12)","v":""},{"$f":"IF('AR8 (f)'!K12=\"\",\"\",'AR8 (f)'!K12)","v":""},{"$f":"IF('AR8 (f)'!L12=\"\",\"\",'AR8 (f)'!L12)","v":""},null,{"$f":"IF('AR9 (f)'!A15=\"\",\"\",'AR9 (f)'!A15)","v":""},{"$f":"IF('AR9 (f)'!B15=\"\",\"\",'AR9 (f)'!B15)","v":""},{"$f":"IF('AR9 (f)'!C15=\"\",\"\",'AR9 (f)'!C15)","v":""},null,{"$f":"IF('AR9 (f)'!F15=\"\",\"\",'AR9 (f)'!F15)","v":""},{"$f":"IF('AR9 (f)'!G15=\"\",\"\",'AR9 (f)'!G15)","v":""},{"$f":"IF('AR9 (f)'!H15=\"\",\"\",'AR9 (f)'!H15)","v":""},{"$f":"IF('AR9 (f)'!I15=\"\",\"\",'AR9 (f)'!I15)","v":""}]
[{"$f":"IF('AR8 (f)'!A13=\"\",\"\",'AR8 (f)'!A13)","v":""},{"$f":"IF('AR8 (f)'!B13=\"\",\"\",'AR8 (f)'!B13)","v":""},{"$f":"IF('AR8 (f)'!C13=\"\",\"\",'AR8 (f)'!C13)","v":""},{"$f":"IF('AR8 (f)'!D13=\"\",\"\",'AR8 (f)'!D13)","v":""},{"$f":"IF('AR8 (f)'!E13=\"\",\"\",'AR8 (f)'!E13)","v":""},{"$f":"IF('AR8 (f)'!F13=\"\",\"\",'AR8 (f)'!F13)","v":""},{"$f":"IF('AR8 (f)'!G13=\"\",\"\",'AR8 (f)'!G13)","v":""},{"$f":"IF('AR8 (f)'!H13=\"\",\"\",'AR8 (f)'!H13)","v":""},{"$f":"IF('AR8 (f)'!I13=\"\",\"\",'AR8 (f)'!I13)","v":""},{"$f":"IF('AR8 (f)'!J13=\"\",\"\",'AR8 (f)'!J13)","v":""},{"$f":"IF('AR8 (f)'!K13=\"\",\"\",'AR8 (f)'!K13)","v":""},{"$f":"IF('AR8 (f)'!L13=\"\",\"\",'AR8 (f)'!L13)","v":""},null,{"$f":"IF('AR9 (f)'!A16=\"\",\"\",'AR9 (f)'!A16)","v":""},{"$f":"IF('AR9 (f)'!B16=\"\",\"\",'AR9 (f)'!B16)","v":""},{"$f":"IF('AR9 (f)'!C16=\"\",\"\",'AR9 (f)'!C16)","v":""},null,{"$f":"IF('AR9 (f)'!F16=\"\",\"\",'AR9 (f)'!F16)","v":""},{"$f":"IF('AR9 (f)'!G16=\"\",\"\",'AR9 (f)'!G16)","v":""},{"$f":"IF('AR9 (f)'!H16=\"\",\"\",'AR9 (f)'!H16)","v":""},{"$f":"IF('AR9 (f)'!I16=\"\",\"\",'AR9 (f)'!I16)","v":""}]
[{"$f":"IF('AR8 (f)'!A14=\"\",\"\",'AR8 (f)'!A14)","v":""},{"$f":"IF('AR8 (f)'!B14=\"\",\"\",'AR8 (f)'!B14)","v":""},{"$f":"IF('AR8 (f)'!C14=\"\",\"\",'AR8 (f)'!C14)","v":""},{"$f":"IF('AR8 (f)'!D14=\"\",\"\",'AR8 (f)'!D14)","v":""},{"$f":"IF('AR8 (f)'!E14=\"\",\"\",'AR8 (f)'!E14)","v":""},{"$f":"IF('AR8 (f)'!F14=\"\",\"\",'AR8 (f)'!F14)","v":""},{"$f":"IF('AR8 (f)'!G14=\"\",\"\",'AR8 (f)'!G14)","v":""},{"$f":"IF('AR8 (f)'!H14=\"\",\"\",'AR8 (f)'!H14)","v":""},{"$f":"IF('AR8 (f)'!I14=\"\",\"\",'AR8 (f)'!I14)","v":""},{"$f":"IF('AR8 (f)'!J14=\"\",\"\",'AR8 (f)'!J14)","v":""},{"$f":"IF('AR8 (f)'!K14=\"\",\"\",'AR8 (f)'!K14)","v":""},{"$f":"IF('AR8 (f)'!L14=\"\",\"\",'AR8 (f)'!L14)","v":""},null,{"$f":"IF('AR9 (f)'!A17=\"\",\"\",'AR9 (f)'!A17)","v":""},{"$f":"IF('AR9 (f)'!B17=\"\",\"\",'AR9 (f)'!B17)","v":""},{"$f":"IF('AR9 (f)'!C17=\"\",\"\",'AR9 (f)'!C17)","v":""},null,{"$f":"IF('AR9 (f)'!F17=\"\",\"\",'AR9 (f)'!F17)","v":""},{"$f":"IF('AR9 (f)'!G17=\"\",\"\",'AR9 (f)'!G17)","v":""},{"$f":"IF('AR9 (f)'!H17=\"\",\"\",'AR9 (f)'!H17)","v":""},{"$f":"IF('AR9 (f)'!I17=\"\",\"\",'AR9 (f)'!I17)","v":""}]
[{"$f":"IF('AR8 (f)'!A15=\"\",\"\",'AR8 (f)'!A15)","v":""},{"$f":"IF('AR8 (f)'!B15=\"\",\"\",'AR8 (f)'!B15)","v":""},{"$f":"IF('AR8 (f)'!C15=\"\",\"\",'AR8 (f)'!C15)","v":""},{"$f":"IF('AR8 (f)'!D15=\"\",\"\",'AR8 (f)'!D15)","v":""},{"$f":"IF('AR8 (f)'!E15=\"\",\"\",'AR8 (f)'!E15)","v":""},{"$f":"IF('AR8 (f)'!F15=\"\",\"\",'AR8 (f)'!F15)","v":""},{"$f":"IF('AR8 (f)'!G15=\"\",\"\",'AR8 (f)'!G15)","v":""},{"$f":"IF('AR8 (f)'!H15=\"\",\"\",'AR8 (f)'!H15)","v":""},{"$f":"IF('AR8 (f)'!I15=\"\",\"\",'AR8 (f)'!I15)","v":""},{"$f":"IF('AR8 (f)'!J15=\"\",\"\",'AR8 (f)'!J15)","v":""},{"$f":"IF('AR8 (f)'!K15=\"\",\"\",'AR8 (f)'!K15)","v":""},{"$f":"IF('AR8 (f)'!L15=\"\",\"\",'AR8 (f)'!L15)","v":""},null,{"$f":"IF('AR9 (f)'!A18=\"\",\"\",'AR9 (f)'!A18)","v":""},{"$f":"IF('AR9 (f)'!B18=\"\",\"\",'AR9 (f)'!B18)","v":""},{"$f":"IF('AR9 (f)'!C18=\"\",\"\",'AR9 (f)'!C18)","v":""},null,{"$f":"IF('AR9 (f)'!F18=\"\",\"\",'AR9 (f)'!F18)","v":""},{"$f":"IF('AR9 (f)'!G18=\"\",\"\",'AR9 (f)'!G18)","v":""},{"$f":"IF('AR9 (f)'!H18=\"\",\"\",'AR9 (f)'!H18)","v":""},{"$f":"IF('AR9 (f)'!I18=\"\",\"\",'AR9 (f)'!I18)","v":""}]
[{"$f":"IF('AR8 (f)'!A16=\"\",\"\",'AR8 (f)'!A16)","v":""},{"$f":"IF('AR8 (f)'!B16=\"\",\"\",'AR8 (f)'!B16)","v":""},{"$f":"IF('AR8 (f)'!C16=\"\",\"\",'AR8 (f)'!C16)","v":""},{"$f":"IF('AR8 (f)'!D16=\"\",\"\",'AR8 (f)'!D16)","v":""},{"$f":"IF('AR8 (f)'!E16=\"\",\"\",'AR8 (f)'!E16)","v":""},{"$f":"IF('AR8 (f)'!F16=\"\",\"\",'AR8 (f)'!F16)","v":""},{"$f":"IF('AR8 (f)'!G16=\"\",\"\",'AR8 (f)'!G16)","v":""},{"$f":"IF('AR8 (f)'!H16=\"\",\"\",'AR8 (f)'!H16)","v":""},{"$f":"IF('AR8 (f)'!I16=\"\",\"\",'AR8 (f)'!I16)","v":""},{"$f":"IF('AR8 (f)'!J16=\"\",\"\",'AR8 (f)'!J16)","v":""},{"$f":"IF('AR8 (f)'!K16=\"\",\"\",'AR8 (f)'!K16)","v":""},{"$f":"IF('AR8 (f)'!L16=\"\",\"\",'AR8 (f)'!L16)","v":""},null,{"$f":"IF('AR9 (f)'!A19=\"\",\"\",'AR9 (f)'!A19)","v":""},{"$f":"IF('AR9 (f)'!B19=\"\",\"\",'AR9 (f)'!B19)","v":""},{"$f":"IF('AR9 (f)'!C19=\"\",\"\",'AR9 (f)'!C19)","v":""},null,{"$f":"IF('AR9 (f)'!F19=\"\",\"\",'AR9 (f)'!F19)","v":""},{"$f":"IF('AR9 (f)'!G19=\"\",\"\",'AR9 (f)'!G19)","v":""},{"$f":"IF('AR9 (f)'!H19=\"\",\"\",'AR9 (f)'!H19)","v":""},{"$f":"IF('AR9 (f)'!I19=\"\",\"\",'AR9 (f)'!I19)","v":""}]
[{"$f":"IF('AR8 (f)'!A17=\"\",\"\",'AR8 (f)'!A17)","v":""},{"$f":"IF('AR8 (f)'!B17=\"\",\"\",'AR8 (f)'!B17)","v":""},{"$f":"IF('AR8 (f)'!C17=\"\",\"\",'AR8 (f)'!C17)","v":""},{"$f":"IF('AR8 (f)'!D17=\"\",\"\",'AR8 (f)'!D17)","v":""},{"$f":"IF('AR8 (f)'!E17=\"\",\"\",'AR8 (f)'!E17)","v":""},{"$f":"IF('AR8 (f)'!F17=\"\",\"\",'AR8 (f)'!F17)","v":""},{"$f":"IF('AR8 (f)'!G17=\"\",\"\",'AR8 (f)'!G17)","v":""},{"$f":"IF('AR8 (f)'!H17=\"\",\"\",'AR8 (f)'!H17)","v":""},{"$f":"IF('AR8 (f)'!I17=\"\",\"\",'AR8 (f)'!I17)","v":""},{"$f":"IF('AR8 (f)'!J17=\"\",\"\",'AR8 (f)'!J17)","v":""},{"$f":"IF('AR8 (f)'!K17=\"\",\"\",'AR8 (f)'!K17)","v":""},{"$f":"IF('AR8 (f)'!L17=\"\",\"\",'AR8 (f)'!L17)","v":""},null,{"$f":"IF('AR9 (f)'!A20=\"\",\"\",'AR9 (f)'!A20)","v":""},{"$f":"IF('AR9 (f)'!B20=\"\",\"\",'AR9 (f)'!B20)","v":""},{"$f":"IF('AR9 (f)'!C20=\"\",\"\",'AR9 (f)'!C20)","v":""},null,{"$f":"IF('AR9 (f)'!F20=\"\",\"\",'AR9 (f)'!F20)","v":""},{"$f":"IF('AR9 (f)'!G20=\"\",\"\",'AR9 (f)'!G20)","v":""},{"$f":"IF('AR9 (f)'!H20=\"\",\"\",'AR9 (f)'!H20)","v":""},{"$f":"IF('AR9 (f)'!I20=\"\",\"\",'AR9 (f)'!I20)","v":""}]
[{"$f":"IF('AR8 (f)'!A18=\"\",\"\",'AR8 (f)'!A18)","v":""},{"$f":"IF('AR8 (f)'!B18=\"\",\"\",'AR8 (f)'!B18)","v":""},{"$f":"IF('AR8 (f)'!C18=\"\",\"\",'AR8 (f)'!C18)","v":""},{"$f":"IF('AR8 (f)'!D18=\"\",\"\",'AR8 (f)'!D18)","v":""},{"$f":"IF('AR8 (f)'!E18=\"\",\"\",'AR8 (f)'!E18)","v":""},{"$f":"IF('AR8 (f)'!F18=\"\",\"\",'AR8 (f)'!F18)","v":""},{"$f":"IF('AR8 (f)'!G18=\"\",\"\",'AR8 (f)'!G18)","v":""},{"$f":"IF('AR8 (f)'!H18=\"\",\"\",'AR8 (f)'!H18)","v":""},{"$f":"IF('AR8 (f)'!I18=\"\",\"\",'AR8 (f)'!I18)","v":""},{"$f":"IF('AR8 (f)'!J18=\"\",\"\",'AR8 (f)'!J18)","v":""},{"$f":"IF('AR8 (f)'!K18=\"\",\"\",'AR8 (f)'!K18)","v":""},{"$f":"IF('AR8 (f)'!L18=\"\",\"\",'AR8 (f)'!L18)","v":""},null,{"$f":"IF('AR9 (f)'!A21=\"\",\"\",'AR9 (f)'!A21)","v":""},{"$f":"IF('AR9 (f)'!B21=\"\",\"\",'AR9 (f)'!B21)","v":""},{"$f":"IF('AR9 (f)'!C21=\"\",\"\",'AR9 (f)'!C21)","v":""},null,{"$f":"IF('AR9 (f)'!F21=\"\",\"\",'AR9 (f)'!F21)","v":""},{"$f":"IF('AR9 (f)'!G21=\"\",\"\",'AR9 (f)'!G21)","v":""},{"$f":"IF('AR9 (f)'!H21=\"\",\"\",'AR9 (f)'!H21)","v":""},{"$f":"IF('AR9 (f)'!I21=\"\",\"\",'AR9 (f)'!I21)","v":""}]
[{"$f":"IF('AR8 (f)'!A19=\"\",\"\",'AR8 (f)'!A19)","v":""},{"$f":"IF('AR8 (f)'!B19=\"\",\"\",'AR8 (f)'!B19)","v":""},{"$f":"IF('AR8 (f)'!C19=\"\",\"\",'AR8 (f)'!C19)","v":""},{"$f":"IF('AR8 (f)'!D19=\"\",\"\",'AR8 (f)'!D19)","v":""},{"$f":"IF('AR8 (f)'!E19=\"\",\"\",'AR8 (f)'!E19)","v":""},{"$f":"IF('AR8 (f)'!F19=\"\",\"\",'AR8 (f)'!F19)","v":""},{"$f":"IF('AR8 (f)'!G19=\"\",\"\",'AR8 (f)'!G19)","v":""},{"$f":"IF('AR8 (f)'!H19=\"\",\"\",'AR8 (f)'!H19)","v":""},{"$f":"IF('AR8 (f)'!I19=\"\",\"\",'AR8 (f)'!I19)","v":""},{"$f":"IF('AR8 (f)'!J19=\"\",\"\",'AR8 (f)'!J19)","v":""},{"$f":"IF('AR8 (f)'!K19=\"\",\"\",'AR8 (f)'!K19)","v":""},{"$f":"IF('AR8 (f)'!L19=\"\",\"\",'AR8 (f)'!L19)","v":""},null,{"$f":"IF('AR9 (f)'!A22=\"\",\"\",'AR9 (f)'!A22)","v":""},{"$f":"IF('AR9 (f)'!B22=\"\",\"\",'AR9 (f)'!B22)","v":""},{"$f":"IF('AR9 (f)'!C22=\"\",\"\",'AR9 (f)'!C22)","v":""},null,{"$f":"IF('AR9 (f)'!F22=\"\",\"\",'AR9 (f)'!F22)","v":""},{"$f":"IF('AR9 (f)'!G22=\"\",\"\",'AR9 (f)'!G22)","v":""},{"$f":"IF('AR9 (f)'!H22=\"\",\"\",'AR9 (f)'!H22)","v":""},{"$f":"IF('AR9 (f)'!I22=\"\",\"\",'AR9 (f)'!I22)","v":""}]
[{"$f":"IF('AR8 (f)'!A20=\"\",\"\",'AR8 (f)'!A20)","v":""},{"$f":"IF('AR8 (f)'!B20=\"\",\"\",'AR8 (f)'!B20)","v":""},{"$f":"IF('AR8 (f)'!C20=\"\",\"\",'AR8 (f)'!C20)","v":""},{"$f":"IF('AR8 (f)'!D20=\"\",\"\",'AR8 (f)'!D20)","v":""},{"$f":"IF('AR8 (f)'!E20=\"\",\"\",'AR8 (f)'!E20)","v":""},{"$f":"IF('AR8 (f)'!F20=\"\",\"\",'AR8 (f)'!F20)","v":""},{"$f":"IF('AR8 (f)'!G20=\"\",\"\",'AR8 (f)'!G20)","v":""},{"$f":"IF('AR8 (f)'!H20=\"\",\"\",'AR8 (f)'!H20)","v":""},{"$f":"IF('AR8 (f)'!I20=\"\",\"\",'AR8 (f)'!I20)","v":""},{"$f":"IF('AR8 (f)'!J20=\"\",\"\",'AR8 (f)'!J20)","v":""},{"$f":"IF('AR8 (f)'!K20=\"\",\"\",'AR8 (f)'!K20)","v":""},{"$f":"IF('AR8 (f)'!L20=\"\",\"\",'AR8 (f)'!L20)","v":""},null,{"$f":"IF('AR9 (f)'!A23=\"\",\"\",'AR9 (f)'!A23)","v":""},{"$f":"IF('AR9 (f)'!B23=\"\",\"\",'AR9 (f)'!B23)","v":""},{"$f":"IF('AR9 (f)'!C23=\"\",\"\",'AR9 (f)'!C23)","v":""},null,{"$f":"IF('AR9 (f)'!F23=\"\",\"\",'AR9 (f)'!F23)","v":""},{"$f":"IF('AR9 (f)'!G23=\"\",\"\",'AR9 (f)'!G23)","v":""},{"$f":"IF('AR9 (f)'!H23=\"\",\"\",'AR9 (f)'!H23)","v":""},{"$f":"IF('AR9 (f)'!I23=\"\",\"\",'AR9 (f)'!I23)","v":""}]
[{"$f":"IF('AR8 (f)'!A21=\"\",\"\",'AR8 (f)'!A21)","v":""},{"$f":"IF('AR8 (f)'!B21=\"\",\"\",'AR8 (f)'!B21)","v":""},{"$f":"IF('AR8 (f)'!C21=\"\",\"\",'AR8 (f)'!C21)","v":""},{"$f":"IF('AR8 (f)'!D21=\"\",\"\",'AR8 (f)'!D21)","v":""},{"$f":"IF('AR8 (f)'!E21=\"\",\"\",'AR8 (f)'!E21)","v":""},{"$f":"IF('AR8 (f)'!F21=\"\",\"\",'AR8 (f)'!F21)","v":""},{"$f":"IF('AR8 (f)'!G21=\"\",\"\",'AR8 (f)'!G21)","v":""},{"$f":"IF('AR8 (f)'!H21=\"\",\"\",'AR8 (f)'!H21)","v":""},{"$f":"IF('AR8 (f)'!I21=\"\",\"\",'AR8 (f)'!I21)","v":""},{"$f":"IF('AR8 (f)'!J21=\"\",\"\",'AR8 (f)'!J21)","v":""},{"$f":"IF('AR8 (f)'!K21=\"\",\"\",'AR8 (f)'!K21)","v":""},{"$f":"IF('AR8 (f)'!L21=\"\",\"\",'AR8 (f)'!L21)","v":""},null,{"$f":"IF('AR9 (f)'!A24=\"\",\"\",'AR9 (f)'!A24)","v":""},{"$f":"IF('AR9 (f)'!B24=\"\",\"\",'AR9 (f)'!B24)","v":""},{"$f":"IF('AR9 (f)'!C24=\"\",\"\",'AR9 (f)'!C24)","v":""},null,{"$f":"IF('AR9 (f)'!F24=\"\",\"\",'AR9 (f)'!F24)","v":""},{"$f":"IF('AR9 (f)'!G24=\"\",\"\",'AR9 (f)'!G24)","v":""},{"$f":"IF('AR9 (f)'!H24=\"\",\"\",'AR9 (f)'!H24)","v":""},{"$f":"IF('AR9 (f)'!I24=\"\",\"\",'AR9 (f)'!I24)","v":""}]
[{"$f":"IF('AR8 (f)'!A22=\"\",\"\",'AR8 (f)'!A22)","v":""},{"$f":"IF('AR8 (f)'!B22=\"\",\"\",'AR8 (f)'!B22)","v":""},{"$f":"IF('AR8 (f)'!C22=\"\",\"\",'AR8 (f)'!C22)","v":""},{"$f":"IF('AR8 (f)'!D22=\"\",\"\",'AR8 (f)'!D22)","v":""},{"$f":"IF('AR8 (f)'!E22=\"\",\"\",'AR8 (f)'!E22)","v":""},{"$f":"IF('AR8 (f)'!F22=\"\",\"\",'AR8 (f)'!F22)","v":""},{"$f":"IF('AR8 (f)'!G22=\"\",\"\",'AR8 (f)'!G22)","v":""},{"$f":"IF('AR8 (f)'!H22=\"\",\"\",'AR8 (f)'!H22)","v":""},{"$f":"IF('AR8 (f)'!I22=\"\",\"\",'AR8 (f)'!I22)","v":""},{"$f":"IF('AR8 (f)'!J22=\"\",\"\",'AR8 (f)'!J22)","v":""},{"$f":"IF('AR8 (f)'!K22=\"\",\"\",'AR8 (f)'!K22)","v":""},{"$f":"IF('AR8 (f)'!L22=\"\",\"\",'AR8 (f)'!L22)","v":""},null,{"$f":"IF('AR9 (f)'!A25=\"\",\"\",'AR9 (f)'!A25)","v":""},{"$f":"IF('AR9 (f)'!B25=\"\",\"\",'AR9 (f)'!B25)","v":""},{"$f":"IF('AR9 (f)'!C25=\"\",\"\",'AR9 (f)'!C25)","v":""},null,{"$f":"IF('AR9 (f)'!F25=\"\",\"\",'AR9 (f)'!F25)","v":""},{"$f":"IF('AR9 (f)'!G25=\"\",\"\",'AR9 (f)'!G25)","v":""},{"$f":"IF('AR9 (f)'!H25=\"\",\"\",'AR9 (f)'!H25)","v":""},{"$f":"IF('AR9 (f)'!I25=\"\",\"\",'AR9 (f)'!I25)","v":""}]
["* Arizona Department of Water Resources Identification Number",null,null,null,null,null,null,null,null,null,null,null,null,null,null,null,null,{"$f":"IF('AR9 (f)'!F26=\"\",\"\",'AR9 (f)'!F26)","v":""},{"$f":"IF('AR9 (f)'!G26=\"\",\"\",'AR9 (f)'!G26)","v":""},{"$f":"IF('AR9 (f)'!H26=\"\",\"\",'AR9 (f)'!H26)","v":""},{"$f":"IF('AR9 (f)'!I26=\"\",\"\",'AR9 (f)'!I26)","v":""}]
[null,null,null,null,null,null,null,null,null,null,null,null,null,null,null,null,null,{"$f":"IF('AR9 (f)'!F27=\"\",\"\",'AR9 (f)'!F27)","v":""},{"$f":"IF('AR9 (f)'!G27=\"\",\"\",'AR9 (f)'!G27)","v":""},{"$f":"IF('AR9 (f)'!H27=\"\",\"\",'AR9 (f)'!H27)","v":""},{"$f":"IF('AR9 (f)'!I27=\"\",\"\",'AR9 (f)'!I27)","v":""}]
[null,null,null,null,null,null,null,null,null,null,null,null,null,null,null,null,null,{"$f":"IF('AR9 (f)'!F28=\"\",\"\",'AR9 (f)'!F28)","v":""},{"$f":"IF('AR9 (f)'!G28=\"\",\"\",'AR9 (f)'!G28)","v":""},{"$f":"IF('AR9 (f)'!H28=\"\",\"\",'AR9 (f)'!H28)","v":""},{"$f":"IF('AR9 (f)'!I28=\"\",\"\",'AR9 (f)'!I28)","v":""}]
[null,null,null,null,null,null,null,null,null,null,null,null,null,null,null,null,null,{"$f":"IF('AR9 (f)'!F29=\"\",\"\",'AR9 (f)'!F29)","v":""},{"$f":"IF('AR9 (f)'!G29=\"\",\"\",'AR9 (f)'!G29)","v":""},{"$f":"IF('AR9 (f)'!H29=\"\",\"\",'AR9 (f)'!H29)","v":""},{"$f":"IF('AR9 (f)'!I29=\"\",\"\",'AR9 (f)'!I29)","v":""}]
["SERVICE LINES"]
["Material","Percent of system","Year installed"]
[{"$f":"IF('AR9 (f)'!B30=\"\",\"\",'AR9 (f)'!B30)","v":""},{"$f":"IF('AR9 (f)'!C30=\"\",\"\",'AR9 (f)'!C30)","v":""},{"$f":"IF('AR9 (f)'!D30=\"\",\"\",'AR9 (f)'!D30)","v":""}]
[{"$f":"IF('AR9 (f)'!B31=\"\",\"\",'AR9 (f)'!B31)","v":""},{"$f":"IF('AR9 (f)'!C31=\"\",\"\",'AR9 (f)'!C31)","v":""},{"$f":"IF('AR9 (f)'!D31=\"\",\"\",'AR9 (f)'!D31)","v":""},null,null,null,null,null,null,null,null,null,null,"For the following three items, please list the utility owned assets in each category."]
[{"$f":"IF('AR9 (f)'!B32=\"\",\"\",'AR9 (f)'!B32)","v":""},{"$f":"IF('AR9 (f)'!C32=\"\",\"\",'AR9 (f)'!C32)","v":""},{"$f":"IF('AR9 (f)'!D32=\"\",\"\",'AR9 (f)'!D32)","v":""}]
[{"$f":"IF('AR9 (f)'!B33=\"\",\"\",'AR9 (f)'!B33)","v":""},{"$f":"IF('AR9 (f)'!C33=\"\",\"\",'AR9 (f)'!C33)","v":""},{"$f":"IF('AR9 (f)'!D33=\"\",\"\",'AR9 (f)'!D33)","v":""},null,null,null,null,null,null,null,null,null,null,"TREATMENT EQUIPMENT:"]
[{"$f":"IF('AR9 (f)'!B34=\"\",\"\",'AR9 (f)'!B34)","v":""},{"$f":"IF('AR9 (f)'!C34=\"\",\"\",'AR9 (f)'!C34)","v":""},{"$f":"IF('AR9 (f)'!D34=\"\",\"\",'AR9 (f)'!D34)","v":""},null,null,null,null,null,null,null,null,null,null,{"$f":"IF('AR9 (f)'!M11=\"\",\"\",'AR9 (f)'!M11)","v":""}]
[]
[]
[]
["BOOSTER PUMPS",null,null,null,"FIRE HYDRANTS"]
["Horsepower","GPM","Quantity",null,"Quantity Standard*","Quantity Other"]
[{"$f":"IF('AR9 (f)'!A39=\"\",\"\",'AR9 (f)'!A39)","v":""},{"$f":"IF('AR9 (f)'!B39=\"\",\"\",'AR9 (f)'!B39)","v":""},{"$f":"IF('AR9 (f)'!C39=\"\",\"\",'AR9 (f)'!C39)","v":""},null,"Standard *",{"$f":"IF('AR9 (f)'!G39=\"\",\"\",'AR9 (f)'!G39)","v":""}]
[{"$f":"IF('AR9 (f)'!A40=\"\",\"\",'AR9 (f)'!A40)","v":""},{"$f":"IF('AR9 (f)'!B40=\"\",\"\",'AR9 (f)'!B40)","v":""},{"$f":"IF('AR9 (f)'!C40=\"\",\"\",'AR9 (f)'!C40)","v":""},null,"Other",{"$f":"IF('AR9 (f)'!G40=\"\",\"\",'AR9 (f)'!G40)","v":""}]
[{"$f":"IF('AR9 (f)'!A41=\"\",\"\",'AR9 (f)'!A41)","v":""},{"$f":"IF('AR9 (f)'!B41=\"\",\"\",'AR9 (f)'!B41)","v":""},{"$f":"IF('AR9 (f)'!C41=\"\",\"\",'AR9 (f)'!C41)","v":""}]
[{"$f":"IF('AR9 (f)'!A42=\"\",\"\",'AR9 (f)'!A42)","v":""},{"$f":"IF('AR9 (f)'!B42=\"\",\"\",'AR9 (f)'!B42)","v":""},{"$f":"IF('AR9 (f)'!C42=\"\",\"\",'AR9 (f)'!C42)","v":""},null,null,null,null,null,null,null,null,null,null,"STRUCTURES:"]
[null,null,null,null,null,null,null,null,null,null,null,null,null,{"$f":"IF('AR9 (f)'!M17=\"\",\"\",'AR9 (f)'!M17)","v":""}]
[]
["STORAGE TANKS",null,null,null,null,"PRESSURE/BLADDER TANKS"]
["Capacity (gallons)","Material","Quantity","Year installed",null,"Capacity (gallons)","Material","Quantity","Year installed"]
[{"$f":"IF('AR9 (f)'!A46=\"\",\"\",'AR9 (f)'!A46)","v":""},{"$f":"IF('AR9 (f)'!B46=\"\",\"\",'AR9 (f)'!B46)","v":""},{"$f":"IF('AR9 (f)'!C46=\"\",\"\",'AR9 (f)'!C46)","v":""},{"$f":"IF('AR9 (f)'!D46=\"\",\"\",'AR9 (f)'!D46)","v":""},null,{"$f":"IF('AR9 (f)'!F46=\"\",\"\",'AR9 (f)'!F46)","v":""},{"$f":"IF('AR9 (f)'!G46=\"\",\"\",'AR9 (f)'!G46)","v":""},{"$f":"IF('AR9 (f)'!H46=\"\",\"\",'AR9 (f)'!H46)","v":""},{"$f":"IF('AR9 (f)'!I46=\"\",\"\",'AR9 (f)'!I46)","v":""}]
[{"$f":"IF('AR9 (f)'!A47=\"\",\"\",'AR9 (f)'!A47)","v":""},{"$f":"IF('AR9 (f)'!B47=\"\",\"\",'AR9 (f)'!B47)","v":""},{"$f":"IF('AR9 (f)'!C47=\"\",\"\",'AR9 (f)'!C47)","v":""},{"$f":"IF('AR9 (f)'!D47=\"\",\"\",'AR9 (f)'!D47)","v":""},null,{"$f":"IF('AR9 (f)'!F47=\"\",\"\",'AR9 (f)'!F47)","v":""},{"$f":"IF('AR9 (f)'!G47=\"\",\"\",'AR9 (f)'!G47)","v":""},{"$f":"IF('AR9 (f)'!H47=\"\",\"\",'AR9 (f)'!H47)","v":""},{"$f":"IF('AR9 (f)'!I47=\"\",\"\",'AR9 (f)'!I47)","v":""}]
[{"$f":"IF('AR9 (f)'!A48=\"\",\"\",'AR9 (f)'!A48)","v":""},{"$f":"IF('AR9 (f)'!B48=\"\",\"\",'AR9 (f)'!B48)","v":""},{"$f":"IF('AR9 (f)'!C48=\"\",\"\",'AR9 (f)'!C48)","v":""},{"$f":"IF('AR9 (f)'!D48=\"\",\"\",'AR9 (f)'!D48)","v":""},null,{"$f":"IF('AR9 (f)'!F48=\"\",\"\",'AR9 (f)'!F48)","v":""},{"$f":"IF('AR9 (f)'!G48=\"\",\"\",'AR9 (f)'!G48)","v":""},{"$f":"IF('AR9 (f)'!H48=\"\",\"\",'AR9 (f)'!H48)","v":""},{"$f":"IF('AR9 (f)'!I48=\"\",\"\",'AR9 (f)'!I48)","v":""}]
[{"$f":"IF('AR9 (f)'!A49=\"\",\"\",'AR9 (f)'!A49)","v":""},{"$f":"IF('AR9 (f)'!B49=\"\",\"\",'AR9 (f)'!B49)","v":""},{"$f":"IF('AR9 (f)'!C49=\"\",\"\",'AR9 (f)'!C49)","v":""},{"$f":"IF('AR9 (f)'!D49=\"\",\"\",'AR9 (f)'!D49)","v":""},null,{"$f":"IF('AR9 (f)'!F49=\"\",\"\",'AR9 (f)'!F49)","v":""},{"$f":"IF('AR9 (f)'!G49=\"\",\"\",'AR9 (f)'!G49)","v":""},{"$f":"IF('AR9 (f)'!H49=\"\",\"\",'AR9 (f)'!H49)","v":""},{"$f":"IF('AR9 (f)'!I49=\"\",\"\",'AR9 (f)'!I49)","v":""}]
[{"$f":"IF('AR9 (f)'!A50=\"\",\"\",'AR9 (f)'!A50)","v":""},{"$f":"IF('AR9 (f)'!B50=\"\",\"\",'AR9 (f)'!B50)","v":""},{"$f":"IF('AR9 (f)'!C50=\"\",\"\",'AR9 (f)'!C50)","v":""},{"$f":"IF('AR9 (f)'!D50=\"\",\"\",'AR9 (f)'!D50)","v":""},null,{"$f":"IF('AR9 (f)'!F50=\"\",\"\",'AR9 (f)'!F50)","v":""},{"$f":"IF('AR9 (f)'!G50=\"\",\"\",'AR9 (f)'!G50)","v":""},{"$f":"IF('AR9 (f)'!H50=\"\",\"\",'AR9 (f)'!H50)","v":""},{"$f":"IF('AR9 (f)'!I50=\"\",\"\",'AR9 (f)'!I50)","v":""},null,null,null,null,"OTHER:"]
[{"$f":"IF('AR9 (f)'!A51=\"\",\"\",'AR9 (f)'!A51)","v":""},{"$f":"IF('AR9 (f)'!B51=\"\",\"\",'AR9 (f)'!B51)","v":""},{"$f":"IF('AR9 (f)'!C51=\"\",\"\",'AR9 (f)'!C51)","v":""},{"$f":"IF('AR9 (f)'!D51=\"\",\"\",'AR9 (f)'!D51)","v":""},null,{"$f":"IF('AR9 (f)'!F51=\"\",\"\",'AR9 (f)'!F51)","v":""},{"$f":"IF('AR9 (f)'!G51=\"\",\"\",'AR9 (f)'!G51)","v":""},{"$f":"IF('AR9 (f)'!H51=\"\",\"\",'AR9 (f)'!H51)","v":""},{"$f":"IF('AR9 (f)'!I51=\"\",\"\",'AR9 (f)'!I51)","v":""},null,null,null,null,{"$f":"IF('AR9 (f)'!M23=\"\",\"\",'AR9 (f)'!M23)","v":""}]
[]
[]
[]
[]
[]
["* - A standard fire hydrant has two 2.5 inch hose connection nozzles with 7.5 threads per inch, and one 4.5 inch pumper connection nozzle with 4 threads per inch."]
[]
[]
[]
[]
["Note: This page automatically populates with information from your annual report.",null,null,null,null,null,null,null,null,null,null,null,{"$f":"A65","v":"Note: This page automatically populates with information from your annual report."}]
[]
[]
[null,null,null,null,null,null,null,null,null,null,null,{"$f":"\"Page \" &L69&\"f\"","v":"Page 20f"},null,null,null,null,null,null,null,null,null,{"$f":"\"Page \" &V69&\"f\"","v":"Page 21f"}]
[null,null,null,null,null,null,null,null,null,null,null,{"$f":"'Sch 1'!I49+1","v":20},null,null,null,null,null,null,null,null,null,{"$f":"L69+1","v":21}]

{"sheet":"Sch 2 (g)","index":57,"n_rows":69,"n_cols":23,"rows_kept":69,"cut":false,"hidden":true,"merged":[[9,17,9,20],[34,13,41,20],[38,0,38,2],[38,4,38,5],[5,0,5,11],[5,13,5,20],[6,0,6,1],[6,2,6,3],[7,0,7,1],[9,13,9,15],[10,0,10,11],[24,0,24,11],[31,13,31,20],[33,13,33,20],[28,0,28,2],[64,0,65,11],[64,12,65,21],[43,13,43,20],[44,13,50,20],[52,13,52,20],[53,13,61,20],[59,0,59,11],[46,0,46,3],[46,5,46,8]]}
[{"$f":"'AR1'!$B$12","v":0},null,null,null,null,null,null,null,null,null,null,{"$f":"'Sch Title'!$A$17&\"g\"","v":"Schedule 2g"},{"$f":"'AR1'!$B$12","v":0},null,null,null,null,null,null,null,null,{"$f":"'Sch Title'!$A$17&\"g\"","v":"Schedule 2g"}]
[{"$f":"'Sch Title'!$A$2","v":"Short Form Rate Application"},null,null,null,null,null,null,null,null,null,null,{"$f":"\" Short Form Rate Application Page No. \"&L69","v":" Short Form Rate Application Page No. 20"},{"$f":"'Sch Title'!$A$2","v":"Short Form Rate Application"},null,null,null,null,null,null,null,null,{"$f":"\" Short Form Rate Application Page No. \"&V69","v":" Short Form Rate Application Page No. 21"}]
[{"$f":"Sch6_PltDesc","v":"WATER COMPANY PLANT DESCRIPTION "},null,null,null,null,null,null,null,null,null,null,null,{"$f":"Sch6_PltDesc","v":"WATER COMPANY PLANT DESCRIPTION "}]
[{"$f":"'Sch Title'!$A$4","v":"Test Year Ended 12/31/20"},null,null,null,null,null,null,null,null,null,null,null,{"$f":"'Sch Title'!$A$4","v":"Test Year Ended 12/31/20"},null,null,null,null,null,null,null,null,null,"Table of contents"]
[]
["WATER COMPANY PLANT DESCRIPTION ",null,null,null,null,null,null,null,null,null,null,null,null,"WATER COMPANY PLANT DESCRIPTION  (Continued)"]
["Name of the System:",null,{"$f":"'AR9 (g)'!C7","v":0}]
["ADEQ Public Water System Number",null,{"$f":"'AR9 (g)'!D8","v":""}]
["ADWR PCC Number:",null,{"$f":"'AR9 (g)'!D9","v":""}]
[null,null,null,null,null,null,null,null,null,null,null,null,null,"MAINS",null,null,null,"CUSTOMER METERS"]
["WELLS",null,null,null,null,null,null,null,null,null,null,null,null,"Size (in inches)","Material","Length (in feet)",null,"Size (in inches)","Quantity","Percent over 1,00,000 gallons","Percent over 10 years old"]
["Well registry 55# (55-XXXXXX):","Pump Horsepower","Pump Yield (gpm)","Casing Depth (feet)","Casing Diameter (inches)","Pump Motor Type **","Year Drilled","Water level 2010","Water level 2019","Meter Size (inches)","How measured:","Active",null,{"$f":"IF('AR9 (g)'!A13=\"\",\"\",'AR9 (g)'!A13)","v":""},{"$f":"IF('AR9 (g)'!B13=\"\",\"\",'AR9 (g)'!B13)","v":""},{"$f":"IF('AR9 (g)'!C13=\"\",\"\",'AR9 (g)'!C13)","v":""},null,{"$f":"IF('AR9 (g)'!F13=\"\",\"\",'AR9 (g)'!F13)","v":""},{"$f":"IF('AR9 (g)'!G13=\"\",\"\",'AR9 (g)'!G13)","v":""},{"$f":"IF('AR9 (g)'!H13=\"\",\"\",'AR9 (g)'!H13)","v":""},{"$f":"IF('AR9 (g)'!I13=\"\",\"\",'AR9 (g)'!I13)","v":""}]
[{"$f":"IF('AR8 (g)'!A11=\"\",\"\",'AR8 (g)'!A11)","v":""},{"$f":"IF('AR8 (g)'!B11=\"\",\"\",'AR8 (g)'!B11)","v":""},{"$f":"IF('AR8 (g)'!C11=\"\",\"\",'AR8 (g)'!C11)","v":""},{"$f":"IF('AR8 (g)'!D11=\"\",\"\",'AR8 (g)'!D11)","v":""},{"$f":"IF('AR8 (g)'!E11=\"\",\"\",'AR8 (g)'!E11)","v":""},{"$f":"IF('AR8 (g)'!F11=\"\",\"\",'AR8 (g)'!F11)","v":""},{"$f":"IF('AR8 (g)'!G11=\"\",\"\",'AR8 (g)'!G11)","v":""},{"$f":"IF('AR8 (g)'!H11=\"\",\"\",'AR8 (g)'!H11)","v":""},{"$f":"IF('AR8 (g)'!I11=\"\",\"\",'AR8 (g)'!I11)","v":""},{"$f":"IF('AR8 (g)'!J11=\"\",\"\",'AR8 (g)'!J11)","v":""},{"$f":"IF('AR8 (g)'!K11=\"\",\"\",'AR8 (g)'!K11)","v":""},{"$f":"IF('AR8 (g)'!L11=\"\",\"\",'AR8 (g)'!L11)","v":""},null,{"$f":"IF('AR9 (g)'!A14=\"\",\"\",'AR9 (g)'!A14)","v":""},{"$f":"IF('AR9 (g)'!B14=\"\",\"\",'AR9 (g)'!B14)","v":""},{"$f":"IF('AR9 (g)'!C14=\"\",\"\",'AR9 (g)'!C14)","v":""},null,{"$f":"IF('AR9 (g)'!F14=\"\",\"\",'AR9 (g)'!F14)","v":""},{"$f":"IF('AR9 (g)'!G14=\"\",\"\",'AR9 (g)'!G14)","v":""},{"$f":"IF('AR9 (g)'!H14=\"\",\"\",'AR9 (g)'!H14)","v":""},{"$f":"IF('AR9 (g)'!I14=\"\",\"\",'AR9 (g)'!I14)","v":""}]
[{"$f":"IF('AR8 (g)'!A12=\"\",\"\",'AR8 (g)'!A12)","v":""},{"$f":"IF('AR8 (g)'!B12=\"\",\"\",'AR8 (g)'!B12)","v":""},{"$f":"IF('AR8 (g)'!C12=\"\",\"\",'AR8 (g)'!C12)","v":""},{"$f":"IF('AR8 (g)'!D12=\"\",\"\",'AR8 (g)'!D12)","v":""},{"$f":"IF('AR8 (g)'!E12=\"\",\"\",'AR8 (g)'!E12)","v":""},{"$f":"IF('AR8 (g)'!F12=\"\",\"\",'AR8 (g)'!F12)","v":""},{"$f":"IF('AR8 (g)'!G12=\"\",\"\",'AR8 (g)'!G12)","v":""},{"$f":"IF('AR8 (g)'!H12=\"\",\"\",'AR8 (g)'!H12)","v":""},{"$f":"IF('AR8 (g)'!I12=\"\",\"\",'AR8 (g)'!I12)","v":""},{"$f":"IF('AR8 (g)'!J12=\"\",\"\",'AR8 (g)'!J12)","v":""},{"$f":"IF('AR8 (g)'!K12=\"\",\"\",'AR8 (g)'!K12)","v":""},{"$f":"IF('AR8 (g)'!L12=\"\",\"\",'AR8 (g)'!L12)","v":""},null,{"$f":"IF('AR9 (g)'!A15=\"\",\"\",'AR9 (g)'!A15)","v":""},{"$f":"IF('AR9 (g)'!B15=\"\",\"\",'AR9 (g)'!B15)","v":""},{"$f":"IF('AR9 (g)'!C15=\"\",\"\",'AR9 (g)'!C15)","v":""},null,{"$f":"IF('AR9 (g)'!F15=\"\",\"\",'AR9 (g)'!F15)","v":""},{"$f":"IF('AR9 (g)'!G15=\"\",\"\",'AR9 (g)'!G15)","v":""},{"$f":"IF('AR9 (g)'!H15=\"\",\"\",'AR9 (g)'!H15)","v":""},{"$f":"IF('AR9 (g)'!I15=\"\",\"\",'AR9 (g)'!I15)","v":""}]
[{"$f":"IF('AR8 (g)'!A13=\"\",\"\",'AR8 (g)'!A13)","v":""},{"$f":"IF('AR8 (g)'!B13=\"\",\"\",'AR8 (g)'!B13)","v":""},{"$f":"IF('AR8 (g)'!C13=\"\",\"\",'AR8 (g)'!C13)","v":""},{"$f":"IF('AR8 (g)'!D13=\"\",\"\",'AR8 (g)'!D13)","v":""},{"$f":"IF('AR8 (g)'!E13=\"\",\"\",'AR8 (g)'!E13)","v":""},{"$f":"IF('AR8 (g)'!F13=\"\",\"\",'AR8 (g)'!F13)","v":""},{"$f":"IF('AR8 (g)'!G13=\"\",\"\",'AR8 (g)'!G13)","v":""},{"$f":"IF('AR8 (g)'!H13=\"\",\"\",'AR8 (g)'!H13)","v":""},{"$f":"IF('AR8 (g)'!I13=\"\",\"\",'AR8 (g)'!I13)","v":""},{"$f":"IF('AR8 (g)'!J13=\"\",\"\",'AR8 (g)'!J13)","v":""},{"$f":"IF('AR8 (g)'!K13=\"\",\"\",'AR8 (g)'!K13)","v":""},{"$f":"IF('AR8 (g)'!L13=\"\",\"\",'AR8 (g)'!L13)","v":""},null,{"$f":"IF('AR9 (g)'!A16=\"\",\"\",'AR9 (g)'!A16)","v":""},{"$f":"IF('AR9 (g)'!B16=\"\",\"\",'AR9 (g)'!B16)","v":""},{"$f":"IF('AR9 (g)'!C16=\"\",\"\",'AR9 (g)'!C16)","v":""},null,{"$f":"IF('AR9 (g)'!F16=\"\",\"\",'AR9 (g)'!F16)","v":""},{"$f":"IF('AR9 (g)'!G16=\"\",\"\",'AR9 (g)'!G16)","v":""},{"$f":"IF('AR9 (g)'!H16=\"\",\"\",'AR9 (g)'!H16)","v":""},{"$f":"IF('AR9 (g)'!I16=\"\",\"\",'AR9 (g)'!I16)","v":""}]
[{"$f":"IF('AR8 (g)'!A14=\"\",\"\",'AR8 (g)'!A14)","v":""},{"$f":"IF('AR8 (g)'!B14=\"\",\"\",'AR8 (g)'!B14)","v":""},{"$f":"IF('AR8 (g)'!C14=\"\",\"\",'AR8 (g)'!C14)","v":""},{"$f":"IF('AR8 (g)'!D14=\"\",\"\",'AR8 (g)'!D14)","v":""},{"$f":"IF('AR8 (g)'!E14=\"\",\"\",'AR8 (g)'!E14)","v":""},{"$f":"IF('AR8 (g)'!F14=\"\",\"\",'AR8 (g)'!F14)","v":""},{"$f":"IF('AR8 (g)'!G14=\"\",\"\",'AR8 (g)'!G14)","v":""},{"$f":"IF('AR8 (g)'!H14=\"\",\"\",'AR8 (g)'!H14)","v":""},{"$f":"IF('AR8 (g)'!I14=\"\",\"\",'AR8 (g)'!I14)","v":""},{"$f":"IF('AR8 (g)'!J14=\"\",\"\",'AR8 (g)'!J14)","v":""},{"$f":"IF('AR8 (g)'!K14=\"\",\"\",'AR8 (g)'!K14)","v":""},{"$f":"IF('AR8 (g)'!L14=\"\",\"\",'AR8 (g)'!L14)","v":""},null,{"$f":"IF('AR9 (g)'!A17=\"\",\"\",'AR9 (g)'!A17)","v":""},{"$f":"IF('AR9 (g)'!B17=\"\",\"\",'AR9 (g)'!B17)","v":""},{"$f":"IF('AR9 (g)'!C17=\"\",\"\",'AR9 (g)'!C17)","v":""},null,{"$f":"IF('AR9 (g)'!F17=\"\",\"\",'AR9 (g)'!F17)","v":""},{"$f":"IF('AR9 (g)'!G17=\"\",\"\",'AR9 (g)'!G17)","v":""},{"$f":"IF('AR9 (g)'!H17=\"\",\"\",'AR9 (g)'!H17)","v":""},{"$f":"IF('AR9 (g)'!I17=\"\",\"\",'AR9 (g)'!I17)","v":""}]
[{"$f":"IF('AR8 (g)'!A15=\"\",\"\",'AR8 (g)'!A15)","v":""},{"$f":"IF('AR8 (g)'!B15=\"\",\"\",'AR8 (g)'!B15)","v":""},{"$f":"IF('AR8 (g)'!C15=\"\",\"\",'AR8 (g)'!C15)","v":""},{"$f":"IF('AR8 (g)'!D15=\"\",\"\",'AR8 (g)'!D15)","v":""},{"$f":"IF('AR8 (g)'!E15=\"\",\"\",'AR8 (g)'!E15)","v":""},{"$f":"IF('AR8 (g)'!F15=\"\",\"\",'AR8 (g)'!F15)","v":""},{"$f":"IF('AR8 (g)'!G15=\"\",\"\",'AR8 (g)'!G15)","v":""},{"$f":"IF('AR8 (g)'!H15=\"\",\"\",'AR8 (g)'!H15)","v":""},{"$f":"IF('AR8 (g)'!I15=\"\",\"\",'AR8 (g)'!I15)","v":""},{"$f":"IF('AR8 (g)'!J15=\"\",\"\",'AR8 (g)'!J15)","v":""},{"$f":"IF('AR8 (g)'!K15=\"\",\"\",'AR8 (g)'!K15)","v":""},{"$f":"IF('AR8 (g)'!L15=\"\",\"\",'AR8 (g)'!L15)","v":""},null,{"$f":"IF('AR9 (g)'!A18=\"\",\"\",'AR9 (g)'!A18)","v":""},{"$f":"IF('AR9 (g)'!B18=\"\",\"\",'AR9 (g)'!B18)","v":""},{"$f":"IF('AR9 (g)'!C18=\"\",\"\",'AR9 (g)'!C18)","v":""},null,{"$f":"IF('AR9 (g)'!F18=\"\",\"\",'AR9 (g)'!F18)","v":""},{"$f":"IF('AR9 (g)'!G18=\"\",\"\",'AR9 (g)'!G18)","v":""},{"$f":"IF('AR9 (g)'!H18=\"\",\"\",'AR9 (g)'!H18)","v":""},{"$f":"IF('AR9 (g)'!I18=\"\",\"\",'AR9 (g)'!I18)","v":""}]
[{"$f":"IF('AR8 (g)'!A16=\"\",\"\",'AR8 (g)'!A16)","v":""},{"$f":"IF('AR8 (g)'!B16=\"\",\"\",'AR8 (g)'!B16)","v":""},{"$f":"IF('AR8 (g)'!C16=\"\",\"\",'AR8 (g)'!C16)","v":""},{"$f":"IF('AR8 (g)'!D16=\"\",\"\",'AR8 (g)'!D16)","v":""},{"$f":"IF('AR8 (g)'!E16=\"\",\"\",'AR8 (g)'!E16)","v":""},{"$f":"IF('AR8 (g)'!F16=\"\",\"\",'AR8 (g)'!F16)","v":""},{"$f":"IF('AR8 (g)'!G16=\"\",\"\",'AR8 (g)'!G16)","v":""},{"$f":"IF('AR8 (g)'!H16=\"\",\"\",'AR8 (g)'!H16)","v":""},{"$f":"IF('AR8 (g)'!I16=\"\",\"\",'AR8 (g)'!I16)","v":""},{"$f":"IF('AR8 (g)'!J16=\"\",\"\",'AR8 (g)'!J16)","v":""},{"$f":"IF('AR8 (g)'!K16=\"\",\"\",'AR8 (g)'!K16)","v":""},{"$f":"IF('AR8 (g)'!L16=\"\",\"\",'AR8 (g)'!L16)","v":""},null,{"$f":"IF('AR9 (g)'!A19=\"\",\"\",'AR9 (g)'!A19)","v":""},{"$f":"IF('AR9 (g)'!B19=\"\",\"\",'AR9 (g)'!B19)","v":""},{"$f":"IF('AR9 (g)'!C19=\"\",\"\",'AR9 (g)'!C19)","v":""},null,{"$f":"IF('AR9 (g)'!F19=\"\",\"\",'AR9 (g)'!F19)","v":""},{"$f":"IF('AR9 (g)'!G19=\"\",\"\",'AR9 (g)'!G19)","v":""},{"$f":"IF('AR9 (g)'!H19=\"\",\"\",'AR9 (g)'!H19)","v":""},{"$f":"IF('AR9 (g)'!I19=\"\",\"\",'AR9 (g)'!I19)","v":""}]
[{"$f":"IF('AR8 (g)'!A17=\"\",\"\",'AR8 (g)'!A17)","v":""},{"$f":"IF('AR8 (g)'!B17=\"\",\"\",'AR8 (g)'!B17)","v":""},{"$f":"IF('AR8 (g)'!C17=\"\",\"\",'AR8 (g)'!C17)","v":""},{"$f":"IF('AR8 (g)'!D17=\"\",\"\",'AR8 (g)'!D17)","v":""},{"$f":"IF('AR8 (g)'!E17=\"\",\"\",'AR8 (g)'!E17)","v":""},{"$f":"IF('AR8 (g)'!F17=\"\",\"\",'AR8 (g)'!F17)","v":""},{"$f":"IF('AR8 (g)'!G17=\"\",\"\",'AR8 (g)'!G17)","v":""},{"$f":"IF('AR8 (g)'!H17=\"\",\"\",'AR8 (g)'!H17)","v":""},{"$f":"IF('AR8 (g)'!I17=\"\",\"\",'AR8 (g)'!I17)","v":""},{"$f":"IF('AR8 (g)'!J17=\"\",\"\",'AR8 (g)'!J17)","v":""},{"$f":"IF('AR8 (g)'!K17=\"\",\"\",'AR8 (g)'!K17)","v":""},{"$f":"IF('AR8 (g)'!L17=\"\",\"\",'AR8 (g)'!L17)","v":""},null,{"$f":"IF('AR9 (g)'!A20=\"\",\"\",'AR9 (g)'!A20)","v":""},{"$f":"IF('AR9 (g)'!B20=\"\",\"\",'AR9 (g)'!B20)","v":""},{"$f":"IF('AR9 (g)'!C20=\"\",\"\",'AR9 (g)'!C20)","v":""},null,{"$f":"IF('AR9 (g)'!F20=\"\",\"\",'AR9 (g)'!F20)","v":""},{"$f":"IF('AR9 (g)'!G20=\"\",\"\",'AR9 (g)'!G20)","v":""},{"$f":"IF('AR9 (g)'!H20=\"\",\"\",'AR9 (g)'!H20)","v":""},{"$f":"IF('AR9 (g)'!I20=\"\",\"\",'AR9 (g)'!I20)","v":""}]
[{"$f":"IF('AR8 (g)'!A18=\"\",\"\",'AR8 (g)'!A18)","v":""},{"$f":"IF('AR8 (g)'!B18=\"\",\"\",'AR8 (g)'!B18)","v":""},{"$f":"IF('AR8 (g)'!C18=\"\",\"\",'AR8 (g)'!C18)","v":""},{"$f":"IF('AR8 (g)'!D18=\"\",\"\",'AR8 (g)'!D18)","v":""},{"$f":"IF('AR8 (g)'!E18=\"\",\"\",'AR8 (g)'!E18)","v":""},{"$f":"IF('AR8 (g)'!F18=\"\",\"\",'AR8 (g)'!F18)","v":""},{"$f":"IF('AR8 (g)'!G18=\"\",\"\",'AR8 (g)'!G18)","v":""},{"$f":"IF('AR8 (g)'!H18=\"\",\"\",'AR8 (g)'!H18)","v":""},{"$f":"IF('AR8 (g)'!I18=\"\",\"\",'AR8 (g)'!I18)","v":""},{"$f":"IF('AR8 (g)'!J18=\"\",\"\",'AR8 (g)'!J18)","v":""},{"$f":"IF('AR8 (g)'!K18=\"\",\"\",'AR8 (g)'!K18)","v":""},{"$f":"IF('AR8 (g)'!L18=\"\",\"\",'AR8 (g)'!L18)","v":""},null,{"$f":"IF('AR9 (g)'!A21=\"\",\"\",'AR9 (g)'!A21)","v":""},{"$f":"IF('AR9 (g)'!B21=\"\",\"\",'AR9 (g)'!B21)","v":""},{"$f":"IF('AR9 (g)'!C21=\"\",\"\",'AR9 (g)'!C21)","v":""},null,{"$f":"IF('AR9 (g)'!F21=\"\",\"\",'AR9 (g)'!F21)","v":""},{"$f":"IF('AR9 (g)'!G21=\"\",\"\",'AR9 (g)'!G21)","v":""},{"$f":"IF('AR9 (g)'!H21=\"\",\"\",'AR9 (g)'!H21)","v":""},{"$f":"IF('AR9 (g)'!I21=\"\",\"\",'AR9 (g)'!I21)","v":""}]
[{"$f":"IF('AR8 (g)'!A19=\"\",\"\",'AR8 (g)'!A19)","v":""},{"$f":"IF('AR8 (g)'!B19=\"\",\"\",'AR8 (g)'!B19)","v":""},{"$f":"IF('AR8 (g)'!C19=\"\",\"\",'AR8 (g)'!C19)","v":""},{"$f":"IF('AR8 (g)'!D19=\"\",\"\",'AR8 (g)'!D19)","v":""},{"$f":"IF('AR8 (g)'!E19=\"\",\"\",'AR8 (g)'!E19)","v":""},{"$f":"IF('AR8 (g)'!F19=\"\",\"\",'AR8 (g)'!F19)","v":""},{"$f":"IF('AR8 (g)'!G19=\"\",\"\",'AR8 (g)'!G19)","v":""},{"$f":"IF('AR8 (g)'!H19=\"\",\"\",'AR8 (g)'!H19)","v":""},{"$f":"IF('AR8 (g)'!I19=\"\",\"\",'AR8 (g)'!I19)","v":""},{"$f":"IF('AR8 (g)'!J19=\"\",\"\",'AR8 (g)'!J19)","v":""},{"$f":"IF('AR8 (g)'!K19=\"\",\"\",'AR8 (g)'!K19)","v":""},{"$f":"IF('AR8 (g)'!L19=\"\",\"\",'AR8 (g)'!L19)","v":""},null,{"$f":"IF('AR9 (g)'!A22=\"\",\"\",'AR9 (g)'!A22)","v":""},{"$f":"IF('AR9 (g)'!B22=\"\",\"\",'AR9 (g)'!B22)","v":""},{"$f":"IF('AR9 (g)'!C22=\"\",\"\",'AR9 (g)'!C22)","v":""},null,{"$f":"IF('AR9 (g)'!F22=\"\",\"\",'AR9 (g)'!F22)","v":""},{"$f":"IF('AR9 (g)'!G22=\"\",\"\",'AR9 (g)'!G22)","v":""},{"$f":"IF('AR9 (g)'!H22=\"\",\"\",'AR9 (g)'!H22)","v":""},{"$f":"IF('AR9 (g)'!I22=\"\",\"\",'AR9 (g)'!I22)","v":""}]
[{"$f":"IF('AR8 (g)'!A20=\"\",\"\",'AR8 (g)'!A20)","v":""},{"$f":"IF('AR8 (g)'!B20=\"\",\"\",'AR8 (g)'!B20)","v":""},{"$f":"IF('AR8 (g)'!C20=\"\",\"\",'AR8 (g)'!C20)","v":""},{"$f":"IF('AR8 (g)'!D20=\"\",\"\",'AR8 (g)'!D20)","v":""},{"$f":"IF('AR8 (g)'!E20=\"\",\"\",'AR8 (g)'!E20)","v":""},{"$f":"IF('AR8 (g)'!F20=\"\",\"\",'AR8 (g)'!F20)","v":""},{"$f":"IF('AR8 (g)'!G20=\"\",\"\",'AR8 (g)'!G20)","v":""},{"$f":"IF('AR8 (g)'!H20=\"\",\"\",'AR8 (g)'!H20)","v":""},{"$f":"IF('AR8 (g)'!I20=\"\",\"\",'AR8 (g)'!I20)","v":""},{"$f":"IF('AR8 (g)'!J20=\"\",\"\",'AR8 (g)'!J20)","v":""},{"$f":"IF('AR8 (g)'!K20=\"\",\"\",'AR8 (g)'!K20)","v":""},{"$f":"IF('AR8 (g)'!L20=\"\",\"\",'AR8 (g)'!L20)","v":""},null,{"$f":"IF('AR9 (g)'!A23=\"\",\"\",'AR9 (g)'!A23)","v":""},{"$f":"IF('AR9 (g)'!B23=\"\",\"\",'AR9 (g)'!B23)","v":""},{"$f":"IF('AR9 (g)'!C23=\"\",\"\",'AR9 (g)'!C23)","v":""},null,{"$f":"IF('AR9 (g)'!F23=\"\",\"\",'AR9 (g)'!F23)","v":""},{"$f":"IF('AR9 (g)'!G23=\"\",\"\",'AR9 (g)'!G23)","v":""},{"$f":"IF('AR9 (g)'!H23=\"\",\"\",'AR9 (g)'!H23)","v":""},{"$f":"IF('AR9 (g)'!I23=\"\",\"\",'AR9 (g)'!I23)","v":""}]
[{"$f":"IF('AR8 (g)'!A21=\"\",\"\",'AR8 (g)'!A21)","v":""},{"$f":"IF('AR8 (g)'!B21=\"\",\"\",'AR8 (g)'!B21)","v":""},{"$f":"IF('AR8 (g)'!C21=\"\",\"\",'AR8 (g)'!C21)","v":""},{"$f":"IF('AR8 (g)'!D21=\"\",\"\",'AR8 (g)'!D21)","v":""},{"$f":"IF('AR8 (g)'!E21=\"\",\"\",'AR8 (g)'!E21)","v":""},{"$f":"IF('AR8 (g)'!F21=\"\",\"\",'AR8 (g)'!F21)","v":""},{"$f":"IF('AR8 (g)'!G21=\"\",\"\",'AR8 (g)'!G21)","v":""},{"$f":"IF('AR8 (g)'!H21=\"\",\"\",'AR8 (g)'!H21)","v":""},{"$f":"IF('AR8 (g)'!I21=\"\",\"\",'AR8 (g)'!I21)","v":""},{"$f":"IF('AR8 (g)'!J21=\"\",\"\",'AR8 (g)'!J21)","v":""},{"$f":"IF('AR8 (g)'!K21=\"\",\"\",'AR8 (g)'!K21)","v":""},{"$f":"IF('AR8 (g)'!L21=\"\",\"\",'AR8 (g)'!L21)","v":""},null,{"$f":"IF('AR9 (g)'!A24=\"\",\"\",'AR9 (g)'!A24)","v":""},{"$f":"IF('AR9 (g)'!B24=\"\",\"\",'AR9 (g)'!B24)","v":""},{"$f":"IF('AR9 (g)'!C24=\"\",\"\",'AR9 (g)'!C24)","v":""},null,{"$f":"IF('AR9 (g)'!F24=\"\",\"\",'AR9 (g)'!F24)","v":""},{"$f":"IF('AR9 (g)'!G24=\"\",\"\",'AR9 (g)'!G24)","v":""},{"$f":"IF('AR9 (g)'!H24=\"\",\"\",'AR9 (g)'!H24)","v":""},{"$f":"IF('AR9 (g)'!I24=\"\",\"\",'AR9 (g)'!I24)","v":""}]
[{"$f":"IF('AR8 (g)'!A22=\"\",\"\",'AR8 (g)'!A22)","v":""},{"$f":"IF('AR8 (g)'!B22=\"\",\"\",'AR8 (g)'!B22)","v":""},{"$f":"IF('AR8 (g)'!C22=\"\",\"\",'AR8 (g)'!C22)","v":""},{"$f":"IF('AR8 (g)'!D22=\"\",\"\",'AR8 (g)'!D22)","v":""},{"$f":"IF('AR8 (g)'!E22=\"\",\"\",'AR8 (g)'!E22)","v":""},{"$f":"IF('AR8 (g)'!F22=\"\",\"\",'AR8 (g)'!F22)","v":""},{"$f":"IF('AR8 (g)'!G22=\"\",\"\",'AR8 (g)'!G22)","v":""},{"$f":"IF('AR8 (g)'!H22=\"\",\"\",'AR8 (g)'!H22)","v":""},{"$f":"IF('AR8 (g)'!I22=\"\",\"\",'AR8 (g)'!I22)","v":""},{"$f":"IF('AR8 (g)'!J22=\"\",\"\",'AR8 (g)'!J22)","v":""},{"$f":"IF('AR8 (g)'!K22=\"\",\"\",'AR8 (g)'!K22)","v":""},{"$f":"IF('AR8 (g)'!L22=\"\",\"\",'AR8 (g)'!L22)","v":""},null,{"$f":"IF('AR9 (g)'!A25=\"\",\"\",'AR9 (g)'!A25)","v":""},{"$f":"IF('AR9 (g)'!B25=\"\",\"\",'AR9 (g)'!B25)","v":""},{"$f":"IF('AR9 (g)'!C25=\"\",\"\",'AR9 (g)'!C25)","v":""},null,{"$f":"IF('AR9 (g)'!F25=\"\",\"\",'AR9 (g)'!F25)","v":""},{"$f":"IF('AR9 (g)'!G25=\"\",\"\",'AR9 (g)'!G25)","v":""},{"$f":"IF('AR9 (g)'!H25=\"\",\"\",'AR9 (g)'!H25)","v":""},{"$f":"IF('AR9 (g)'!I25=\"\",\"\",'AR9 (g)'!I25)","v":""}]
["* Arizona Department of Water Resources Identification Number",null,null,null,null,null,null,null,null,null,null,null,null,null,null,null,null,{"$f":"IF('AR9 (g)'!F26=\"\",\"\",'AR9 (g)'!F26)","v":""},{"$f":"IF('AR9 (g)'!G26=\"\",\"\",'AR9 (g)'!G26)","v":""},{"$f":"IF('AR9 (g)'!H26=\"\",\"\",'AR9 (g)'!H26)","v":""},{"$f":"IF('AR9 (g)'!I26=\"\",\"\",'AR9 (g)'!I26)","v":""}]
[null,null,null,null,null,null,null,null,null,null,null,null,null,null,null,null,null,{"$f":"IF('AR9 (g)'!F27=\"\",\"\",'AR9 (g)'!F27)","v":""},{"$f":"IF('AR9 (g)'!G27=\"\",\"\",'AR9 (g)'!G27)","v":""},{"$f":"IF('AR9 (g)'!H27=\"\",\"\",'AR9 (g)'!H27)","v":""},{"$f":"IF('AR9 (g)'!I27=\"\",\"\",'AR9 (g)'!I27)","v":""}]
[null,null,null,null,null,null,null,null,null,null,null,null,null,null,null,null,null,{"$f":"IF('AR9 (g)'!F28=\"\",\"\",'AR9 (g)'!F28)","v":""},{"$f":"IF('AR9 (g)'!G28=\"\",\"\",'AR9 (g)'!G28)","v":""},{"$f":"IF('AR9 (g)'!H28=\"\",\"\",'AR9 (g)'!H28)","v":""},{"$f":"IF('AR9 (g)'!I28=\"\",\"\",'AR9 (g)'!I28)","v":""}]
[null,null,null,null,null,null,null,null,null,null,null,null,null,null,null,null,null,{"$f":"IF('AR9 (g)'!F29=\"\",\"\",'AR9 (g)'!F29)","v":""},{"$f":"IF('AR9 (g)'!G29=\"\",\"\",'AR9 (g)'!G29)","v":""},{"$f":"IF('AR9 (g)'!H29=\"\",\"\",'AR9 (g)'!H29)","v":""},{"$f":"IF('AR9 (g)'!I29=\"\",\"\",'AR9 (g)'!I29)","v":""}]
["SERVICE LINES"]
["Material","Percent of system","Year installed"]
[{"$f":"IF('AR9 (g)'!B30=\"\",\"\",'AR9 (g)'!B30)","v":""},{"$f":"IF('AR9 (g)'!C30=\"\",\"\",'AR9 (g)'!C30)","v":""},{"$f":"IF('AR9 (g)'!D30=\"\",\"\",'AR9 (g)'!D30)","v":""}]
[{"$f":"IF('AR9 (g)'!B31=\"\",\"\",'AR9 (g)'!B31)","v":""},{"$f":"IF('AR9 (g)'!C31=\"\",\"\",'AR9 (g)'!C31)","v":""},{"$f":"IF('AR9 (g)'!D31=\"\",\"\",'AR9 (g)'!D31)","v":""},null,null,null,null,null,null,null,null,null,null,"For the following three items, please list the utility owned assets in each category."]
[{"$f":"IF('AR9 (g)'!B32=\"\",\"\",'AR9 (g)'!B32)","v":""},{"$f":"IF('AR9 (g)'!C32=\"\",\"\",'AR9 (g)'!C32)","v":""},{"$f":"IF('AR9 (g)'!D32=\"\",\"\",'AR9 (g)'!D32)","v":""}]
[{"$f":"IF('AR9 (g)'!B33=\"\",\"\",'AR9 (g)'!B33)","v":""},{"$f":"IF('AR9 (g)'!C33=\"\",\"\",'AR9 (g)'!C33)","v":""},{"$f":"IF('AR9 (g)'!D33=\"\",\"\",'AR9 (g)'!D33)","v":""},null,null,null,null,null,null,null,null,null,null,"TREATMENT EQUIPMENT:"]
[{"$f":"IF('AR9 (g)'!B34=\"\",\"\",'AR9 (g)'!B34)","v":""},{"$f":"IF('AR9 (g)'!C34=\"\",\"\",'AR9 (g)'!C34)","v":""},{"$f":"IF('AR9 (g)'!D34=\"\",\"\",'AR9 (g)'!D34)","v":""},null,null,null,null,null,null,null,null,null,null,{"$f":"IF('AR9 (g)'!M11=\"\",\"\",'AR9 (g)'!M11)","v":""}]
[]
[]
[]
["BOOSTER PUMPS",null,null,null,"FIRE HYDRANTS"]
["Horsepower","GPM","Quantity",null,"Quantity Standard*","Quantity Other"]
[{"$f":"IF('AR9 (g)'!A39=\"\",\"\",'AR9 (g)'!A39)","v":""},{"$f":"IF('AR9 (g)'!B39=\"\",\"\",'AR9 (g)'!B39)","v":""},{"$f":"IF('AR9 (g)'!C39=\"\",\"\",'AR9 (g)'!C39)","v":""},null,"Standard *",{"$f":"IF('AR9 (g)'!G39=\"\",\"\",'AR9 (g)'!G39)","v":""}]
[{"$f":"IF('AR9 (g)'!A40=\"\",\"\",'AR9 (g)'!A40)","v":""},{"$f":"IF('AR9 (g)'!B40=\"\",\"\",'AR9 (g)'!B40)","v":""},{"$f":"IF('AR9 (g)'!C40=\"\",\"\",'AR9 (g)'!C40)","v":""},null,"Other",{"$f":"IF('AR9 (g)'!G40=\"\",\"\",'AR9 (g)'!G40)","v":""}]
[{"$f":"IF('AR9 (g)'!A41=\"\",\"\",'AR9 (g)'!A41)","v":""},{"$f":"IF('AR9 (g)'!B41=\"\",\"\",'AR9 (g)'!B41)","v":""},{"$f":"IF('AR9 (g)'!C41=\"\",\"\",'AR9 (g)'!C41)","v":""}]
[{"$f":"IF('AR9 (g)'!A42=\"\",\"\",'AR9 (g)'!A42)","v":""},{"$f":"IF('AR9 (g)'!B42=\"\",\"\",'AR9 (g)'!B42)","v":""},{"$f":"IF('AR9 (g)'!C42=\"\",\"\",'AR9 (g)'!C42)","v":""},null,null,null,null,null,null,null,null,null,null,"STRUCTURES:"]
[null,null,null,null,null,null,null,null,null,null,null,null,null,{"$f":"IF('AR9 (g)'!M17=\"\",\"\",'AR9 (g)'!M17)","v":""}]
[]
["STORAGE TANKS",null,null,null,null,"PRESSURE/BLADDER TANKS"]
["Capacity (gallons)","Material","Quantity","Year installed",null,"Capacity (gallons)","Material","Quantity","Year installed"]
[{"$f":"IF('AR9 (g)'!A46=\"\",\"\",'AR9 (g)'!A46)","v":""},{"$f":"IF('AR9 (g)'!B46=\"\",\"\",'AR9 (g)'!B46)","v":""},{"$f":"IF('AR9 (g)'!C46=\"\",\"\",'AR9 (g)'!C46)","v":""},{"$f":"IF('AR9 (g)'!D46=\"\",\"\",'AR9 (g)'!D46)","v":""},null,{"$f":"IF('AR9 (g)'!F46=\"\",\"\",'AR9 (g)'!F46)","v":""},{"$f":"IF('AR9 (g)'!G46=\"\",\"\",'AR9 (g)'!G46)","v":""},{"$f":"IF('AR9 (g)'!H46=\"\",\"\",'AR9 (g)'!H46)","v":""},{"$f":"IF('AR9 (g)'!I46=\"\",\"\",'AR9 (g)'!I46)","v":""}]
[{"$f":"IF('AR9 (g)'!A47=\"\",\"\",'AR9 (g)'!A47)","v":""},{"$f":"IF('AR9 (g)'!B47=\"\",\"\",'AR9 (g)'!B47)","v":""},{"$f":"IF('AR9 (g)'!C47=\"\",\"\",'AR9 (g)'!C47)","v":""},{"$f":"IF('AR9 (g)'!D47=\"\",\"\",'AR9 (g)'!D47)","v":""},null,{"$f":"IF('AR9 (g)'!F47=\"\",\"\",'AR9 (g)'!F47)","v":""},{"$f":"IF('AR9 (g)'!G47=\"\",\"\",'AR9 (g)'!G47)","v":""},{"$f":"IF('AR9 (g)'!H47=\"\",\"\",'AR9 (g)'!H47)","v":""},{"$f":"IF('AR9 (g)'!I47=\"\",\"\",'AR9 (g)'!I47)","v":""}]
[{"$f":"IF('AR9 (g)'!A48=\"\",\"\",'AR9 (g)'!A48)","v":""},{"$f":"IF('AR9 (g)'!B48=\"\",\"\",'AR9 (g)'!B48)","v":""},{"$f":"IF('AR9 (g)'!C48=\"\",\"\",'AR9 (g)'!C48)","v":""},{"$f":"IF('AR9 (g)'!D48=\"\",\"\",'AR9 (g)'!D48)","v":""},null,{"$f":"IF('AR9 (g)'!F48=\"\",\"\",'AR9 (g)'!F48)","v":""},{"$f":"IF('AR9 (g)'!G48=\"\",\"\",'AR9 (g)'!G48)","v":""},{"$f":"IF('AR9 (g)'!H48=\"\",\"\",'AR9 (g)'!H48)","v":""},{"$f":"IF('AR9 (g)'!I48=\"\",\"\",'AR9 (g)'!I48)","v":""}]
[{"$f":"IF('AR9 (g)'!A49=\"\",\"\",'AR9 (g)'!A49)","v":""},{"$f":"IF('AR9 (g)'!B49=\"\",\"\",'AR9 (g)'!B49)","v":""},{"$f":"IF('AR9 (g)'!C49=\"\",\"\",'AR9 (g)'!C49)","v":""},{"$f":"IF('AR9 (g)'!D49=\"\",\"\",'AR9 (g)'!D49)","v":""},null,{"$f":"IF('AR9 (g)'!F49=\"\",\"\",'AR9 (g)'!F49)","v":""},{"$f":"IF('AR9 (g)'!G49=\"\",\"\",'AR9 (g)'!G49)","v":""},{"$f":"IF('AR9 (g)'!H49=\"\",\"\",'AR9 (g)'!H49)","v":""},{"$f":"IF('AR9 (g)'!I49=\"\",\"\",'AR9 (g)'!I49)","v":""}]
[{"$f":"IF('AR9 (g)'!A50=\"\",\"\",'AR9 (g)'!A50)","v":""},{"$f":"IF('AR9 (g)'!B50=\"\",\"\",'AR9 (g)'!B50)","v":""},{"$f":"IF('AR9 (g)'!C50=\"\",\"\",'AR9 (g)'!C50)","v":""},{"$f":"IF('AR9 (g)'!D50=\"\",\"\",'AR9 (g)'!D50)","v":""},null,{"$f":"IF('AR9 (g)'!F50=\"\",\"\",'AR9 (g)'!F50)","v":""},{"$f":"IF('AR9 (g)'!G50=\"\",\"\",'AR9 (g)'!G50)","v":""},{"$f":"IF('AR9 (g)'!H50=\"\",\"\",'AR9 (g)'!H50)","v":""},{"$f":"IF('AR9 (g)'!I50=\"\",\"\",'AR9 (g)'!I50)","v":""},null,null,null,null,"OTHER:"]
[{"$f":"IF('AR9 (g)'!A51=\"\",\"\",'AR9 (g)'!A51)","v":""},{"$f":"IF('AR9 (g)'!B51=\"\",\"\",'AR9 (g)'!B51)","v":""},{"$f":"IF('AR9 (g)'!C51=\"\",\"\",'AR9 (g)'!C51)","v":""},{"$f":"IF('AR9 (g)'!D51=\"\",\"\",'AR9 (g)'!D51)","v":""},null,{"$f":"IF('AR9 (g)'!F51=\"\",\"\",'AR9 (g)'!F51)","v":""},{"$f":"IF('AR9 (g)'!G51=\"\",\"\",'AR9 (g)'!G51)","v":""},{"$f":"IF('AR9 (g)'!H51=\"\",\"\",'AR9 (g)'!H51)","v":""},{"$f":"IF('AR9 (g)'!I51=\"\",\"\",'AR9 (g)'!I51)","v":""},null,null,null,null,{"$f":"IF('AR9 (g)'!M23=\"\",\"\",'AR9 (g)'!M23)","v":""}]
[]
[]
[]
[]
[]
["* - A standard fire hydrant has two 2.5 inch hose connection nozzles with 7.5 threads per inch, and one 4.5 inch pumper connection nozzle with 4 threads per inch."]
[]
[]
[]
[]
["Note: This page automatically populates with information from your annual report.",null,null,null,null,null,null,null,null,null,null,null,{"$f":"A65","v":"Note: This page automatically populates with information from your annual report."}]
[]
[]
[null,null,null,null,null,null,null,null,null,null,null,{"$f":"\"Page \" &L69&\"g\"","v":"Page 20g"},null,null,null,null,null,null,null,null,null,{"$f":"\"Page \" &V69&\"g\"","v":"Page 21g"}]
[null,null,null,null,null,null,null,null,null,null,null,{"$f":"'Sch 1'!I49+1","v":20},null,null,null,null,null,null,null,null,null,{"$f":"L69+1","v":21}]

{"sheet":"Sch 2 (h)","index":58,"n_rows":69,"n_cols":23,"rows_kept":69,"cut":false,"hidden":true,"merged":[[9,17,9,20],[34,13,41,20],[38,0,38,2],[38,4,38,5],[5,0,5,11],[5,13,5,20],[6,0,6,1],[6,2,6,3],[7,0,7,1],[9,13,9,15],[10,0,10,11],[24,0,24,11],[31,13,31,20],[33,13,33,20],[28,0,28,2],[64,0,65,11],[64,12,65,21],[43,13,43,20],[44,13,50,20],[52,13,52,20],[53,13,61,20],[59,0,59,11],[46,0,46,3],[46,5,46,8]]}
[{"$f":"'AR1'!$B$12","v":0},null,null,null,null,null,null,null,null,null,null,{"$f":"'Sch Title'!$A$17&\"h\"","v":"Schedule 2h"},{"$f":"'AR1'!$B$12","v":0},null,null,null,null,null,null,null,null,{"$f":"'Sch Title'!$A$17&\"h\"","v":"Schedule 2h"}]
[{"$f":"'Sch Title'!$A$2","v":"Short Form Rate Application"},null,null,null,null,null,null,null,null,null,null,{"$f":"\" Short Form Rate Application Page No. \"&L69","v":" Short Form Rate Application Page No. 20"},{"$f":"'Sch Title'!$A$2","v":"Short Form Rate Application"},null,null,null,null,null,null,null,null,{"$f":"\" Short Form Rate Application Page No. \"&V69","v":" Short Form Rate Application Page No. 21"}]
[{"$f":"Sch6_PltDesc","v":"WATER COMPANY PLANT DESCRIPTION "},null,null,null,null,null,null,null,null,null,null,null,{"$f":"Sch6_PltDesc","v":"WATER COMPANY PLANT DESCRIPTION "}]
[{"$f":"'Sch Title'!$A$4","v":"Test Year Ended 12/31/20"},null,null,null,null,null,null,null,null,null,null,null,{"$f":"'Sch Title'!$A$4","v":"Test Year Ended 12/31/20"},null,null,null,null,null,null,null,null,null,"Table of contents"]
[]
["WATER COMPANY PLANT DESCRIPTION ",null,null,null,null,null,null,null,null,null,null,null,null,"WATER COMPANY PLANT DESCRIPTION  (Continued)"]
["Name of the System:",null,{"$f":"'AR9 (h)'!C7","v":0}]
["ADEQ Public Water System Number",null,{"$f":"'AR9 (h)'!D8","v":""}]
["ADWR PCC Number:",null,{"$f":"'AR9 (h)'!D9","v":""}]
[null,null,null,null,null,null,null,null,null,null,null,null,null,"MAINS",null,null,null,"CUSTOMER METERS"]
["WELLS",null,null,null,null,null,null,null,null,null,null,null,null,"Size (in inches)","Material","Length (in feet)",null,"Size (in inches)","Quantity","Percent over 1,00,000 gallons","Percent over 10 years old"]
["Well registry 55# (55-XXXXXX):","Pump Horsepower","Pump Yield (gpm)","Casing Depth (feet)","Casing Diameter (inches)","Pump Motor Type **","Year Drilled","Water level 2010","Water level 2019","Meter Size (inches)","How measured:","Active",null,{"$f":"IF('AR9 (h)'!A13=\"\",\"\",'AR9 (h)'!A13)","v":""},{"$f":"IF('AR9 (h)'!B13=\"\",\"\",'AR9 (h)'!B13)","v":""},{"$f":"IF('AR9 (h)'!C13=\"\",\"\",'AR9 (h)'!C13)","v":""},null,{"$f":"IF('AR9 (h)'!F13=\"\",\"\",'AR9 (h)'!F13)","v":""},{"$f":"IF('AR9 (h)'!G13=\"\",\"\",'AR9 (h)'!G13)","v":""},{"$f":"IF('AR9 (h)'!H13=\"\",\"\",'AR9 (h)'!H13)","v":""},{"$f":"IF('AR9 (h)'!I13=\"\",\"\",'AR9 (h)'!I13)","v":""}]
[{"$f":"IF('AR8 (h)'!A11=\"\",\"\",'AR8 (h)'!A11)","v":""},{"$f":"IF('AR8 (h)'!B11=\"\",\"\",'AR8 (h)'!B11)","v":""},{"$f":"IF('AR8 (h)'!C11=\"\",\"\",'AR8 (h)'!C11)","v":""},{"$f":"IF('AR8 (h)'!D11=\"\",\"\",'AR8 (h)'!D11)","v":""},{"$f":"IF('AR8 (h)'!E11=\"\",\"\",'AR8 (h)'!E11)","v":""},{"$f":"IF('AR8 (h)'!F11=\"\",\"\",'AR8 (h)'!F11)","v":""},{"$f":"IF('AR8 (h)'!G11=\"\",\"\",'AR8 (h)'!G11)","v":""},{"$f":"IF('AR8 (h)'!H11=\"\",\"\",'AR8 (h)'!H11)","v":""},{"$f":"IF('AR8 (h)'!I11=\"\",\"\",'AR8 (h)'!I11)","v":""},{"$f":"IF('AR8 (h)'!J11=\"\",\"\",'AR8 (h)'!J11)","v":""},{"$f":"IF('AR8 (h)'!K11=\"\",\"\",'AR8 (h)'!K11)","v":""},{"$f":"IF('AR8 (h)'!L11=\"\",\"\",'AR8 (h)'!L11)","v":""},null,{"$f":"IF('AR9 (h)'!A14=\"\",\"\",'AR9 (h)'!A14)","v":""},{"$f":"IF('AR9 (h)'!B14=\"\",\"\",'AR9 (h)'!B14)","v":""},{"$f":"IF('AR9 (h)'!C14=\"\",\"\",'AR9 (h)'!C14)","v":""},null,{"$f":"IF('AR9 (h)'!F14=\"\",\"\",'AR9 (h)'!F14)","v":""},{"$f":"IF('AR9 (h)'!G14=\"\",\"\",'AR9 (h)'!G14)","v":""},{"$f":"IF('AR9 (h)'!H14=\"\",\"\",'AR9 (h)'!H14)","v":""},{"$f":"IF('AR9 (h)'!I14=\"\",\"\",'AR9 (h)'!I14)","v":""}]
[{"$f":"IF('AR8 (h)'!A12=\"\",\"\",'AR8 (h)'!A12)","v":""},{"$f":"IF('AR8 (h)'!B12=\"\",\"\",'AR8 (h)'!B12)","v":""},{"$f":"IF('AR8 (h)'!C12=\"\",\"\",'AR8 (h)'!C12)","v":""},{"$f":"IF('AR8 (h)'!D12=\"\",\"\",'AR8 (h)'!D12)","v":""},{"$f":"IF('AR8 (h)'!E12=\"\",\"\",'AR8 (h)'!E12)","v":""},{"$f":"IF('AR8 (h)'!F12=\"\",\"\",'AR8 (h)'!F12)","v":""},{"$f":"IF('AR8 (h)'!G12=\"\",\"\",'AR8 (h)'!G12)","v":""},{"$f":"IF('AR8 (h)'!H12=\"\",\"\",'AR8 (h)'!H12)","v":""},{"$f":"IF('AR8 (h)'!I12=\"\",\"\",'AR8 (h)'!I12)","v":""},{"$f":"IF('AR8 (h)'!J12=\"\",\"\",'AR8 (h)'!J12)","v":""},{"$f":"IF('AR8 (h)'!K12=\"\",\"\",'AR8 (h)'!K12)","v":""},{"$f":"IF('AR8 (h)'!L12=\"\",\"\",'AR8 (h)'!L12)","v":""},null,{"$f":"IF('AR9 (h)'!A15=\"\",\"\",'AR9 (h)'!A15)","v":""},{"$f":"IF('AR9 (h)'!B15=\"\",\"\",'AR9 (h)'!B15)","v":""},{"$f":"IF('AR9 (h)'!C15=\"\",\"\",'AR9 (h)'!C15)","v":""},null,{"$f":"IF('AR9 (h)'!F15=\"\",\"\",'AR9 (h)'!F15)","v":""},{"$f":"IF('AR9 (h)'!G15=\"\",\"\",'AR9 (h)'!G15)","v":""},{"$f":"IF('AR9 (h)'!H15=\"\",\"\",'AR9 (h)'!H15)","v":""},{"$f":"IF('AR9 (h)'!I15=\"\",\"\",'AR9 (h)'!I15)","v":""}]
[{"$f":"IF('AR8 (h)'!A13=\"\",\"\",'AR8 (h)'!A13)","v":""},{"$f":"IF('AR8 (h)'!B13=\"\",\"\",'AR8 (h)'!B13)","v":""},{"$f":"IF('AR8 (h)'!C13=\"\",\"\",'AR8 (h)'!C13)","v":""},{"$f":"IF('AR8 (h)'!D13=\"\",\"\",'AR8 (h)'!D13)","v":""},{"$f":"IF('AR8 (h)'!E13=\"\",\"\",'AR8 (h)'!E13)","v":""},{"$f":"IF('AR8 (h)'!F13=\"\",\"\",'AR8 (h)'!F13)","v":""},{"$f":"IF('AR8 (h)'!G13=\"\",\"\",'AR8 (h)'!G13)","v":""},{"$f":"IF('AR8 (h)'!H13=\"\",\"\",'AR8 (h)'!H13)","v":""},{"$f":"IF('AR8 (h)'!I13=\"\",\"\",'AR8 (h)'!I13)","v":""},{"$f":"IF('AR8 (h)'!J13=\"\",\"\",'AR8 (h)'!J13)","v":""},{"$f":"IF('AR8 (h)'!K13=\"\",\"\",'AR8 (h)'!K13)","v":""},{"$f":"IF('AR8 (h)'!L13=\"\",\"\",'AR8 (h)'!L13)","v":""},null,{"$f":"IF('AR9 (h)'!A16=\"\",\"\",'AR9 (h)'!A16)","v":""},{"$f":"IF('AR9 (h)'!B16=\"\",\"\",'AR9 (h)'!B16)","v":""},{"$f":"IF('AR9 (h)'!C16=\"\",\"\",'AR9 (h)'!C16)","v":""},null,{"$f":"IF('AR9 (h)'!F16=\"\",\"\",'AR9 (h)'!F16)","v":""},{"$f":"IF('AR9 (h)'!G16=\"\",\"\",'AR9 (h)'!G16)","v":""},{"$f":"IF('AR9 (h)'!H16=\"\",\"\",'AR9 (h)'!H16)","v":""},{"$f":"IF('AR9 (h)'!I16=\"\",\"\",'AR9 (h)'!I16)","v":""}]
[{"$f":"IF('AR8 (h)'!A14=\"\",\"\",'AR8 (h)'!A14)","v":""},{"$f":"IF('AR8 (h)'!B14=\"\",\"\",'AR8 (h)'!B14)","v":""},{"$f":"IF('AR8 (h)'!C14=\"\",\"\",'AR8 (h)'!C14)","v":""},{"$f":"IF('AR8 (h)'!D14=\"\",\"\",'AR8 (h)'!D14)","v":""},{"$f":"IF('AR8 (h)'!E14=\"\",\"\",'AR8 (h)'!E14)","v":""},{"$f":"IF('AR8 (h)'!F14=\"\",\"\",'AR8 (h)'!F14)","v":""},{"$f":"IF('AR8 (h)'!G14=\"\",\"\",'AR8 (h)'!G14)","v":""},{"$f":"IF('AR8 (h)'!H14=\"\",\"\",'AR8 (h)'!H14)","v":""},{"$f":"IF('AR8 (h)'!I14=\"\",\"\",'AR8 (h)'!I14)","v":""},{"$f":"IF('AR8 (h)'!J14=\"\",\"\",'AR8 (h)'!J14)","v":""},{"$f":"IF('AR8 (h)'!K14=\"\",\"\",'AR8 (h)'!K14)","v":""},{"$f":"IF('AR8 (h)'!L14=\"\",\"\",'AR8 (h)'!L14)","v":""},null,{"$f":"IF('AR9 (h)'!A17=\"\",\"\",'AR9 (h)'!A17)","v":""},{"$f":"IF('AR9 (h)'!B17=\"\",\"\",'AR9 (h)'!B17)","v":""},{"$f":"IF('AR9 (h)'!C17=\"\",\"\",'AR9 (h)'!C17)","v":""},null,{"$f":"IF('AR9 (h)'!F17=\"\",\"\",'AR9 (h)'!F17)","v":""},{"$f":"IF('AR9 (h)'!G17=\"\",\"\",'AR9 (h)'!G17)","v":""},{"$f":"IF('AR9 (h)'!H17=\"\",\"\",'AR9 (h)'!H17)","v":""},{"$f":"IF('AR9 (h)'!I17=\"\",\"\",'AR9 (h)'!I17)","v":""}]
[{"$f":"IF('AR8 (h)'!A15=\"\",\"\",'AR8 (h)'!A15)","v":""},{"$f":"IF('AR8 (h)'!B15=\"\",\"\",'AR8 (h)'!B15)","v":""},{"$f":"IF('AR8 (h)'!C15=\"\",\"\",'AR8 (h)'!C15)","v":""},{"$f":"IF('AR8 (h)'!D15=\"\",\"\",'AR8 (h)'!D15)","v":""},{"$f":"IF('AR8 (h)'!E15=\"\",\"\",'AR8 (h)'!E15)","v":""},{"$f":"IF('AR8 (h)'!F15=\"\",\"\",'AR8 (h)'!F15)","v":""},{"$f":"IF('AR8 (h)'!G15=\"\",\"\",'AR8 (h)'!G15)","v":""},{"$f":"IF('AR8 (h)'!H15=\"\",\"\",'AR8 (h)'!H15)","v":""},{"$f":"IF('AR8 (h)'!I15=\"\",\"\",'AR8 (h)'!I15)","v":""},{"$f":"IF('AR8 (h)'!J15=\"\",\"\",'AR8 (h)'!J15)","v":""},{"$f":"IF('AR8 (h)'!K15=\"\",\"\",'AR8 (h)'!K15)","v":""},{"$f":"IF('AR8 (h)'!L15=\"\",\"\",'AR8 (h)'!L15)","v":""},null,{"$f":"IF('AR9 (h)'!A18=\"\",\"\",'AR9 (h)'!A18)","v":""},{"$f":"IF('AR9 (h)'!B18=\"\",\"\",'AR9 (h)'!B18)","v":""},{"$f":"IF('AR9 (h)'!C18=\"\",\"\",'AR9 (h)'!C18)","v":""},null,{"$f":"IF('AR9 (h)'!F18=\"\",\"\",'AR9 (h)'!F18)","v":""},{"$f":"IF('AR9 (h)'!G18=\"\",\"\",'AR9 (h)'!G18)","v":""},{"$f":"IF('AR9 (h)'!H18=\"\",\"\",'AR9 (h)'!H18)","v":""},{"$f":"IF('AR9 (h)'!I18=\"\",\"\",'AR9 (h)'!I18)","v":""}]
[{"$f":"IF('AR8 (h)'!A16=\"\",\"\",'AR8 (h)'!A16)","v":""},{"$f":"IF('AR8 (h)'!B16=\"\",\"\",'AR8 (h)'!B16)","v":""},{"$f":"IF('AR8 (h)'!C16=\"\",\"\",'AR8 (h)'!C16)","v":""},{"$f":"IF('AR8 (h)'!D16=\"\",\"\",'AR8 (h)'!D16)","v":""},{"$f":"IF('AR8 (h)'!E16=\"\",\"\",'AR8 (h)'!E16)","v":""},{"$f":"IF('AR8 (h)'!F16=\"\",\"\",'AR8 (h)'!F16)","v":""},{"$f":"IF('AR8 (h)'!G16=\"\",\"\",'AR8 (h)'!G16)","v":""},{"$f":"IF('AR8 (h)'!H16=\"\",\"\",'AR8 (h)'!H16)","v":""},{"$f":"IF('AR8 (h)'!I16=\"\",\"\",'AR8 (h)'!I16)","v":""},{"$f":"IF('AR8 (h)'!J16=\"\",\"\",'AR8 (h)'!J16)","v":""},{"$f":"IF('AR8 (h)'!K16=\"\",\"\",'AR8 (h)'!K16)","v":""},{"$f":"IF('AR8 (h)'!L16=\"\",\"\",'AR8 (h)'!L16)","v":""},null,{"$f":"IF('AR9 (h)'!A19=\"\",\"\",'AR9 (h)'!A19)","v":""},{"$f":"IF('AR9 (h)'!B19=\"\",\"\",'AR9 (h)'!B19)","v":""},{"$f":"IF('AR9 (h)'!C19=\"\",\"\",'AR9 (h)'!C19)","v":""},null,{"$f":"IF('AR9 (h)'!F19=\"\",\"\",'AR9 (h)'!F19)","v":""},{"$f":"IF('AR9 (h)'!G19=\"\",\"\",'AR9 (h)'!G19)","v":""},{"$f":"IF('AR9 (h)'!H19=\"\",\"\",'AR9 (h)'!H19)","v":""},{"$f":"IF('AR9 (h)'!I19=\"\",\"\",'AR9 (h)'!I19)","v":""}]
[{"$f":"IF('AR8 (h)'!A17=\"\",\"\",'AR8 (h)'!A17)","v":""},{"$f":"IF('AR8 (h)'!B17=\"\",\"\",'AR8 (h)'!B17)","v":""},{"$f":"IF('AR8 (h)'!C17=\"\",\"\",'AR8 (h)'!C17)","v":""},{"$f":"IF('AR8 (h)'!D17=\"\",\"\",'AR8 (h)'!D17)","v":""},{"$f":"IF('AR8 (h)'!E17=\"\",\"\",'AR8 (h)'!E17)","v":""},{"$f":"IF('AR8 (h)'!F17=\"\",\"\",'AR8 (h)'!F17)","v":""},{"$f":"IF('AR8 (h)'!G17=\"\",\"\",'AR8 (h)'!G17)","v":""},{"$f":"IF('AR8 (h)'!H17=\"\",\"\",'AR8 (h)'!H17)","v":""},{"$f":"IF('AR8 (h)'!I17=\"\",\"\",'AR8 (h)'!I17)","v":""},{"$f":"IF('AR8 (h)'!J17=\"\",\"\",'AR8 (h)'!J17)","v":""},{"$f":"IF('AR8 (h)'!K17=\"\",\"\",'AR8 (h)'!K17)","v":""},{"$f":"IF('AR8 (h)'!L17=\"\",\"\",'AR8 (h)'!L17)","v":""},null,{"$f":"IF('AR9 (h)'!A20=\"\",\"\",'AR9 (h)'!A20)","v":""},{"$f":"IF('AR9 (h)'!B20=\"\",\"\",'AR9 (h)'!B20)","v":""},{"$f":"IF('AR9 (h)'!C20=\"\",\"\",'AR9 (h)'!C20)","v":""},null,{"$f":"IF('AR9 (h)'!F20=\"\",\"\",'AR9 (h)'!F20)","v":""},{"$f":"IF('AR9 (h)'!G20=\"\",\"\",'AR9 (h)'!G20)","v":""},{"$f":"IF('AR9 (h)'!H20=\"\",\"\",'AR9 (h)'!H20)","v":""},{"$f":"IF('AR9 (h)'!I20=\"\",\"\",'AR9 (h)'!I20)","v":""}]
[{"$f":"IF('AR8 (h)'!A18=\"\",\"\",'AR8 (h)'!A18)","v":""},{"$f":"IF('AR8 (h)'!B18=\"\",\"\",'AR8 (h)'!B18)","v":""},{"$f":"IF('AR8 (h)'!C18=\"\",\"\",'AR8 (h)'!C18)","v":""},{"$f":"IF('AR8 (h)'!D18=\"\",\"\",'AR8 (h)'!D18)","v":""},{"$f":"IF('AR8 (h)'!E18=\"\",\"\",'AR8 (h)'!E18)","v":""},{"$f":"IF('AR8 (h)'!F18=\"\",\"\",'AR8 (h)'!F18)","v":""},{"$f":"IF('AR8 (h)'!G18=\"\",\"\",'AR8 (h)'!G18)","v":""},{"$f":"IF('AR8 (h)'!H18=\"\",\"\",'AR8 (h)'!H18)","v":""},{"$f":"IF('AR8 (h)'!I18=\"\",\"\",'AR8 (h)'!I18)","v":""},{"$f":"IF('AR8 (h)'!J18=\"\",\"\",'AR8 (h)'!J18)","v":""},{"$f":"IF('AR8 (h)'!K18=\"\",\"\",'AR8 (h)'!K18)","v":""},{"$f":"IF('AR8 (h)'!L18=\"\",\"\",'AR8 (h)'!L18)","v":""},null,{"$f":"IF('AR9 (h)'!A21=\"\",\"\",'AR9 (h)'!A21)","v":""},{"$f":"IF('AR9 (h)'!B21=\"\",\"\",'AR9 (h)'!B21)","v":""},{"$f":"IF('AR9 (h)'!C21=\"\",\"\",'AR9 (h)'!C21)","v":""},null,{"$f":"IF('AR9 (h)'!F21=\"\",\"\",'AR9 (h)'!F21)","v":""},{"$f":"IF('AR9 (h)'!G21=\"\",\"\",'AR9 (h)'!G21)","v":""},{"$f":"IF('AR9 (h)'!H21=\"\",\"\",'AR9 (h)'!H21)","v":""},{"$f":"IF('AR9 (h)'!I21=\"\",\"\",'AR9 (h)'!I21)","v":""}]
[{"$f":"IF('AR8 (h)'!A19=\"\",\"\",'AR8 (h)'!A19)","v":""},{"$f":"IF('AR8 (h)'!B19=\"\",\"\",'AR8 (h)'!B19)","v":""},{"$f":"IF('AR8 (h)'!C19=\"\",\"\",'AR8 (h)'!C19)","v":""},{"$f":"IF('AR8 (h)'!D19=\"\",\"\",'AR8 (h)'!D19)","v":""},{"$f":"IF('AR8 (h)'!E19=\"\",\"\",'AR8 (h)'!E19)","v":""},{"$f":"IF('AR8 (h)'!F19=\"\",\"\",'AR8 (h)'!F19)","v":""},{"$f":"IF('AR8 (h)'!G19=\"\",\"\",'AR8 (h)'!G19)","v":""},{"$f":"IF('AR8 (h)'!H19=\"\",\"\",'AR8 (h)'!H19)","v":""},{"$f":"IF('AR8 (h)'!I19=\"\",\"\",'AR8 (h)'!I19)","v":""},{"$f":"IF('AR8 (h)'!J19=\"\",\"\",'AR8 (h)'!J19)","v":""},{"$f":"IF('AR8 (h)'!K19=\"\",\"\",'AR8 (h)'!K19)","v":""},{"$f":"IF('AR8 (h)'!L19=\"\",\"\",'AR8 (h)'!L19)","v":""},null,{"$f":"IF('AR9 (h)'!A22=\"\",\"\",'AR9 (h)'!A22)","v":""},{"$f":"IF('AR9 (h)'!B22=\"\",\"\",'AR9 (h)'!B22)","v":""},{"$f":"IF('AR9 (h)'!C22=\"\",\"\",'AR9 (h)'!C22)","v":""},null,{"$f":"IF('AR9 (h)'!F22=\"\",\"\",'AR9 (h)'!F22)","v":""},{"$f":"IF('AR9 (h)'!G22=\"\",\"\",'AR9 (h)'!G22)","v":""},{"$f":"IF('AR9 (h)'!H22=\"\",\"\",'AR9 (h)'!H22)","v":""},{"$f":"IF('AR9 (h)'!I22=\"\",\"\",'AR9 (h)'!I22)","v":""}]
[{"$f":"IF('AR8 (h)'!A20=\"\",\"\",'AR8 (h)'!A20)","v":""},{"$f":"IF('AR8 (h)'!B20=\"\",\"\",'AR8 (h)'!B20)","v":""},{"$f":"IF('AR8 (h)'!C20=\"\",\"\",'AR8 (h)'!C20)","v":""},{"$f":"IF('AR8 (h)'!D20=\"\",\"\",'AR8 (h)'!D20)","v":""},{"$f":"IF('AR8 (h)'!E20=\"\",\"\",'AR8 (h)'!E20)","v":""},{"$f":"IF('AR8 (h)'!F20=\"\",\"\",'AR8 (h)'!F20)","v":""},{"$f":"IF('AR8 (h)'!G20=\"\",\"\",'AR8 (h)'!G20)","v":""},{"$f":"IF('AR8 (h)'!H20=\"\",\"\",'AR8 (h)'!H20)","v":""},{"$f":"IF('AR8 (h)'!I20=\"\",\"\",'AR8 (h)'!I20)","v":""},{"$f":"IF('AR8 (h)'!J20=\"\",\"\",'AR8 (h)'!J20)","v":""},{"$f":"IF('AR8 (h)'!K20=\"\",\"\",'AR8 (h)'!K20)","v":""},{"$f":"IF('AR8 (h)'!L20=\"\",\"\",'AR8 (h)'!L20)","v":""},null,{"$f":"IF('AR9 (h)'!A23=\"\",\"\",'AR9 (h)'!A23)","v":""},{"$f":"IF('AR9 (h)'!B23=\"\",\"\",'AR9 (h)'!B23)","v":""},{"$f":"IF('AR9 (h)'!C23=\"\",\"\",'AR9 (h)'!C23)","v":""},null,{"$f":"IF('AR9 (h)'!F23=\"\",\"\",'AR9 (h)'!F23)","v":""},{"$f":"IF('AR9 (h)'!G23=\"\",\"\",'AR9 (h)'!G23)","v":""},{"$f":"IF('AR9 (h)'!H23=\"\",\"\",'AR9 (h)'!H23)","v":""},{"$f":"IF('AR9 (h)'!I23=\"\",\"\",'AR9 (h)'!I23)","v":""}]
[{"$f":"IF('AR8 (h)'!A21=\"\",\"\",'AR8 (h)'!A21)","v":""},{"$f":"IF('AR8 (h)'!B21=\"\",\"\",'AR8 (h)'!B21)","v":""},{"$f":"IF('AR8 (h)'!C21=\"\",\"\",'AR8 (h)'!C21)","v":""},{"$f":"IF('AR8 (h)'!D21=\"\",\"\",'AR8 (h)'!D21)","v":""},{"$f":"IF('AR8 (h)'!E21=\"\",\"\",'AR8 (h)'!E21)","v":""},{"$f":"IF('AR8 (h)'!F21=\"\",\"\",'AR8 (h)'!F21)","v":""},{"$f":"IF('AR8 (h)'!G21=\"\",\"\",'AR8 (h)'!G21)","v":""},{"$f":"IF('AR8 (h)'!H21=\"\",\"\",'AR8 (h)'!H21)","v":""},{"$f":"IF('AR8 (h)'!I21=\"\",\"\",'AR8 (h)'!I21)","v":""},{"$f":"IF('AR8 (h)'!J21=\"\",\"\",'AR8 (h)'!J21)","v":""},{"$f":"IF('AR8 (h)'!K21=\"\",\"\",'AR8 (h)'!K21)","v":""},{"$f":"IF('AR8 (h)'!L21=\"\",\"\",'AR8 (h)'!L21)","v":""},null,{"$f":"IF('AR9 (h)'!A24=\"\",\"\",'AR9 (h)'!A24)","v":""},{"$f":"IF('AR9 (h)'!B24=\"\",\"\",'AR9 (h)'!B24)","v":""},{"$f":"IF('AR9 (h)'!C24=\"\",\"\",'AR9 (h)'!C24)","v":""},null,{"$f":"IF('AR9 (h)'!F24=\"\",\"\",'AR9 (h)'!F24)","v":""},{"$f":"IF('AR9 (h)'!G24=\"\",\"\",'AR9 (h)'!G24)","v":""},{"$f":"IF('AR9 (h)'!H24=\"\",\"\",'AR9 (h)'!H24)","v":""},{"$f":"IF('AR9 (h)'!I24=\"\",\"\",'AR9 (h)'!I24)","v":""}]
[{"$f":"IF('AR8 (h)'!A22=\"\",\"\",'AR8 (h)'!A22)","v":""},{"$f":"IF('AR8 (h)'!B22=\"\",\"\",'AR8 (h)'!B22)","v":""},{"$f":"IF('AR8 (h)'!C22=\"\",\"\",'AR8 (h)'!C22)","v":""},{"$f":"IF('AR8 (h)'!D22=\"\",\"\",'AR8 (h)'!D22)","v":""},{"$f":"IF('AR8 (h)'!E22=\"\",\"\",'AR8 (h)'!E22)","v":""},{"$f":"IF('AR8 (h)'!F22=\"\",\"\",'AR8 (h)'!F22)","v":""},{"$f":"IF('AR8 (h)'!G22=\"\",\"\",'AR8 (h)'!G22)","v":""},{"$f":"IF('AR8 (h)'!H22=\"\",\"\",'AR8 (h)'!H22)","v":""},{"$f":"IF('AR8 (h)'!I22=\"\",\"\",'AR8 (h)'!I22)","v":""},{"$f":"IF('AR8 (h)'!J22=\"\",\"\",'AR8 (h)'!J22)","v":""},{"$f":"IF('AR8 (h)'!K22=\"\",\"\",'AR8 (h)'!K22)","v":""},{"$f":"IF('AR8 (h)'!L22=\"\",\"\",'AR8 (h)'!L22)","v":""},null,{"$f":"IF('AR9 (h)'!A25=\"\",\"\",'AR9 (h)'!A25)","v":""},{"$f":"IF('AR9 (h)'!B25=\"\",\"\",'AR9 (h)'!B25)","v":""},{"$f":"IF('AR9 (h)'!C25=\"\",\"\",'AR9 (h)'!C25)","v":""},null,{"$f":"IF('AR9 (h)'!F25=\"\",\"\",'AR9 (h)'!F25)","v":""},{"$f":"IF('AR9 (h)'!G25=\"\",\"\",'AR9 (h)'!G25)","v":""},{"$f":"IF('AR9 (h)'!H25=\"\",\"\",'AR9 (h)'!H25)","v":""},{"$f":"IF('AR9 (h)'!I25=\"\",\"\",'AR9 (h)'!I25)","v":""}]
["* Arizona Department of Water Resources Identification Number",null,null,null,null,null,null,null,null,null,null,null,null,null,null,null,null,{"$f":"IF('AR9 (h)'!F26=\"\",\"\",'AR9 (h)'!F26)","v":""},{"$f":"IF('AR9 (h)'!G26=\"\",\"\",'AR9 (h)'!G26)","v":""},{"$f":"IF('AR9 (h)'!H26=\"\",\"\",'AR9 (h)'!H26)","v":""},{"$f":"IF('AR9 (h)'!I26=\"\",\"\",'AR9 (h)'!I26)","v":""}]
[null,null,null,null,null,null,null,null,null,null,null,null,null,null,null,null,null,{"$f":"IF('AR9 (h)'!F27=\"\",\"\",'AR9 (h)'!F27)","v":""},{"$f":"IF('AR9 (h)'!G27=\"\",\"\",'AR9 (h)'!G27)","v":""},{"$f":"IF('AR9 (h)'!H27=\"\",\"\",'AR9 (h)'!H27)","v":""},{"$f":"IF('AR9 (h)'!I27=\"\",\"\",'AR9 (h)'!I27)","v":""}]
[null,null,null,null,null,null,null,null,null,null,null,null,null,null,null,null,null,{"$f":"IF('AR9 (h)'!F28=\"\",\"\",'AR9 (h)'!F28)","v":""},{"$f":"IF('AR9 (h)'!G28=\"\",\"\",'AR9 (h)'!G28)","v":""},{"$f":"IF('AR9 (h)'!H28=\"\",\"\",'AR9 (h)'!H28)","v":""},{"$f":"IF('AR9 (h)'!I28=\"\",\"\",'AR9 (h)'!I28)","v":""}]
[null,null,null,null,null,null,null,null,null,null,null,null,null,null,null,null,null,{"$f":"IF('AR9 (h)'!F29=\"\",\"\",'AR9 (h)'!F29)","v":""},{"$f":"IF('AR9 (h)'!G29=\"\",\"\",'AR9 (h)'!G29)","v":""},{"$f":"IF('AR9 (h)'!H29=\"\",\"\",'AR9 (h)'!H29)","v":""},{"$f":"IF('AR9 (h)'!I29=\"\",\"\",'AR9 (h)'!I29)","v":""}]
["SERVICE LINES"]
["Material","Percent of system","Year installed"]
[{"$f":"IF('AR9 (h)'!B30=\"\",\"\",'AR9 (h)'!B30)","v":""},{"$f":"IF('AR9 (h)'!C30=\"\",\"\",'AR9 (h)'!C30)","v":""},{"$f":"IF('AR9 (h)'!D30=\"\",\"\",'AR9 (h)'!D30)","v":""}]
[{"$f":"IF('AR9 (h)'!B31=\"\",\"\",'AR9 (h)'!B31)","v":""},{"$f":"IF('AR9 (h)'!C31=\"\",\"\",'AR9 (h)'!C31)","v":""},{"$f":"IF('AR9 (h)'!D31=\"\",\"\",'AR9 (h)'!D31)","v":""},null,null,null,null,null,null,null,null,null,null,"For the following three items, please list the utility owned assets in each category."]
[{"$f":"IF('AR9 (h)'!B32=\"\",\"\",'AR9 (h)'!B32)","v":""},{"$f":"IF('AR9 (h)'!C32=\"\",\"\",'AR9 (h)'!C32)","v":""},{"$f":"IF('AR9 (h)'!D32=\"\",\"\",'AR9 (h)'!D32)","v":""}]
[{"$f":"IF('AR9 (h)'!B33=\"\",\"\",'AR9 (h)'!B33)","v":""},{"$f":"IF('AR9 (h)'!C33=\"\",\"\",'AR9 (h)'!C33)","v":""},{"$f":"IF('AR9 (h)'!D33=\"\",\"\",'AR9 (h)'!D33)","v":""},null,null,null,null,null,null,null,null,null,null,"TREATMENT EQUIPMENT:"]
[{"$f":"IF('AR9 (h)'!B34=\"\",\"\",'AR9 (h)'!B34)","v":""},{"$f":"IF('AR9 (h)'!C34=\"\",\"\",'AR9 (h)'!C34)","v":""},{"$f":"IF('AR9 (h)'!D34=\"\",\"\",'AR9 (h)'!D34)","v":""},null,null,null,null,null,null,null,null,null,null,{"$f":"IF('AR9 (h)'!M11=\"\",\"\",'AR9 (h)'!M11)","v":""}]
[]
[]
[]
["BOOSTER PUMPS",null,null,null,"FIRE HYDRANTS"]
["Horsepower","GPM","Quantity",null,"Quantity Standard*","Quantity Other"]
[{"$f":"IF('AR9 (h)'!A39=\"\",\"\",'AR9 (h)'!A39)","v":""},{"$f":"IF('AR9 (h)'!B39=\"\",\"\",'AR9 (h)'!B39)","v":""},{"$f":"IF('AR9 (h)'!C39=\"\",\"\",'AR9 (h)'!C39)","v":""},null,"Standard *",{"$f":"IF('AR9 (h)'!G39=\"\",\"\",'AR9 (h)'!G39)","v":""}]
[{"$f":"IF('AR9 (h)'!A40=\"\",\"\",'AR9 (h)'!A40)","v":""},{"$f":"IF('AR9 (h)'!B40=\"\",\"\",'AR9 (h)'!B40)","v":""},{"$f":"IF('AR9 (h)'!C40=\"\",\"\",'AR9 (h)'!C40)","v":""},null,"Other",{"$f":"IF('AR9 (h)'!G40=\"\",\"\",'AR9 (h)'!G40)","v":""}]
[{"$f":"IF('AR9 (h)'!A41=\"\",\"\",'AR9 (h)'!A41)","v":""},{"$f":"IF('AR9 (h)'!B41=\"\",\"\",'AR9 (h)'!B41)","v":""},{"$f":"IF('AR9 (h)'!C41=\"\",\"\",'AR9 (h)'!C41)","v":""}]
[{"$f":"IF('AR9 (h)'!A42=\"\",\"\",'AR9 (h)'!A42)","v":""},{"$f":"IF('AR9 (h)'!B42=\"\",\"\",'AR9 (h)'!B42)","v":""},{"$f":"IF('AR9 (h)'!C42=\"\",\"\",'AR9 (h)'!C42)","v":""},null,null,null,null,null,null,null,null,null,null,"STRUCTURES:"]
[null,null,null,null,null,null,null,null,null,null,null,null,null,{"$f":"IF('AR9 (h)'!M17=\"\",\"\",'AR9 (h)'!M17)","v":""}]
[]
["STORAGE TANKS",null,null,null,null,"PRESSURE/BLADDER TANKS"]
["Capacity (gallons)","Material","Quantity","Year installed",null,"Capacity (gallons)","Material","Quantity","Year installed"]
[{"$f":"IF('AR9 (h)'!A46=\"\",\"\",'AR9 (h)'!A46)","v":""},{"$f":"IF('AR9 (h)'!B46=\"\",\"\",'AR9 (h)'!B46)","v":""},{"$f":"IF('AR9 (h)'!C46=\"\",\"\",'AR9 (h)'!C46)","v":""},{"$f":"IF('AR9 (h)'!D46=\"\",\"\",'AR9 (h)'!D46)","v":""},null,{"$f":"IF('AR9 (h)'!F46=\"\",\"\",'AR9 (h)'!F46)","v":""},{"$f":"IF('AR9 (h)'!G46=\"\",\"\",'AR9 (h)'!G46)","v":""},{"$f":"IF('AR9 (h)'!H46=\"\",\"\",'AR9 (h)'!H46)","v":""},{"$f":"IF('AR9 (h)'!I46=\"\",\"\",'AR9 (h)'!I46)","v":""}]
[{"$f":"IF('AR9 (h)'!A47=\"\",\"\",'AR9 (h)'!A47)","v":""},{"$f":"IF('AR9 (h)'!B47=\"\",\"\",'AR9 (h)'!B47)","v":""},{"$f":"IF('AR9 (h)'!C47=\"\",\"\",'AR9 (h)'!C47)","v":""},{"$f":"IF('AR9 (h)'!D47=\"\",\"\",'AR9 (h)'!D47)","v":""},null,{"$f":"IF('AR9 (h)'!F47=\"\",\"\",'AR9 (h)'!F47)","v":""},{"$f":"IF('AR9 (h)'!G47=\"\",\"\",'AR9 (h)'!G47)","v":""},{"$f":"IF('AR9 (h)'!H47=\"\",\"\",'AR9 (h)'!H47)","v":""},{"$f":"IF('AR9 (h)'!I47=\"\",\"\",'AR9 (h)'!I47)","v":""}]
[{"$f":"IF('AR9 (h)'!A48=\"\",\"\",'AR9 (h)'!A48)","v":""},{"$f":"IF('AR9 (h)'!B48=\"\",\"\",'AR9 (h)'!B48)","v":""},{"$f":"IF('AR9 (h)'!C48=\"\",\"\",'AR9 (h)'!C48)","v":""},{"$f":"IF('AR9 (h)'!D48=\"\",\"\",'AR9 (h)'!D48)","v":""},null,{"$f":"IF('AR9 (h)'!F48=\"\",\"\",'AR9 (h)'!F48)","v":""},{"$f":"IF('AR9 (h)'!G48=\"\",\"\",'AR9 (h)'!G48)","v":""},{"$f":"IF('AR9 (h)'!H48=\"\",\"\",'AR9 (h)'!H48)","v":""},{"$f":"IF('AR9 (h)'!I48=\"\",\"\",'AR9 (h)'!I48)","v":""}]
[{"$f":"IF('AR9 (h)'!A49=\"\",\"\",'AR9 (h)'!A49)","v":""},{"$f":"IF('AR9 (h)'!B49=\"\",\"\",'AR9 (h)'!B49)","v":""},{"$f":"IF('AR9 (h)'!C49=\"\",\"\",'AR9 (h)'!C49)","v":""},{"$f":"IF('AR9 (h)'!D49=\"\",\"\",'AR9 (h)'!D49)","v":""},null,{"$f":"IF('AR9 (h)'!F49=\"\",\"\",'AR9 (h)'!F49)","v":""},{"$f":"IF('AR9 (h)'!G49=\"\",\"\",'AR9 (h)'!G49)","v":""},{"$f":"IF('AR9 (h)'!H49=\"\",\"\",'AR9 (h)'!H49)","v":""},{"$f":"IF('AR9 (h)'!I49=\"\",\"\",'AR9 (h)'!I49)","v":""}]
[{"$f":"IF('AR9 (h)'!A50=\"\",\"\",'AR9 (h)'!A50)","v":""},{"$f":"IF('AR9 (h)'!B50=\"\",\"\",'AR9 (h)'!B50)","v":""},{"$f":"IF('AR9 (h)'!C50=\"\",\"\",'AR9 (h)'!C50)","v":""},{"$f":"IF('AR9 (h)'!D50=\"\",\"\",'AR9 (h)'!D50)","v":""},null,{"$f":"IF('AR9 (h)'!F50=\"\",\"\",'AR9 (h)'!F50)","v":""},{"$f":"IF('AR9 (h)'!G50=\"\",\"\",'AR9 (h)'!G50)","v":""},{"$f":"IF('AR9 (h)'!H50=\"\",\"\",'AR9 (h)'!H50)","v":""},{"$f":"IF('AR9 (h)'!I50=\"\",\"\",'AR9 (h)'!I50)","v":""},null,null,null,null,"OTHER:"]
[{"$f":"IF('AR9 (h)'!A51=\"\",\"\",'AR9 (h)'!A51)","v":""},{"$f":"IF('AR9 (h)'!B51=\"\",\"\",'AR9 (h)'!B51)","v":""},{"$f":"IF('AR9 (h)'!C51=\"\",\"\",'AR9 (h)'!C51)","v":""},{"$f":"IF('AR9 (h)'!D51=\"\",\"\",'AR9 (h)'!D51)","v":""},null,{"$f":"IF('AR9 (h)'!F51=\"\",\"\",'AR9 (h)'!F51)","v":""},{"$f":"IF('AR9 (h)'!G51=\"\",\"\",'AR9 (h)'!G51)","v":""},{"$f":"IF('AR9 (h)'!H51=\"\",\"\",'AR9 (h)'!H51)","v":""},{"$f":"IF('AR9 (h)'!I51=\"\",\"\",'AR9 (h)'!I51)","v":""},null,null,null,null,{"$f":"IF('AR9 (h)'!M23=\"\",\"\",'AR9 (h)'!M23)","v":""}]
[]
[]
[]
[]
[]
["* - A standard fire hydrant has two 2.5 inch hose connection nozzles with 7.5 threads per inch, and one 4.5 inch pumper connection nozzle with 4 threads per inch."]
[]
[]
[]
[]
["Note: This page automatically populates with information from your annual report.",null,null,null,null,null,null,null,null,null,null,null,{"$f":"A65","v":"Note: This page automatically populates with information from your annual report."}]
[]
[]
[null,null,null,null,null,null,null,null,null,null,null,{"$f":"\"Page \" &L69&\"h\"","v":"Page 20h"},null,null,null,null,null,null,null,null,null,{"$f":"\"Page \" &V69&\"h\"","v":"Page 21h"}]
[null,null,null,null,null,null,null,null,null,null,null,{"$f":"'Sch 1'!I49+1","v":20},null,null,null,null,null,null,null,null,null,{"$f":"L69+1","v":21}]

{"sheet":"Sch 3","index":59,"n_rows":58,"n_cols":8,"rows_kept":58,"cut":false,"hidden":true,"merged":[[57,0,58,5],[5,0,5,5]]}
[{"$f":"'AR1'!$B$12","v":0},null,null,null,null,{"$f":"'Sch Title'!$A$18","v":"Schedule 3"}]
[{"$f":"'Sch Title'!$A$2","v":"Short Form Rate Application"},null,null,null,null,{"$f":"\" Short Form Rate Application Page No. \"&F54","v":" Short Form Rate Application Page No. 22"}]
[{"$f":"Sch4_Plt_Sum","v":"PLANT SUMMARY"}]
[{"$f":"'Sch Title'!$A$4","v":"Test Year Ended 12/31/20"},null,null,null,null,null,null,"Table of contents"]
[]
["PLANT SUMMARY"]
[]
["Acct. No.","Description","Plant in Service Per Prior Decision","Total Additions","Total Retirements","Test Year End Total"]
[{"$f":"'Sch 4'!A9","v":301},{"$f":"'Sch 4'!B9","v":"Organization"},{"$f":"'Sch Title'!I9","v":0},{"$f":"'WP 1'!AI11","v":0},{"$f":"'WP 1'!AJ11","v":0},{"$f":"C9+D9-E9","v":0}]
[{"$f":"'Sch 4'!A10","v":302},{"$f":"'Sch 4'!B10","v":"Franchises"},{"$f":"'Sch Title'!I10","v":0},{"$f":"'WP 1'!AI12","v":0},{"$f":"'WP 1'!AJ12","v":0},{"$f":"C10+D10-E10","v":0}]
[{"$f":"'Sch 4'!A11","v":303},{"$f":"'Sch 4'!B11","v":"Land and Land Rights"},{"$f":"'Sch Title'!I11","v":0},{"$f":"'WP 1'!AI13","v":0},{"$f":"'WP 1'!AJ13","v":0},0]
[{"$f":"'Sch 4'!A12","v":304},{"$f":"'Sch 4'!B12","v":"Structures and Improvements"},{"$f":"'Sch Title'!I12","v":0},{"$f":"'WP 1'!AI14","v":0},{"$f":"'WP 1'!AJ14","v":0},0]
[{"$f":"'Sch 4'!A13","v":305},{"$f":"'Sch 4'!B13","v":"Collecting & Improving Reservoirs"},{"$f":"'Sch Title'!I13","v":0},{"$f":"'WP 1'!AI15","v":0},{"$f":"'WP 1'!AJ15","v":0},0]
[{"$f":"'Sch 4'!A14","v":306},{"$f":"'Sch 4'!B14","v":"Lake, River, Canal Intakes"},{"$f":"'Sch Title'!I14","v":0},{"$f":"'WP 1'!AI16","v":0},{"$f":"'WP 1'!AJ16","v":0},0]
[{"$f":"'Sch 4'!A15","v":307},{"$f":"'Sch 4'!B15","v":"Wells and Springs"},{"$f":"'Sch Title'!I15","v":0},{"$f":"'WP 1'!AI17","v":0},{"$f":"'WP 1'!AJ17","v":0},0]
[{"$f":"'Sch 4'!A16","v":308},{"$f":"'Sch 4'!B16","v":"Infiltration Galleries"},{"$f":"'Sch Title'!I16","v":0},{"$f":"'WP 1'!AI18","v":0},{"$f":"'WP 1'!AJ18","v":0},0]
[{"$f":"'Sch 4'!A17","v":309},{"$f":"'Sch 4'!B17","v":"Supply Mains"},{"$f":"'Sch Title'!I17","v":0},{"$f":"'WP 1'!AI19","v":0},{"$f":"'WP 1'!AJ19","v":0},0]
[{"$f":"'Sch 4'!A18","v":310},{"$f":"'Sch 4'!B18","v":"Power Generation Equipment"},{"$f":"'Sch Title'!I18","v":0},{"$f":"'WP 1'!AI20","v":0},{"$f":"'WP 1'!AJ20","v":0},0]
[{"$f":"'Sch 4'!A19","v":311},{"$f":"'Sch 4'!B19","v":"Pumping Equipment"},{"$f":"'Sch Title'!I19","v":0},{"$f":"'WP 1'!AI21","v":0},{"$f":"'WP 1'!AJ21","v":0},0]
[{"$f":"'Sch 4'!A20","v":320},{"$f":"'Sch 4'!B20","v":"Water Treatment Equipment"},{"$f":"'Sch Title'!I20","v":0},{"$f":"'WP 1'!AI22","v":0},{"$f":"'WP 1'!AJ22","v":0},0]
[{"$f":"'Sch 4'!A21","v":320.10000000000002},{"$f":"'Sch 4'!B21","v":"Water Treatment Plants"},{"$f":"'Sch Title'!I21","v":0},{"$f":"'WP 1'!AI23","v":0},{"$f":"'WP 1'!AJ23","v":0},0]
[{"$f":"'Sch 4'!A22","v":320.2},{"$f":"'Sch 4'!B22","v":"Solution Chemical Feeders"},{"$f":"'Sch Title'!I22","v":0},{"$f":"'WP 1'!AI24","v":0},{"$f":"'WP 1'!AJ24","v":0},0]
[{"$f":"'Sch 4'!A23","v":320.3},{"$f":"'Sch 4'!B23","v":"Point-of-Use Treatment Devices"},{"$f":"'Sch Title'!I23","v":0},{"$f":"'WP 1'!AI25","v":0},{"$f":"'WP 1'!AJ25","v":0},0]
[{"$f":"'Sch 4'!A24","v":330},{"$f":"'Sch 4'!B24","v":"Distribution Reservoirs and Standpipes"},{"$f":"'Sch Title'!I24","v":0},{"$f":"'WP 1'!AI26","v":0},{"$f":"'WP 1'!AJ26","v":0},0]
[{"$f":"'Sch 4'!A25","v":330.1},{"$f":"'Sch 4'!B25","v":"Storage Tanks"},{"$f":"'Sch Title'!I25","v":0},{"$f":"'WP 1'!AI27","v":0},{"$f":"'WP 1'!AJ27","v":0},0]
[{"$f":"'Sch 4'!A26","v":330.2},{"$f":"'Sch 4'!B26","v":"Pressure Tanks"},{"$f":"'Sch Title'!I26","v":0},{"$f":"'WP 1'!AI28","v":0},{"$f":"'WP 1'!AJ28","v":0},0]
[{"$f":"'Sch 4'!A27","v":331},{"$f":"'Sch 4'!B27","v":"Transmission and Distribution Mains"},{"$f":"'Sch Title'!I27","v":0},{"$f":"'WP 1'!AI29","v":0},{"$f":"'WP 1'!AJ29","v":0},0]
[{"$f":"'Sch 4'!A28","v":333},{"$f":"'Sch 4'!B28","v":"Services"},{"$f":"'Sch Title'!I28","v":0},{"$f":"'WP 1'!AI30","v":0},{"$f":"'WP 1'!AJ30","v":0},0]
[{"$f":"'Sch 4'!A29","v":334},{"$f":"'Sch 4'!B29","v":"Meters and Meter Installations"},{"$f":"'Sch Title'!I29","v":0},{"$f":"'WP 1'!AI31","v":0},{"$f":"'WP 1'!AJ31","v":0},0]
[{"$f":"'Sch 4'!A30","v":335},{"$f":"'Sch 4'!B30","v":"Hydrants"},{"$f":"'Sch Title'!I30","v":0},{"$f":"'WP 1'!AI32","v":0},{"$f":"'WP 1'!AJ32","v":0},0]
[{"$f":"'Sch 4'!A31","v":336},{"$f":"'Sch 4'!B31","v":"Backflow Prevention Devices"},{"$f":"'Sch Title'!I31","v":0},{"$f":"'WP 1'!AI33","v":0},{"$f":"'WP 1'!AJ33","v":0},0]
[{"$f":"'Sch 4'!A32","v":339},{"$f":"'Sch 4'!B32","v":"Other Plant and Misc. Equipment"},{"$f":"'Sch Title'!I32","v":0},{"$f":"'WP 1'!AI34","v":0},{"$f":"'WP 1'!AJ34","v":0},0]
[{"$f":"'Sch 4'!A33","v":340},{"$f":"'Sch 4'!B33","v":"Office Furniture and Equipment"},{"$f":"'Sch Title'!I33","v":0},{"$f":"'WP 1'!AI35","v":0},{"$f":"'WP 1'!AJ35","v":0},0]
[{"$f":"'Sch 4'!A34","v":340.1},{"$f":"'Sch 4'!B34","v":"Computer & Software"},{"$f":"'Sch Title'!I34","v":0},{"$f":"'WP 1'!AI36","v":0},{"$f":"'WP 1'!AJ36","v":0},0]
[{"$f":"'Sch 4'!A35","v":341},{"$f":"'Sch 4'!B35","v":"Transportation Equipment"},{"$f":"'Sch Title'!I35","v":0},{"$f":"'WP 1'!AI37","v":0},{"$f":"'WP 1'!AJ37","v":0},0]
[{"$f":"'Sch 4'!A36","v":342},{"$f":"'Sch 4'!B36","v":"Stores Equipment"},{"$f":"'Sch Title'!I36","v":0},{"$f":"'WP 1'!AI38","v":0},{"$f":"'WP 1'!AJ38","v":0},0]
[{"$f":"'Sch 4'!A37","v":343},{"$f":"'Sch 4'!B37","v":"Tools, Shop and Garage Equipment"},{"$f":"'Sch Title'!I37","v":0},{"$f":"'WP 1'!AI39","v":0},{"$f":"'WP 1'!AJ39","v":0},0]
[{"$f":"'Sch 4'!A38","v":344},{"$f":"'Sch 4'!B38","v":"Laboratory Equipment"},{"$f":"'Sch Title'!I38","v":0},{"$f":"'WP 1'!AI40","v":0},{"$f":"'WP 1'!AJ40","v":0},0]
[{"$f":"'Sch 4'!A39","v":345},{"$f":"'Sch 4'!B39","v":"Power Operated Equipment"},{"$f":"'Sch Title'!I39","v":0},{"$f":"'WP 1'!AI41","v":0},{"$f":"'WP 1'!AJ41","v":0},0]
[{"$f":"'Sch 4'!A40","v":346},{"$f":"'Sch 4'!B40","v":"Communication Equipment"},{"$f":"'Sch Title'!I40","v":0},{"$f":"'WP 1'!AI42","v":0},{"$f":"'WP 1'!AJ42","v":0},0]
[{"$f":"'Sch 4'!A41","v":347},{"$f":"'Sch 4'!B41","v":"Miscellaneous Equipment"},{"$f":"'Sch Title'!I41","v":0},{"$f":"'WP 1'!AI43","v":0},{"$f":"'WP 1'!AJ43","v":0},0]
[{"$f":"'Sch 4'!A42","v":348},{"$f":"'Sch 4'!B42","v":"Other Tangible Plant"},{"$f":"'Sch Title'!I42","v":0},{"$f":"'WP 1'!AI44","v":0},{"$f":"'WP 1'!AJ44","v":0},0]
[null,"TOTAL WATER PLANT",{"$f":"SUM(C9:C42)","v":0},{"$f":"SUM(D9:D42)","v":0},{"$f":"SUM(E9:E42)","v":0},{"$f":"SUM(F9:F42)","v":0}]
[]
[]
[]
[]
[]
[]
[]
[]
[]
[null,null,null,null,null,{"$f":"\"Page \" &F54","v":"Page 22"}]
[null,null,null,null,null,{"$f":"'Sch 2'!V66+1","v":22}]
[]
[]
[]
["Note: This table automatically populates as a result of inputs on Schedule 3 and the Title Page."]

{"sheet":"Sch 4","index":60,"n_rows":65,"n_cols":9,"rows_kept":65,"cut":false,"hidden":true,"merged":[[64,0,65,4],[5,0,5,4],[63,0,63,4],[55,1,55,2]]}
[{"$f":"'AR1'!$B$12","v":0},null,null,null,{"$f":"'Sch Title'!$A$19","v":"Schedule 4"}]
[{"$f":"'Sch Title'!$A$2","v":"Short Form Rate Application"},null,null,null,{"$f":"\" Short Form Rate Application Page No. \"&E55","v":" Short Form Rate Application Page No. 23"}]
[{"$f":"Sch5_UPIS","v":"UTILITY PLANT IN SERVICE"}]
[{"$f":"'Sch Title'!$A$4","v":"Test Year Ended 12/31/20"},null,null,null,null,null,null,"Table of contents"]
[]
["UTILITY PLANT IN SERVICE"]
[null,null,null,null,null,null,null,"Sch3","Sch 4"]
["Acct No.","Description","Test Year Original Cost","Accumulated Depreciation","OCLD",null,null,"Rate case","Annual report"]
[{"$f":"'AR3'!A8","v":301},{"$f":"'AR3'!B8","v":"Organization"},{"$f":"'AR3'!F8","v":0},{"$f":"'AR3'!G8","v":0},{"$f":"C9-D9","v":0},null,null,{"$f":"'Sch 3'!F9","v":0},{"$f":"C9-H9","v":0}]
[{"$f":"'AR3'!A9","v":302},{"$f":"'AR3'!B9","v":"Franchises"},{"$f":"'AR3'!F9","v":0},{"$f":"'AR3'!G9","v":0},{"$f":"C10-D10","v":0},null,null,{"$f":"'Sch 3'!F10","v":0},{"$f":"C10-H10","v":0}]
[{"$f":"'AR3'!A10","v":303},{"$f":"'AR3'!B10","v":"Land and Land Rights"},{"$f":"'AR3'!F10","v":0},{"$f":"'AR3'!G10","v":0},0,null,null,{"$f":"'Sch 3'!F11","v":0},0]
[{"$f":"'AR3'!A11","v":304},{"$f":"'AR3'!B11","v":"Structures and Improvements"},{"$f":"'AR3'!F11","v":0},{"$f":"'AR3'!G11","v":0},0,null,null,{"$f":"'Sch 3'!F12","v":0},0]
[{"$f":"'AR3'!A12","v":305},{"$f":"'AR3'!B12","v":"Collecting & Improving Reservoirs"},{"$f":"'AR3'!F12","v":0},{"$f":"'AR3'!G12","v":0},0,null,null,{"$f":"'Sch 3'!F13","v":0},0]
[{"$f":"'AR3'!A13","v":306},{"$f":"'AR3'!B13","v":"Lake, River, Canal Intakes"},{"$f":"'AR3'!F13","v":0},{"$f":"'AR3'!G13","v":0},0,null,null,{"$f":"'Sch 3'!F14","v":0},0]
[{"$f":"'AR3'!A14","v":307},{"$f":"'AR3'!B14","v":"Wells and Springs"},{"$f":"'AR3'!F14","v":0},{"$f":"'AR3'!G14","v":0},0,null,null,{"$f":"'Sch 3'!F15","v":0},0]
[{"$f":"'AR3'!A15","v":308},{"$f":"'AR3'!B15","v":"Infiltration Galleries"},{"$f":"'AR3'!F15","v":0},{"$f":"'AR3'!G15","v":0},0,null,null,{"$f":"'Sch 3'!F16","v":0},0]
[{"$f":"'AR3'!A16","v":309},{"$f":"'AR3'!B16","v":"Supply Mains"},{"$f":"'AR3'!F16","v":0},{"$f":"'AR3'!G16","v":0},0,null,null,{"$f":"'Sch 3'!F17","v":0},0]
[{"$f":"'AR3'!A17","v":310},{"$f":"'AR3'!B17","v":"Power Generation Equipment"},{"$f":"'AR3'!F17","v":0},{"$f":"'AR3'!G17","v":0},0,null,null,{"$f":"'Sch 3'!F18","v":0},0]
[{"$f":"'AR3'!A18","v":311},{"$f":"'AR3'!B18","v":"Pumping Equipment"},{"$f":"'AR3'!F18","v":0},{"$f":"'AR3'!G18","v":0},0,null,null,{"$f":"'Sch 3'!F19","v":0},0]
[{"$f":"'AR3'!A19","v":320},{"$f":"'AR3'!B19","v":"Water Treatment Equipment"},{"$f":"'AR3'!F19","v":0},{"$f":"'AR3'!G19","v":0},"N/A",null,null,{"$f":"'Sch 3'!F20","v":0},0]
[{"$f":"'AR3'!A20","v":320.10000000000002},{"$f":"'AR3'!B20","v":"Water Treatment Plants"},{"$f":"'AR3'!F20","v":0},{"$f":"'AR3'!G20","v":0},0,null,null,{"$f":"'Sch 3'!F21","v":0},0]
[{"$f":"'AR3'!A21","v":320.2},{"$f":"'AR3'!B21","v":"Solution Chemical Feeders"},{"$f":"'AR3'!F21","v":0},{"$f":"'AR3'!G21","v":0},0,null,null,{"$f":"'Sch 3'!F22","v":0},0]
[{"$f":"'AR3'!A22","v":320.3},{"$f":"'AR3'!B22","v":"Point-of-Use Treatment Devices"},{"$f":"'AR3'!F22","v":0},{"$f":"'AR3'!G22","v":0},0,null,null,{"$f":"'Sch 3'!F23","v":0},0]
[{"$f":"'AR3'!A23","v":330},{"$f":"'AR3'!B23","v":"Distribution Reservoirs and Standpipes"},{"$f":"'AR3'!F23","v":0},{"$f":"'AR3'!G23","v":0},"N/A",null,null,{"$f":"'Sch 3'!F24","v":0},0]
[{"$f":"'AR3'!A24","v":330.1},{"$f":"'AR3'!B24","v":"Storage Tanks"},{"$f":"'AR3'!F24","v":0},{"$f":"'AR3'!G24","v":0},0,null,null,{"$f":"'Sch 3'!F25","v":0},0]
[{"$f":"'AR3'!A25","v":330.2},{"$f":"'AR3'!B25","v":"Pressure Tanks"},{"$f":"'AR3'!F25","v":0},{"$f":"'AR3'!G25","v":0},0,null,null,{"$f":"'Sch 3'!F26","v":0},0]
[{"$f":"'AR3'!A26","v":331},{"$f":"'AR3'!B26","v":"Transmission and Distribution Mains"},{"$f":"'AR3'!F26","v":0},{"$f":"'AR3'!G26","v":0},0,null,null,{"$f":"'Sch 3'!F27","v":0},0]
[{"$f":"'AR3'!A27","v":333},{"$f":"'AR3'!B27","v":"Services"},{"$f":"'AR3'!F27","v":0},{"$f":"'AR3'!G27","v":0},0,null,null,{"$f":"'Sch 3'!F28","v":0},0]
[{"$f":"'AR3'!A28","v":334},{"$f":"'AR3'!B28","v":"Meters and Meter Installations"},{"$f":"'AR3'!F28","v":0},{"$f":"'AR3'!G28","v":0},0,null,null,{"$f":"'Sch 3'!F29","v":0},0]
[{"$f":"'AR3'!A29","v":335},{"$f":"'AR3'!B29","v":"Hydrants"},{"$f":"'AR3'!F29","v":0},{"$f":"'AR3'!G29","v":0},0,null,null,{"$f":"'Sch 3'!F30","v":0},0]
[{"$f":"'AR3'!A30","v":336},{"$f":"'AR3'!B30","v":"Backflow Prevention Devices"},{"$f":"'AR3'!F30","v":0},{"$f":"'AR3'!G30","v":0},0,null,null,{"$f":"'Sch 3'!F31","v":0},0]
[{"$f":"'AR3'!A31","v":339},{"$f":"'AR3'!B31","v":"Other Plant and Misc. Equipment"},{"$f":"'AR3'!F31","v":0},{"$f":"'AR3'!G31","v":0},0,null,null,{"$f":"'Sch 3'!F32","v":0},0]
[{"$f":"'AR3'!A32","v":340},{"$f":"'AR3'!B32","v":"Office Furniture and Equipment"},{"$f":"'AR3'!F32","v":0},{"$f":"'AR3'!G32","v":0},0,null,null,{"$f":"'Sch 3'!F33","v":0},0]
[{"$f":"'AR3'!A33","v":340.1},{"$f":"'AR3'!B33","v":"Computer & Software"},{"$f":"'AR3'!F33","v":0},{"$f":"'AR3'!G33","v":0},0,null,null,{"$f":"'Sch 3'!F34","v":0},0]
[{"$f":"'AR3'!A34","v":341},{"$f":"'AR3'!B34","v":"Transportation Equipment"},{"$f":"'AR3'!F34","v":0},{"$f":"'AR3'!G34","v":0},0,null,null,{"$f":"'Sch 3'!F35","v":0},0]
[{"$f":"'AR3'!A35","v":342},{"$f":"'AR3'!B35","v":"Stores Equipment"},{"$f":"'AR3'!F35","v":0},{"$f":"'AR3'!G35","v":0},0,null,null,{"$f":"'Sch 3'!F36","v":0},0]
[{"$f":"'AR3'!A36","v":343},{"$f":"'AR3'!B36","v":"Tools, Shop and Garage Equipment"},{"$f":"'AR3'!F36","v":0},{"$f":"'AR3'!G36","v":0},0,null,null,{"$f":"'Sch 3'!F37","v":0},0]
[{"$f":"'AR3'!A37","v":344},{"$f":"'AR3'!B37","v":"Laboratory Equipment"},{"$f":"'AR3'!F37","v":0},{"$f":"'AR3'!G37","v":0},0,null,null,{"$f":"'Sch 3'!F38","v":0},0]
[{"$f":"'AR3'!A38","v":345},{"$f":"'AR3'!B38","v":"Power Operated Equipment"},{"$f":"'AR3'!F38","v":0},{"$f":"'AR3'!G38","v":0},0,null,null,{"$f":"'Sch 3'!F39","v":0},0]
[{"$f":"'AR3'!A39","v":346},{"$f":"'AR3'!B39","v":"Communication Equipment"},{"$f":"'AR3'!F39","v":0},{"$f":"'AR3'!G39","v":0},0,null,null,{"$f":"'Sch 3'!F40","v":0},0]
[{"$f":"'AR3'!A40","v":347},{"$f":"'AR3'!B40","v":"Miscellaneous Equipment"},{"$f":"'AR3'!F40","v":0},{"$f":"'AR3'!G40","v":0},0,null,null,{"$f":"'Sch 3'!F41","v":0},0]
[{"$f":"'AR3'!A41","v":348},{"$f":"'AR3'!B41","v":"Other Tangible Plant"},{"$f":"'AR3'!F41","v":0},{"$f":"'AR3'!G41","v":0},0,null,null,{"$f":"'Sch 3'!F42","v":0},0]
[null,"TOTAL WATER PLANT",{"$f":"SUM(C9:C42)","v":0},{"$f":"SUM(D9:D42)","v":0},{"$f":"SUM(E9:E42)","v":0},null,null,{"$f":"'Sch 3'!F43","v":0},0]
[]
[]
[]
[]
[]
[]
[]
[]
[]
[]
[null,null,null,null,{"$f":"\"Page \" &E55","v":"Page 23"}]
[null,null,null,null,{"$f":"'Sch 3'!F54+1","v":23}]
[null,"Plant balance test"]
[null,"Schedule 9",{"$f":"'Sch 10'!C44","v":0}]
[null,"Variance",{"$f":"C43-C57","v":0}]
[]
[null,"Accumulate depreciation test"]
[null,"Accum. Depr. Calc.",{"$f":"'WP 2'!L770","v":0}]
[null,"Variance",{"$f":"D43-C61","v":0}]
[]
[{"$f":"\"Note: This amount automatically feeds from the Annual Report \"&'AR3'!H47","v":"Note: This amount automatically feeds from the Annual Report Page 4"}]
["Note 2: The test year original cost balance as included on this schedule must be the same as the amount reported on Schedule 9."]

{"sheet":"Sch 4b","index":61,"n_rows":48,"n_cols":8,"rows_kept":48,"cut":false,"hidden":true,"merged":[[5,0,5,2]]}
[{"$f":"'AR1'!$B$12","v":0},null,{"$f":"'Sch Title'!A20","v":"Schedule 4b"}]
[{"$f":"'Sch Title'!$A$2","v":"Short Form Rate Application"},null,{"$f":"\" Short Form Rate Application Page No. \"&C48&\"b\"","v":" Short Form Rate Application Page No. 23b"}]
[{"$f":"Sch4a_RB","v":"ORIGINAL COST RATE BASE"}]
[{"$f":"'Sch Title'!$A$4","v":"Test Year Ended 12/31/20"}]
[]
["ORIGINAL COST RATE BASE"]
[]
[]
[null,null,"Company"]
[]
["Plant in Service ",null,{"$f":"'Sch 4'!C43","v":0}]
[]
["Less:"]
["  Accum. Depreciation",null,{"$f":"'Sch 4'!D43","v":0}]
[]
["Net Plant",null,{"$f":"(C11+C12)-C14","v":0}]
[]
["Less:"]
["  Plant Advances",null,{"$f":"IF('Sch 1'!I27>0,'Sch 1'!I27,0)","v":""}]
["  Accumulated Deferred Income Taxes",null,null,null,null,{"$f":"ISBLANK(C20)","v":true},{"$f":"IF(F20=TRUE,\"Incomplete\",\"Complete\")","v":"Incomplete"}]
[]
["  Total Advances",null,{"$f":"SUM(C19:C20)","v":0}]
[null,null,null,null,"Sch10",null,null,"WP4"]
["  Contributions Gross",null,{"$f":"IF('Sch 1'!I29>0,'Sch 1'!I29,0)","v":""},null,{"$f":"'Sch 10'!D47","v":0},null,null,{"$f":"'WP 4'!C44","v":0}]
["  Less:"]
["  Amortization of CIAC",null,{"$f":"IF('Sch 1'!I30<0,'Sch 1'!I30,0)","v":0}]
[]
["Net CIAC",null,{"$f":"C24-C26","v":{"$error":"#VALUE!"}}]
[]
["Regulatory Liability",null,null,null,null,{"$f":"ISBLANK(C30)","v":true},{"$f":"IF(F30=TRUE,\"Incomplete\",\"Complete\")","v":"Incomplete"}]
[]
["  Total Deductions",null,{"$f":"C28+C22+C30","v":{"$error":"#VALUE!"}}]
[]
["Plus:"]
["  1/24 Power",null,{"$f":"('Sch 9'!F21+'Sch 9'!F22)/24","v":0}]
[]
["  1/8 Operation & Maint.",null,{"$f":"('Sch 9'!F19+SUM('Sch 9'!F23:F42))/8","v":0}]
[]
["  Inventory",null,null,null,null,{"$f":"ISBLANK(C39)","v":true},{"$f":"IF(F39=TRUE,\"Incomplete\",\"Complete\")","v":"Incomplete"}]
[]
["  Prepayments",null,null,null,null,{"$f":"ISBLANK(C41)","v":true},{"$f":"IF(F41=TRUE,\"Incomplete\",\"Complete\")","v":"Incomplete"}]
[null,null,null,null,null,null,{"$f":"IF(G20=\"Incomplete\",\"Incomplete\",IF(G30=\"Incomplete\",\"Incomplete\",IF(G39=\"Incomplete\",\"Incomplete\",IF(G41=\"Incomplete\",\"Incomplete\",\"Complete\"))))","v":"Incomplete"}]
["  Total Additions",null,{"$f":"SUM(C35:C41)","v":0}]
[]
["             Rate Base",null,{"$f":"C16-C32+C43","v":{"$error":"#VALUE!"}}]
[]
[null,null,{"$f":"\"Page \" &C48&\"b\"","v":"Page 23b"}]
[null,null,{"$f":"'Sch 4'!E55","v":23}]

{"sheet":"Sch 5","index":62,"n_rows":65,"n_cols":19,"rows_kept":65,"cut":false,"hidden":true,"merged":[[7,12,7,15],[5,10,5,16],[36,0,37,8],[38,0,42,8],[46,0,46,8],[7,10,7,11],[8,10,8,11],[9,10,9,11],[5,0,5,7],[26,0,26,3],[28,0,28,4],[33,0,33,4],[34,0,34,1],[30,0,30,4],[7,0,7,1],[7,2,7,4],[31,0,31,4],[9,0,9,1],[8,0,8,1],[62,0,62,8],[64,0,66,8],[59,0,60,8],[48,0,48,8],[47,0,47,8],[52,0,52,8],[49,0,49,8],[50,0,51,8],[53,0,53,8]]}
[{"$f":"'AR1'!$B$12","v":0},null,null,null,null,null,null,null,{"$f":"'Sch Title'!$A$21","v":"Schedule 5"},null,{"$f":"A1","v":0},null,null,null,null,null,null,{"$f":"'Sch Title'!$A$21","v":"Schedule 5"},"Table of contents"]
[{"$f":"'Sch Title'!$A$2","v":"Short Form Rate Application"},null,null,null,null,null,null,null,{"$f":"\" Short Form Rate Application Page No. \"&I56","v":" Short Form Rate Application Page No. 24"},null,{"$f":"A2","v":"Short Form Rate Application"},null,null,null,null,null,null,{"$f":"\" Short Form Rate Application Page No. \"&R56","v":" Short Form Rate Application Page No. 25"}]
[{"$f":"Sch7_WatUse","v":"WATER USE DATA SHEET"},null,null,null,null,null,null,null,null,null,"WATER USE DATA SHEET"]
[{"$f":"'Sch Title'!$A$4","v":"Test Year Ended 12/31/20"},null,null,null,null,null,null,null,null,null,"Test Year Ended 12/31/20"]
[]
["WATER USE DATA SHEET",null,null,null,null,null,null,null,null,null,"CUSTOMER DATA SHEET"]
[]
["Name of the System:",null,{"$f":"'AR8'!C7","v":0},null,null,null,null,null,null,null,"Name of the System:",null,{"$f":"C8","v":0}]
["ADEQ Public Water System Number:",null,{"$f":"'AR8'!D8","v":""},null,null,null,null,null,null,null,"ADEQ Public Water System Number:",null,{"$f":"C9","v":""}]
["ADWR PCC Number:",null,{"$f":"'AR8'!D9","v":""},null,null,null,null,null,null,null,"ADWR PCC Number:",null,{"$f":"C10","v":""}]
["(12 Months of Test Year)",{"$f":"'AR8'!B37","v":"Water withdrawn (gallons)1"},{"$f":"'AR8'!C37","v":"Water sold (gallons)2"},{"$f":"'AR8'!D37","v":"Water delivered (sold) to other systems (gallons)3"},{"$f":"'AR8'!E37","v":"Water received (purchased) from other systems (gallons)4"},{"$f":"'AR8'!F37","v":"Estimated authorized use (gallons)5"},"Purchased Power Expense6","Purchased Power (kWh)7",null,null,null,"Month","Single-Family","Multi-Family","Commercial","Turf/Irrigation","Other Non-Residential"]
["January",{"$f":"IF('AR8'!B38=\"\",\"\",'AR8'!B38)","v":""},{"$f":"IF('AR8'!C38=\"\",\"\",'AR8'!C38)","v":""},{"$f":"IF('AR8'!D38=\"\",\"\",'AR8'!D38)","v":""},{"$f":"IF('AR8'!E38=\"\",\"\",'AR8'!E38)","v":""},{"$f":"IF('AR8'!F38=\"\",\"\",'AR8'!F38)","v":""},{"$f":"IF('AR8'!G38=\"\",\"\",'AR8'!G38)","v":""},{"$f":"IF('AR8'!H38=\"\",\"\",'AR8'!H38)","v":""},null,null,null,"January",{"$f":"IF('AR10'!B14=\"\",\"\",'AR10'!B14)","v":""},{"$f":"IF('AR10'!C14=\"\",\"\",'AR10'!C14)","v":""},{"$f":"IF('AR10'!D14=\"\",\"\",'AR10'!D14)","v":""},{"$f":"IF('AR10'!E14=\"\",\"\",'AR10'!E14)","v":""},{"$f":"IF('AR10'!F14=\"\",\"\",'AR10'!F14)","v":""}]
["February",{"$f":"IF('AR8'!B39=\"\",\"\",'AR8'!B39)","v":""},{"$f":"IF('AR8'!C39=\"\",\"\",'AR8'!C39)","v":""},{"$f":"IF('AR8'!D39=\"\",\"\",'AR8'!D39)","v":""},{"$f":"IF('AR8'!E39=\"\",\"\",'AR8'!E39)","v":""},{"$f":"IF('AR8'!F39=\"\",\"\",'AR8'!F39)","v":""},{"$f":"IF('AR8'!G39=\"\",\"\",'AR8'!G39)","v":""},{"$f":"IF('AR8'!H39=\"\",\"\",'AR8'!H39)","v":""},null,null,null,"February",{"$f":"IF('AR10'!B15=\"\",\"\",'AR10'!B15)","v":""},{"$f":"IF('AR10'!C15=\"\",\"\",'AR10'!C15)","v":""},{"$f":"IF('AR10'!D15=\"\",\"\",'AR10'!D15)","v":""},{"$f":"IF('AR10'!E15=\"\",\"\",'AR10'!E15)","v":""},{"$f":"IF('AR10'!F15=\"\",\"\",'AR10'!F15)","v":""}]
["March",{"$f":"IF('AR8'!B40=\"\",\"\",'AR8'!B40)","v":""},{"$f":"IF('AR8'!C40=\"\",\"\",'AR8'!C40)","v":""},{"$f":"IF('AR8'!D40=\"\",\"\",'AR8'!D40)","v":""},{"$f":"IF('AR8'!E40=\"\",\"\",'AR8'!E40)","v":""},{"$f":"IF('AR8'!F40=\"\",\"\",'AR8'!F40)","v":""},{"$f":"IF('AR8'!G40=\"\",\"\",'AR8'!G40)","v":""},{"$f":"IF('AR8'!H40=\"\",\"\",'AR8'!H40)","v":""},null,null,null,"March",{"$f":"IF('AR10'!B16=\"\",\"\",'AR10'!B16)","v":""},{"$f":"IF('AR10'!C16=\"\",\"\",'AR10'!C16)","v":""},{"$f":"IF('AR10'!D16=\"\",\"\",'AR10'!D16)","v":""},{"$f":"IF('AR10'!E16=\"\",\"\",'AR10'!E16)","v":""},{"$f":"IF('AR10'!F16=\"\",\"\",'AR10'!F16)","v":""}]
["April",{"$f":"IF('AR8'!B41=\"\",\"\",'AR8'!B41)","v":""},{"$f":"IF('AR8'!C41=\"\",\"\",'AR8'!C41)","v":""},{"$f":"IF('AR8'!D41=\"\",\"\",'AR8'!D41)","v":""},{"$f":"IF('AR8'!E41=\"\",\"\",'AR8'!E41)","v":""},{"$f":"IF('AR8'!F41=\"\",\"\",'AR8'!F41)","v":""},{"$f":"IF('AR8'!G41=\"\",\"\",'AR8'!G41)","v":""},{"$f":"IF('AR8'!H41=\"\",\"\",'AR8'!H41)","v":""},null,null,null,"April",{"$f":"IF('AR10'!B17=\"\",\"\",'AR10'!B17)","v":""},{"$f":"IF('AR10'!C17=\"\",\"\",'AR10'!C17)","v":""},{"$f":"IF('AR10'!D17=\"\",\"\",'AR10'!D17)","v":""},{"$f":"IF('AR10'!E17=\"\",\"\",'AR10'!E17)","v":""},{"$f":"IF('AR10'!F17=\"\",\"\",'AR10'!F17)","v":""}]
["May",{"$f":"IF('AR8'!B42=\"\",\"\",'AR8'!B42)","v":""},{"$f":"IF('AR8'!C42=\"\",\"\",'AR8'!C42)","v":""},{"$f":"IF('AR8'!D42=\"\",\"\",'AR8'!D42)","v":""},{"$f":"IF('AR8'!E42=\"\",\"\",'AR8'!E42)","v":""},{"$f":"IF('AR8'!F42=\"\",\"\",'AR8'!F42)","v":""},{"$f":"IF('AR8'!G42=\"\",\"\",'AR8'!G42)","v":""},{"$f":"IF('AR8'!H42=\"\",\"\",'AR8'!H42)","v":""},null,null,null,"May",{"$f":"IF('AR10'!B18=\"\",\"\",'AR10'!B18)","v":""},{"$f":"IF('AR10'!C18=\"\",\"\",'AR10'!C18)","v":""},{"$f":"IF('AR10'!D18=\"\",\"\",'AR10'!D18)","v":""},{"$f":"IF('AR10'!E18=\"\",\"\",'AR10'!E18)","v":""},{"$f":"IF('AR10'!F18=\"\",\"\",'AR10'!F18)","v":""}]
["June",{"$f":"IF('AR8'!B43=\"\",\"\",'AR8'!B43)","v":""},{"$f":"IF('AR8'!C43=\"\",\"\",'AR8'!C43)","v":""},{"$f":"IF('AR8'!D43=\"\",\"\",'AR8'!D43)","v":""},{"$f":"IF('AR8'!E43=\"\",\"\",'AR8'!E43)","v":""},{"$f":"IF('AR8'!F43=\"\",\"\",'AR8'!F43)","v":""},{"$f":"IF('AR8'!G43=\"\",\"\",'AR8'!G43)","v":""},{"$f":"IF('AR8'!H43=\"\",\"\",'AR8'!H43)","v":""},null,null,null,"June",{"$f":"IF('AR10'!B19=\"\",\"\",'AR10'!B19)","v":""},{"$f":"IF('AR10'!C19=\"\",\"\",'AR10'!C19)","v":""},{"$f":"IF('AR10'!D19=\"\",\"\",'AR10'!D19)","v":""},{"$f":"IF('AR10'!E19=\"\",\"\",'AR10'!E19)","v":""},{"$f":"IF('AR10'!F19=\"\",\"\",'AR10'!F19)","v":""}]
["July",{"$f":"IF('AR8'!B44=\"\",\"\",'AR8'!B44)","v":""},{"$f":"IF('AR8'!C44=\"\",\"\",'AR8'!C44)","v":""},{"$f":"IF('AR8'!D44=\"\",\"\",'AR8'!D44)","v":""},{"$f":"IF('AR8'!E44=\"\",\"\",'AR8'!E44)","v":""},{"$f":"IF('AR8'!F44=\"\",\"\",'AR8'!F44)","v":""},{"$f":"IF('AR8'!G44=\"\",\"\",'AR8'!G44)","v":""},{"$f":"IF('AR8'!H44=\"\",\"\",'AR8'!H44)","v":""},null,null,null,"July",{"$f":"IF('AR10'!B20=\"\",\"\",'AR10'!B20)","v":""},{"$f":"IF('AR10'!C20=\"\",\"\",'AR10'!C20)","v":""},{"$f":"IF('AR10'!D20=\"\",\"\",'AR10'!D20)","v":""},{"$f":"IF('AR10'!E20=\"\",\"\",'AR10'!E20)","v":""},{"$f":"IF('AR10'!F20=\"\",\"\",'AR10'!F20)","v":""}]
["August",{"$f":"IF('AR8'!B45=\"\",\"\",'AR8'!B45)","v":""},{"$f":"IF('AR8'!C45=\"\",\"\",'AR8'!C45)","v":""},{"$f":"IF('AR8'!D45=\"\",\"\",'AR8'!D45)","v":""},{"$f":"IF('AR8'!E45=\"\",\"\",'AR8'!E45)","v":""},{"$f":"IF('AR8'!F45=\"\",\"\",'AR8'!F45)","v":""},{"$f":"IF('AR8'!G45=\"\",\"\",'AR8'!G45)","v":""},{"$f":"IF('AR8'!H45=\"\",\"\",'AR8'!H45)","v":""},null,null,null,"August",{"$f":"IF('AR10'!B21=\"\",\"\",'AR10'!B21)","v":""},{"$f":"IF('AR10'!C21=\"\",\"\",'AR10'!C21)","v":""},{"$f":"IF('AR10'!D21=\"\",\"\",'AR10'!D21)","v":""},{"$f":"IF('AR10'!E21=\"\",\"\",'AR10'!E21)","v":""},{"$f":"IF('AR10'!F21=\"\",\"\",'AR10'!F21)","v":""}]
["September",{"$f":"IF('AR8'!B46=\"\",\"\",'AR8'!B46)","v":""},{"$f":"IF('AR8'!C46=\"\",\"\",'AR8'!C46)","v":""},{"$f":"IF('AR8'!D46=\"\",\"\",'AR8'!D46)","v":""},{"$f":"IF('AR8'!E46=\"\",\"\",'AR8'!E46)","v":""},{"$f":"IF('AR8'!F46=\"\",\"\",'AR8'!F46)","v":""},{"$f":"IF('AR8'!G46=\"\",\"\",'AR8'!G46)","v":""},{"$f":"IF('AR8'!H46=\"\",\"\",'AR8'!H46)","v":""},null,null,null,"September",{"$f":"IF('AR10'!B22=\"\",\"\",'AR10'!B22)","v":""},{"$f":"IF('AR10'!C22=\"\",\"\",'AR10'!C22)","v":""},{"$f":"IF('AR10'!D22=\"\",\"\",'AR10'!D22)","v":""},{"$f":"IF('AR10'!E22=\"\",\"\",'AR10'!E22)","v":""},{"$f":"IF('AR10'!F22=\"\",\"\",'AR10'!F22)","v":""}]
["October",{"$f":"IF('AR8'!B47=\"\",\"\",'AR8'!B47)","v":""},{"$f":"IF('AR8'!C47=\"\",\"\",'AR8'!C47)","v":""},{"$f":"IF('AR8'!D47=\"\",\"\",'AR8'!D47)","v":""},{"$f":"IF('AR8'!E47=\"\",\"\",'AR8'!E47)","v":""},{"$f":"IF('AR8'!F47=\"\",\"\",'AR8'!F47)","v":""},{"$f":"IF('AR8'!G47=\"\",\"\",'AR8'!G47)","v":""},{"$f":"IF('AR8'!H47=\"\",\"\",'AR8'!H47)","v":""},null,null,null,"October",{"$f":"IF('AR10'!B23=\"\",\"\",'AR10'!B23)","v":""},{"$f":"IF('AR10'!C23=\"\",\"\",'AR10'!C23)","v":""},{"$f":"IF('AR10'!D23=\"\",\"\",'AR10'!D23)","v":""},{"$f":"IF('AR10'!E23=\"\",\"\",'AR10'!E23)","v":""},{"$f":"IF('AR10'!F23=\"\",\"\",'AR10'!F23)","v":""}]
["November",{"$f":"IF('AR8'!B48=\"\",\"\",'AR8'!B48)","v":""},{"$f":"IF('AR8'!C48=\"\",\"\",'AR8'!C48)","v":""},{"$f":"IF('AR8'!D48=\"\",\"\",'AR8'!D48)","v":""},{"$f":"IF('AR8'!E48=\"\",\"\",'AR8'!E48)","v":""},{"$f":"IF('AR8'!F48=\"\",\"\",'AR8'!F48)","v":""},{"$f":"IF('AR8'!G48=\"\",\"\",'AR8'!G48)","v":""},{"$f":"IF('AR8'!H48=\"\",\"\",'AR8'!H48)","v":""},null,null,null,"November",{"$f":"IF('AR10'!B24=\"\",\"\",'AR10'!B24)","v":""},{"$f":"IF('AR10'!C24=\"\",\"\",'AR10'!C24)","v":""},{"$f":"IF('AR10'!D24=\"\",\"\",'AR10'!D24)","v":""},{"$f":"IF('AR10'!E24=\"\",\"\",'AR10'!E24)","v":""},{"$f":"IF('AR10'!F24=\"\",\"\",'AR10'!F24)","v":""}]
["December",{"$f":"IF('AR8'!B49=\"\",\"\",'AR8'!B49)","v":""},{"$f":"IF('AR8'!C49=\"\",\"\",'AR8'!C49)","v":""},{"$f":"IF('AR8'!D49=\"\",\"\",'AR8'!D49)","v":""},{"$f":"IF('AR8'!E49=\"\",\"\",'AR8'!E49)","v":""},{"$f":"IF('AR8'!F49=\"\",\"\",'AR8'!F49)","v":""},{"$f":"IF('AR8'!G49=\"\",\"\",'AR8'!G49)","v":""},{"$f":"IF('AR8'!H49=\"\",\"\",'AR8'!H49)","v":""},null,null,null,"December",{"$f":"IF('AR10'!B25=\"\",\"\",'AR10'!B25)","v":""},{"$f":"IF('AR10'!C25=\"\",\"\",'AR10'!C25)","v":""},{"$f":"IF('AR10'!D25=\"\",\"\",'AR10'!D25)","v":""},{"$f":"IF('AR10'!E25=\"\",\"\",'AR10'!E25)","v":""},{"$f":"IF('AR10'!F25=\"\",\"\",'AR10'!F25)","v":""}]
["TOTAL",{"$f":"SUM(B12:B23)","v":0},0,0,0,0,0,0]
[]
[]
["If yes, are the fire flow requirements? ",null,null,null,{"$f":"'AR10'!E28","v":0},"GPM for",{"$f":"'AR10'!G28","v":0},"hrs."]
[]
["Does the system have chlorination treatment?",null,null,null,null,{"$f":"'AR10'!E30","v":0}]
[]
["Is the Water Utility located in an ADWR Active Management Area (AMA)?",null,null,null,null,{"$f":"'AR10'!F35","v":0}]
["If yes, which AMA?",null,null,null,null,{"$f":"'AR10'!F36","v":0}]
[]
["Does the Company have an ADWR Gallons Per Capita Per Day (GCPCPD) requirement?",null,null,null,null,{"$f":"'AR10'!F32","v":0}]
["If yes, provide the GPCPD amount:",null,{"$f":"'AR10'!C33","v":0}]
[]
["If applicable, in the space below, please provide a description for all estimated authorized un-metered use along with specific amounts:"]
[]
[{"$f":"IF('AR8'!A54=\"\",\"\",'AR8'!A54)","v":""}]
[]
[]
[]
[]
[]
[]
[]
["1 Water withdrawn - Total acre feet of water withdrawn from pumped sources."]
["2 Water sold - Total acre feet from customer meters, and other sales such as construction water."]
["3 Water delivered (sold) to other systems - Total acre feet of water delivered to other systems. "]
["4 Water received (purchased) from other systems - Total acre feet of water purchased/received from other systems."]
["5 Estimated authorized use - Total estimated acre feet from authorized metered or unmetered use.  Authorized uses such as flushing (mains, services and hydrants) draining/cleaning tanks, process, construction, fire fighting, etc.  Non-authorized use (real losses) are service line breaks and leaks, water main breaks, meter inaccuracies and theft."]
[]
["6 Enter the total purchased power costs for the power meters associated with this system."]
["7 Enter the total purchased kWh used by the power meters associated with this system."]
[null,null,null,null,null,null,null,null,{"$f":"\"Page \" &I56","v":"Page 24"},null,null,null,null,null,null,null,null,{"$f":"\"Page \" &R56","v":"Page 25"}]
[null,null,null,null,null,null,null,null,{"$f":"'Sch 4'!E55+1","v":24},null,null,null,null,null,null,null,null,{"$f":"I56+1","v":25}]
[]
[]
[]
[{"$f":"IF(C24=(D24+E24),\"The Gallons pumped should not be equal to the gallons sold.  There is a potentially significant problem, please investigate and explain.\",IF((D24+E24)<C24,\"The Gallons pumped should not be less than the gallons sold.  There is a potentially significant problem, please investigate and explain..\",\"\"))","v":"The Gallons pumped should not be equal to the gallons sold.  There is a potentially significant problem, please investigate and explain."}]
[]
[]
[{"$f":"\"Note: This page automatically populates with information from your annual report \"&#REF!","v":{"$error":"#REF!"}}]
[]
["Note 2: If you are filing for more than one system, please provide separate data sheets for each system, by copying and pasting this sheet as many times as is necessary. For explanation of any of the above, please contact the Engineering Supervisor at 602-542-7277."]

{"sheet":"Sch 5 (b)","index":63,"n_rows":65,"n_cols":19,"rows_kept":65,"cut":false,"hidden":true,"merged":[[5,0,5,7],[5,10,5,16],[7,0,7,1],[7,2,7,4],[7,10,7,11],[7,12,7,15],[38,0,42,8],[8,0,8,1],[8,10,8,11],[9,0,9,1],[9,10,9,11],[26,0,26,3],[28,0,28,4],[30,0,30,4],[31,0,31,4],[33,0,33,4],[34,0,34,1],[36,0,37,8],[53,0,53,8],[59,0,60,8],[62,0,62,8],[64,0,66,8],[46,0,46,8],[47,0,47,8],[48,0,48,8],[49,0,49,8],[50,0,51,8],[52,0,52,8]]}
[{"$f":"'AR1'!$B$12","v":0},null,null,null,null,null,null,null,{"$f":"'Sch Title'!$A$21&\"b\"","v":"Schedule 5b"},null,{"$f":"A1","v":0},null,null,null,null,null,null,{"$f":"'Sch Title'!$A$21&\"b\"","v":"Schedule 5b"},"Table of contents"]
[{"$f":"'Sch Title'!$A$2","v":"Short Form Rate Application"},null,null,null,null,null,null,null,{"$f":"\" Short Form Rate Application Page No. \"&I56","v":" Short Form Rate Application Page No. 24"},null,{"$f":"A2","v":"Short Form Rate Application"},null,null,null,null,null,null,{"$f":"\" Short Form Rate Application Page No. \"&R56","v":" Short Form Rate Application Page No. 25"}]
[{"$f":"Sch7_WatUse","v":"WATER USE DATA SHEET"},null,null,null,null,null,null,null,null,null,"WATER USE DATA SHEET"]
[{"$f":"'Sch Title'!$A$4","v":"Test Year Ended 12/31/20"},null,null,null,null,null,null,null,null,null,"Test Year Ended 12/31/20"]
[]
["WATER USE DATA SHEET",null,null,null,null,null,null,null,null,null,"CUSTOMER DATA SHEET"]
[]
["Name of the System:",null,{"$f":" 'AR8 (b)'!C7","v":0},null,null,null,null,null,null,null,"Name of the System:",null,{"$f":"C8","v":0}]
["ADEQ Public Water System Number:",null,{"$f":"'AR8 (b)'!D8","v":""},null,null,null,null,null,null,null,"ADEQ Public Water System Number:",null,{"$f":"C9","v":""}]
["ADWR PCC Number:",null,{"$f":"'AR8 (b)'!D9","v":""},null,null,null,null,null,null,null,"ADWR PCC Number:",null,{"$f":"C10","v":""}]
["(12 Months of Test Year)",{"$f":"'Sch 5'!B11","v":"Water withdrawn (gallons)1"},{"$f":"'Sch 5'!C11","v":"Water sold (gallons)2"},{"$f":"'Sch 5'!D11","v":"Water delivered (sold) to other systems (gallons)3"},{"$f":"'Sch 5'!E11","v":"Water received (purchased) from other systems (gallons)4"},{"$f":"'Sch 5'!F11","v":"Estimated authorized use (gallons)5"},"Purchased Power Expense6","Purchased Power (kWh)7",null,null,null,"Month","Single-Family","Multi-Family","Commercial","Turf/Irrigation","Other Non-Residential"]
["January",{"$f":"IF('AR8 (b)'!B38=\"\",\"\",'AR8 (b)'!B38)","v":""},{"$f":"IF('AR8 (b)'!C38=\"\",\"\",'AR8 (b)'!C38)","v":""},{"$f":"IF('AR8 (b)'!D38=\"\",\"\",'AR8 (b)'!D38)","v":""},{"$f":"IF('AR8 (b)'!E38=\"\",\"\",'AR8 (b)'!E38)","v":""},{"$f":"IF('AR8 (b)'!F38=\"\",\"\",'AR8 (b)'!F38)","v":""},{"$f":"IF('AR8 (b)'!G38=\"\",\"\",'AR8 (b)'!G38)","v":""},{"$f":"IF('AR8 (b)'!H38=\"\",\"\",'AR8 (b)'!H38)","v":""},null,null,null,"January",{"$f":"IF('AR10 (b)'!B14=\"\",\"\",'AR10 (b)'!B14)","v":""},{"$f":"IF('AR10 (b)'!C14=\"\",\"\",'AR10 (b)'!C14)","v":""},{"$f":"IF('AR10 (b)'!D14=\"\",\"\",'AR10 (b)'!D14)","v":""},{"$f":"IF('AR10 (b)'!E14=\"\",\"\",'AR10 (b)'!E14)","v":""},{"$f":"IF('AR10 (b)'!F14=\"\",\"\",'AR10 (b)'!F14)","v":""}]
["February",{"$f":"IF('AR8 (b)'!B39=\"\",\"\",'AR8 (b)'!B39)","v":""},{"$f":"IF('AR8 (b)'!C39=\"\",\"\",'AR8 (b)'!C39)","v":""},{"$f":"IF('AR8 (b)'!D39=\"\",\"\",'AR8 (b)'!D39)","v":""},{"$f":"IF('AR8 (b)'!E39=\"\",\"\",'AR8 (b)'!E39)","v":""},{"$f":"IF('AR8 (b)'!F39=\"\",\"\",'AR8 (b)'!F39)","v":""},{"$f":"IF('AR8 (b)'!G39=\"\",\"\",'AR8 (b)'!G39)","v":""},{"$f":"IF('AR8 (b)'!H39=\"\",\"\",'AR8 (b)'!H39)","v":""},null,null,null,"February",{"$f":"IF('AR10 (b)'!B15=\"\",\"\",'AR10 (b)'!B15)","v":""},{"$f":"IF('AR10 (b)'!C15=\"\",\"\",'AR10 (b)'!C15)","v":""},{"$f":"IF('AR10 (b)'!D15=\"\",\"\",'AR10 (b)'!D15)","v":""},{"$f":"IF('AR10 (b)'!E15=\"\",\"\",'AR10 (b)'!E15)","v":""},{"$f":"IF('AR10 (b)'!F15=\"\",\"\",'AR10 (b)'!F15)","v":""}]
["March",{"$f":"IF('AR8 (b)'!B40=\"\",\"\",'AR8 (b)'!B40)","v":""},{"$f":"IF('AR8 (b)'!C40=\"\",\"\",'AR8 (b)'!C40)","v":""},{"$f":"IF('AR8 (b)'!D40=\"\",\"\",'AR8 (b)'!D40)","v":""},{"$f":"IF('AR8 (b)'!E40=\"\",\"\",'AR8 (b)'!E40)","v":""},{"$f":"IF('AR8 (b)'!F40=\"\",\"\",'AR8 (b)'!F40)","v":""},{"$f":"IF('AR8 (b)'!G40=\"\",\"\",'AR8 (b)'!G40)","v":""},{"$f":"IF('AR8 (b)'!H40=\"\",\"\",'AR8 (b)'!H40)","v":""},null,null,null,"March",{"$f":"IF('AR10 (b)'!B16=\"\",\"\",'AR10 (b)'!B16)","v":""},{"$f":"IF('AR10 (b)'!C16=\"\",\"\",'AR10 (b)'!C16)","v":""},{"$f":"IF('AR10 (b)'!D16=\"\",\"\",'AR10 (b)'!D16)","v":""},{"$f":"IF('AR10 (b)'!E16=\"\",\"\",'AR10 (b)'!E16)","v":""},{"$f":"IF('AR10 (b)'!F16=\"\",\"\",'AR10 (b)'!F16)","v":""}]
["April",{"$f":"IF('AR8 (b)'!B41=\"\",\"\",'AR8 (b)'!B41)","v":""},{"$f":"IF('AR8 (b)'!C41=\"\",\"\",'AR8 (b)'!C41)","v":""},{"$f":"IF('AR8 (b)'!D41=\"\",\"\",'AR8 (b)'!D41)","v":""},{"$f":"IF('AR8 (b)'!E41=\"\",\"\",'AR8 (b)'!E41)","v":""},{"$f":"IF('AR8 (b)'!F41=\"\",\"\",'AR8 (b)'!F41)","v":""},{"$f":"IF('AR8 (b)'!G41=\"\",\"\",'AR8 (b)'!G41)","v":""},{"$f":"IF('AR8 (b)'!H41=\"\",\"\",'AR8 (b)'!H41)","v":""},null,null,null,"April",{"$f":"IF('AR10 (b)'!B17=\"\",\"\",'AR10 (b)'!B17)","v":""},{"$f":"IF('AR10 (b)'!C17=\"\",\"\",'AR10 (b)'!C17)","v":""},{"$f":"IF('AR10 (b)'!D17=\"\",\"\",'AR10 (b)'!D17)","v":""},{"$f":"IF('AR10 (b)'!E17=\"\",\"\",'AR10 (b)'!E17)","v":""},{"$f":"IF('AR10 (b)'!F17=\"\",\"\",'AR10 (b)'!F17)","v":""}]
["May",{"$f":"IF('AR8 (b)'!B42=\"\",\"\",'AR8 (b)'!B42)","v":""},{"$f":"IF('AR8 (b)'!C42=\"\",\"\",'AR8 (b)'!C42)","v":""},{"$f":"IF('AR8 (b)'!D42=\"\",\"\",'AR8 (b)'!D42)","v":""},{"$f":"IF('AR8 (b)'!E42=\"\",\"\",'AR8 (b)'!E42)","v":""},{"$f":"IF('AR8 (b)'!F42=\"\",\"\",'AR8 (b)'!F42)","v":""},{"$f":"IF('AR8 (b)'!G42=\"\",\"\",'AR8 (b)'!G42)","v":""},{"$f":"IF('AR8 (b)'!H42=\"\",\"\",'AR8 (b)'!H42)","v":""},null,null,null,"May",{"$f":"IF('AR10 (b)'!B18=\"\",\"\",'AR10 (b)'!B18)","v":""},{"$f":"IF('AR10 (b)'!C18=\"\",\"\",'AR10 (b)'!C18)","v":""},{"$f":"IF('AR10 (b)'!D18=\"\",\"\",'AR10 (b)'!D18)","v":""},{"$f":"IF('AR10 (b)'!E18=\"\",\"\",'AR10 (b)'!E18)","v":""},{"$f":"IF('AR10 (b)'!F18=\"\",\"\",'AR10 (b)'!F18)","v":""}]
["June",{"$f":"IF('AR8 (b)'!B43=\"\",\"\",'AR8 (b)'!B43)","v":""},{"$f":"IF('AR8 (b)'!C43=\"\",\"\",'AR8 (b)'!C43)","v":""},{"$f":"IF('AR8 (b)'!D43=\"\",\"\",'AR8 (b)'!D43)","v":""},{"$f":"IF('AR8 (b)'!E43=\"\",\"\",'AR8 (b)'!E43)","v":""},{"$f":"IF('AR8 (b)'!F43=\"\",\"\",'AR8 (b)'!F43)","v":""},{"$f":"IF('AR8 (b)'!G43=\"\",\"\",'AR8 (b)'!G43)","v":""},{"$f":"IF('AR8 (b)'!H43=\"\",\"\",'AR8 (b)'!H43)","v":""},null,null,null,"June",{"$f":"IF('AR10 (b)'!B19=\"\",\"\",'AR10 (b)'!B19)","v":""},{"$f":"IF('AR10 (b)'!C19=\"\",\"\",'AR10 (b)'!C19)","v":""},{"$f":"IF('AR10 (b)'!D19=\"\",\"\",'AR10 (b)'!D19)","v":""},{"$f":"IF('AR10 (b)'!E19=\"\",\"\",'AR10 (b)'!E19)","v":""},{"$f":"IF('AR10 (b)'!F19=\"\",\"\",'AR10 (b)'!F19)","v":""}]
["July",{"$f":"IF('AR8 (b)'!B44=\"\",\"\",'AR8 (b)'!B44)","v":""},{"$f":"IF('AR8 (b)'!C44=\"\",\"\",'AR8 (b)'!C44)","v":""},{"$f":"IF('AR8 (b)'!D44=\"\",\"\",'AR8 (b)'!D44)","v":""},{"$f":"IF('AR8 (b)'!E44=\"\",\"\",'AR8 (b)'!E44)","v":""},{"$f":"IF('AR8 (b)'!F44=\"\",\"\",'AR8 (b)'!F44)","v":""},{"$f":"IF('AR8 (b)'!G44=\"\",\"\",'AR8 (b)'!G44)","v":""},{"$f":"IF('AR8 (b)'!H44=\"\",\"\",'AR8 (b)'!H44)","v":""},null,null,null,"July",{"$f":"IF('AR10 (b)'!B20=\"\",\"\",'AR10 (b)'!B20)","v":""},{"$f":"IF('AR10 (b)'!C20=\"\",\"\",'AR10 (b)'!C20)","v":""},{"$f":"IF('AR10 (b)'!D20=\"\",\"\",'AR10 (b)'!D20)","v":""},{"$f":"IF('AR10 (b)'!E20=\"\",\"\",'AR10 (b)'!E20)","v":""},{"$f":"IF('AR10 (b)'!F20=\"\",\"\",'AR10 (b)'!F20)","v":""}]
["August",{"$f":"IF('AR8 (b)'!B45=\"\",\"\",'AR8 (b)'!B45)","v":""},{"$f":"IF('AR8 (b)'!C45=\"\",\"\",'AR8 (b)'!C45)","v":""},{"$f":"IF('AR8 (b)'!D45=\"\",\"\",'AR8 (b)'!D45)","v":""},{"$f":"IF('AR8 (b)'!E45=\"\",\"\",'AR8 (b)'!E45)","v":""},{"$f":"IF('AR8 (b)'!F45=\"\",\"\",'AR8 (b)'!F45)","v":""},{"$f":"IF('AR8 (b)'!G45=\"\",\"\",'AR8 (b)'!G45)","v":""},{"$f":"IF('AR8 (b)'!H45=\"\",\"\",'AR8 (b)'!H45)","v":""},null,null,null,"August",{"$f":"IF('AR10 (b)'!B21=\"\",\"\",'AR10 (b)'!B21)","v":""},{"$f":"IF('AR10 (b)'!C21=\"\",\"\",'AR10 (b)'!C21)","v":""},{"$f":"IF('AR10 (b)'!D21=\"\",\"\",'AR10 (b)'!D21)","v":""},{"$f":"IF('AR10 (b)'!E21=\"\",\"\",'AR10 (b)'!E21)","v":""},{"$f":"IF('AR10 (b)'!F21=\"\",\"\",'AR10 (b)'!F21)","v":""}]
["September",{"$f":"IF('AR8 (b)'!B46=\"\",\"\",'AR8 (b)'!B46)","v":""},{"$f":"IF('AR8 (b)'!C46=\"\",\"\",'AR8 (b)'!C46)","v":""},{"$f":"IF('AR8 (b)'!D46=\"\",\"\",'AR8 (b)'!D46)","v":""},{"$f":"IF('AR8 (b)'!E46=\"\",\"\",'AR8 (b)'!E46)","v":""},{"$f":"IF('AR8 (b)'!F46=\"\",\"\",'AR8 (b)'!F46)","v":""},{"$f":"IF('AR8 (b)'!G46=\"\",\"\",'AR8 (b)'!G46)","v":""},{"$f":"IF('AR8 (b)'!H46=\"\",\"\",'AR8 (b)'!H46)","v":""},null,null,null,"September",{"$f":"IF('AR10 (b)'!B22=\"\",\"\",'AR10 (b)'!B22)","v":""},{"$f":"IF('AR10 (b)'!C22=\"\",\"\",'AR10 (b)'!C22)","v":""},{"$f":"IF('AR10 (b)'!D22=\"\",\"\",'AR10 (b)'!D22)","v":""},{"$f":"IF('AR10 (b)'!E22=\"\",\"\",'AR10 (b)'!E22)","v":""},{"$f":"IF('AR10 (b)'!F22=\"\",\"\",'AR10 (b)'!F22)","v":""}]
["October",{"$f":"IF('AR8 (b)'!B47=\"\",\"\",'AR8 (b)'!B47)","v":""},{"$f":"IF('AR8 (b)'!C47=\"\",\"\",'AR8 (b)'!C47)","v":""},{"$f":"IF('AR8 (b)'!D47=\"\",\"\",'AR8 (b)'!D47)","v":""},{"$f":"IF('AR8 (b)'!E47=\"\",\"\",'AR8 (b)'!E47)","v":""},{"$f":"IF('AR8 (b)'!F47=\"\",\"\",'AR8 (b)'!F47)","v":""},{"$f":"IF('AR8 (b)'!G47=\"\",\"\",'AR8 (b)'!G47)","v":""},{"$f":"IF('AR8 (b)'!H47=\"\",\"\",'AR8 (b)'!H47)","v":""},null,null,null,"October",{"$f":"IF('AR10 (b)'!B23=\"\",\"\",'AR10 (b)'!B23)","v":""},{"$f":"IF('AR10 (b)'!C23=\"\",\"\",'AR10 (b)'!C23)","v":""},{"$f":"IF('AR10 (b)'!D23=\"\",\"\",'AR10 (b)'!D23)","v":""},{"$f":"IF('AR10 (b)'!E23=\"\",\"\",'AR10 (b)'!E23)","v":""},{"$f":"IF('AR10 (b)'!F23=\"\",\"\",'AR10 (b)'!F23)","v":""}]
["November",{"$f":"IF('AR8 (b)'!B48=\"\",\"\",'AR8 (b)'!B48)","v":""},{"$f":"IF('AR8 (b)'!C48=\"\",\"\",'AR8 (b)'!C48)","v":""},{"$f":"IF('AR8 (b)'!D48=\"\",\"\",'AR8 (b)'!D48)","v":""},{"$f":"IF('AR8 (b)'!E48=\"\",\"\",'AR8 (b)'!E48)","v":""},{"$f":"IF('AR8 (b)'!F48=\"\",\"\",'AR8 (b)'!F48)","v":""},{"$f":"IF('AR8 (b)'!G48=\"\",\"\",'AR8 (b)'!G48)","v":""},{"$f":"IF('AR8 (b)'!H48=\"\",\"\",'AR8 (b)'!H48)","v":""},null,null,null,"November",{"$f":"IF('AR10 (b)'!B24=\"\",\"\",'AR10 (b)'!B24)","v":""},{"$f":"IF('AR10 (b)'!C24=\"\",\"\",'AR10 (b)'!C24)","v":""},{"$f":"IF('AR10 (b)'!D24=\"\",\"\",'AR10 (b)'!D24)","v":""},{"$f":"IF('AR10 (b)'!E24=\"\",\"\",'AR10 (b)'!E24)","v":""},{"$f":"IF('AR10 (b)'!F24=\"\",\"\",'AR10 (b)'!F24)","v":""}]
["December",{"$f":"IF('AR8 (b)'!B49=\"\",\"\",'AR8 (b)'!B49)","v":""},{"$f":"IF('AR8 (b)'!C49=\"\",\"\",'AR8 (b)'!C49)","v":""},{"$f":"IF('AR8 (b)'!D49=\"\",\"\",'AR8 (b)'!D49)","v":""},{"$f":"IF('AR8 (b)'!E49=\"\",\"\",'AR8 (b)'!E49)","v":""},{"$f":"IF('AR8 (b)'!F49=\"\",\"\",'AR8 (b)'!F49)","v":""},{"$f":"IF('AR8 (b)'!G49=\"\",\"\",'AR8 (b)'!G49)","v":""},{"$f":"IF('AR8 (b)'!H49=\"\",\"\",'AR8 (b)'!H49)","v":""},null,null,null,"December",{"$f":"IF('AR10 (b)'!B25=\"\",\"\",'AR10 (b)'!B25)","v":""},{"$f":"IF('AR10 (b)'!C25=\"\",\"\",'AR10 (b)'!C25)","v":""},{"$f":"IF('AR10 (b)'!D25=\"\",\"\",'AR10 (b)'!D25)","v":""},{"$f":"IF('AR10 (b)'!E25=\"\",\"\",'AR10 (b)'!E25)","v":""},{"$f":"IF('AR10 (b)'!F25=\"\",\"\",'AR10 (b)'!F25)","v":""}]
["TOTAL",{"$f":"SUM(B12:B23)","v":0},0,0,0,0,0,0]
[]
[]
["If yes, are the fire flow requirements? ",null,null,null,{"$f":"'AR10 (b)'!E28","v":0},"GPM for",{"$f":"'AR10 (b)'!G28","v":0},"hrs."]
[]
["Does the system have chlorination treatment?",null,null,null,null,{"$f":"'AR10 (b)'!E30","v":0}]
[]
["Is the Water Utility located in an ADWR Active Management Area (AMA)?",null,null,null,null,{"$f":"'AR10 (b)'!F35","v":0}]
["If yes, which AMA?",null,null,null,null,{"$f":"'AR10 (b)'!F36","v":0}]
[]
["Does the Company have an ADWR Gallons Per Capita Per Day (GCPCPD) requirement?",null,null,null,null,{"$f":"'AR10 (b)'!F32","v":0}]
["If yes, provide the GPCPD amount:",null,{"$f":"'AR10 (b)'!C33","v":0}]
[]
["If applicable, in the space below, please provide a description for all estimated authorized un-metered use along with specific amounts:"]
[]
[{"$f":"IF('AR8 (b)'!A54=\"\",\"\",'AR8 (b)'!A54)","v":""}]
[]
[]
[]
[]
[]
[]
[]
["1 Water withdrawn - Total acre feet of water withdrawn from pumped sources."]
["2 Water sold - Total acre feet from customer meters, and other sales such as construction water."]
["3 Water delivered (sold) to other systems - Total acre feet of water delivered to other systems. "]
["4 Water received (purchased) from other systems - Total acre feet of water purchased/received from other systems."]
["5 Estimated authorized use - Total estimated acre feet from authorized metered or unmetered use.  Authorized uses such as flushing (mains, services and hydrants) draining/cleaning tanks, process, construction, fire fighting, etc.  Non-authorized use (real losses) are service line breaks and leaks, water main breaks, meter inaccuracies and theft."]
[]
["6 Enter the total purchased power costs for the power meters associated with this system."]
["7 Enter the total purchased kWh used by the power meters associated with this system."]
[null,null,null,null,null,null,null,null,{"$f":"\"Page \" &I56&\"b\"","v":"Page 24b"},null,null,null,null,null,null,null,null,{"$f":"\"Page \" &R56&\"b\"","v":"Page 25b"}]
[null,null,null,null,null,null,null,null,{"$f":"'Sch 4'!E55+1","v":24},null,null,null,null,null,null,null,null,{"$f":"I56+1","v":25}]
[]
[]
[]
[{"$f":"IF(C24=(D24+E24),\"The Gallons pumped should not be equal to the gallons sold.  There is a potentially significant problem, please investigate and explain.\",IF((D24+E24)<C24,\"The Gallons pumped should not be less than the gallons sold.  There is a potentially significant problem, please investigate and explain..\",\"\"))","v":"The Gallons pumped should not be equal to the gallons sold.  There is a potentially significant problem, please investigate and explain."}]
[]
[]
[{"$f":"\"Note: This page automatically populates with information from your annual report \"&#REF!","v":{"$error":"#REF!"}}]
[]
["Note 2: If you are filing for more than one system, please provide separate data sheets for each system, by copying and pasting this sheet as many times as is necessary. For explanation of any of the above, please contact the Engineering Supervisor at 602-542-7277."]

{"sheet":"Sch 5 (c)","index":64,"n_rows":65,"n_cols":19,"rows_kept":65,"cut":false,"hidden":true,"merged":[[5,0,5,7],[5,10,5,16],[7,0,7,1],[7,2,7,4],[7,10,7,11],[7,12,7,15],[38,0,42,8],[8,0,8,1],[8,10,8,11],[9,0,9,1],[9,10,9,11],[26,0,26,3],[28,0,28,4],[30,0,30,4],[31,0,31,4],[33,0,33,4],[34,0,34,1],[36,0,37,8],[53,0,53,8],[59,0,60,8],[62,0,62,8],[64,0,66,8],[46,0,46,8],[47,0,47,8],[48,0,48,8],[49,0,49,8],[50,0,51,8],[52,0,52,8]]}
[{"$f":"'AR1'!$B$12","v":0},null,null,null,null,null,null,null,{"$f":"'Sch Title'!$A$21&\"c\"","v":"Schedule 5c"},null,{"$f":"A1","v":0},null,null,null,null,null,null,{"$f":"'Sch Title'!$A$21&\"c\"","v":"Schedule 5c"},"Table of contents"]
[{"$f":"'Sch Title'!$A$2","v":"Short Form Rate Application"},null,null,null,null,null,null,null,{"$f":"\" Short Form Rate Application Page No. \"&I56","v":" Short Form Rate Application Page No. 24"},null,{"$f":"A2","v":"Short Form Rate Application"},null,null,null,null,null,null,{"$f":"\" Short Form Rate Application Page No. \"&R56","v":" Short Form Rate Application Page No. 25"}]
[{"$f":"Sch7_WatUse","v":"WATER USE DATA SHEET"},null,null,null,null,null,null,null,null,null,"WATER USE DATA SHEET"]
[{"$f":"'Sch Title'!$A$4","v":"Test Year Ended 12/31/20"},null,null,null,null,null,null,null,null,null,"Test Year Ended 12/31/20"]
[]
["WATER USE DATA SHEET",null,null,null,null,null,null,null,null,null,"CUSTOMER DATA SHEET"]
[]
["Name of the System:",null,{"$f":" 'AR8 (c)'!C7","v":0},null,null,null,null,null,null,null,"Name of the System:",null,{"$f":"C8","v":0}]
["ADEQ Public Water System Number:",null,{"$f":"'AR8 (c)'!D8","v":""},null,null,null,null,null,null,null,"ADEQ Public Water System Number:",null,{"$f":"C9","v":""}]
["ADWR PCC Number:",null,{"$f":"'AR8 (c)'!D9","v":""},null,null,null,null,null,null,null,"ADWR PCC Number:",null,{"$f":"C10","v":""}]
["(12 Months of Test Year)",{"$f":"'Sch 5'!B11","v":"Water withdrawn (gallons)1"},{"$f":"'Sch 5'!C11","v":"Water sold (gallons)2"},{"$f":"'Sch 5'!D11","v":"Water delivered (sold) to other systems (gallons)3"},{"$f":"'Sch 5'!E11","v":"Water received (purchased) from other systems (gallons)4"},{"$f":"'Sch 5'!F11","v":"Estimated authorized use (gallons)5"},"Purchased Power Expense6","Purchased Power (kWh)7",null,null,null,"Month","Single-Family","Multi-Family","Commercial","Turf/Irrigation","Other Non-Residential"]
["January",{"$f":"IF('AR8 (c)'!B38=\"\",\"\",'AR8 (c)'!B38)","v":""},{"$f":"IF('AR8 (c)'!C38=\"\",\"\",'AR8 (c)'!C38)","v":""},{"$f":"IF('AR8 (c)'!D38=\"\",\"\",'AR8 (c)'!D38)","v":""},{"$f":"IF('AR8 (c)'!E38=\"\",\"\",'AR8 (c)'!E38)","v":""},{"$f":"IF('AR8 (c)'!F38=\"\",\"\",'AR8 (c)'!F38)","v":""},{"$f":"IF('AR8 (c)'!G38=\"\",\"\",'AR8 (c)'!G38)","v":""},{"$f":"IF('AR8 (c)'!H38=\"\",\"\",'AR8 (c)'!H38)","v":""},null,null,null,"January",{"$f":"IF('AR10 (c)'!B14=\"\",\"\",'AR10 (c)'!B14)","v":""},{"$f":"IF('AR10 (c)'!C14=\"\",\"\",'AR10 (c)'!C14)","v":""},{"$f":"IF('AR10 (c)'!D14=\"\",\"\",'AR10 (c)'!D14)","v":""},{"$f":"IF('AR10 (c)'!E14=\"\",\"\",'AR10 (c)'!E14)","v":""},{"$f":"IF('AR10 (c)'!F14=\"\",\"\",'AR10 (c)'!F14)","v":""}]
["February",{"$f":"IF('AR8 (c)'!B39=\"\",\"\",'AR8 (c)'!B39)","v":""},{"$f":"IF('AR8 (c)'!C39=\"\",\"\",'AR8 (c)'!C39)","v":""},{"$f":"IF('AR8 (c)'!D39=\"\",\"\",'AR8 (c)'!D39)","v":""},{"$f":"IF('AR8 (c)'!E39=\"\",\"\",'AR8 (c)'!E39)","v":""},{"$f":"IF('AR8 (c)'!F39=\"\",\"\",'AR8 (c)'!F39)","v":""},{"$f":"IF('AR8 (c)'!G39=\"\",\"\",'AR8 (c)'!G39)","v":""},{"$f":"IF('AR8 (c)'!H39=\"\",\"\",'AR8 (c)'!H39)","v":""},null,null,null,"February",{"$f":"IF('AR10 (c)'!B15=\"\",\"\",'AR10 (c)'!B15)","v":""},{"$f":"IF('AR10 (c)'!C15=\"\",\"\",'AR10 (c)'!C15)","v":""},{"$f":"IF('AR10 (c)'!D15=\"\",\"\",'AR10 (c)'!D15)","v":""},{"$f":"IF('AR10 (c)'!E15=\"\",\"\",'AR10 (c)'!E15)","v":""},{"$f":"IF('AR10 (c)'!F15=\"\",\"\",'AR10 (c)'!F15)","v":""}]
["March",{"$f":"IF('AR8 (c)'!B40=\"\",\"\",'AR8 (c)'!B40)","v":""},{"$f":"IF('AR8 (c)'!C40=\"\",\"\",'AR8 (c)'!C40)","v":""},{"$f":"IF('AR8 (c)'!D40=\"\",\"\",'AR8 (c)'!D40)","v":""},{"$f":"IF('AR8 (c)'!E40=\"\",\"\",'AR8 (c)'!E40)","v":""},{"$f":"IF('AR8 (c)'!F40=\"\",\"\",'AR8 (c)'!F40)","v":""},{"$f":"IF('AR8 (c)'!G40=\"\",\"\",'AR8 (c)'!G40)","v":""},{"$f":"IF('AR8 (c)'!H40=\"\",\"\",'AR8 (c)'!H40)","v":""},null,null,null,"March",{"$f":"IF('AR10 (c)'!B16=\"\",\"\",'AR10 (c)'!B16)","v":""},{"$f":"IF('AR10 (c)'!C16=\"\",\"\",'AR10 (c)'!C16)","v":""},{"$f":"IF('AR10 (c)'!D16=\"\",\"\",'AR10 (c)'!D16)","v":""},{"$f":"IF('AR10 (c)'!E16=\"\",\"\",'AR10 (c)'!E16)","v":""},{"$f":"IF('AR10 (c)'!F16=\"\",\"\",'AR10 (c)'!F16)","v":""}]
["April",{"$f":"IF('AR8 (c)'!B41=\"\",\"\",'AR8 (c)'!B41)","v":""},{"$f":"IF('AR8 (c)'!C41=\"\",\"\",'AR8 (c)'!C41)","v":""},{"$f":"IF('AR8 (c)'!D41=\"\",\"\",'AR8 (c)'!D41)","v":""},{"$f":"IF('AR8 (c)'!E41=\"\",\"\",'AR8 (c)'!E41)","v":""},{"$f":"IF('AR8 (c)'!F41=\"\",\"\",'AR8 (c)'!F41)","v":""},{"$f":"IF('AR8 (c)'!G41=\"\",\"\",'AR8 (c)'!G41)","v":""},{"$f":"IF('AR8 (c)'!H41=\"\",\"\",'AR8 (c)'!H41)","v":""},null,null,null,"April",{"$f":"IF('AR10 (c)'!B17=\"\",\"\",'AR10 (c)'!B17)","v":""},{"$f":"IF('AR10 (c)'!C17=\"\",\"\",'AR10 (c)'!C17)","v":""},{"$f":"IF('AR10 (c)'!D17=\"\",\"\",'AR10 (c)'!D17)","v":""},{"$f":"IF('AR10 (c)'!E17=\"\",\"\",'AR10 (c)'!E17)","v":""},{"$f":"IF('AR10 (c)'!F17=\"\",\"\",'AR10 (c)'!F17)","v":""}]
["May",{"$f":"IF('AR8 (c)'!B42=\"\",\"\",'AR8 (c)'!B42)","v":""},{"$f":"IF('AR8 (c)'!C42=\"\",\"\",'AR8 (c)'!C42)","v":""},{"$f":"IF('AR8 (c)'!D42=\"\",\"\",'AR8 (c)'!D42)","v":""},{"$f":"IF('AR8 (c)'!E42=\"\",\"\",'AR8 (c)'!E42)","v":""},{"$f":"IF('AR8 (c)'!F42=\"\",\"\",'AR8 (c)'!F42)","v":""},{"$f":"IF('AR8 (c)'!G42=\"\",\"\",'AR8 (c)'!G42)","v":""},{"$f":"IF('AR8 (c)'!H42=\"\",\"\",'AR8 (c)'!H42)","v":""},null,null,null,"May",{"$f":"IF('AR10 (c)'!B18=\"\",\"\",'AR10 (c)'!B18)","v":""},{"$f":"IF('AR10 (c)'!C18=\"\",\"\",'AR10 (c)'!C18)","v":""},{"$f":"IF('AR10 (c)'!D18=\"\",\"\",'AR10 (c)'!D18)","v":""},{"$f":"IF('AR10 (c)'!E18=\"\",\"\",'AR10 (c)'!E18)","v":""},{"$f":"IF('AR10 (c)'!F18=\"\",\"\",'AR10 (c)'!F18)","v":""}]
["June",{"$f":"IF('AR8 (c)'!B43=\"\",\"\",'AR8 (c)'!B43)","v":""},{"$f":"IF('AR8 (c)'!C43=\"\",\"\",'AR8 (c)'!C43)","v":""},{"$f":"IF('AR8 (c)'!D43=\"\",\"\",'AR8 (c)'!D43)","v":""},{"$f":"IF('AR8 (c)'!E43=\"\",\"\",'AR8 (c)'!E43)","v":""},{"$f":"IF('AR8 (c)'!F43=\"\",\"\",'AR8 (c)'!F43)","v":""},{"$f":"IF('AR8 (c)'!G43=\"\",\"\",'AR8 (c)'!G43)","v":""},{"$f":"IF('AR8 (c)'!H43=\"\",\"\",'AR8 (c)'!H43)","v":""},null,null,null,"June",{"$f":"IF('AR10 (c)'!B19=\"\",\"\",'AR10 (c)'!B19)","v":""},{"$f":"IF('AR10 (c)'!C19=\"\",\"\",'AR10 (c)'!C19)","v":""},{"$f":"IF('AR10 (c)'!D19=\"\",\"\",'AR10 (c)'!D19)","v":""},{"$f":"IF('AR10 (c)'!E19=\"\",\"\",'AR10 (c)'!E19)","v":""},{"$f":"IF('AR10 (c)'!F19=\"\",\"\",'AR10 (c)'!F19)","v":""}]
["July",{"$f":"IF('AR8 (c)'!B44=\"\",\"\",'AR8 (c)'!B44)","v":""},{"$f":"IF('AR8 (c)'!C44=\"\",\"\",'AR8 (c)'!C44)","v":""},{"$f":"IF('AR8 (c)'!D44=\"\",\"\",'AR8 (c)'!D44)","v":""},{"$f":"IF('AR8 (c)'!E44=\"\",\"\",'AR8 (c)'!E44)","v":""},{"$f":"IF('AR8 (c)'!F44=\"\",\"\",'AR8 (c)'!F44)","v":""},{"$f":"IF('AR8 (c)'!G44=\"\",\"\",'AR8 (c)'!G44)","v":""},{"$f":"IF('AR8 (c)'!H44=\"\",\"\",'AR8 (c)'!H44)","v":""},null,null,null,"July",{"$f":"IF('AR10 (c)'!B20=\"\",\"\",'AR10 (c)'!B20)","v":""},{"$f":"IF('AR10 (c)'!C20=\"\",\"\",'AR10 (c)'!C20)","v":""},{"$f":"IF('AR10 (c)'!D20=\"\",\"\",'AR10 (c)'!D20)","v":""},{"$f":"IF('AR10 (c)'!E20=\"\",\"\",'AR10 (c)'!E20)","v":""},{"$f":"IF('AR10 (c)'!F20=\"\",\"\",'AR10 (c)'!F20)","v":""}]
["August",{"$f":"IF('AR8 (c)'!B45=\"\",\"\",'AR8 (c)'!B45)","v":""},{"$f":"IF('AR8 (c)'!C45=\"\",\"\",'AR8 (c)'!C45)","v":""},{"$f":"IF('AR8 (c)'!D45=\"\",\"\",'AR8 (c)'!D45)","v":""},{"$f":"IF('AR8 (c)'!E45=\"\",\"\",'AR8 (c)'!E45)","v":""},{"$f":"IF('AR8 (c)'!F45=\"\",\"\",'AR8 (c)'!F45)","v":""},{"$f":"IF('AR8 (c)'!G45=\"\",\"\",'AR8 (c)'!G45)","v":""},{"$f":"IF('AR8 (c)'!H45=\"\",\"\",'AR8 (c)'!H45)","v":""},null,null,null,"August",{"$f":"IF('AR10 (c)'!B21=\"\",\"\",'AR10 (c)'!B21)","v":""},{"$f":"IF('AR10 (c)'!C21=\"\",\"\",'AR10 (c)'!C21)","v":""},{"$f":"IF('AR10 (c)'!D21=\"\",\"\",'AR10 (c)'!D21)","v":""},{"$f":"IF('AR10 (c)'!E21=\"\",\"\",'AR10 (c)'!E21)","v":""},{"$f":"IF('AR10 (c)'!F21=\"\",\"\",'AR10 (c)'!F21)","v":""}]
["September",{"$f":"IF('AR8 (c)'!B46=\"\",\"\",'AR8 (c)'!B46)","v":""},{"$f":"IF('AR8 (c)'!C46=\"\",\"\",'AR8 (c)'!C46)","v":""},{"$f":"IF('AR8 (c)'!D46=\"\",\"\",'AR8 (c)'!D46)","v":""},{"$f":"IF('AR8 (c)'!E46=\"\",\"\",'AR8 (c)'!E46)","v":""},{"$f":"IF('AR8 (c)'!F46=\"\",\"\",'AR8 (c)'!F46)","v":""},{"$f":"IF('AR8 (c)'!G46=\"\",\"\",'AR8 (c)'!G46)","v":""},{"$f":"IF('AR8 (c)'!H46=\"\",\"\",'AR8 (c)'!H46)","v":""},null,null,null,"September",{"$f":"IF('AR10 (c)'!B22=\"\",\"\",'AR10 (c)'!B22)","v":""},{"$f":"IF('AR10 (c)'!C22=\"\",\"\",'AR10 (c)'!C22)","v":""},{"$f":"IF('AR10 (c)'!D22=\"\",\"\",'AR10 (c)'!D22)","v":""},{"$f":"IF('AR10 (c)'!E22=\"\",\"\",'AR10 (c)'!E22)","v":""},{"$f":"IF('AR10 (c)'!F22=\"\",\"\",'AR10 (c)'!F22)","v":""}]
["October",{"$f":"IF('AR8 (c)'!B47=\"\",\"\",'AR8 (c)'!B47)","v":""},{"$f":"IF('AR8 (c)'!C47=\"\",\"\",'AR8 (c)'!C47)","v":""},{"$f":"IF('AR8 (c)'!D47=\"\",\"\",'AR8 (c)'!D47)","v":""},{"$f":"IF('AR8 (c)'!E47=\"\",\"\",'AR8 (c)'!E47)","v":""},{"$f":"IF('AR8 (c)'!F47=\"\",\"\",'AR8 (c)'!F47)","v":""},{"$f":"IF('AR8 (c)'!G47=\"\",\"\",'AR8 (c)'!G47)","v":""},{"$f":"IF('AR8 (c)'!H47=\"\",\"\",'AR8 (c)'!H47)","v":""},null,null,null,"October",{"$f":"IF('AR10 (c)'!B23=\"\",\"\",'AR10 (c)'!B23)","v":""},{"$f":"IF('AR10 (c)'!C23=\"\",\"\",'AR10 (c)'!C23)","v":""},{"$f":"IF('AR10 (c)'!D23=\"\",\"\",'AR10 (c)'!D23)","v":""},{"$f":"IF('AR10 (c)'!E23=\"\",\"\",'AR10 (c)'!E23)","v":""},{"$f":"IF('AR10 (c)'!F23=\"\",\"\",'AR10 (c)'!F23)","v":""}]
["November",{"$f":"IF('AR8 (c)'!B48=\"\",\"\",'AR8 (c)'!B48)","v":""},{"$f":"IF('AR8 (c)'!C48=\"\",\"\",'AR8 (c)'!C48)","v":""},{"$f":"IF('AR8 (c)'!D48=\"\",\"\",'AR8 (c)'!D48)","v":""},{"$f":"IF('AR8 (c)'!E48=\"\",\"\",'AR8 (c)'!E48)","v":""},{"$f":"IF('AR8 (c)'!F48=\"\",\"\",'AR8 (c)'!F48)","v":""},{"$f":"IF('AR8 (c)'!G48=\"\",\"\",'AR8 (c)'!G48)","v":""},{"$f":"IF('AR8 (c)'!H48=\"\",\"\",'AR8 (c)'!H48)","v":""},null,null,null,"November",{"$f":"IF('AR10 (c)'!B24=\"\",\"\",'AR10 (c)'!B24)","v":""},{"$f":"IF('AR10 (c)'!C24=\"\",\"\",'AR10 (c)'!C24)","v":""},{"$f":"IF('AR10 (c)'!D24=\"\",\"\",'AR10 (c)'!D24)","v":""},{"$f":"IF('AR10 (c)'!E24=\"\",\"\",'AR10 (c)'!E24)","v":""},{"$f":"IF('AR10 (c)'!F24=\"\",\"\",'AR10 (c)'!F24)","v":""}]
["December",{"$f":"IF('AR8 (c)'!B49=\"\",\"\",'AR8 (c)'!B49)","v":""},{"$f":"IF('AR8 (c)'!C49=\"\",\"\",'AR8 (c)'!C49)","v":""},{"$f":"IF('AR8 (c)'!D49=\"\",\"\",'AR8 (c)'!D49)","v":""},{"$f":"IF('AR8 (c)'!E49=\"\",\"\",'AR8 (c)'!E49)","v":""},{"$f":"IF('AR8 (c)'!F49=\"\",\"\",'AR8 (c)'!F49)","v":""},{"$f":"IF('AR8 (c)'!G49=\"\",\"\",'AR8 (c)'!G49)","v":""},{"$f":"IF('AR8 (c)'!H49=\"\",\"\",'AR8 (c)'!H49)","v":""},null,null,null,"December",{"$f":"IF('AR10 (c)'!B25=\"\",\"\",'AR10 (c)'!B25)","v":""},{"$f":"IF('AR10 (c)'!C25=\"\",\"\",'AR10 (c)'!C25)","v":""},{"$f":"IF('AR10 (c)'!D25=\"\",\"\",'AR10 (c)'!D25)","v":""},{"$f":"IF('AR10 (c)'!E25=\"\",\"\",'AR10 (c)'!E25)","v":""},{"$f":"IF('AR10 (c)'!F25=\"\",\"\",'AR10 (c)'!F25)","v":""}]
["TOTAL",{"$f":"SUM(B12:B23)","v":0},0,0,0,0,0,0]
[]
[]
["If yes, are the fire flow requirements? ",null,null,null,{"$f":"'AR10 (c)'!E28","v":0},"GPM for",{"$f":"'AR10 (c)'!G28","v":0},"hrs."]
[]
["Does the system have chlorination treatment?",null,null,null,null,{"$f":"'AR10 (c)'!E30","v":0}]
[]
["Is the Water Utility located in an ADWR Active Management Area (AMA)?",null,null,null,null,{"$f":"'AR10 (c)'!F35","v":0}]
["If yes, which AMA?",null,null,null,null,{"$f":"'AR10 (c)'!F36","v":0}]
[]
["Does the Company have an ADWR Gallons Per Capita Per Day (GCPCPD) requirement?",null,null,null,null,{"$f":"'AR10 (c)'!F32","v":0}]
["If yes, provide the GPCPD amount:",null,{"$f":"'AR10 (c)'!C33","v":0}]
[]
["If applicable, in the space below, please provide a description for all estimated authorized un-metered use along with specific amounts:"]
[]
[{"$f":"IF('AR8 (c)'!A54=\"\",\"\",'AR8 (c)'!A54)","v":""}]
[]
[]
[]
[]
[]
[]
[]
["1 Water withdrawn - Total acre feet of water withdrawn from pumped sources."]
["2 Water sold - Total acre feet from customer meters, and other sales such as construction water."]
["3 Water delivered (sold) to other systems - Total acre feet of water delivered to other systems. "]
["4 Water received (purchased) from other systems - Total acre feet of water purchased/received from other systems."]
["5 Estimated authorized use - Total estimated acre feet from authorized metered or unmetered use.  Authorized uses such as flushing (mains, services and hydrants) draining/cleaning tanks, process, construction, fire fighting, etc.  Non-authorized use (real losses) are service line breaks and leaks, water main breaks, meter inaccuracies and theft."]
[]
["6 Enter the total purchased power costs for the power meters associated with this system."]
["7 Enter the total purchased kWh used by the power meters associated with this system."]
[null,null,null,null,null,null,null,null,{"$f":"\"Page \" &I56&\"c\"","v":"Page 24c"},null,null,null,null,null,null,null,null,{"$f":"\"Page \" &R56&\"c\"","v":"Page 25c"}]
[null,null,null,null,null,null,null,null,{"$f":"'Sch 4'!E55+1","v":24},null,null,null,null,null,null,null,null,{"$f":"I56+1","v":25}]
[]
[]
[]
[{"$f":"IF(C24=(D24+E24),\"The Gallons pumped should not be equal to the gallons sold.  There is a potentially significant problem, please investigate and explain.\",IF((D24+E24)<C24,\"The Gallons pumped should not be less than the gallons sold.  There is a potentially significant problem, please investigate and explain..\",\"\"))","v":"The Gallons pumped should not be equal to the gallons sold.  There is a potentially significant problem, please investigate and explain."}]
[]
[]
[{"$f":"\"Note: This page automatically populates with information from your annual report \"&#REF!","v":{"$error":"#REF!"}}]
[]
["Note 2: If you are filing for more than one system, please provide separate data sheets for each system, by copying and pasting this sheet as many times as is necessary. For explanation of any of the above, please contact the Engineering Supervisor at 602-542-7277."]

{"sheet":"Sch 5 (d)","index":65,"n_rows":65,"n_cols":19,"rows_kept":65,"cut":false,"hidden":true,"merged":[[5,0,5,7],[5,10,5,16],[7,0,7,1],[7,2,7,4],[7,10,7,11],[7,12,7,15],[38,0,42,8],[8,0,8,1],[8,10,8,11],[9,0,9,1],[9,10,9,11],[26,0,26,3],[28,0,28,4],[30,0,30,4],[31,0,31,4],[33,0,33,4],[34,0,34,1],[36,0,37,8],[53,0,53,8],[59,0,60,8],[62,0,62,8],[64,0,66,8],[46,0,46,8],[47,0,47,8],[48,0,48,8],[49,0,49,8],[50,0,51,8],[52,0,52,8]]}
[{"$f":"'AR1'!$B$12","v":0},null,null,null,null,null,null,null,{"$f":"'Sch Title'!$A$21&\"d\"","v":"Schedule 5d"},null,{"$f":"A1","v":0},null,null,null,null,null,null,{"$f":"'Sch Title'!$A$21&\"d\"","v":"Schedule 5d"},"Table of contents"]
[{"$f":"'Sch Title'!$A$2","v":"Short Form Rate Application"},null,null,null,null,null,null,null,{"$f":"\" Short Form Rate Application Page No. \"&I56","v":" Short Form Rate Application Page No. 24"},null,{"$f":"A2","v":"Short Form Rate Application"},null,null,null,null,null,null,{"$f":"\" Short Form Rate Application Page No. \"&R56","v":" Short Form Rate Application Page No. 25"}]
[{"$f":"Sch7_WatUse","v":"WATER USE DATA SHEET"},null,null,null,null,null,null,null,null,null,"WATER USE DATA SHEET"]
[{"$f":"'Sch Title'!$A$4","v":"Test Year Ended 12/31/20"},null,null,null,null,null,null,null,null,null,"Test Year Ended 12/31/20"]
[]
["WATER USE DATA SHEET",null,null,null,null,null,null,null,null,null,"CUSTOMER DATA SHEET"]
[]
["Name of the System:",null,{"$f":" 'AR8 (d)'!C7","v":0},null,null,null,null,null,null,null,"Name of the System:",null,{"$f":"C8","v":0}]
["ADEQ Public Water System Number:",null,{"$f":"'AR8 (d)'!D8","v":""},null,null,null,null,null,null,null,"ADEQ Public Water System Number:",null,{"$f":"C9","v":""}]
["ADWR PCC Number:",null,{"$f":"'AR8 (d)'!D9","v":""},null,null,null,null,null,null,null,"ADWR PCC Number:",null,{"$f":"C10","v":""}]
["(12 Months of Test Year)",{"$f":"'Sch 5'!B11","v":"Water withdrawn (gallons)1"},{"$f":"'Sch 5'!C11","v":"Water sold (gallons)2"},{"$f":"'Sch 5'!D11","v":"Water delivered (sold) to other systems (gallons)3"},{"$f":"'Sch 5'!E11","v":"Water received (purchased) from other systems (gallons)4"},{"$f":"'Sch 5'!F11","v":"Estimated authorized use (gallons)5"},"Purchased Power Expense6","Purchased Power (kWh)7",null,null,null,"Month","Single-Family","Multi-Family","Commercial","Turf/Irrigation","Other Non-Residential"]
["January",{"$f":"IF('AR8 (d)'!B38=\"\",\"\",'AR8 (d)'!B38)","v":""},{"$f":"IF('AR8 (d)'!C38=\"\",\"\",'AR8 (d)'!C38)","v":""},{"$f":"IF('AR8 (d)'!D38=\"\",\"\",'AR8 (d)'!D38)","v":""},{"$f":"IF('AR8 (d)'!E38=\"\",\"\",'AR8 (d)'!E38)","v":""},{"$f":"IF('AR8 (d)'!F38=\"\",\"\",'AR8 (d)'!F38)","v":""},{"$f":"IF('AR8 (d)'!G38=\"\",\"\",'AR8 (d)'!G38)","v":""},{"$f":"IF('AR8 (d)'!H38=\"\",\"\",'AR8 (d)'!H38)","v":""},null,null,null,"January",{"$f":"IF('AR10 (d)'!B14=\"\",\"\",'AR10 (d)'!B14)","v":""},{"$f":"IF('AR10 (d)'!C14=\"\",\"\",'AR10 (d)'!C14)","v":""},{"$f":"IF('AR10 (d)'!D14=\"\",\"\",'AR10 (d)'!D14)","v":""},{"$f":"IF('AR10 (d)'!E14=\"\",\"\",'AR10 (d)'!E14)","v":""},{"$f":"IF('AR10 (d)'!F14=\"\",\"\",'AR10 (d)'!F14)","v":""}]
["February",{"$f":"IF('AR8 (d)'!B39=\"\",\"\",'AR8 (d)'!B39)","v":""},{"$f":"IF('AR8 (d)'!C39=\"\",\"\",'AR8 (d)'!C39)","v":""},{"$f":"IF('AR8 (d)'!D39=\"\",\"\",'AR8 (d)'!D39)","v":""},{"$f":"IF('AR8 (d)'!E39=\"\",\"\",'AR8 (d)'!E39)","v":""},{"$f":"IF('AR8 (d)'!F39=\"\",\"\",'AR8 (d)'!F39)","v":""},{"$f":"IF('AR8 (d)'!G39=\"\",\"\",'AR8 (d)'!G39)","v":""},{"$f":"IF('AR8 (d)'!H39=\"\",\"\",'AR8 (d)'!H39)","v":""},null,null,null,"February",{"$f":"IF('AR10 (d)'!B15=\"\",\"\",'AR10 (d)'!B15)","v":""},{"$f":"IF('AR10 (d)'!C15=\"\",\"\",'AR10 (d)'!C15)","v":""},{"$f":"IF('AR10 (d)'!D15=\"\",\"\",'AR10 (d)'!D15)","v":""},{"$f":"IF('AR10 (d)'!E15=\"\",\"\",'AR10 (d)'!E15)","v":""},{"$f":"IF('AR10 (d)'!F15=\"\",\"\",'AR10 (d)'!F15)","v":""}]
["March",{"$f":"IF('AR8 (d)'!B40=\"\",\"\",'AR8 (d)'!B40)","v":""},{"$f":"IF('AR8 (d)'!C40=\"\",\"\",'AR8 (d)'!C40)","v":""},{"$f":"IF('AR8 (d)'!D40=\"\",\"\",'AR8 (d)'!D40)","v":""},{"$f":"IF('AR8 (d)'!E40=\"\",\"\",'AR8 (d)'!E40)","v":""},{"$f":"IF('AR8 (d)'!F40=\"\",\"\",'AR8 (d)'!F40)","v":""},{"$f":"IF('AR8 (d)'!G40=\"\",\"\",'AR8 (d)'!G40)","v":""},{"$f":"IF('AR8 (d)'!H40=\"\",\"\",'AR8 (d)'!H40)","v":""},null,null,null,"March",{"$f":"IF('AR10 (d)'!B16=\"\",\"\",'AR10 (d)'!B16)","v":""},{"$f":"IF('AR10 (d)'!C16=\"\",\"\",'AR10 (d)'!C16)","v":""},{"$f":"IF('AR10 (d)'!D16=\"\",\"\",'AR10 (d)'!D16)","v":""},{"$f":"IF('AR10 (d)'!E16=\"\",\"\",'AR10 (d)'!E16)","v":""},{"$f":"IF('AR10 (d)'!F16=\"\",\"\",'AR10 (d)'!F16)","v":""}]
["April",{"$f":"IF('AR8 (d)'!B41=\"\",\"\",'AR8 (d)'!B41)","v":""},{"$f":"IF('AR8 (d)'!C41=\"\",\"\",'AR8 (d)'!C41)","v":""},{"$f":"IF('AR8 (d)'!D41=\"\",\"\",'AR8 (d)'!D41)","v":""},{"$f":"IF('AR8 (d)'!E41=\"\",\"\",'AR8 (d)'!E41)","v":""},{"$f":"IF('AR8 (d)'!F41=\"\",\"\",'AR8 (d)'!F41)","v":""},{"$f":"IF('AR8 (d)'!G41=\"\",\"\",'AR8 (d)'!G41)","v":""},{"$f":"IF('AR8 (d)'!H41=\"\",\"\",'AR8 (d)'!H41)","v":""},null,null,null,"April",{"$f":"IF('AR10 (d)'!B17=\"\",\"\",'AR10 (d)'!B17)","v":""},{"$f":"IF('AR10 (d)'!C17=\"\",\"\",'AR10 (d)'!C17)","v":""},{"$f":"IF('AR10 (d)'!D17=\"\",\"\",'AR10 (d)'!D17)","v":""},{"$f":"IF('AR10 (d)'!E17=\"\",\"\",'AR10 (d)'!E17)","v":""},{"$f":"IF('AR10 (d)'!F17=\"\",\"\",'AR10 (d)'!F17)","v":""}]
["May",{"$f":"IF('AR8 (d)'!B42=\"\",\"\",'AR8 (d)'!B42)","v":""},{"$f":"IF('AR8 (d)'!C42=\"\",\"\",'AR8 (d)'!C42)","v":""},{"$f":"IF('AR8 (d)'!D42=\"\",\"\",'AR8 (d)'!D42)","v":""},{"$f":"IF('AR8 (d)'!E42=\"\",\"\",'AR8 (d)'!E42)","v":""},{"$f":"IF('AR8 (d)'!F42=\"\",\"\",'AR8 (d)'!F42)","v":""},{"$f":"IF('AR8 (d)'!G42=\"\",\"\",'AR8 (d)'!G42)","v":""},{"$f":"IF('AR8 (d)'!H42=\"\",\"\",'AR8 (d)'!H42)","v":""},null,null,null,"May",{"$f":"IF('AR10 (d)'!B18=\"\",\"\",'AR10 (d)'!B18)","v":""},{"$f":"IF('AR10 (d)'!C18=\"\",\"\",'AR10 (d)'!C18)","v":""},{"$f":"IF('AR10 (d)'!D18=\"\",\"\",'AR10 (d)'!D18)","v":""},{"$f":"IF('AR10 (d)'!E18=\"\",\"\",'AR10 (d)'!E18)","v":""},{"$f":"IF('AR10 (d)'!F18=\"\",\"\",'AR10 (d)'!F18)","v":""}]
["June",{"$f":"IF('AR8 (d)'!B43=\"\",\"\",'AR8 (d)'!B43)","v":""},{"$f":"IF('AR8 (d)'!C43=\"\",\"\",'AR8 (d)'!C43)","v":""},{"$f":"IF('AR8 (d)'!D43=\"\",\"\",'AR8 (d)'!D43)","v":""},{"$f":"IF('AR8 (d)'!E43=\"\",\"\",'AR8 (d)'!E43)","v":""},{"$f":"IF('AR8 (d)'!F43=\"\",\"\",'AR8 (d)'!F43)","v":""},{"$f":"IF('AR8 (d)'!G43=\"\",\"\",'AR8 (d)'!G43)","v":""},{"$f":"IF('AR8 (d)'!H43=\"\",\"\",'AR8 (d)'!H43)","v":""},null,null,null,"June",{"$f":"IF('AR10 (d)'!B19=\"\",\"\",'AR10 (d)'!B19)","v":""},{"$f":"IF('AR10 (d)'!C19=\"\",\"\",'AR10 (d)'!C19)","v":""},{"$f":"IF('AR10 (d)'!D19=\"\",\"\",'AR10 (d)'!D19)","v":""},{"$f":"IF('AR10 (d)'!E19=\"\",\"\",'AR10 (d)'!E19)","v":""},{"$f":"IF('AR10 (d)'!F19=\"\",\"\",'AR10 (d)'!F19)","v":""}]
["July",{"$f":"IF('AR8 (d)'!B44=\"\",\"\",'AR8 (d)'!B44)","v":""},{"$f":"IF('AR8 (d)'!C44=\"\",\"\",'AR8 (d)'!C44)","v":""},{"$f":"IF('AR8 (d)'!D44=\"\",\"\",'AR8 (d)'!D44)","v":""},{"$f":"IF('AR8 (d)'!E44=\"\",\"\",'AR8 (d)'!E44)","v":""},{"$f":"IF('AR8 (d)'!F44=\"\",\"\",'AR8 (d)'!F44)","v":""},{"$f":"IF('AR8 (d)'!G44=\"\",\"\",'AR8 (d)'!G44)","v":""},{"$f":"IF('AR8 (d)'!H44=\"\",\"\",'AR8 (d)'!H44)","v":""},null,null,null,"July",{"$f":"IF('AR10 (d)'!B20=\"\",\"\",'AR10 (d)'!B20)","v":""},{"$f":"IF('AR10 (d)'!C20=\"\",\"\",'AR10 (d)'!C20)","v":""},{"$f":"IF('AR10 (d)'!D20=\"\",\"\",'AR10 (d)'!D20)","v":""},{"$f":"IF('AR10 (d)'!E20=\"\",\"\",'AR10 (d)'!E20)","v":""},{"$f":"IF('AR10 (d)'!F20=\"\",\"\",'AR10 (d)'!F20)","v":""}]
["August",{"$f":"IF('AR8 (d)'!B45=\"\",\"\",'AR8 (d)'!B45)","v":""},{"$f":"IF('AR8 (d)'!C45=\"\",\"\",'AR8 (d)'!C45)","v":""},{"$f":"IF('AR8 (d)'!D45=\"\",\"\",'AR8 (d)'!D45)","v":""},{"$f":"IF('AR8 (d)'!E45=\"\",\"\",'AR8 (d)'!E45)","v":""},{"$f":"IF('AR8 (d)'!F45=\"\",\"\",'AR8 (d)'!F45)","v":""},{"$f":"IF('AR8 (d)'!G45=\"\",\"\",'AR8 (d)'!G45)","v":""},{"$f":"IF('AR8 (d)'!H45=\"\",\"\",'AR8 (d)'!H45)","v":""},null,null,null,"August",{"$f":"IF('AR10 (d)'!B21=\"\",\"\",'AR10 (d)'!B21)","v":""},{"$f":"IF('AR10 (d)'!C21=\"\",\"\",'AR10 (d)'!C21)","v":""},{"$f":"IF('AR10 (d)'!D21=\"\",\"\",'AR10 (d)'!D21)","v":""},{"$f":"IF('AR10 (d)'!E21=\"\",\"\",'AR10 (d)'!E21)","v":""},{"$f":"IF('AR10 (d)'!F21=\"\",\"\",'AR10 (d)'!F21)","v":""}]
["September",{"$f":"IF('AR8 (d)'!B46=\"\",\"\",'AR8 (d)'!B46)","v":""},{"$f":"IF('AR8 (d)'!C46=\"\",\"\",'AR8 (d)'!C46)","v":""},{"$f":"IF('AR8 (d)'!D46=\"\",\"\",'AR8 (d)'!D46)","v":""},{"$f":"IF('AR8 (d)'!E46=\"\",\"\",'AR8 (d)'!E46)","v":""},{"$f":"IF('AR8 (d)'!F46=\"\",\"\",'AR8 (d)'!F46)","v":""},{"$f":"IF('AR8 (d)'!G46=\"\",\"\",'AR8 (d)'!G46)","v":""},{"$f":"IF('AR8 (d)'!H46=\"\",\"\",'AR8 (d)'!H46)","v":""},null,null,null,"September",{"$f":"IF('AR10 (d)'!B22=\"\",\"\",'AR10 (d)'!B22)","v":""},{"$f":"IF('AR10 (d)'!C22=\"\",\"\",'AR10 (d)'!C22)","v":""},{"$f":"IF('AR10 (d)'!D22=\"\",\"\",'AR10 (d)'!D22)","v":""},{"$f":"IF('AR10 (d)'!E22=\"\",\"\",'AR10 (d)'!E22)","v":""},{"$f":"IF('AR10 (d)'!F22=\"\",\"\",'AR10 (d)'!F22)","v":""}]
["October",{"$f":"IF('AR8 (d)'!B47=\"\",\"\",'AR8 (d)'!B47)","v":""},{"$f":"IF('AR8 (d)'!C47=\"\",\"\",'AR8 (d)'!C47)","v":""},{"$f":"IF('AR8 (d)'!D47=\"\",\"\",'AR8 (d)'!D47)","v":""},{"$f":"IF('AR8 (d)'!E47=\"\",\"\",'AR8 (d)'!E47)","v":""},{"$f":"IF('AR8 (d)'!F47=\"\",\"\",'AR8 (d)'!F47)","v":""},{"$f":"IF('AR8 (d)'!G47=\"\",\"\",'AR8 (d)'!G47)","v":""},{"$f":"IF('AR8 (d)'!H47=\"\",\"\",'AR8 (d)'!H47)","v":""},null,null,null,"October",{"$f":"IF('AR10 (d)'!B23=\"\",\"\",'AR10 (d)'!B23)","v":""},{"$f":"IF('AR10 (d)'!C23=\"\",\"\",'AR10 (d)'!C23)","v":""},{"$f":"IF('AR10 (d)'!D23=\"\",\"\",'AR10 (d)'!D23)","v":""},{"$f":"IF('AR10 (d)'!E23=\"\",\"\",'AR10 (d)'!E23)","v":""},{"$f":"IF('AR10 (d)'!F23=\"\",\"\",'AR10 (d)'!F23)","v":""}]
["November",{"$f":"IF('AR8 (d)'!B48=\"\",\"\",'AR8 (d)'!B48)","v":""},{"$f":"IF('AR8 (d)'!C48=\"\",\"\",'AR8 (d)'!C48)","v":""},{"$f":"IF('AR8 (d)'!D48=\"\",\"\",'AR8 (d)'!D48)","v":""},{"$f":"IF('AR8 (d)'!E48=\"\",\"\",'AR8 (d)'!E48)","v":""},{"$f":"IF('AR8 (d)'!F48=\"\",\"\",'AR8 (d)'!F48)","v":""},{"$f":"IF('AR8 (d)'!G48=\"\",\"\",'AR8 (d)'!G48)","v":""},{"$f":"IF('AR8 (d)'!H48=\"\",\"\",'AR8 (d)'!H48)","v":""},null,null,null,"November",{"$f":"IF('AR10 (d)'!B24=\"\",\"\",'AR10 (d)'!B24)","v":""},{"$f":"IF('AR10 (d)'!C24=\"\",\"\",'AR10 (d)'!C24)","v":""},{"$f":"IF('AR10 (d)'!D24=\"\",\"\",'AR10 (d)'!D24)","v":""},{"$f":"IF('AR10 (d)'!E24=\"\",\"\",'AR10 (d)'!E24)","v":""},{"$f":"IF('AR10 (d)'!F24=\"\",\"\",'AR10 (d)'!F24)","v":""}]
["December",{"$f":"IF('AR8 (d)'!B49=\"\",\"\",'AR8 (d)'!B49)","v":""},{"$f":"IF('AR8 (d)'!C49=\"\",\"\",'AR8 (d)'!C49)","v":""},{"$f":"IF('AR8 (d)'!D49=\"\",\"\",'AR8 (d)'!D49)","v":""},{"$f":"IF('AR8 (d)'!E49=\"\",\"\",'AR8 (d)'!E49)","v":""},{"$f":"IF('AR8 (d)'!F49=\"\",\"\",'AR8 (d)'!F49)","v":""},{"$f":"IF('AR8 (d)'!G49=\"\",\"\",'AR8 (d)'!G49)","v":""},{"$f":"IF('AR8 (d)'!H49=\"\",\"\",'AR8 (d)'!H49)","v":""},null,null,null,"December",{"$f":"IF('AR10 (d)'!B25=\"\",\"\",'AR10 (d)'!B25)","v":""},{"$f":"IF('AR10 (d)'!C25=\"\",\"\",'AR10 (d)'!C25)","v":""},{"$f":"IF('AR10 (d)'!D25=\"\",\"\",'AR10 (d)'!D25)","v":""},{"$f":"IF('AR10 (d)'!E25=\"\",\"\",'AR10 (d)'!E25)","v":""},{"$f":"IF('AR10 (d)'!F25=\"\",\"\",'AR10 (d)'!F25)","v":""}]
["TOTAL",{"$f":"SUM(B12:B23)","v":0},0,0,0,0,0,0]
[]
[]
["If yes, are the fire flow requirements? ",null,null,null,{"$f":"'AR10 (d)'!E28","v":0},"GPM for",{"$f":"'AR10 (d)'!G28","v":0},"hrs."]
[]
["Does the system have chlorination treatment?",null,null,null,null,{"$f":"'AR10 (d)'!E30","v":0}]
[]
["Is the Water Utility located in an ADWR Active Management Area (AMA)?",null,null,null,null,{"$f":"'AR10 (d)'!F35","v":0}]
["If yes, which AMA?",null,null,null,null,{"$f":"'AR10 (d)'!F36","v":0}]
[]
["Does the Company have an ADWR Gallons Per Capita Per Day (GCPCPD) requirement?",null,null,null,null,{"$f":"'AR10 (d)'!F32","v":0}]
["If yes, provide the GPCPD amount:",null,{"$f":"'AR10 (d)'!C33","v":0}]
[]
["If applicable, in the space below, please provide a description for all estimated authorized un-metered use along with specific amounts:"]
[]
[{"$f":"IF('AR8 (c)'!A54=\"\",\"\",'AR8 (c)'!A54)","v":""}]
[]
[]
[]
[]
[]
[]
[]
["1 Water withdrawn - Total acre feet of water withdrawn from pumped sources."]
["2 Water sold - Total acre feet from customer meters, and other sales such as construction water."]
["3 Water delivered (sold) to other systems - Total acre feet of water delivered to other systems. "]
["4 Water received (purchased) from other systems - Total acre feet of water purchased/received from other systems."]
["5 Estimated authorized use - Total estimated acre feet from authorized metered or unmetered use.  Authorized uses such as flushing (mains, services and hydrants) draining/cleaning tanks, process, construction, fire fighting, etc.  Non-authorized use (real losses) are service line breaks and leaks, water main breaks, meter inaccuracies and theft."]
[]
["6 Enter the total purchased power costs for the power meters associated with this system."]
["7 Enter the total purchased kWh used by the power meters associated with this system."]
[null,null,null,null,null,null,null,null,{"$f":"\"Page \" &I56&\"d\"","v":"Page 24d"},null,null,null,null,null,null,null,null,{"$f":"\"Page \" &R56&\"d\"","v":"Page 25d"}]
[null,null,null,null,null,null,null,null,{"$f":"'Sch 4'!E55+1","v":24},null,null,null,null,null,null,null,null,{"$f":"I56+1","v":25}]
[]
[]
[]
[{"$f":"IF(C24=(D24+E24),\"The Gallons pumped should not be equal to the gallons sold.  There is a potentially significant problem, please investigate and explain.\",IF((D24+E24)<C24,\"The Gallons pumped should not be less than the gallons sold.  There is a potentially significant problem, please investigate and explain..\",\"\"))","v":"The Gallons pumped should not be equal to the gallons sold.  There is a potentially significant problem, please investigate and explain."}]
[]
[]
[{"$f":"\"Note: This page automatically populates with information from your annual report \"&#REF!","v":{"$error":"#REF!"}}]
[]
["Note 2: If you are filing for more than one system, please provide separate data sheets for each system, by copying and pasting this sheet as many times as is necessary. For explanation of any of the above, please contact the Engineering Supervisor at 602-542-7277."]

{"sheet":"Sch 5 (e)","index":66,"n_rows":65,"n_cols":19,"rows_kept":65,"cut":false,"hidden":true,"merged":[[5,0,5,7],[5,10,5,16],[7,0,7,1],[7,2,7,4],[7,10,7,11],[7,12,7,15],[38,0,42,8],[8,0,8,1],[8,10,8,11],[9,0,9,1],[9,10,9,11],[26,0,26,3],[28,0,28,4],[30,0,30,4],[31,0,31,4],[33,0,33,4],[34,0,34,1],[36,0,37,8],[53,0,53,8],[59,0,60,8],[62,0,62,8],[64,0,66,8],[46,0,46,8],[47,0,47,8],[48,0,48,8],[49,0,49,8],[50,0,51,8],[52,0,52,8]]}
[{"$f":"'AR1'!$B$12","v":0},null,null,null,null,null,null,null,{"$f":"'Sch Title'!$A$21&\"e\"","v":"Schedule 5e"},null,{"$f":"A1","v":0},null,null,null,null,null,null,{"$f":"'Sch Title'!$A$21&\"e\"","v":"Schedule 5e"},"Table of contents"]
[{"$f":"'Sch Title'!$A$2","v":"Short Form Rate Application"},null,null,null,null,null,null,null,{"$f":"\" Short Form Rate Application Page No. \"&I56","v":" Short Form Rate Application Page No. 24"},null,{"$f":"A2","v":"Short Form Rate Application"},null,null,null,null,null,null,{"$f":"\" Short Form Rate Application Page No. \"&R56","v":" Short Form Rate Application Page No. 25"}]
[{"$f":"Sch7_WatUse","v":"WATER USE DATA SHEET"},null,null,null,null,null,null,null,null,null,"WATER USE DATA SHEET"]
[{"$f":"'Sch Title'!$A$4","v":"Test Year Ended 12/31/20"},null,null,null,null,null,null,null,null,null,"Test Year Ended 12/31/20"]
[]
["WATER USE DATA SHEET",null,null,null,null,null,null,null,null,null,"CUSTOMER DATA SHEET"]
[]
["Name of the System:",null,{"$f":" 'AR8 (e)'!C7","v":0},null,null,null,null,null,null,null,"Name of the System:",null,{"$f":"C8","v":0}]
["ADEQ Public Water System Number:",null,{"$f":"'AR8 (e)'!D8","v":""},null,null,null,null,null,null,null,"ADEQ Public Water System Number:",null,{"$f":"C9","v":""}]
["ADWR PCC Number:",null,{"$f":"'AR8 (e)'!D9","v":""},null,null,null,null,null,null,null,"ADWR PCC Number:",null,{"$f":"C10","v":""}]
["(12 Months of Test Year)",{"$f":"'Sch 5'!B11","v":"Water withdrawn (gallons)1"},{"$f":"'Sch 5'!C11","v":"Water sold (gallons)2"},{"$f":"'Sch 5'!D11","v":"Water delivered (sold) to other systems (gallons)3"},{"$f":"'Sch 5'!E11","v":"Water received (purchased) from other systems (gallons)4"},{"$f":"'Sch 5'!F11","v":"Estimated authorized use (gallons)5"},"Purchased Power Expense6","Purchased Power (kWh)7",null,null,null,"Month","Single-Family","Multi-Family","Commercial","Turf/Irrigation","Other Non-Residential"]
["January",{"$f":"IF('AR8 (e)'!B38=\"\",\"\",'AR8 (e)'!B38)","v":""},{"$f":"IF('AR8 (e)'!C38=\"\",\"\",'AR8 (e)'!C38)","v":""},{"$f":"IF('AR8 (e)'!D38=\"\",\"\",'AR8 (e)'!D38)","v":""},{"$f":"IF('AR8 (e)'!E38=\"\",\"\",'AR8 (e)'!E38)","v":""},{"$f":"IF('AR8 (e)'!F38=\"\",\"\",'AR8 (e)'!F38)","v":""},{"$f":"IF('AR8 (e)'!G38=\"\",\"\",'AR8 (e)'!G38)","v":""},{"$f":"IF('AR8 (e)'!H38=\"\",\"\",'AR8 (e)'!H38)","v":""},null,null,null,"January",{"$f":"IF('AR10 (e)'!B14=\"\",\"\",'AR10 (e)'!B14)","v":""},{"$f":"IF('AR10 (e)'!C14=\"\",\"\",'AR10 (e)'!C14)","v":""},{"$f":"IF('AR10 (e)'!D14=\"\",\"\",'AR10 (e)'!D14)","v":""},{"$f":"IF('AR10 (e)'!E14=\"\",\"\",'AR10 (e)'!E14)","v":""},{"$f":"IF('AR10 (e)'!F14=\"\",\"\",'AR10 (e)'!F14)","v":""}]
["February",{"$f":"IF('AR8 (e)'!B39=\"\",\"\",'AR8 (e)'!B39)","v":""},{"$f":"IF('AR8 (e)'!C39=\"\",\"\",'AR8 (e)'!C39)","v":""},{"$f":"IF('AR8 (e)'!D39=\"\",\"\",'AR8 (e)'!D39)","v":""},{"$f":"IF('AR8 (e)'!E39=\"\",\"\",'AR8 (e)'!E39)","v":""},{"$f":"IF('AR8 (e)'!F39=\"\",\"\",'AR8 (e)'!F39)","v":""},{"$f":"IF('AR8 (e)'!G39=\"\",\"\",'AR8 (e)'!G39)","v":""},{"$f":"IF('AR8 (e)'!H39=\"\",\"\",'AR8 (e)'!H39)","v":""},null,null,null,"February",{"$f":"IF('AR10 (e)'!B15=\"\",\"\",'AR10 (e)'!B15)","v":""},{"$f":"IF('AR10 (e)'!C15=\"\",\"\",'AR10 (e)'!C15)","v":""},{"$f":"IF('AR10 (e)'!D15=\"\",\"\",'AR10 (e)'!D15)","v":""},{"$f":"IF('AR10 (e)'!E15=\"\",\"\",'AR10 (e)'!E15)","v":""},{"$f":"IF('AR10 (e)'!F15=\"\",\"\",'AR10 (e)'!F15)","v":""}]
["March",{"$f":"IF('AR8 (e)'!B40=\"\",\"\",'AR8 (e)'!B40)","v":""},{"$f":"IF('AR8 (e)'!C40=\"\",\"\",'AR8 (e)'!C40)","v":""},{"$f":"IF('AR8 (e)'!D40=\"\",\"\",'AR8 (e)'!D40)","v":""},{"$f":"IF('AR8 (e)'!E40=\"\",\"\",'AR8 (e)'!E40)","v":""},{"$f":"IF('AR8 (e)'!F40=\"\",\"\",'AR8 (e)'!F40)","v":""},{"$f":"IF('AR8 (e)'!G40=\"\",\"\",'AR8 (e)'!G40)","v":""},{"$f":"IF('AR8 (e)'!H40=\"\",\"\",'AR8 (e)'!H40)","v":""},null,null,null,"March",{"$f":"IF('AR10 (e)'!B16=\"\",\"\",'AR10 (e)'!B16)","v":""},{"$f":"IF('AR10 (e)'!C16=\"\",\"\",'AR10 (e)'!C16)","v":""},{"$f":"IF('AR10 (e)'!D16=\"\",\"\",'AR10 (e)'!D16)","v":""},{"$f":"IF('AR10 (e)'!E16=\"\",\"\",'AR10 (e)'!E16)","v":""},{"$f":"IF('AR10 (e)'!F16=\"\",\"\",'AR10 (e)'!F16)","v":""}]
["April",{"$f":"IF('AR8 (e)'!B41=\"\",\"\",'AR8 (e)'!B41)","v":""},{"$f":"IF('AR8 (e)'!C41=\"\",\"\",'AR8 (e)'!C41)","v":""},{"$f":"IF('AR8 (e)'!D41=\"\",\"\",'AR8 (e)'!D41)","v":""},{"$f":"IF('AR8 (e)'!E41=\"\",\"\",'AR8 (e)'!E41)","v":""},{"$f":"IF('AR8 (e)'!F41=\"\",\"\",'AR8 (e)'!F41)","v":""},{"$f":"IF('AR8 (e)'!G41=\"\",\"\",'AR8 (e)'!G41)","v":""},{"$f":"IF('AR8 (e)'!H41=\"\",\"\",'AR8 (e)'!H41)","v":""},null,null,null,"April",{"$f":"IF('AR10 (e)'!B17=\"\",\"\",'AR10 (e)'!B17)","v":""},{"$f":"IF('AR10 (e)'!C17=\"\",\"\",'AR10 (e)'!C17)","v":""},{"$f":"IF('AR10 (e)'!D17=\"\",\"\",'AR10 (e)'!D17)","v":""},{"$f":"IF('AR10 (e)'!E17=\"\",\"\",'AR10 (e)'!E17)","v":""},{"$f":"IF('AR10 (e)'!F17=\"\",\"\",'AR10 (e)'!F17)","v":""}]
["May",{"$f":"IF('AR8 (e)'!B42=\"\",\"\",'AR8 (e)'!B42)","v":""},{"$f":"IF('AR8 (e)'!C42=\"\",\"\",'AR8 (e)'!C42)","v":""},{"$f":"IF('AR8 (e)'!D42=\"\",\"\",'AR8 (e)'!D42)","v":""},{"$f":"IF('AR8 (e)'!E42=\"\",\"\",'AR8 (e)'!E42)","v":""},{"$f":"IF('AR8 (e)'!F42=\"\",\"\",'AR8 (e)'!F42)","v":""},{"$f":"IF('AR8 (e)'!G42=\"\",\"\",'AR8 (e)'!G42)","v":""},{"$f":"IF('AR8 (e)'!H42=\"\",\"\",'AR8 (e)'!H42)","v":""},null,null,null,"May",{"$f":"IF('AR10 (e)'!B18=\"\",\"\",'AR10 (e)'!B18)","v":""},{"$f":"IF('AR10 (e)'!C18=\"\",\"\",'AR10 (e)'!C18)","v":""},{"$f":"IF('AR10 (e)'!D18=\"\",\"\",'AR10 (e)'!D18)","v":""},{"$f":"IF('AR10 (e)'!E18=\"\",\"\",'AR10 (e)'!E18)","v":""},{"$f":"IF('AR10 (e)'!F18=\"\",\"\",'AR10 (e)'!F18)","v":""}]
["June",{"$f":"IF('AR8 (e)'!B43=\"\",\"\",'AR8 (e)'!B43)","v":""},{"$f":"IF('AR8 (e)'!C43=\"\",\"\",'AR8 (e)'!C43)","v":""},{"$f":"IF('AR8 (e)'!D43=\"\",\"\",'AR8 (e)'!D43)","v":""},{"$f":"IF('AR8 (e)'!E43=\"\",\"\",'AR8 (e)'!E43)","v":""},{"$f":"IF('AR8 (e)'!F43=\"\",\"\",'AR8 (e)'!F43)","v":""},{"$f":"IF('AR8 (e)'!G43=\"\",\"\",'AR8 (e)'!G43)","v":""},{"$f":"IF('AR8 (e)'!H43=\"\",\"\",'AR8 (e)'!H43)","v":""},null,null,null,"June",{"$f":"IF('AR10 (e)'!B19=\"\",\"\",'AR10 (e)'!B19)","v":""},{"$f":"IF('AR10 (e)'!C19=\"\",\"\",'AR10 (e)'!C19)","v":""},{"$f":"IF('AR10 (e)'!D19=\"\",\"\",'AR10 (e)'!D19)","v":""},{"$f":"IF('AR10 (e)'!E19=\"\",\"\",'AR10 (e)'!E19)","v":""},{"$f":"IF('AR10 (e)'!F19=\"\",\"\",'AR10 (e)'!F19)","v":""}]
["July",{"$f":"IF('AR8 (e)'!B44=\"\",\"\",'AR8 (e)'!B44)","v":""},{"$f":"IF('AR8 (e)'!C44=\"\",\"\",'AR8 (e)'!C44)","v":""},{"$f":"IF('AR8 (e)'!D44=\"\",\"\",'AR8 (e)'!D44)","v":""},{"$f":"IF('AR8 (e)'!E44=\"\",\"\",'AR8 (e)'!E44)","v":""},{"$f":"IF('AR8 (e)'!F44=\"\",\"\",'AR8 (e)'!F44)","v":""},{"$f":"IF('AR8 (e)'!G44=\"\",\"\",'AR8 (e)'!G44)","v":""},{"$f":"IF('AR8 (e)'!H44=\"\",\"\",'AR8 (e)'!H44)","v":""},null,null,null,"July",{"$f":"IF('AR10 (e)'!B20=\"\",\"\",'AR10 (e)'!B20)","v":""},{"$f":"IF('AR10 (e)'!C20=\"\",\"\",'AR10 (e)'!C20)","v":""},{"$f":"IF('AR10 (e)'!D20=\"\",\"\",'AR10 (e)'!D20)","v":""},{"$f":"IF('AR10 (e)'!E20=\"\",\"\",'AR10 (e)'!E20)","v":""},{"$f":"IF('AR10 (e)'!F20=\"\",\"\",'AR10 (e)'!F20)","v":""}]
["August",{"$f":"IF('AR8 (e)'!B45=\"\",\"\",'AR8 (e)'!B45)","v":""},{"$f":"IF('AR8 (e)'!C45=\"\",\"\",'AR8 (e)'!C45)","v":""},{"$f":"IF('AR8 (e)'!D45=\"\",\"\",'AR8 (e)'!D45)","v":""},{"$f":"IF('AR8 (e)'!E45=\"\",\"\",'AR8 (e)'!E45)","v":""},{"$f":"IF('AR8 (e)'!F45=\"\",\"\",'AR8 (e)'!F45)","v":""},{"$f":"IF('AR8 (e)'!G45=\"\",\"\",'AR8 (e)'!G45)","v":""},{"$f":"IF('AR8 (e)'!H45=\"\",\"\",'AR8 (e)'!H45)","v":""},null,null,null,"August",{"$f":"IF('AR10 (e)'!B21=\"\",\"\",'AR10 (e)'!B21)","v":""},{"$f":"IF('AR10 (e)'!C21=\"\",\"\",'AR10 (e)'!C21)","v":""},{"$f":"IF('AR10 (e)'!D21=\"\",\"\",'AR10 (e)'!D21)","v":""},{"$f":"IF('AR10 (e)'!E21=\"\",\"\",'AR10 (e)'!E21)","v":""},{"$f":"IF('AR10 (e)'!F21=\"\",\"\",'AR10 (e)'!F21)","v":""}]
["September",{"$f":"IF('AR8 (e)'!B46=\"\",\"\",'AR8 (e)'!B46)","v":""},{"$f":"IF('AR8 (e)'!C46=\"\",\"\",'AR8 (e)'!C46)","v":""},{"$f":"IF('AR8 (e)'!D46=\"\",\"\",'AR8 (e)'!D46)","v":""},{"$f":"IF('AR8 (e)'!E46=\"\",\"\",'AR8 (e)'!E46)","v":""},{"$f":"IF('AR8 (e)'!F46=\"\",\"\",'AR8 (e)'!F46)","v":""},{"$f":"IF('AR8 (e)'!G46=\"\",\"\",'AR8 (e)'!G46)","v":""},{"$f":"IF('AR8 (e)'!H46=\"\",\"\",'AR8 (e)'!H46)","v":""},null,null,null,"September",{"$f":"IF('AR10 (e)'!B22=\"\",\"\",'AR10 (e)'!B22)","v":""},{"$f":"IF('AR10 (e)'!C22=\"\",\"\",'AR10 (e)'!C22)","v":""},{"$f":"IF('AR10 (e)'!D22=\"\",\"\",'AR10 (e)'!D22)","v":""},{"$f":"IF('AR10 (e)'!E22=\"\",\"\",'AR10 (e)'!E22)","v":""},{"$f":"IF('AR10 (e)'!F22=\"\",\"\",'AR10 (e)'!F22)","v":""}]
["October",{"$f":"IF('AR8 (e)'!B47=\"\",\"\",'AR8 (e)'!B47)","v":""},{"$f":"IF('AR8 (e)'!C47=\"\",\"\",'AR8 (e)'!C47)","v":""},{"$f":"IF('AR8 (e)'!D47=\"\",\"\",'AR8 (e)'!D47)","v":""},{"$f":"IF('AR8 (e)'!E47=\"\",\"\",'AR8 (e)'!E47)","v":""},{"$f":"IF('AR8 (e)'!F47=\"\",\"\",'AR8 (e)'!F47)","v":""},{"$f":"IF('AR8 (e)'!G47=\"\",\"\",'AR8 (e)'!G47)","v":""},{"$f":"IF('AR8 (e)'!H47=\"\",\"\",'AR8 (e)'!H47)","v":""},null,null,null,"October",{"$f":"IF('AR10 (e)'!B23=\"\",\"\",'AR10 (e)'!B23)","v":""},{"$f":"IF('AR10 (e)'!C23=\"\",\"\",'AR10 (e)'!C23)","v":""},{"$f":"IF('AR10 (e)'!D23=\"\",\"\",'AR10 (e)'!D23)","v":""},{"$f":"IF('AR10 (e)'!E23=\"\",\"\",'AR10 (e)'!E23)","v":""},{"$f":"IF('AR10 (e)'!F23=\"\",\"\",'AR10 (e)'!F23)","v":""}]
["November",{"$f":"IF('AR8 (e)'!B48=\"\",\"\",'AR8 (e)'!B48)","v":""},{"$f":"IF('AR8 (e)'!C48=\"\",\"\",'AR8 (e)'!C48)","v":""},{"$f":"IF('AR8 (e)'!D48=\"\",\"\",'AR8 (e)'!D48)","v":""},{"$f":"IF('AR8 (e)'!E48=\"\",\"\",'AR8 (e)'!E48)","v":""},{"$f":"IF('AR8 (e)'!F48=\"\",\"\",'AR8 (e)'!F48)","v":""},{"$f":"IF('AR8 (e)'!G48=\"\",\"\",'AR8 (e)'!G48)","v":""},{"$f":"IF('AR8 (e)'!H48=\"\",\"\",'AR8 (e)'!H48)","v":""},null,null,null,"November",{"$f":"IF('AR10 (e)'!B24=\"\",\"\",'AR10 (e)'!B24)","v":""},{"$f":"IF('AR10 (e)'!C24=\"\",\"\",'AR10 (e)'!C24)","v":""},{"$f":"IF('AR10 (e)'!D24=\"\",\"\",'AR10 (e)'!D24)","v":""},{"$f":"IF('AR10 (e)'!E24=\"\",\"\",'AR10 (e)'!E24)","v":""},{"$f":"IF('AR10 (e)'!F24=\"\",\"\",'AR10 (e)'!F24)","v":""}]
["December",{"$f":"IF('AR8 (e)'!B49=\"\",\"\",'AR8 (e)'!B49)","v":""},{"$f":"IF('AR8 (e)'!C49=\"\",\"\",'AR8 (e)'!C49)","v":""},{"$f":"IF('AR8 (e)'!D49=\"\",\"\",'AR8 (e)'!D49)","v":""},{"$f":"IF('AR8 (e)'!E49=\"\",\"\",'AR8 (e)'!E49)","v":""},{"$f":"IF('AR8 (e)'!F49=\"\",\"\",'AR8 (e)'!F49)","v":""},{"$f":"IF('AR8 (e)'!G49=\"\",\"\",'AR8 (e)'!G49)","v":""},{"$f":"IF('AR8 (e)'!H49=\"\",\"\",'AR8 (e)'!H49)","v":""},null,null,null,"December",{"$f":"IF('AR10 (e)'!B25=\"\",\"\",'AR10 (e)'!B25)","v":""},{"$f":"IF('AR10 (e)'!C25=\"\",\"\",'AR10 (e)'!C25)","v":""},{"$f":"IF('AR10 (e)'!D25=\"\",\"\",'AR10 (e)'!D25)","v":""},{"$f":"IF('AR10 (e)'!E25=\"\",\"\",'AR10 (e)'!E25)","v":""},{"$f":"IF('AR10 (e)'!F25=\"\",\"\",'AR10 (e)'!F25)","v":""}]
["TOTAL",{"$f":"SUM(B12:B23)","v":0},0,0,0,0,0,0]
[]
[]
["If yes, are the fire flow requirements? ",null,null,null,{"$f":"'AR10 (e)'!E28","v":0},"GPM for",{"$f":"'AR10 (e)'!G28","v":0},"hrs."]
[]
["Does the system have chlorination treatment?",null,null,null,null,{"$f":"'AR10 (e)'!E30","v":0}]
[]
["Is the Water Utility located in an ADWR Active Management Area (AMA)?",null,null,null,null,{"$f":"'AR10 (e)'!F35","v":0}]
["If yes, which AMA?",null,null,null,null,{"$f":"'AR10 (e)'!F36","v":0}]
[]
["Does the Company have an ADWR Gallons Per Capita Per Day (GCPCPD) requirement?",null,null,null,null,{"$f":"'AR10 (e)'!F32","v":0}]
["If yes, provide the GPCPD amount:",null,{"$f":"'AR10 (e)'!C33","v":0}]
[]
["If applicable, in the space below, please provide a description for all estimated authorized un-metered use along with specific amounts:"]
[]
[{"$f":"IF('AR8 (e)'!A54=\"\",\"\",'AR8 (e)'!A54)","v":""}]
[]
[]
[]
[]
[]
[]
[]
["1 Water withdrawn - Total acre feet of water withdrawn from pumped sources."]
["2 Water sold - Total acre feet from customer meters, and other sales such as construction water."]
["3 Water delivered (sold) to other systems - Total acre feet of water delivered to other systems. "]
["4 Water received (purchased) from other systems - Total acre feet of water purchased/received from other systems."]
["5 Estimated authorized use - Total estimated acre feet from authorized metered or unmetered use.  Authorized uses such as flushing (mains, services and hydrants) draining/cleaning tanks, process, construction, fire fighting, etc.  Non-authorized use (real losses) are service line breaks and leaks, water main breaks, meter inaccuracies and theft."]
[]
["6 Enter the total purchased power costs for the power meters associated with this system."]
["7 Enter the total purchased kWh used by the power meters associated with this system."]
[null,null,null,null,null,null,null,null,{"$f":"\"Page \" &I56&\"e\"","v":"Page 24e"},null,null,null,null,null,null,null,null,{"$f":"\"Page \" &R56&\"e\"","v":"Page 25e"}]
[null,null,null,null,null,null,null,null,{"$f":"'Sch 4'!E55+1","v":24},null,null,null,null,null,null,null,null,{"$f":"I56+1","v":25}]
[]
[]
[]
[{"$f":"IF(C24=(D24+E24),\"The Gallons pumped should not be equal to the gallons sold.  There is a potentially significant problem, please investigate and explain.\",IF((D24+E24)<C24,\"The Gallons pumped should not be less than the gallons sold.  There is a potentially significant problem, please investigate and explain..\",\"\"))","v":"The Gallons pumped should not be equal to the gallons sold.  There is a potentially significant problem, please investigate and explain."}]
[]
[]
[{"$f":"\"Note: This page automatically populates with information from your annual report \"&#REF!","v":{"$error":"#REF!"}}]
[]
["Note 2: If you are filing for more than one system, please provide separate data sheets for each system, by copying and pasting this sheet as many times as is necessary. For explanation of any of the above, please contact the Engineering Supervisor at 602-542-7277."]

{"sheet":"Sch 5 (f)","index":67,"n_rows":65,"n_cols":19,"rows_kept":65,"cut":false,"hidden":true,"merged":[[5,0,5,7],[5,10,5,16],[7,0,7,1],[7,2,7,4],[7,10,7,11],[7,12,7,15],[38,0,42,8],[8,0,8,1],[8,10,8,11],[9,0,9,1],[9,10,9,11],[26,0,26,3],[28,0,28,4],[30,0,30,4],[31,0,31,4],[33,0,33,4],[34,0,34,1],[36,0,37,8],[53,0,53,8],[59,0,60,8],[62,0,62,8],[64,0,66,8],[46,0,46,8],[47,0,47,8],[48,0,48,8],[49,0,49,8],[50,0,51,8],[52,0,52,8]]}
[{"$f":"'AR1'!$B$12","v":0},null,null,null,null,null,null,null,{"$f":"'Sch Title'!$A$21&\"f\"","v":"Schedule 5f"},null,{"$f":"A1","v":0},null,null,null,null,null,null,{"$f":"'Sch Title'!$A$21&\"f\"","v":"Schedule 5f"},"Table of contents"]
[{"$f":"'Sch Title'!$A$2","v":"Short Form Rate Application"},null,null,null,null,null,null,null,{"$f":"\" Short Form Rate Application Page No. \"&I56","v":" Short Form Rate Application Page No. 24"},null,{"$f":"A2","v":"Short Form Rate Application"},null,null,null,null,null,null,{"$f":"\" Short Form Rate Application Page No. \"&R56","v":" Short Form Rate Application Page No. 25"}]
[{"$f":"Sch7_WatUse","v":"WATER USE DATA SHEET"},null,null,null,null,null,null,null,null,null,"WATER USE DATA SHEET"]
[{"$f":"'Sch Title'!$A$4","v":"Test Year Ended 12/31/20"},null,null,null,null,null,null,null,null,null,"Test Year Ended 12/31/20"]
[]
["WATER USE DATA SHEET",null,null,null,null,null,null,null,null,null,"CUSTOMER DATA SHEET"]
[]
["Name of the System:",null,{"$f":" 'AR8 (f)'!C7","v":0},null,null,null,null,null,null,null,"Name of the System:",null,{"$f":"C8","v":0}]
["ADEQ Public Water System Number:",null,{"$f":"'AR8 (f)'!D8","v":""},null,null,null,null,null,null,null,"ADEQ Public Water System Number:",null,{"$f":"C9","v":""}]
["ADWR PCC Number:",null,{"$f":"'AR8 (f)'!D9","v":""},null,null,null,null,null,null,null,"ADWR PCC Number:",null,{"$f":"C10","v":""}]
["(12 Months of Test Year)",{"$f":"'Sch 5'!B11","v":"Water withdrawn (gallons)1"},{"$f":"'Sch 5'!C11","v":"Water sold (gallons)2"},{"$f":"'Sch 5'!D11","v":"Water delivered (sold) to other systems (gallons)3"},{"$f":"'Sch 5'!E11","v":"Water received (purchased) from other systems (gallons)4"},{"$f":"'Sch 5'!F11","v":"Estimated authorized use (gallons)5"},"Purchased Power Expense6","Purchased Power (kWh)7",null,null,null,"Month","Single-Family","Multi-Family","Commercial","Turf/Irrigation","Other Non-Residential"]
["January",{"$f":"IF('AR8 (f)'!B38=\"\",\"\",'AR8 (f)'!B38)","v":""},{"$f":"IF('AR8 (f)'!C38=\"\",\"\",'AR8 (f)'!C38)","v":""},{"$f":"IF('AR8 (f)'!D38=\"\",\"\",'AR8 (f)'!D38)","v":""},{"$f":"IF('AR8 (f)'!E38=\"\",\"\",'AR8 (f)'!E38)","v":""},{"$f":"IF('AR8 (f)'!F38=\"\",\"\",'AR8 (f)'!F38)","v":""},{"$f":"IF('AR8 (f)'!G38=\"\",\"\",'AR8 (f)'!G38)","v":""},{"$f":"IF('AR8 (f)'!H38=\"\",\"\",'AR8 (f)'!H38)","v":""},null,null,null,"January",{"$f":"IF('AR10 (f)'!B14=\"\",\"\",'AR10 (f)'!B14)","v":""},{"$f":"IF('AR10 (f)'!C14=\"\",\"\",'AR10 (f)'!C14)","v":""},{"$f":"IF('AR10 (f)'!D14=\"\",\"\",'AR10 (f)'!D14)","v":""},{"$f":"IF('AR10 (f)'!E14=\"\",\"\",'AR10 (f)'!E14)","v":""},{"$f":"IF('AR10 (f)'!F14=\"\",\"\",'AR10 (f)'!F14)","v":""}]
["February",{"$f":"IF('AR8 (f)'!B39=\"\",\"\",'AR8 (f)'!B39)","v":""},{"$f":"IF('AR8 (f)'!C39=\"\",\"\",'AR8 (f)'!C39)","v":""},{"$f":"IF('AR8 (f)'!D39=\"\",\"\",'AR8 (f)'!D39)","v":""},{"$f":"IF('AR8 (f)'!E39=\"\",\"\",'AR8 (f)'!E39)","v":""},{"$f":"IF('AR8 (f)'!F39=\"\",\"\",'AR8 (f)'!F39)","v":""},{"$f":"IF('AR8 (f)'!G39=\"\",\"\",'AR8 (f)'!G39)","v":""},{"$f":"IF('AR8 (f)'!H39=\"\",\"\",'AR8 (f)'!H39)","v":""},null,null,null,"February",{"$f":"IF('AR10 (f)'!B15=\"\",\"\",'AR10 (f)'!B15)","v":""},{"$f":"IF('AR10 (f)'!C15=\"\",\"\",'AR10 (f)'!C15)","v":""},{"$f":"IF('AR10 (f)'!D15=\"\",\"\",'AR10 (f)'!D15)","v":""},{"$f":"IF('AR10 (f)'!E15=\"\",\"\",'AR10 (f)'!E15)","v":""},{"$f":"IF('AR10 (f)'!F15=\"\",\"\",'AR10 (f)'!F15)","v":""}]
["March",{"$f":"IF('AR8 (f)'!B40=\"\",\"\",'AR8 (f)'!B40)","v":""},{"$f":"IF('AR8 (f)'!C40=\"\",\"\",'AR8 (f)'!C40)","v":""},{"$f":"IF('AR8 (f)'!D40=\"\",\"\",'AR8 (f)'!D40)","v":""},{"$f":"IF('AR8 (f)'!E40=\"\",\"\",'AR8 (f)'!E40)","v":""},{"$f":"IF('AR8 (f)'!F40=\"\",\"\",'AR8 (f)'!F40)","v":""},{"$f":"IF('AR8 (f)'!G40=\"\",\"\",'AR8 (f)'!G40)","v":""},{"$f":"IF('AR8 (f)'!H40=\"\",\"\",'AR8 (f)'!H40)","v":""},null,null,null,"March",{"$f":"IF('AR10 (f)'!B16=\"\",\"\",'AR10 (f)'!B16)","v":""},{"$f":"IF('AR10 (f)'!C16=\"\",\"\",'AR10 (f)'!C16)","v":""},{"$f":"IF('AR10 (f)'!D16=\"\",\"\",'AR10 (f)'!D16)","v":""},{"$f":"IF('AR10 (f)'!E16=\"\",\"\",'AR10 (f)'!E16)","v":""},{"$f":"IF('AR10 (f)'!F16=\"\",\"\",'AR10 (f)'!F16)","v":""}]
["April",{"$f":"IF('AR8 (f)'!B41=\"\",\"\",'AR8 (f)'!B41)","v":""},{"$f":"IF('AR8 (f)'!C41=\"\",\"\",'AR8 (f)'!C41)","v":""},{"$f":"IF('AR8 (f)'!D41=\"\",\"\",'AR8 (f)'!D41)","v":""},{"$f":"IF('AR8 (f)'!E41=\"\",\"\",'AR8 (f)'!E41)","v":""},{"$f":"IF('AR8 (f)'!F41=\"\",\"\",'AR8 (f)'!F41)","v":""},{"$f":"IF('AR8 (f)'!G41=\"\",\"\",'AR8 (f)'!G41)","v":""},{"$f":"IF('AR8 (f)'!H41=\"\",\"\",'AR8 (f)'!H41)","v":""},null,null,null,"April",{"$f":"IF('AR10 (f)'!B17=\"\",\"\",'AR10 (f)'!B17)","v":""},{"$f":"IF('AR10 (f)'!C17=\"\",\"\",'AR10 (f)'!C17)","v":""},{"$f":"IF('AR10 (f)'!D17=\"\",\"\",'AR10 (f)'!D17)","v":""},{"$f":"IF('AR10 (f)'!E17=\"\",\"\",'AR10 (f)'!E17)","v":""},{"$f":"IF('AR10 (f)'!F17=\"\",\"\",'AR10 (f)'!F17)","v":""}]
["May",{"$f":"IF('AR8 (f)'!B42=\"\",\"\",'AR8 (f)'!B42)","v":""},{"$f":"IF('AR8 (f)'!C42=\"\",\"\",'AR8 (f)'!C42)","v":""},{"$f":"IF('AR8 (f)'!D42=\"\",\"\",'AR8 (f)'!D42)","v":""},{"$f":"IF('AR8 (f)'!E42=\"\",\"\",'AR8 (f)'!E42)","v":""},{"$f":"IF('AR8 (f)'!F42=\"\",\"\",'AR8 (f)'!F42)","v":""},{"$f":"IF('AR8 (f)'!G42=\"\",\"\",'AR8 (f)'!G42)","v":""},{"$f":"IF('AR8 (f)'!H42=\"\",\"\",'AR8 (f)'!H42)","v":""},null,null,null,"May",{"$f":"IF('AR10 (f)'!B18=\"\",\"\",'AR10 (f)'!B18)","v":""},{"$f":"IF('AR10 (f)'!C18=\"\",\"\",'AR10 (f)'!C18)","v":""},{"$f":"IF('AR10 (f)'!D18=\"\",\"\",'AR10 (f)'!D18)","v":""},{"$f":"IF('AR10 (f)'!E18=\"\",\"\",'AR10 (f)'!E18)","v":""},{"$f":"IF('AR10 (f)'!F18=\"\",\"\",'AR10 (f)'!F18)","v":""}]
["June",{"$f":"IF('AR8 (f)'!B43=\"\",\"\",'AR8 (f)'!B43)","v":""},{"$f":"IF('AR8 (f)'!C43=\"\",\"\",'AR8 (f)'!C43)","v":""},{"$f":"IF('AR8 (f)'!D43=\"\",\"\",'AR8 (f)'!D43)","v":""},{"$f":"IF('AR8 (f)'!E43=\"\",\"\",'AR8 (f)'!E43)","v":""},{"$f":"IF('AR8 (f)'!F43=\"\",\"\",'AR8 (f)'!F43)","v":""},{"$f":"IF('AR8 (f)'!G43=\"\",\"\",'AR8 (f)'!G43)","v":""},{"$f":"IF('AR8 (f)'!H43=\"\",\"\",'AR8 (f)'!H43)","v":""},null,null,null,"June",{"$f":"IF('AR10 (f)'!B19=\"\",\"\",'AR10 (f)'!B19)","v":""},{"$f":"IF('AR10 (f)'!C19=\"\",\"\",'AR10 (f)'!C19)","v":""},{"$f":"IF('AR10 (f)'!D19=\"\",\"\",'AR10 (f)'!D19)","v":""},{"$f":"IF('AR10 (f)'!E19=\"\",\"\",'AR10 (f)'!E19)","v":""},{"$f":"IF('AR10 (f)'!F19=\"\",\"\",'AR10 (f)'!F19)","v":""}]
["July",{"$f":"IF('AR8 (f)'!B44=\"\",\"\",'AR8 (f)'!B44)","v":""},{"$f":"IF('AR8 (f)'!C44=\"\",\"\",'AR8 (f)'!C44)","v":""},{"$f":"IF('AR8 (f)'!D44=\"\",\"\",'AR8 (f)'!D44)","v":""},{"$f":"IF('AR8 (f)'!E44=\"\",\"\",'AR8 (f)'!E44)","v":""},{"$f":"IF('AR8 (f)'!F44=\"\",\"\",'AR8 (f)'!F44)","v":""},{"$f":"IF('AR8 (f)'!G44=\"\",\"\",'AR8 (f)'!G44)","v":""},{"$f":"IF('AR8 (f)'!H44=\"\",\"\",'AR8 (f)'!H44)","v":""},null,null,null,"July",{"$f":"IF('AR10 (f)'!B20=\"\",\"\",'AR10 (f)'!B20)","v":""},{"$f":"IF('AR10 (f)'!C20=\"\",\"\",'AR10 (f)'!C20)","v":""},{"$f":"IF('AR10 (f)'!D20=\"\",\"\",'AR10 (f)'!D20)","v":""},{"$f":"IF('AR10 (f)'!E20=\"\",\"\",'AR10 (f)'!E20)","v":""},{"$f":"IF('AR10 (f)'!F20=\"\",\"\",'AR10 (f)'!F20)","v":""}]
["August",{"$f":"IF('AR8 (f)'!B45=\"\",\"\",'AR8 (f)'!B45)","v":""},{"$f":"IF('AR8 (f)'!C45=\"\",\"\",'AR8 (f)'!C45)","v":""},{"$f":"IF('AR8 (f)'!D45=\"\",\"\",'AR8 (f)'!D45)","v":""},{"$f":"IF('AR8 (f)'!E45=\"\",\"\",'AR8 (f)'!E45)","v":""},{"$f":"IF('AR8 (f)'!F45=\"\",\"\",'AR8 (f)'!F45)","v":""},{"$f":"IF('AR8 (f)'!G45=\"\",\"\",'AR8 (f)'!G45)","v":""},{"$f":"IF('AR8 (f)'!H45=\"\",\"\",'AR8 (f)'!H45)","v":""},null,null,null,"August",{"$f":"IF('AR10 (f)'!B21=\"\",\"\",'AR10 (f)'!B21)","v":""},{"$f":"IF('AR10 (f)'!C21=\"\",\"\",'AR10 (f)'!C21)","v":""},{"$f":"IF('AR10 (f)'!D21=\"\",\"\",'AR10 (f)'!D21)","v":""},{"$f":"IF('AR10 (f)'!E21=\"\",\"\",'AR10 (f)'!E21)","v":""},{"$f":"IF('AR10 (f)'!F21=\"\",\"\",'AR10 (f)'!F21)","v":""}]
["September",{"$f":"IF('AR8 (f)'!B46=\"\",\"\",'AR8 (f)'!B46)","v":""},{"$f":"IF('AR8 (f)'!C46=\"\",\"\",'AR8 (f)'!C46)","v":""},{"$f":"IF('AR8 (f)'!D46=\"\",\"\",'AR8 (f)'!D46)","v":""},{"$f":"IF('AR8 (f)'!E46=\"\",\"\",'AR8 (f)'!E46)","v":""},{"$f":"IF('AR8 (f)'!F46=\"\",\"\",'AR8 (f)'!F46)","v":""},{"$f":"IF('AR8 (f)'!G46=\"\",\"\",'AR8 (f)'!G46)","v":""},{"$f":"IF('AR8 (f)'!H46=\"\",\"\",'AR8 (f)'!H46)","v":""},null,null,null,"September",{"$f":"IF('AR10 (f)'!B22=\"\",\"\",'AR10 (f)'!B22)","v":""},{"$f":"IF('AR10 (f)'!C22=\"\",\"\",'AR10 (f)'!C22)","v":""},{"$f":"IF('AR10 (f)'!D22=\"\",\"\",'AR10 (f)'!D22)","v":""},{"$f":"IF('AR10 (f)'!E22=\"\",\"\",'AR10 (f)'!E22)","v":""},{"$f":"IF('AR10 (f)'!F22=\"\",\"\",'AR10 (f)'!F22)","v":""}]
["October",{"$f":"IF('AR8 (f)'!B47=\"\",\"\",'AR8 (f)'!B47)","v":""},{"$f":"IF('AR8 (f)'!C47=\"\",\"\",'AR8 (f)'!C47)","v":""},{"$f":"IF('AR8 (f)'!D47=\"\",\"\",'AR8 (f)'!D47)","v":""},{"$f":"IF('AR8 (f)'!E47=\"\",\"\",'AR8 (f)'!E47)","v":""},{"$f":"IF('AR8 (f)'!F47=\"\",\"\",'AR8 (f)'!F47)","v":""},{"$f":"IF('AR8 (f)'!G47=\"\",\"\",'AR8 (f)'!G47)","v":""},{"$f":"IF('AR8 (f)'!H47=\"\",\"\",'AR8 (f)'!H47)","v":""},null,null,null,"October",{"$f":"IF('AR10 (f)'!B23=\"\",\"\",'AR10 (f)'!B23)","v":""},{"$f":"IF('AR10 (f)'!C23=\"\",\"\",'AR10 (f)'!C23)","v":""},{"$f":"IF('AR10 (f)'!D23=\"\",\"\",'AR10 (f)'!D23)","v":""},{"$f":"IF('AR10 (f)'!E23=\"\",\"\",'AR10 (f)'!E23)","v":""},{"$f":"IF('AR10 (f)'!F23=\"\",\"\",'AR10 (f)'!F23)","v":""}]
["November",{"$f":"IF('AR8 (f)'!B48=\"\",\"\",'AR8 (f)'!B48)","v":""},{"$f":"IF('AR8 (f)'!C48=\"\",\"\",'AR8 (f)'!C48)","v":""},{"$f":"IF('AR8 (f)'!D48=\"\",\"\",'AR8 (f)'!D48)","v":""},{"$f":"IF('AR8 (f)'!E48=\"\",\"\",'AR8 (f)'!E48)","v":""},{"$f":"IF('AR8 (f)'!F48=\"\",\"\",'AR8 (f)'!F48)","v":""},{"$f":"IF('AR8 (f)'!G48=\"\",\"\",'AR8 (f)'!G48)","v":""},{"$f":"IF('AR8 (f)'!H48=\"\",\"\",'AR8 (f)'!H48)","v":""},null,null,null,"November",{"$f":"IF('AR10 (f)'!B24=\"\",\"\",'AR10 (f)'!B24)","v":""},{"$f":"IF('AR10 (f)'!C24=\"\",\"\",'AR10 (f)'!C24)","v":""},{"$f":"IF('AR10 (f)'!D24=\"\",\"\",'AR10 (f)'!D24)","v":""},{"$f":"IF('AR10 (f)'!E24=\"\",\"\",'AR10 (f)'!E24)","v":""},{"$f":"IF('AR10 (f)'!F24=\"\",\"\",'AR10 (f)'!F24)","v":""}]
["December",{"$f":"IF('AR8 (f)'!B49=\"\",\"\",'AR8 (f)'!B49)","v":""},{"$f":"IF('AR8 (f)'!C49=\"\",\"\",'AR8 (f)'!C49)","v":""},{"$f":"IF('AR8 (f)'!D49=\"\",\"\",'AR8 (f)'!D49)","v":""},{"$f":"IF('AR8 (f)'!E49=\"\",\"\",'AR8 (f)'!E49)","v":""},{"$f":"IF('AR8 (f)'!F49=\"\",\"\",'AR8 (f)'!F49)","v":""},{"$f":"IF('AR8 (f)'!G49=\"\",\"\",'AR8 (f)'!G49)","v":""},{"$f":"IF('AR8 (f)'!H49=\"\",\"\",'AR8 (f)'!H49)","v":""},null,null,null,"December",{"$f":"IF('AR10 (f)'!B25=\"\",\"\",'AR10 (f)'!B25)","v":""},{"$f":"IF('AR10 (f)'!C25=\"\",\"\",'AR10 (f)'!C25)","v":""},{"$f":"IF('AR10 (f)'!D25=\"\",\"\",'AR10 (f)'!D25)","v":""},{"$f":"IF('AR10 (f)'!E25=\"\",\"\",'AR10 (f)'!E25)","v":""},{"$f":"IF('AR10 (f)'!F25=\"\",\"\",'AR10 (f)'!F25)","v":""}]
["TOTAL",{"$f":"SUM(B12:B23)","v":0},0,0,0,0,0,0]
[]
[]
["If yes, are the fire flow requirements? ",null,null,null,{"$f":"'AR10 (f)'!E28","v":0},"GPM for",{"$f":"'AR10 (f)'!G28","v":0},"hrs."]
[]
["Does the system have chlorination treatment?",null,null,null,null,{"$f":"'AR10 (f)'!E30","v":0}]
[]
["Is the Water Utility located in an ADWR Active Management Area (AMA)?",null,null,null,null,{"$f":"'AR10 (f)'!F35","v":0}]
["If yes, which AMA?",null,null,null,null,{"$f":"'AR10 (f)'!F36","v":0}]
[]
["Does the Company have an ADWR Gallons Per Capita Per Day (GCPCPD) requirement?",null,null,null,null,{"$f":"'AR10 (f)'!F32","v":0}]
["If yes, provide the GPCPD amount:",null,{"$f":"'AR10 (f)'!C33","v":0}]
[]
["If applicable, in the space below, please provide a description for all estimated authorized un-metered use along with specific amounts:"]
[]
[{"$f":"IF('AR8 (f)'!A54=\"\",\"\",'AR8 (f)'!A54)","v":""}]
[]
[]
[]
[]
[]
[]
[]
["1 Water withdrawn - Total acre feet of water withdrawn from pumped sources."]
["2 Water sold - Total acre feet from customer meters, and other sales such as construction water."]
["3 Water delivered (sold) to other systems - Total acre feet of water delivered to other systems. "]
["4 Water received (purchased) from other systems - Total acre feet of water purchased/received from other systems."]
["5 Estimated authorized use - Total estimated acre feet from authorized metered or unmetered use.  Authorized uses such as flushing (mains, services and hydrants) draining/cleaning tanks, process, construction, fire fighting, etc.  Non-authorized use (real losses) are service line breaks and leaks, water main breaks, meter inaccuracies and theft."]
[]
["6 Enter the total purchased power costs for the power meters associated with this system."]
["7 Enter the total purchased kWh used by the power meters associated with this system."]
[null,null,null,null,null,null,null,null,{"$f":"\"Page \" &I56&\"f\"","v":"Page 24f"},null,null,null,null,null,null,null,null,{"$f":"\"Page \" &R56&\"f\"","v":"Page 25f"}]
[null,null,null,null,null,null,null,null,{"$f":"'Sch 4'!E55+1","v":24},null,null,null,null,null,null,null,null,{"$f":"I56+1","v":25}]
[]
[]
[]
[{"$f":"IF(C24=(D24+E24),\"The Gallons pumped should not be equal to the gallons sold.  There is a potentially significant problem, please investigate and explain.\",IF((D24+E24)<C24,\"The Gallons pumped should not be less than the gallons sold.  There is a potentially significant problem, please investigate and explain..\",\"\"))","v":"The Gallons pumped should not be equal to the gallons sold.  There is a potentially significant problem, please investigate and explain."}]
[]
[]
[{"$f":"\"Note: This page automatically populates with information from your annual report \"&#REF!","v":{"$error":"#REF!"}}]
[]
["Note 2: If you are filing for more than one system, please provide separate data sheets for each system, by copying and pasting this sheet as many times as is necessary. For explanation of any of the above, please contact the Engineering Supervisor at 602-542-7277."]

{"sheet":"Sch 5 (g)","index":68,"n_rows":65,"n_cols":19,"rows_kept":65,"cut":false,"hidden":true,"merged":[[5,0,5,7],[5,10,5,16],[7,0,7,1],[7,2,7,4],[7,10,7,11],[7,12,7,15],[38,0,42,8],[8,0,8,1],[8,10,8,11],[9,0,9,1],[9,10,9,11],[26,0,26,3],[28,0,28,4],[30,0,30,4],[31,0,31,4],[33,0,33,4],[34,0,34,1],[36,0,37,8],[53,0,53,8],[59,0,60,8],[62,0,62,8],[64,0,66,8],[46,0,46,8],[47,0,47,8],[48,0,48,8],[49,0,49,8],[50,0,51,8],[52,0,52,8]]}
[{"$f":"'AR1'!$B$12","v":0},null,null,null,null,null,null,null,{"$f":"'Sch Title'!$A$21&\"g\"","v":"Schedule 5g"},null,{"$f":"A1","v":0},null,null,null,null,null,null,{"$f":"'Sch Title'!$A$21&\"g\"","v":"Schedule 5g"},"Table of contents"]
[{"$f":"'Sch Title'!$A$2","v":"Short Form Rate Application"},null,null,null,null,null,null,null,{"$f":"\" Short Form Rate Application Page No. \"&I56","v":" Short Form Rate Application Page No. 24"},null,{"$f":"A2","v":"Short Form Rate Application"},null,null,null,null,null,null,{"$f":"\" Short Form Rate Application Page No. \"&R56","v":" Short Form Rate Application Page No. 25"}]
[{"$f":"Sch7_WatUse","v":"WATER USE DATA SHEET"},null,null,null,null,null,null,null,null,null,"WATER USE DATA SHEET"]
[{"$f":"'Sch Title'!$A$4","v":"Test Year Ended 12/31/20"},null,null,null,null,null,null,null,null,null,"Test Year Ended 12/31/20"]
[]
["WATER USE DATA SHEET",null,null,null,null,null,null,null,null,null,"CUSTOMER DATA SHEET"]
[]
["Name of the System:",null,{"$f":" 'AR8 (g)'!C7","v":0},null,null,null,null,null,null,null,"Name of the System:",null,{"$f":"C8","v":0}]
["ADEQ Public Water System Number:",null,{"$f":"'AR8 (g)'!D8","v":""},null,null,null,null,null,null,null,"ADEQ Public Water System Number:",null,{"$f":"C9","v":""}]
["ADWR PCC Number:",null,{"$f":"'AR8 (g)'!D9","v":""},null,null,null,null,null,null,null,"ADWR PCC Number:",null,{"$f":"C10","v":""}]
["(12 Months of Test Year)",{"$f":"'Sch 5'!B11","v":"Water withdrawn (gallons)1"},{"$f":"'Sch 5'!C11","v":"Water sold (gallons)2"},{"$f":"'Sch 5'!D11","v":"Water delivered (sold) to other systems (gallons)3"},{"$f":"'Sch 5'!E11","v":"Water received (purchased) from other systems (gallons)4"},{"$f":"'Sch 5'!F11","v":"Estimated authorized use (gallons)5"},"Purchased Power Expense6","Purchased Power (kWh)7",null,null,null,"Month","Single-Family","Multi-Family","Commercial","Turf/Irrigation","Other Non-Residential"]
["January",{"$f":"IF('AR8 (g)'!B38=\"\",\"\",'AR8 (g)'!B38)","v":""},{"$f":"IF('AR8 (g)'!C38=\"\",\"\",'AR8 (g)'!C38)","v":""},{"$f":"IF('AR8 (g)'!D38=\"\",\"\",'AR8 (g)'!D38)","v":""},{"$f":"IF('AR8 (g)'!E38=\"\",\"\",'AR8 (g)'!E38)","v":""},{"$f":"IF('AR8 (g)'!F38=\"\",\"\",'AR8 (g)'!F38)","v":""},{"$f":"IF('AR8 (g)'!G38=\"\",\"\",'AR8 (g)'!G38)","v":""},{"$f":"IF('AR8 (g)'!H38=\"\",\"\",'AR8 (g)'!H38)","v":""},null,null,null,"January",{"$f":"IF('AR10 (g)'!B14=\"\",\"\",'AR10 (g)'!B14)","v":""},{"$f":"IF('AR10 (g)'!C14=\"\",\"\",'AR10 (g)'!C14)","v":""},{"$f":"IF('AR10 (g)'!D14=\"\",\"\",'AR10 (g)'!D14)","v":""},{"$f":"IF('AR10 (g)'!E14=\"\",\"\",'AR10 (g)'!E14)","v":""},{"$f":"IF('AR10 (g)'!F14=\"\",\"\",'AR10 (g)'!F14)","v":""}]
["February",{"$f":"IF('AR8 (g)'!B39=\"\",\"\",'AR8 (g)'!B39)","v":""},{"$f":"IF('AR8 (g)'!C39=\"\",\"\",'AR8 (g)'!C39)","v":""},{"$f":"IF('AR8 (g)'!D39=\"\",\"\",'AR8 (g)'!D39)","v":""},{"$f":"IF('AR8 (g)'!E39=\"\",\"\",'AR8 (g)'!E39)","v":""},{"$f":"IF('AR8 (g)'!F39=\"\",\"\",'AR8 (g)'!F39)","v":""},{"$f":"IF('AR8 (g)'!G39=\"\",\"\",'AR8 (g)'!G39)","v":""},{"$f":"IF('AR8 (g)'!H39=\"\",\"\",'AR8 (g)'!H39)","v":""},null,null,null,"February",{"$f":"IF('AR10 (g)'!B15=\"\",\"\",'AR10 (g)'!B15)","v":""},{"$f":"IF('AR10 (g)'!C15=\"\",\"\",'AR10 (g)'!C15)","v":""},{"$f":"IF('AR10 (g)'!D15=\"\",\"\",'AR10 (g)'!D15)","v":""},{"$f":"IF('AR10 (g)'!E15=\"\",\"\",'AR10 (g)'!E15)","v":""},{"$f":"IF('AR10 (g)'!F15=\"\",\"\",'AR10 (g)'!F15)","v":""}]
["March",{"$f":"IF('AR8 (g)'!B40=\"\",\"\",'AR8 (g)'!B40)","v":""},{"$f":"IF('AR8 (g)'!C40=\"\",\"\",'AR8 (g)'!C40)","v":""},{"$f":"IF('AR8 (g)'!D40=\"\",\"\",'AR8 (g)'!D40)","v":""},{"$f":"IF('AR8 (g)'!E40=\"\",\"\",'AR8 (g)'!E40)","v":""},{"$f":"IF('AR8 (g)'!F40=\"\",\"\",'AR8 (g)'!F40)","v":""},{"$f":"IF('AR8 (g)'!G40=\"\",\"\",'AR8 (g)'!G40)","v":""},{"$f":"IF('AR8 (g)'!H40=\"\",\"\",'AR8 (g)'!H40)","v":""},null,null,null,"March",{"$f":"IF('AR10 (g)'!B16=\"\",\"\",'AR10 (g)'!B16)","v":""},{"$f":"IF('AR10 (g)'!C16=\"\",\"\",'AR10 (g)'!C16)","v":""},{"$f":"IF('AR10 (g)'!D16=\"\",\"\",'AR10 (g)'!D16)","v":""},{"$f":"IF('AR10 (g)'!E16=\"\",\"\",'AR10 (g)'!E16)","v":""},{"$f":"IF('AR10 (g)'!F16=\"\",\"\",'AR10 (g)'!F16)","v":""}]
["April",{"$f":"IF('AR8 (g)'!B41=\"\",\"\",'AR8 (g)'!B41)","v":""},{"$f":"IF('AR8 (g)'!C41=\"\",\"\",'AR8 (g)'!C41)","v":""},{"$f":"IF('AR8 (g)'!D41=\"\",\"\",'AR8 (g)'!D41)","v":""},{"$f":"IF('AR8 (g)'!E41=\"\",\"\",'AR8 (g)'!E41)","v":""},{"$f":"IF('AR8 (g)'!F41=\"\",\"\",'AR8 (g)'!F41)","v":""},{"$f":"IF('AR8 (g)'!G41=\"\",\"\",'AR8 (g)'!G41)","v":""},{"$f":"IF('AR8 (g)'!H41=\"\",\"\",'AR8 (g)'!H41)","v":""},null,null,null,"April",{"$f":"IF('AR10 (g)'!B17=\"\",\"\",'AR10 (g)'!B17)","v":""},{"$f":"IF('AR10 (g)'!C17=\"\",\"\",'AR10 (g)'!C17)","v":""},{"$f":"IF('AR10 (g)'!D17=\"\",\"\",'AR10 (g)'!D17)","v":""},{"$f":"IF('AR10 (g)'!E17=\"\",\"\",'AR10 (g)'!E17)","v":""},{"$f":"IF('AR10 (g)'!F17=\"\",\"\",'AR10 (g)'!F17)","v":""}]
["May",{"$f":"IF('AR8 (g)'!B42=\"\",\"\",'AR8 (g)'!B42)","v":""},{"$f":"IF('AR8 (g)'!C42=\"\",\"\",'AR8 (g)'!C42)","v":""},{"$f":"IF('AR8 (g)'!D42=\"\",\"\",'AR8 (g)'!D42)","v":""},{"$f":"IF('AR8 (g)'!E42=\"\",\"\",'AR8 (g)'!E42)","v":""},{"$f":"IF('AR8 (g)'!F42=\"\",\"\",'AR8 (g)'!F42)","v":""},{"$f":"IF('AR8 (g)'!G42=\"\",\"\",'AR8 (g)'!G42)","v":""},{"$f":"IF('AR8 (g)'!H42=\"\",\"\",'AR8 (g)'!H42)","v":""},null,null,null,"May",{"$f":"IF('AR10 (g)'!B18=\"\",\"\",'AR10 (g)'!B18)","v":""},{"$f":"IF('AR10 (g)'!C18=\"\",\"\",'AR10 (g)'!C18)","v":""},{"$f":"IF('AR10 (g)'!D18=\"\",\"\",'AR10 (g)'!D18)","v":""},{"$f":"IF('AR10 (g)'!E18=\"\",\"\",'AR10 (g)'!E18)","v":""},{"$f":"IF('AR10 (g)'!F18=\"\",\"\",'AR10 (g)'!F18)","v":""}]
["June",{"$f":"IF('AR8 (g)'!B43=\"\",\"\",'AR8 (g)'!B43)","v":""},{"$f":"IF('AR8 (g)'!C43=\"\",\"\",'AR8 (g)'!C43)","v":""},{"$f":"IF('AR8 (g)'!D43=\"\",\"\",'AR8 (g)'!D43)","v":""},{"$f":"IF('AR8 (g)'!E43=\"\",\"\",'AR8 (g)'!E43)","v":""},{"$f":"IF('AR8 (g)'!F43=\"\",\"\",'AR8 (g)'!F43)","v":""},{"$f":"IF('AR8 (g)'!G43=\"\",\"\",'AR8 (g)'!G43)","v":""},{"$f":"IF('AR8 (g)'!H43=\"\",\"\",'AR8 (g)'!H43)","v":""},null,null,null,"June",{"$f":"IF('AR10 (g)'!B19=\"\",\"\",'AR10 (g)'!B19)","v":""},{"$f":"IF('AR10 (g)'!C19=\"\",\"\",'AR10 (g)'!C19)","v":""},{"$f":"IF('AR10 (g)'!D19=\"\",\"\",'AR10 (g)'!D19)","v":""},{"$f":"IF('AR10 (g)'!E19=\"\",\"\",'AR10 (g)'!E19)","v":""},{"$f":"IF('AR10 (g)'!F19=\"\",\"\",'AR10 (g)'!F19)","v":""}]
["July",{"$f":"IF('AR8 (g)'!B44=\"\",\"\",'AR8 (g)'!B44)","v":""},{"$f":"IF('AR8 (g)'!C44=\"\",\"\",'AR8 (g)'!C44)","v":""},{"$f":"IF('AR8 (g)'!D44=\"\",\"\",'AR8 (g)'!D44)","v":""},{"$f":"IF('AR8 (g)'!E44=\"\",\"\",'AR8 (g)'!E44)","v":""},{"$f":"IF('AR8 (g)'!F44=\"\",\"\",'AR8 (g)'!F44)","v":""},{"$f":"IF('AR8 (g)'!G44=\"\",\"\",'AR8 (g)'!G44)","v":""},{"$f":"IF('AR8 (g)'!H44=\"\",\"\",'AR8 (g)'!H44)","v":""},null,null,null,"July",{"$f":"IF('AR10 (g)'!B20=\"\",\"\",'AR10 (g)'!B20)","v":""},{"$f":"IF('AR10 (g)'!C20=\"\",\"\",'AR10 (g)'!C20)","v":""},{"$f":"IF('AR10 (g)'!D20=\"\",\"\",'AR10 (g)'!D20)","v":""},{"$f":"IF('AR10 (g)'!E20=\"\",\"\",'AR10 (g)'!E20)","v":""},{"$f":"IF('AR10 (g)'!F20=\"\",\"\",'AR10 (g)'!F20)","v":""}]
["August",{"$f":"IF('AR8 (g)'!B45=\"\",\"\",'AR8 (g)'!B45)","v":""},{"$f":"IF('AR8 (g)'!C45=\"\",\"\",'AR8 (g)'!C45)","v":""},{"$f":"IF('AR8 (g)'!D45=\"\",\"\",'AR8 (g)'!D45)","v":""},{"$f":"IF('AR8 (g)'!E45=\"\",\"\",'AR8 (g)'!E45)","v":""},{"$f":"IF('AR8 (g)'!F45=\"\",\"\",'AR8 (g)'!F45)","v":""},{"$f":"IF('AR8 (g)'!G45=\"\",\"\",'AR8 (g)'!G45)","v":""},{"$f":"IF('AR8 (g)'!H45=\"\",\"\",'AR8 (g)'!H45)","v":""},null,null,null,"August",{"$f":"IF('AR10 (g)'!B21=\"\",\"\",'AR10 (g)'!B21)","v":""},{"$f":"IF('AR10 (g)'!C21=\"\",\"\",'AR10 (g)'!C21)","v":""},{"$f":"IF('AR10 (g)'!D21=\"\",\"\",'AR10 (g)'!D21)","v":""},{"$f":"IF('AR10 (g)'!E21=\"\",\"\",'AR10 (g)'!E21)","v":""},{"$f":"IF('AR10 (g)'!F21=\"\",\"\",'AR10 (g)'!F21)","v":""}]
["September",{"$f":"IF('AR8 (g)'!B46=\"\",\"\",'AR8 (g)'!B46)","v":""},{"$f":"IF('AR8 (g)'!C46=\"\",\"\",'AR8 (g)'!C46)","v":""},{"$f":"IF('AR8 (g)'!D46=\"\",\"\",'AR8 (g)'!D46)","v":""},{"$f":"IF('AR8 (g)'!E46=\"\",\"\",'AR8 (g)'!E46)","v":""},{"$f":"IF('AR8 (g)'!F46=\"\",\"\",'AR8 (g)'!F46)","v":""},{"$f":"IF('AR8 (g)'!G46=\"\",\"\",'AR8 (g)'!G46)","v":""},{"$f":"IF('AR8 (g)'!H46=\"\",\"\",'AR8 (g)'!H46)","v":""},null,null,null,"September",{"$f":"IF('AR10 (g)'!B22=\"\",\"\",'AR10 (g)'!B22)","v":""},{"$f":"IF('AR10 (g)'!C22=\"\",\"\",'AR10 (g)'!C22)","v":""},{"$f":"IF('AR10 (g)'!D22=\"\",\"\",'AR10 (g)'!D22)","v":""},{"$f":"IF('AR10 (g)'!E22=\"\",\"\",'AR10 (g)'!E22)","v":""},{"$f":"IF('AR10 (g)'!F22=\"\",\"\",'AR10 (g)'!F22)","v":""}]
["October",{"$f":"IF('AR8 (g)'!B47=\"\",\"\",'AR8 (g)'!B47)","v":""},{"$f":"IF('AR8 (g)'!C47=\"\",\"\",'AR8 (g)'!C47)","v":""},{"$f":"IF('AR8 (g)'!D47=\"\",\"\",'AR8 (g)'!D47)","v":""},{"$f":"IF('AR8 (g)'!E47=\"\",\"\",'AR8 (g)'!E47)","v":""},{"$f":"IF('AR8 (g)'!F47=\"\",\"\",'AR8 (g)'!F47)","v":""},{"$f":"IF('AR8 (g)'!G47=\"\",\"\",'AR8 (g)'!G47)","v":""},{"$f":"IF('AR8 (g)'!H47=\"\",\"\",'AR8 (g)'!H47)","v":""},null,null,null,"October",{"$f":"IF('AR10 (g)'!B23=\"\",\"\",'AR10 (g)'!B23)","v":""},{"$f":"IF('AR10 (g)'!C23=\"\",\"\",'AR10 (g)'!C23)","v":""},{"$f":"IF('AR10 (g)'!D23=\"\",\"\",'AR10 (g)'!D23)","v":""},{"$f":"IF('AR10 (g)'!E23=\"\",\"\",'AR10 (g)'!E23)","v":""},{"$f":"IF('AR10 (g)'!F23=\"\",\"\",'AR10 (g)'!F23)","v":""}]
["November",{"$f":"IF('AR8 (g)'!B48=\"\",\"\",'AR8 (g)'!B48)","v":""},{"$f":"IF('AR8 (g)'!C48=\"\",\"\",'AR8 (g)'!C48)","v":""},{"$f":"IF('AR8 (g)'!D48=\"\",\"\",'AR8 (g)'!D48)","v":""},{"$f":"IF('AR8 (g)'!E48=\"\",\"\",'AR8 (g)'!E48)","v":""},{"$f":"IF('AR8 (g)'!F48=\"\",\"\",'AR8 (g)'!F48)","v":""},{"$f":"IF('AR8 (g)'!G48=\"\",\"\",'AR8 (g)'!G48)","v":""},{"$f":"IF('AR8 (g)'!H48=\"\",\"\",'AR8 (g)'!H48)","v":""},null,null,null,"November",{"$f":"IF('AR10 (g)'!B24=\"\",\"\",'AR10 (g)'!B24)","v":""},{"$f":"IF('AR10 (g)'!C24=\"\",\"\",'AR10 (g)'!C24)","v":""},{"$f":"IF('AR10 (g)'!D24=\"\",\"\",'AR10 (g)'!D24)","v":""},{"$f":"IF('AR10 (g)'!E24=\"\",\"\",'AR10 (g)'!E24)","v":""},{"$f":"IF('AR10 (g)'!F24=\"\",\"\",'AR10 (g)'!F24)","v":""}]
["December",{"$f":"IF('AR8 (g)'!B49=\"\",\"\",'AR8 (g)'!B49)","v":""},{"$f":"IF('AR8 (g)'!C49=\"\",\"\",'AR8 (g)'!C49)","v":""},{"$f":"IF('AR8 (g)'!D49=\"\",\"\",'AR8 (g)'!D49)","v":""},{"$f":"IF('AR8 (g)'!E49=\"\",\"\",'AR8 (g)'!E49)","v":""},{"$f":"IF('AR8 (g)'!F49=\"\",\"\",'AR8 (g)'!F49)","v":""},{"$f":"IF('AR8 (g)'!G49=\"\",\"\",'AR8 (g)'!G49)","v":""},{"$f":"IF('AR8 (g)'!H49=\"\",\"\",'AR8 (g)'!H49)","v":""},null,null,null,"December",{"$f":"IF('AR10 (g)'!B25=\"\",\"\",'AR10 (g)'!B25)","v":""},{"$f":"IF('AR10 (g)'!C25=\"\",\"\",'AR10 (g)'!C25)","v":""},{"$f":"IF('AR10 (g)'!D25=\"\",\"\",'AR10 (g)'!D25)","v":""},{"$f":"IF('AR10 (g)'!E25=\"\",\"\",'AR10 (g)'!E25)","v":""},{"$f":"IF('AR10 (g)'!F25=\"\",\"\",'AR10 (g)'!F25)","v":""}]
["TOTAL",{"$f":"SUM(B12:B23)","v":0},0,0,0,0,0,0]
[]
[]
["If yes, are the fire flow requirements? ",null,null,null,{"$f":"'AR10 (g)'!E28","v":0},"GPM for",{"$f":"'AR10 (g)'!G28","v":0},"hrs."]
[]
["Does the system have chlorination treatment?",null,null,null,null,{"$f":"'AR10 (g)'!E30","v":0}]
[]
["Is the Water Utility located in an ADWR Active Management Area (AMA)?",null,null,null,null,{"$f":"'AR10 (g)'!F35","v":0}]
["If yes, which AMA?",null,null,null,null,{"$f":"'AR10 (g)'!F36","v":0}]
[]
["Does the Company have an ADWR Gallons Per Capita Per Day (GCPCPD) requirement?",null,null,null,null,{"$f":"'AR10 (g)'!F32","v":0}]
["If yes, provide the GPCPD amount:",null,{"$f":"'AR10 (g)'!C33","v":0}]
[]
["If applicable, in the space below, please provide a description for all estimated authorized un-metered use along with specific amounts:"]
[]
[{"$f":"IF('AR8 (g)'!A54=\"\",\"\",'AR8 (g)'!A54)","v":""}]
[]
[]
[]
[]
[]
[]
[]
["1 Water withdrawn - Total acre feet of water withdrawn from pumped sources."]
["2 Water sold - Total acre feet from customer meters, and other sales such as construction water."]
["3 Water delivered (sold) to other systems - Total acre feet of water delivered to other systems. "]
["4 Water received (purchased) from other systems - Total acre feet of water purchased/received from other systems."]
["5 Estimated authorized use - Total estimated acre feet from authorized metered or unmetered use.  Authorized uses such as flushing (mains, services and hydrants) draining/cleaning tanks, process, construction, fire fighting, etc.  Non-authorized use (real losses) are service line breaks and leaks, water main breaks, meter inaccuracies and theft."]
[]
["6 Enter the total purchased power costs for the power meters associated with this system."]
["7 Enter the total purchased kWh used by the power meters associated with this system."]
[null,null,null,null,null,null,null,null,{"$f":"\"Page \" &I56&\"g\"","v":"Page 24g"},null,null,null,null,null,null,null,null,{"$f":"\"Page \" &R56&\"g\"","v":"Page 25g"}]
[null,null,null,null,null,null,null,null,{"$f":"'Sch 4'!E55+1","v":24},null,null,null,null,null,null,null,null,{"$f":"I56+1","v":25}]
[]
[]
[]
[{"$f":"IF(C24=(D24+E24),\"The Gallons pumped should not be equal to the gallons sold.  There is a potentially significant problem, please investigate and explain.\",IF((D24+E24)<C24,\"The Gallons pumped should not be less than the gallons sold.  There is a potentially significant problem, please investigate and explain..\",\"\"))","v":"The Gallons pumped should not be equal to the gallons sold.  There is a potentially significant problem, please investigate and explain."}]
[]
[]
[{"$f":"\"Note: This page automatically populates with information from your annual report \"&#REF!","v":{"$error":"#REF!"}}]
[]
["Note 2: If you are filing for more than one system, please provide separate data sheets for each system, by copying and pasting this sheet as many times as is necessary. For explanation of any of the above, please contact the Engineering Supervisor at 602-542-7277."]

{"sheet":"Sch 5 (h)","index":69,"n_rows":65,"n_cols":21,"rows_kept":65,"cut":false,"hidden":true,"merged":[[5,0,5,7],[5,10,5,16],[7,0,7,1],[7,2,7,4],[7,10,7,11],[7,12,7,15],[38,0,42,8],[8,0,8,1],[8,10,8,11],[9,0,9,1],[9,10,9,11],[26,0,26,3],[28,0,28,4],[30,0,30,4],[31,0,31,4],[33,0,33,4],[34,0,34,1],[36,0,37,8],[53,0,53,8],[59,0,60,8],[62,0,62,8],[64,0,66,8],[46,0,46,8],[47,0,47,8],[48,0,48,8],[49,0,49,8],[50,0,51,8],[52,0,52,8]]}
[{"$f":"'AR1'!$B$12","v":0},null,null,null,null,null,null,null,{"$f":"'Sch Title'!$A$21&\"h\"","v":"Schedule 5h"},null,{"$f":"A1","v":0},null,null,null,null,null,null,{"$f":"'Sch Title'!$A$21&\"h\"","v":"Schedule 5h"},"Table of contents"]
[{"$f":"'Sch Title'!$A$2","v":"Short Form Rate Application"},null,null,null,null,null,null,null,{"$f":"\" Short Form Rate Application Page No. \"&I56","v":" Short Form Rate Application Page No. 24"},null,{"$f":"A2","v":"Short Form Rate Application"},null,null,null,null,null,null,{"$f":"\" Short Form Rate Application Page No. \"&R56","v":" Short Form Rate Application Page No. 25"}]
[{"$f":"Sch7_WatUse","v":"WATER USE DATA SHEET"},null,null,null,null,null,null,null,null,null,"WATER USE DATA SHEET"]
[{"$f":"'Sch Title'!$A$4","v":"Test Year Ended 12/31/20"},null,null,null,null,null,null,null,null,null,"Test Year Ended 12/31/20"]
[]
["WATER USE DATA SHEET",null,null,null,null,null,null,null,null,null,"CUSTOMER DATA SHEET"]
[]
["Name of the System:",null,{"$f":" 'AR8 (h)'!C7","v":0},null,null,null,null,null,null,null,"Name of the System:",null,{"$f":"C8","v":0}]
["ADEQ Public Water System Number:",null,{"$f":"'AR8 (h)'!D8","v":""},null,null,null,null,null,null,null,"ADEQ Public Water System Number:",null,{"$f":"C9","v":""}]
["ADWR PCC Number:",null,{"$f":"'AR8 (h)'!D9","v":""},null,null,null,null,null,null,null,"ADWR PCC Number:",null,{"$f":"C10","v":""}]
["(12 Months of Test Year)",{"$f":"'Sch 5'!B11","v":"Water withdrawn (gallons)1"},{"$f":"'Sch 5'!C11","v":"Water sold (gallons)2"},{"$f":"'Sch 5'!D11","v":"Water delivered (sold) to other systems (gallons)3"},{"$f":"'Sch 5'!E11","v":"Water received (purchased) from other systems (gallons)4"},{"$f":"'Sch 5'!F11","v":"Estimated authorized use (gallons)5"},"Purchased Power Expense6","Purchased Power (kWh)7",null,null,null,"Month","Single-Family","Multi-Family","Commercial","Turf/Irrigation","Other Non-Residential"]
["January",{"$f":"IF('AR8 (h)'!B38=\"\",\"\",'AR8 (h)'!B38)","v":""},{"$f":"IF('AR8 (h)'!C38=\"\",\"\",'AR8 (h)'!C38)","v":""},{"$f":"IF('AR8 (h)'!D38=\"\",\"\",'AR8 (h)'!D38)","v":""},{"$f":"IF('AR8 (h)'!E38=\"\",\"\",'AR8 (h)'!E38)","v":""},{"$f":"IF('AR8 (h)'!F38=\"\",\"\",'AR8 (h)'!F38)","v":""},{"$f":"IF('AR8 (h)'!G38=\"\",\"\",'AR8 (h)'!G38)","v":""},{"$f":"IF('AR8 (h)'!H38=\"\",\"\",'AR8 (h)'!H38)","v":""},null,null,null,"January",{"$f":"IF('AR10 (h)'!B14=\"\",\"\",'AR10 (h)'!B14)","v":""},{"$f":"IF('AR10 (h)'!C14=\"\",\"\",'AR10 (h)'!C14)","v":""},{"$f":"IF('AR10 (h)'!D14=\"\",\"\",'AR10 (h)'!D14)","v":""},{"$f":"IF('AR10 (h)'!E14=\"\",\"\",'AR10 (h)'!E14)","v":""},{"$f":"IF('AR10 (h)'!F14=\"\",\"\",'AR10 (h)'!F14)","v":""}]
["February",{"$f":"IF('AR8 (h)'!B39=\"\",\"\",'AR8 (h)'!B39)","v":""},{"$f":"IF('AR8 (h)'!C39=\"\",\"\",'AR8 (h)'!C39)","v":""},{"$f":"IF('AR8 (h)'!D39=\"\",\"\",'AR8 (h)'!D39)","v":""},{"$f":"IF('AR8 (h)'!E39=\"\",\"\",'AR8 (h)'!E39)","v":""},{"$f":"IF('AR8 (h)'!F39=\"\",\"\",'AR8 (h)'!F39)","v":""},{"$f":"IF('AR8 (h)'!G39=\"\",\"\",'AR8 (h)'!G39)","v":""},{"$f":"IF('AR8 (h)'!H39=\"\",\"\",'AR8 (h)'!H39)","v":""},null,null,null,"February",{"$f":"IF('AR10 (h)'!B15=\"\",\"\",'AR10 (h)'!B15)","v":""},{"$f":"IF('AR10 (h)'!C15=\"\",\"\",'AR10 (h)'!C15)","v":""},{"$f":"IF('AR10 (h)'!D15=\"\",\"\",'AR10 (h)'!D15)","v":""},{"$f":"IF('AR10 (h)'!E15=\"\",\"\",'AR10 (h)'!E15)","v":""},{"$f":"IF('AR10 (h)'!F15=\"\",\"\",'AR10 (h)'!F15)","v":""}]
["March",{"$f":"IF('AR8 (h)'!B40=\"\",\"\",'AR8 (h)'!B40)","v":""},{"$f":"IF('AR8 (h)'!C40=\"\",\"\",'AR8 (h)'!C40)","v":""},{"$f":"IF('AR8 (h)'!D40=\"\",\"\",'AR8 (h)'!D40)","v":""},{"$f":"IF('AR8 (h)'!E40=\"\",\"\",'AR8 (h)'!E40)","v":""},{"$f":"IF('AR8 (h)'!F40=\"\",\"\",'AR8 (h)'!F40)","v":""},{"$f":"IF('AR8 (h)'!G40=\"\",\"\",'AR8 (h)'!G40)","v":""},{"$f":"IF('AR8 (h)'!H40=\"\",\"\",'AR8 (h)'!H40)","v":""},null,null,null,"March",{"$f":"IF('AR10 (h)'!B16=\"\",\"\",'AR10 (h)'!B16)","v":""},{"$f":"IF('AR10 (h)'!C16=\"\",\"\",'AR10 (h)'!C16)","v":""},{"$f":"IF('AR10 (h)'!D16=\"\",\"\",'AR10 (h)'!D16)","v":""},{"$f":"IF('AR10 (h)'!E16=\"\",\"\",'AR10 (h)'!E16)","v":""},{"$f":"IF('AR10 (h)'!F16=\"\",\"\",'AR10 (h)'!F16)","v":""}]
["April",{"$f":"IF('AR8 (h)'!B41=\"\",\"\",'AR8 (h)'!B41)","v":""},{"$f":"IF('AR8 (h)'!C41=\"\",\"\",'AR8 (h)'!C41)","v":""},{"$f":"IF('AR8 (h)'!D41=\"\",\"\",'AR8 (h)'!D41)","v":""},{"$f":"IF('AR8 (h)'!E41=\"\",\"\",'AR8 (h)'!E41)","v":""},{"$f":"IF('AR8 (h)'!F41=\"\",\"\",'AR8 (h)'!F41)","v":""},{"$f":"IF('AR8 (h)'!G41=\"\",\"\",'AR8 (h)'!G41)","v":""},{"$f":"IF('AR8 (h)'!H41=\"\",\"\",'AR8 (h)'!H41)","v":""},null,null,null,"April",{"$f":"IF('AR10 (h)'!B17=\"\",\"\",'AR10 (h)'!B17)","v":""},{"$f":"IF('AR10 (h)'!C17=\"\",\"\",'AR10 (h)'!C17)","v":""},{"$f":"IF('AR10 (h)'!D17=\"\",\"\",'AR10 (h)'!D17)","v":""},{"$f":"IF('AR10 (h)'!E17=\"\",\"\",'AR10 (h)'!E17)","v":""},{"$f":"IF('AR10 (h)'!F17=\"\",\"\",'AR10 (h)'!F17)","v":""}]
["May",{"$f":"IF('AR8 (h)'!B42=\"\",\"\",'AR8 (h)'!B42)","v":""},{"$f":"IF('AR8 (h)'!C42=\"\",\"\",'AR8 (h)'!C42)","v":""},{"$f":"IF('AR8 (h)'!D42=\"\",\"\",'AR8 (h)'!D42)","v":""},{"$f":"IF('AR8 (h)'!E42=\"\",\"\",'AR8 (h)'!E42)","v":""},{"$f":"IF('AR8 (h)'!F42=\"\",\"\",'AR8 (h)'!F42)","v":""},{"$f":"IF('AR8 (h)'!G42=\"\",\"\",'AR8 (h)'!G42)","v":""},{"$f":"IF('AR8 (h)'!H42=\"\",\"\",'AR8 (h)'!H42)","v":""},null,null,null,"May",{"$f":"IF('AR10 (h)'!B18=\"\",\"\",'AR10 (h)'!B18)","v":""},{"$f":"IF('AR10 (h)'!C18=\"\",\"\",'AR10 (h)'!C18)","v":""},{"$f":"IF('AR10 (h)'!D18=\"\",\"\",'AR10 (h)'!D18)","v":""},{"$f":"IF('AR10 (h)'!E18=\"\",\"\",'AR10 (h)'!E18)","v":""},{"$f":"IF('AR10 (h)'!F18=\"\",\"\",'AR10 (h)'!F18)","v":""}]
["June",{"$f":"IF('AR8 (h)'!B43=\"\",\"\",'AR8 (h)'!B43)","v":""},{"$f":"IF('AR8 (h)'!C43=\"\",\"\",'AR8 (h)'!C43)","v":""},{"$f":"IF('AR8 (h)'!D43=\"\",\"\",'AR8 (h)'!D43)","v":""},{"$f":"IF('AR8 (h)'!E43=\"\",\"\",'AR8 (h)'!E43)","v":""},{"$f":"IF('AR8 (h)'!F43=\"\",\"\",'AR8 (h)'!F43)","v":""},{"$f":"IF('AR8 (h)'!G43=\"\",\"\",'AR8 (h)'!G43)","v":""},{"$f":"IF('AR8 (h)'!H43=\"\",\"\",'AR8 (h)'!H43)","v":""},null,null,null,"June",{"$f":"IF('AR10 (h)'!B19=\"\",\"\",'AR10 (h)'!B19)","v":""},{"$f":"IF('AR10 (h)'!C19=\"\",\"\",'AR10 (h)'!C19)","v":""},{"$f":"IF('AR10 (h)'!D19=\"\",\"\",'AR10 (h)'!D19)","v":""},{"$f":"IF('AR10 (h)'!E19=\"\",\"\",'AR10 (h)'!E19)","v":""},{"$f":"IF('AR10 (h)'!F19=\"\",\"\",'AR10 (h)'!F19)","v":""}]
["July",{"$f":"IF('AR8 (h)'!B44=\"\",\"\",'AR8 (h)'!B44)","v":""},{"$f":"IF('AR8 (h)'!C44=\"\",\"\",'AR8 (h)'!C44)","v":""},{"$f":"IF('AR8 (h)'!D44=\"\",\"\",'AR8 (h)'!D44)","v":""},{"$f":"IF('AR8 (h)'!E44=\"\",\"\",'AR8 (h)'!E44)","v":""},{"$f":"IF('AR8 (h)'!F44=\"\",\"\",'AR8 (h)'!F44)","v":""},{"$f":"IF('AR8 (h)'!G44=\"\",\"\",'AR8 (h)'!G44)","v":""},{"$f":"IF('AR8 (h)'!H44=\"\",\"\",'AR8 (h)'!H44)","v":""},null,null,null,"July",{"$f":"IF('AR10 (h)'!B20=\"\",\"\",'AR10 (h)'!B20)","v":""},{"$f":"IF('AR10 (h)'!C20=\"\",\"\",'AR10 (h)'!C20)","v":""},{"$f":"IF('AR10 (h)'!D20=\"\",\"\",'AR10 (h)'!D20)","v":""},{"$f":"IF('AR10 (h)'!E20=\"\",\"\",'AR10 (h)'!E20)","v":""},{"$f":"IF('AR10 (h)'!F20=\"\",\"\",'AR10 (h)'!F20)","v":""}]
["August",{"$f":"IF('AR8 (h)'!B45=\"\",\"\",'AR8 (h)'!B45)","v":""},{"$f":"IF('AR8 (h)'!C45=\"\",\"\",'AR8 (h)'!C45)","v":""},{"$f":"IF('AR8 (h)'!D45=\"\",\"\",'AR8 (h)'!D45)","v":""},{"$f":"IF('AR8 (h)'!E45=\"\",\"\",'AR8 (h)'!E45)","v":""},{"$f":"IF('AR8 (h)'!F45=\"\",\"\",'AR8 (h)'!F45)","v":""},{"$f":"IF('AR8 (h)'!G45=\"\",\"\",'AR8 (h)'!G45)","v":""},{"$f":"IF('AR8 (h)'!H45=\"\",\"\",'AR8 (h)'!H45)","v":""},null,null,null,"August",{"$f":"IF('AR10 (h)'!B21=\"\",\"\",'AR10 (h)'!B21)","v":""},{"$f":"IF('AR10 (h)'!C21=\"\",\"\",'AR10 (h)'!C21)","v":""},{"$f":"IF('AR10 (h)'!D21=\"\",\"\",'AR10 (h)'!D21)","v":""},{"$f":"IF('AR10 (h)'!E21=\"\",\"\",'AR10 (h)'!E21)","v":""},{"$f":"IF('AR10 (h)'!F21=\"\",\"\",'AR10 (h)'!F21)","v":""}]
["September",{"$f":"IF('AR8 (h)'!B46=\"\",\"\",'AR8 (h)'!B46)","v":""},{"$f":"IF('AR8 (h)'!C46=\"\",\"\",'AR8 (h)'!C46)","v":""},{"$f":"IF('AR8 (h)'!D46=\"\",\"\",'AR8 (h)'!D46)","v":""},{"$f":"IF('AR8 (h)'!E46=\"\",\"\",'AR8 (h)'!E46)","v":""},{"$f":"IF('AR8 (h)'!F46=\"\",\"\",'AR8 (h)'!F46)","v":""},{"$f":"IF('AR8 (h)'!G46=\"\",\"\",'AR8 (h)'!G46)","v":""},{"$f":"IF('AR8 (h)'!H46=\"\",\"\",'AR8 (h)'!H46)","v":""},null,null,null,"September",{"$f":"IF('AR10 (h)'!B22=\"\",\"\",'AR10 (h)'!B22)","v":""},{"$f":"IF('AR10 (h)'!C22=\"\",\"\",'AR10 (h)'!C22)","v":""},{"$f":"IF('AR10 (h)'!D22=\"\",\"\",'AR10 (h)'!D22)","v":""},{"$f":"IF('AR10 (h)'!E22=\"\",\"\",'AR10 (h)'!E22)","v":""},{"$f":"IF('AR10 (h)'!F22=\"\",\"\",'AR10 (h)'!F22)","v":""}]
["October",{"$f":"IF('AR8 (h)'!B47=\"\",\"\",'AR8 (h)'!B47)","v":""},{"$f":"IF('AR8 (h)'!C47=\"\",\"\",'AR8 (h)'!C47)","v":""},{"$f":"IF('AR8 (h)'!D47=\"\",\"\",'AR8 (h)'!D47)","v":""},{"$f":"IF('AR8 (h)'!E47=\"\",\"\",'AR8 (h)'!E47)","v":""},{"$f":"IF('AR8 (h)'!F47=\"\",\"\",'AR8 (h)'!F47)","v":""},{"$f":"IF('AR8 (h)'!G47=\"\",\"\",'AR8 (h)'!G47)","v":""},{"$f":"IF('AR8 (h)'!H47=\"\",\"\",'AR8 (h)'!H47)","v":""},null,null,null,"October",{"$f":"IF('AR10 (h)'!B23=\"\",\"\",'AR10 (h)'!B23)","v":""},{"$f":"IF('AR10 (h)'!C23=\"\",\"\",'AR10 (h)'!C23)","v":""},{"$f":"IF('AR10 (h)'!D23=\"\",\"\",'AR10 (h)'!D23)","v":""},{"$f":"IF('AR10 (h)'!E23=\"\",\"\",'AR10 (h)'!E23)","v":""},{"$f":"IF('AR10 (h)'!F23=\"\",\"\",'AR10 (h)'!F23)","v":""}]
["November",{"$f":"IF('AR8 (h)'!B48=\"\",\"\",'AR8 (h)'!B48)","v":""},{"$f":"IF('AR8 (h)'!C48=\"\",\"\",'AR8 (h)'!C48)","v":""},{"$f":"IF('AR8 (h)'!D48=\"\",\"\",'AR8 (h)'!D48)","v":""},{"$f":"IF('AR8 (h)'!E48=\"\",\"\",'AR8 (h)'!E48)","v":""},{"$f":"IF('AR8 (h)'!F48=\"\",\"\",'AR8 (h)'!F48)","v":""},{"$f":"IF('AR8 (h)'!G48=\"\",\"\",'AR8 (h)'!G48)","v":""},{"$f":"IF('AR8 (h)'!H48=\"\",\"\",'AR8 (h)'!H48)","v":""},null,null,null,"November",{"$f":"IF('AR10 (h)'!B24=\"\",\"\",'AR10 (h)'!B24)","v":""},{"$f":"IF('AR10 (h)'!C24=\"\",\"\",'AR10 (h)'!C24)","v":""},{"$f":"IF('AR10 (h)'!D24=\"\",\"\",'AR10 (h)'!D24)","v":""},{"$f":"IF('AR10 (h)'!E24=\"\",\"\",'AR10 (h)'!E24)","v":""},{"$f":"IF('AR10 (h)'!F24=\"\",\"\",'AR10 (h)'!F24)","v":""}]
["December",{"$f":"IF('AR8 (h)'!B49=\"\",\"\",'AR8 (h)'!B49)","v":""},{"$f":"IF('AR8 (h)'!C49=\"\",\"\",'AR8 (h)'!C49)","v":""},{"$f":"IF('AR8 (h)'!D49=\"\",\"\",'AR8 (h)'!D49)","v":""},{"$f":"IF('AR8 (h)'!E49=\"\",\"\",'AR8 (h)'!E49)","v":""},{"$f":"IF('AR8 (h)'!F49=\"\",\"\",'AR8 (h)'!F49)","v":""},{"$f":"IF('AR8 (h)'!G49=\"\",\"\",'AR8 (h)'!G49)","v":""},{"$f":"IF('AR8 (h)'!H49=\"\",\"\",'AR8 (h)'!H49)","v":""},null,null,null,"December",{"$f":"IF('AR10 (h)'!B25=\"\",\"\",'AR10 (h)'!B25)","v":""},{"$f":"IF('AR10 (h)'!C25=\"\",\"\",'AR10 (h)'!C25)","v":""},{"$f":"IF('AR10 (h)'!D25=\"\",\"\",'AR10 (h)'!D25)","v":""},{"$f":"IF('AR10 (h)'!E25=\"\",\"\",'AR10 (h)'!E25)","v":""},{"$f":"IF('AR10 (h)'!F25=\"\",\"\",'AR10 (h)'!F25)","v":""}]
["TOTAL",{"$f":"SUM(B12:B23)","v":0},0,0,0,0,0,0]
[]
[]
["If yes, are the fire flow requirements? ",null,null,null,{"$f":"'AR10 (h)'!E28","v":0},"GPM for",{"$f":"'AR10 (h)'!G28","v":0},"hrs.",null,null,null,null,null,null,null,null,null,null,null,null,{"$f":"C24+'Sch 5 (g)'!C24+'Sch 5 (f)'!C24+'Sch 5 (e)'!C24+'Sch 5 (d)'!C24+'Sch 5 (c)'!C24+'Sch 5 (b)'!C24+'Sch 5'!C24","v":0}]
[]
["Does the system have chlorination treatment?",null,null,null,null,{"$f":"'AR10 (h)'!E30","v":0}]
[]
["Is the Water Utility located in an ADWR Active Management Area (AMA)?",null,null,null,null,{"$f":"'AR10 (h)'!F35","v":0}]
["If yes, which AMA?",null,null,null,null,{"$f":"'AR10 (h)'!F36","v":0}]
[]
["Does the Company have an ADWR Gallons Per Capita Per Day (GCPCPD) requirement?",null,null,null,null,{"$f":"'AR10 (h)'!F32","v":0}]
["If yes, provide the GPCPD amount:",null,{"$f":"'AR10 (h)'!C33","v":0}]
[]
["If applicable, in the space below, please provide a description for all estimated authorized un-metered use along with specific amounts:"]
[]
[{"$f":"IF('AR8 (h)'!A54=\"\",\"\",'AR8 (h)'!A54)","v":""}]
[]
[]
[]
[]
[]
[]
[]
["1 Water withdrawn - Total acre feet of water withdrawn from pumped sources."]
["2 Water sold - Total acre feet from customer meters, and other sales such as construction water."]
["3 Water delivered (sold) to other systems - Total acre feet of water delivered to other systems. "]
["4 Water received (purchased) from other systems - Total acre feet of water purchased/received from other systems."]
["5 Estimated authorized use - Total estimated acre feet from authorized metered or unmetered use.  Authorized uses such as flushing (mains, services and hydrants) draining/cleaning tanks, process, construction, fire fighting, etc.  Non-authorized use (real losses) are service line breaks and leaks, water main breaks, meter inaccuracies and theft."]
[]
["6 Enter the total purchased power costs for the power meters associated with this system."]
["7 Enter the total purchased kWh used by the power meters associated with this system."]
[null,null,null,null,null,null,null,null,{"$f":"\"Page \" &I56&\"h\"","v":"Page 24h"},null,null,null,null,null,null,null,null,{"$f":"\"Page \" &R56&\"h\"","v":"Page 25h"}]
[null,null,null,null,null,null,null,null,{"$f":"'Sch 4'!E55+1","v":24},null,null,null,null,null,null,null,null,{"$f":"I56+1","v":25}]
[]
[]
[]
[{"$f":"IF(C24=(D24+E24),\"The Gallons pumped should not be equal to the gallons sold.  There is a potentially significant problem, please investigate and explain.\",IF((D24+E24)<C24,\"The Gallons pumped should not be less than the gallons sold.  There is a potentially significant problem, please investigate and explain..\",\"\"))","v":"The Gallons pumped should not be equal to the gallons sold.  There is a potentially significant problem, please investigate and explain."}]
[]
[]
[{"$f":"\"Note: This page automatically populates with information from your annual report \"&#REF!","v":{"$error":"#REF!"}}]
[]
["Note 2: If you are filing for more than one system, please provide separate data sheets for each system, by copying and pasting this sheet as many times as is necessary. For explanation of any of the above, please contact the Engineering Supervisor at 602-542-7277."]

{"sheet":"Sch 6","index":70,"n_rows":79,"n_cols":12,"rows_kept":79,"cut":false,"hidden":true,"merged":[[5,0,5,10],[63,0,64,10],[70,1,71,8]]}
[{"$f":"'AR1'!$B$12","v":0},null,null,null,null,null,null,null,null,null,{"$f":"'Sch Title'!$A$22","v":"Schedule 6"}]
[{"$f":"'Sch Title'!$A$2","v":"Short Form Rate Application"},null,null,null,null,null,null,null,null,null,{"$f":"\" Short Form Rate Application Page No. \"&K68","v":" Short Form Rate Application Page No. 25"}]
[{"$f":"Sch14_BillCt","v":"BILL COUNT SUMMARY"},null,null,null,null,null,null,null,null,null,null,"Table of contents"]
[{"$f":"'Sch Title'!$A$4","v":"Test Year Ended 12/31/20"}]
[]
["BILL COUNT SUMMARY"]
[]
["Meter Size:","5/8\" x 3/4\" Meter","3/4\"Meter","1\" Meter","1-1/2\" Meter","2\" Meter","3\" Meter","4\" Meter","6\" Meter","8\" Meter","10\" Meter"]
["Customer Class:"]
["- 0 -"]
["1 to 1,000"]
["1,001 to 2,000"]
["2,001 to 3,000"]
["3,001 to 4,000"]
["4,001 to 5,000"]
["5,001 to 6,000"]
["6,001 to 7,000"]
["7,001 to 8,000"]
["8,001 to 9,000"]
["9,001 to 10,000"]
["10,001 to 12,000"]
["12,001 to 14,000"]
["14,001 to 16,000"]
["16,001 to 18,000"]
["18,001 to 20,000"]
["20,001 to 25,000"]
["25,001 to 30,000"]
["30,001 to 35,000"]
["35,001 to 40,000"]
["40,001 to 50,000"]
["50,001 to 60,000"]
["60,001 to 70,000"]
["70,001 to 80,000"]
["80,001 to 90,000"]
["90,001 to 100,000"]
[]
[]
[]
[]
[]
[]
[]
[]
[]
[]
[]
[]
[]
[]
[]
[]
[]
[]
[]
[]
[]
[]
["Total Bills",{"$f":"SUM(B10:B57)","v":0},0,0,0,0,0,0,0,0,0]
["Average Number of Customers",{"$f":"B58/12","v":0},{"$f":"C58/12","v":0},0,0,0,0,0,0,0,0]
["Total",{"$f":"SUM(B59:K59)","v":0}]
[]
[]
[]
["Instructions:  Update all of the information in the Grey highlighted cells.  Only complete the bill counts for each meter size and/or type that the Company currently serves.  Each column will represent the counts for each meter/type for the full test year.  The information is no longer being required to be reported by quarter."]
[]
[]
[null,null,null,null,null,null,null,null,null,null,{"$f":"\"Page \" &K68","v":"Page 25"}]
[null,null,null,null,null,null,null,null,null,null,{"$f":"'Sch 5'!I56+1","v":25}]
[]
[]
[null,"After inputting the Bill Count information here, the information on this Schedule 8, if cell E75 is pink with red font then please double check your data entry, especially your bill counts."]
[]
[]
[]
[null,null,"Revenues",{"$f":"'Sch 9'!K18","v":0},{"$f":"'Sch 9'!L18","v":""}]
[]
[null,{"$f":"IF(B9<>\"\",\"Complete\",\"Incomplete\")","v":"Incomplete"},"Incomplete","Incomplete",{"$f":"IF(B77=\"Incomplete\",\"Incomplete\",IF(C77=\"Incomplete\",\"Incomplete\",IF(D77=\"Incomplete\",\"Incomplete\",\"Complete\")))","v":"Incomplete"}]
[null,"Incomplete","Incomplete","Incomplete",{"$f":"IF(B78=\"Incomplete\",\"Incomplete\",IF(C78=\"Incomplete\",\"Incomplete\",IF(D78=\"Incomplete\",\"Incomplete\",\"Complete\")))","v":"Incomplete"}]
[null,null,null,null,{"$f":"IF(E77=\"Incomplete\",\"Incomplete\",IF(E78=\"Incomplete\",\"Incomplete\",\"Complete\"))","v":"Incomplete"}]

{"sheet":"Sch 7","index":71,"n_rows":60,"n_cols":22,"rows_kept":60,"cut":false,"hidden":true,"merged":[[26,2,26,3],[26,5,26,6],[25,1,25,3],[25,4,25,6],[51,0,56,6],[36,1,36,2],[36,4,36,5],[34,0,34,6],[35,0,35,6],[9,17,10,24],[7,0,7,5],[5,0,5,6],[24,0,24,6],[23,0,23,6],[8,2,8,3],[8,4,8,5],[8,1,9,1],[8,0,9,0],[18,17,21,24]]}
[{"$f":"'AR1'!$B$12","v":0},null,null,null,null,null,{"$f":"'Sch Title'!$A$23","v":"Schedule 7"}]
[{"$f":"'Sch Title'!$A$2","v":"Short Form Rate Application"},null,null,null,null,null,{"$f":"\" Short Form Rate Application Page No. \"&G60","v":" Short Form Rate Application Page No. 26"}]
[{"$f":"Sch1_rates","v":"CURRENT AND PROPOSED RATES"}]
[{"$f":"'Sch Title'!$A$4","v":"Test Year Ended 12/31/20"}]
[null,null,null,null,null,null,null,null,null,null,null,null,null,null,null,null,"Table of contents"]
["CURRENT AND PROPOSED RATES"]
[]
["MONTHLY MINIMUM OR BASIC SERVICE CHARGE"]
["METER SIZE\n","CUSTOMER CLASS\n","CURRENT RATES",null,"PROPOSED RATES"]
[null,null,"RATE","GALLONS INCLUDED","RATE","GALLONS INCLUDED",null,null,null,null,null,null,null,null,null,null,null,"After updating the information on Schedule 8 and inputting the Bill Count information on Schedule 14, if cell M14 is pink with red font then please double check your data entry, especially your bill counts."]
["5/8\" x 3/4\" Meter",null,null,null,null,null,null,null,{"$f":"ISBLANK(A11)","v":false},{"$f":"IF(I11=TRUE,\"Incomplete\",\"Complete\")","v":"Complete"},{"$f":"ISBLANK(B11)","v":true},{"$f":"IF(K11=TRUE,\"Incomplete\",\"Complete\")","v":"Incomplete"},{"$f":"ISBLANK(C11)","v":true},{"$f":"IF(M11=TRUE,\"Incomplete\",\"Complete\")","v":"Incomplete"},{"$f":"ISBLANK(E11)","v":true},{"$f":"IF(O11=TRUE,\"Incomplete\",\"Complete\")","v":"Incomplete"}]
["3/4\"Meter",null,null,null,null,null,null,null,{"$f":"ISBLANK(A12)","v":false},{"$f":"IF(I12=TRUE,\"Incomplete\",\"Complete\")","v":"Complete"},{"$f":"ISBLANK(B12)","v":true},{"$f":"IF(K12=TRUE,\"Incomplete\",\"Complete\")","v":"Incomplete"},{"$f":"ISBLANK(C12)","v":true},{"$f":"IF(M12=TRUE,\"Incomplete\",\"Complete\")","v":"Incomplete"},{"$f":"ISBLANK(E12)","v":true},{"$f":"IF(O12=TRUE,\"Incomplete\",\"Complete\")","v":"Incomplete"}]
["1\" Meter",null,null,null,null,null,null,null,false,"Complete",true,"Incomplete",true,"Incomplete",true,"Incomplete"]
["1-1/2\" Meter",null,null,null,null,null,null,null,false,"Complete",true,"Incomplete",true,"Incomplete",true,"Incomplete",null,"Revenues",{"$f":"'Sch 9'!K18","v":0},{"$f":"'Sch 9'!L18","v":""}]
["2\" Meter",null,null,null,null,null,null,null,false,"Complete",true,"Incomplete",true,"Incomplete",true,"Incomplete",null,"DSC",{"$f":"IF('AR7'!H17>0,(('Sch 9'!H50+'Sch 9'!H43+'Sch 9'!H46)/('AR7'!H17+'AR7'!H18)),\"\")","v":""}]
["3\" Meter",null,null,null,null,null,null,null,false,"Complete",true,"Incomplete",true,"Incomplete",true,"Incomplete"]
["4\" Meter",null,null,null,null,null,null,null,false,"Complete",true,"Incomplete",true,"Incomplete",true,"Incomplete"]
["6\" Meter",null,null,null,null,null,null,null,false,"Complete",true,"Incomplete",true,"Incomplete",true,"Incomplete"]
["8\" Meter",null,null,null,null,null,null,null,false,"Complete",true,"Incomplete",true,"Incomplete",true,"Incomplete",null,"Per Decision No. 75626, the Commission has issued policy guidelines where at least 50% of the total revenue requirement should be generated by the basic service charge and the first tier, and that no less than 10% and no more than 20% of the total revenue requirement should be generated by the third or highest tier.  The information below is intended to assist the Company in developing proposed rates."]
["10\" Meter",null,null,null,null,null,null,null,false,"Complete",true,"Incomplete",true,"Incomplete",true,"Incomplete"]
[null,null,null,null,null,null,null,null,true,"Incomplete",true,"Incomplete",true,"Incomplete",true,"Incomplete"]
[null,null,null,null,null,null,null,null,null,{"$f":"IF(J11=\"Incomplete\",\"Incomplete\",IF(J12=\"Incomplete\",\"Incomplete\",IF(J13=\"Incomplete\",\"Incomplete\",IF(J14=\"Incomplete\",\"Incomplete\",IF(J15=\"Incomplete\",\"Incomplete\",IF(J16=\"Incomplete\",\"Incomplete\",\"Complete\"))))))","v":"Complete"},null,{"$f":"IF(L11=\"Incomplete\",\"Incomplete\",IF(L12=\"Incomplete\",\"Incomplete\",IF(L13=\"Incomplete\",\"Incomplete\",IF(L14=\"Incomplete\",\"Incomplete\",IF(L15=\"Incomplete\",\"Incomplete\",IF(L16=\"Incomplete\",\"Incomplete\",\"Complete\"))))))","v":"Incomplete"},null,{"$f":"IF(N11=\"Incomplete\",\"Incomplete\",IF(N12=\"Incomplete\",\"Incomplete\",IF(N13=\"Incomplete\",\"Incomplete\",IF(N14=\"Incomplete\",\"Incomplete\",IF(N15=\"Incomplete\",\"Incomplete\",IF(N16=\"Incomplete\",\"Incomplete\",\"Complete\"))))))","v":"Incomplete"},null,{"$f":"IF(P11=\"Incomplete\",\"Incomplete\",IF(P12=\"Incomplete\",\"Incomplete\",IF(P13=\"Incomplete\",\"Incomplete\",IF(P14=\"Incomplete\",\"Incomplete\",IF(P15=\"Incomplete\",\"Incomplete\",IF(P16=\"Incomplete\",\"Incomplete\",\"Complete\"))))))","v":"Incomplete"}]
[null,null,null,null,null,null,null,null,null,{"$f":"IF(J17=\"Incomplete\",\"Incomplete\",IF(J18=\"Incomplete\",\"Incomplete\",IF(J19=\"Incomplete\",\"Incomplete\",IF(J20=\"Incomplete\",\"Incomplete\",IF(J21=\"Incomplete\",\"Incomplete\",\"Complete\")))))","v":"Incomplete"},null,{"$f":"IF(L17=\"Incomplete\",\"Incomplete\",IF(L18=\"Incomplete\",\"Incomplete\",IF(L19=\"Incomplete\",\"Incomplete\",IF(L20=\"Incomplete\",\"Incomplete\",IF(L21=\"Incomplete\",\"Incomplete\",\"Complete\")))))","v":"Incomplete"},null,{"$f":"IF(N17=\"Incomplete\",\"Incomplete\",IF(N18=\"Incomplete\",\"Incomplete\",IF(N19=\"Incomplete\",\"Incomplete\",IF(N20=\"Incomplete\",\"Incomplete\",IF(N21=\"Incomplete\",\"Incomplete\",\"Complete\")))))","v":"Incomplete"},null,{"$f":"IF(P17=\"Incomplete\",\"Incomplete\",IF(P18=\"Incomplete\",\"Incomplete\",IF(P19=\"Incomplete\",\"Incomplete\",IF(P20=\"Incomplete\",\"Incomplete\",IF(P21=\"Incomplete\",\"Incomplete\",\"Complete\")))))","v":"Incomplete"}]
["GALLONS IN EXCESS OF MINIMUM",null,null,null,null,null,null,null,null,null,null,null,null,null,null,{"$f":"IF(J22=\"Incomplete\",\"Incomplete\",IF(L22=\"Incomplete\",\"Incomplete\",IF(N22=\"Incomplete\",\"Incomplete\",IF(P22=\"Incomplete\",\"Incomplete\",\"Complete\"))))","v":"Incomplete"}]
["Commodity Charge (Per 1,000 Gallons)",null,null,null,null,null,null,null,null,null,null,null,null,null,null,{"$f":"IF(J23=\"Incomplete\",\"Incomplete\",IF(L23=\"Incomplete\",\"Incomplete\",IF(N23=\"Incomplete\",\"Incomplete\",IF(P23=\"Incomplete\",\"Incomplete\",\"Complete\"))))","v":"Incomplete"},null,"Typical Bill"]
[null,"CURRENT RATES",null,null,"PROPOSED RATES",null,null,null,null,null,null,null,null,null,null,null,null,{"$f":"A28","v":"5/8\" x 3/4\" Meter"}]
[null,null,"Gallons",null,null,"Gallons",null,null,null,null,null,null,null,null,null,null,null,"Revenue from:","CURRENT",null,"PROPOSED"]
[{"$f":"A11","v":"5/8\" x 3/4\" Meter"},"RATES","FROM","TO","RATES","FROM","TO",null,null,null,null,null,null,null,null,null,null,"Base Charges",{"$f":"'Proof of Rev Hidden'!L34","v":0},{"$f":"S28/$S$32","v":{"$error":"#DIV/0!"}},{"$f":"'Proof of Rev Hidden'!O34","v":0},{"$f":"U28/$U$32","v":{"$error":"#DIV/0!"}}]
["FIRST TIER",null,null,null,null,null,null,null,{"$f":"ISBLANK(B29)","v":true},{"$f":"IF(I29=TRUE,\"Incomplete\",\"Complete\")","v":"Incomplete"},{"$f":"ISBLANK(C29)","v":true},{"$f":"IF(K29=TRUE,\"Incomplete\",\"Complete\")","v":"Incomplete"},{"$f":"ISBLANK(D29)","v":true},{"$f":"IF(M29=TRUE,\"Incomplete\",\"Complete\")","v":"Incomplete"},{"$f":"IF(J29=\"Incomplete\",\"Incomplete\",IF(L29=\"Incomplete\",\"Incomplete\",IF(N29=\"Incomplete\",\"Incomplete\",\"Complete\")))","v":"Incomplete"},null,null,{"$f":"A29","v":"FIRST TIER"},{"$f":"'Proof of Rev Hidden'!L35","v":0},{"$f":"S29/$S$32","v":{"$error":"#DIV/0!"}},{"$f":"'Proof of Rev Hidden'!O35","v":0},{"$f":"U29/$U$32","v":{"$error":"#DIV/0!"}}]
["SECOND TIER",null,null,null,null,null,null,null,{"$f":"ISBLANK(B30)","v":true},"Incomplete",{"$f":"ISBLANK(C30)","v":true},"Incomplete",{"$f":"ISBLANK(D30)","v":true},"Incomplete","Incomplete",null,null,{"$f":"A30","v":"SECOND TIER"},{"$f":"'Proof of Rev Hidden'!L36","v":0},{"$f":"S30/$S$32","v":{"$error":"#DIV/0!"}},{"$f":"'Proof of Rev Hidden'!O36","v":0},{"$f":"U30/$U$32","v":{"$error":"#DIV/0!"}}]
["THIRD TIER",null,null,null,null,null,null,null,{"$f":"ISBLANK(B31)","v":true},"Incomplete",{"$f":"ISBLANK(C31)","v":true},"Incomplete",{"$f":"ISBLANK(D31)","v":true},"Incomplete","Incomplete",null,null,{"$f":"A31","v":"THIRD TIER"},{"$f":"'Proof of Rev Hidden'!L37","v":0},{"$f":"S31/$S$32","v":{"$error":"#DIV/0!"}},{"$f":"'Proof of Rev Hidden'!O37","v":0},{"$f":"U31/$U$32","v":{"$error":"#DIV/0!"}}]
["FLAT RATE",null,null,null,null,null,null,null,{"$f":"ISBLANK(E29)","v":true},"Incomplete",{"$f":"ISBLANK(F29)","v":true},"Incomplete",{"$f":"ISBLANK(G29)","v":true},"Incomplete","Incomplete",null,null,null,{"$f":"SUM(S28:S31)","v":0},null,{"$f":"SUM(U28:U31)","v":0}]
[null,null,null,null,null,null,null,null,{"$f":"ISBLANK(E30)","v":true},"Incomplete",{"$f":"ISBLANK(F30)","v":true},"Incomplete",{"$f":"ISBLANK(G30)","v":true},"Incomplete","Incomplete"]
[null,null,null,null,null,null,null,null,{"$f":"ISBLANK(E31)","v":true},"Incomplete",{"$f":"ISBLANK(F31)","v":true},"Incomplete",{"$f":"ISBLANK(G31)","v":true},"Incomplete","Incomplete"]
["GALLONS IN EXCESS OF MINIMUM FOR LARGER METER SIZES WITH ONLY TWO TIERS",null,null,null,null,null,null,null,null,null,null,null,null,null,{"$f":"IF(O29=\"Incomplete\",\"Incomplete\",IF(O30=\"Incomplete\",\"Incomplete\",IF(O31=\"Incomplete\",\"Incomplete\",IF(O32=\"Incomplete\",\"Incomplete\",IF(O33=\"Incomplete\",\"Incomplete\",IF(O34=\"Incomplete\",\"Incomplete\",\"Complete\"))))))","v":"Incomplete"},{"$f":"IF(P22=\"Incomplete\",\"Incomplete\",IF(P23=\"Incomplete\",\"Incomplete\",IF(P24=\"Incomplete\",\"Incomplete\",IF(P25=\"Incomplete\",\"Incomplete\",IF(O35=\"Incomplete\",\"Incomplete\",\"Complete\")))))","v":"Incomplete"}]
["Commodity Charge (Per 1,000 Gallons)",null,null,null,null,null,null,null,null,null,null,null,null,null,null,null,null,"All other meters"]
[null,"RATES",null,"BREAK-OVER","RATES",null,"BREAK-OVER",null,null,null,null,null,null,null,null,null,null,"Revenue from:","CURRENT",null,"PROPOSED"]
["METER SIZE","LOWER","HIGHER","POINT","LOWER","HIGHER","POINT",null,null,null,null,null,null,null,null,null,null,"Base Charges",{"$f":"'Proof of Rev Hidden'!S34+'Proof of Rev Hidden'!Z34+'Proof of Rev Hidden'!AG34+'Proof of Rev Hidden'!AN34+'Proof of Rev Hidden'!AU34+'Proof of Rev Hidden'!BB34+'Proof of Rev Hidden'!BI34+'Proof of Rev Hidden'!BP34+'Proof of Rev Hidden'!BW34+'Proof of Rev Hidden'!CD34","v":0},{"$f":"S38/$S$42","v":{"$error":"#DIV/0!"}},{"$f":"'Proof of Rev Hidden'!V34+'Proof of Rev Hidden'!AC34+'Proof of Rev Hidden'!AJ34+'Proof of Rev Hidden'!AQ34+'Proof of Rev Hidden'!AX34+'Proof of Rev Hidden'!BE34+'Proof of Rev Hidden'!BL34+'Proof of Rev Hidden'!BS34+'Proof of Rev Hidden'!BZ34+'Proof of Rev Hidden'!CG34","v":0},{"$f":"U38/$U$42","v":{"$error":"#DIV/0!"}}]
[{"$f":"A12","v":"3/4\"Meter"},{"$f":"$B$30","v":0},{"$f":"$B$31","v":0},null,{"$f":"$E$30","v":0},{"$f":"$E$31","v":0},null,null,null,null,null,null,null,null,null,null,null,{"$f":"R29","v":"FIRST TIER"},{"$f":"'Proof of Rev Hidden'!S35+'Proof of Rev Hidden'!Z35+'Proof of Rev Hidden'!AG35+'Proof of Rev Hidden'!AN35+'Proof of Rev Hidden'!AU35+'Proof of Rev Hidden'!BB35+'Proof of Rev Hidden'!BI35+'Proof of Rev Hidden'!BP35+'Proof of Rev Hidden'!BW35+'Proof of Rev Hidden'!CD35","v":0},{"$f":"S39/$S$42","v":{"$error":"#DIV/0!"}},{"$f":"'Proof of Rev Hidden'!V35+'Proof of Rev Hidden'!AC35+'Proof of Rev Hidden'!AJ35+'Proof of Rev Hidden'!AQ35+'Proof of Rev Hidden'!AX35+'Proof of Rev Hidden'!BE35+'Proof of Rev Hidden'!BL35+'Proof of Rev Hidden'!BS35+'Proof of Rev Hidden'!BZ35+'Proof of Rev Hidden'!CG35","v":0},{"$f":"U39/$U$42","v":{"$error":"#DIV/0!"}}]
["1\" Meter",{"$f":"$B$30","v":0},{"$f":"$B$31","v":0},null,{"$f":"$E$30","v":0},{"$f":"$E$31","v":0},null,null,null,null,null,null,null,null,null,null,null,{"$f":"R30","v":"SECOND TIER"},{"$f":"'Proof of Rev Hidden'!S36+'Proof of Rev Hidden'!Z36+'Proof of Rev Hidden'!AG36+'Proof of Rev Hidden'!AN36+'Proof of Rev Hidden'!AU36+'Proof of Rev Hidden'!BB36+'Proof of Rev Hidden'!BI36+'Proof of Rev Hidden'!BP36+'Proof of Rev Hidden'!BW36+'Proof of Rev Hidden'!CD36","v":0},{"$f":"S40/$S$42","v":{"$error":"#DIV/0!"}},{"$f":"'Proof of Rev Hidden'!V36+'Proof of Rev Hidden'!AC36+'Proof of Rev Hidden'!AJ36+'Proof of Rev Hidden'!AQ36+'Proof of Rev Hidden'!AX36+'Proof of Rev Hidden'!BE36+'Proof of Rev Hidden'!BL36+'Proof of Rev Hidden'!BS36+'Proof of Rev Hidden'!BZ36+'Proof of Rev Hidden'!CG36","v":0},{"$f":"U40/$U$42","v":{"$error":"#DIV/0!"}}]
["1-1/2\" Meter",0,0,null,0,0,null,null,null,null,null,null,null,null,null,null,null,{"$f":"R31","v":"THIRD TIER"},{"$f":"'Proof of Rev Hidden'!S37+'Proof of Rev Hidden'!Z37+'Proof of Rev Hidden'!AG37+'Proof of Rev Hidden'!AN37+'Proof of Rev Hidden'!AU37+'Proof of Rev Hidden'!BB37+'Proof of Rev Hidden'!BI37+'Proof of Rev Hidden'!BP37+'Proof of Rev Hidden'!BW37+'Proof of Rev Hidden'!CD37","v":0},{"$f":"S41/$S$42","v":{"$error":"#DIV/0!"}},{"$f":"'Proof of Rev Hidden'!V37+'Proof of Rev Hidden'!AC37+'Proof of Rev Hidden'!AJ37+'Proof of Rev Hidden'!AQ37+'Proof of Rev Hidden'!AX37+'Proof of Rev Hidden'!BE37+'Proof of Rev Hidden'!BL37+'Proof of Rev Hidden'!BS37+'Proof of Rev Hidden'!BZ37+'Proof of Rev Hidden'!CG37","v":0},{"$f":"U41/$U$42","v":{"$error":"#DIV/0!"}}]
["2\" Meter",0,0,null,0,0,null,null,null,null,null,null,null,null,null,null,null,null,{"$f":"SUM(S38:S41)","v":0},null,{"$f":"SUM(U38:U41)","v":0}]
["3\" Meter",0,0,null,0,0,null,null,null,null,null,null,null,null,null,null,null,null,null,null,{"$f":"'Sch 9'!H10","v":0},"Revenue Increase from Sch 9"]
["4\" Meter",0,0,null,0,0,null,null,null,null,null,null,null,null,null,null,null,null,null,null,{"$f":"U43-U32-U42","v":0},"Difference"]
["6\" Meter",0,0,null,0,0]
["8\" Meter",0,0,null,0,0]
["10\" Meter",0,0,null,0,0]
[0,0,0,null,0,0]
[]
[]
[]
["Instructions: Update all information as necessary in the Grey highlighted cells.  In the Monthly Minimum or Basic Service Charge section, use the drop down functions in columns A and B to select the meter sizes and customer classes.  Then update input the current and proposed rates and the gallons that are included with the basic service charge.  The next section is for the 5/8 and 3/4\" meters with three tiers.  Input the current and proposed commodity rates along with the ranges of each tier.  The last commodity section is for all meters that are 1\" and larger with only two tiers.  For each meter size fill in the break-over point, and update the rates if necessary. "]
[]
[]
[]
[]
[]
[]
[null,null,null,null,null,null,{"$f":"\"Page \" &G60","v":"Page 26"}]
[null,null,null,null,null,null,{"$f":"'Sch 6'!K68+1","v":26}]

{"sheet":"Proof of Rev Hidden","index":72,"n_rows":88,"n_cols":85,"rows_kept":88,"cut":false,"hidden":true,"merged":[[7,0,7,2],[6,0,6,2],[18,50,18,56],[18,57,18,63],[18,78,18,84],[17,78,17,84],[18,71,18,77],[17,71,17,77],[18,64,18,70],[17,64,17,70],[18,3,18,14],[18,15,18,21],[18,22,18,28],[18,29,18,35],[18,36,18,42],[18,43,18,49],[27,0,27,1],[28,0,28,1],[29,0,29,1],[31,5,31,8],[39,6,39,7],[24,0,24,1],[26,0,26,1],[17,57,17,63],[17,3,17,14],[17,22,17,28],[17,29,17,35],[17,36,17,42],[17,43,17,49],[17,50,17,56],[17,15,17,21],[20,0,20,1],[21,0,21,1],[22,0,22,1],[23,0,23,1]]}
[{"$f":"'AR1'!$B$12","v":0},null,null,null,null,null,null,null,null,null,null,null,null,null,null,null,null,null,null,null,null,"Proof of Revenue",null,null,null,null,null,null,null,null,null,null,null,null,null,null,null,null,null,null,null,null,null,null,null,null,null,null,null,"Proof of Revenue",null,null,null,null,null,null,null,null,null,null,null,null,null,null,null,null,null,null,null,null,null,null,null,null,null,null,null,null,null,null,null,null,null,null,"Proof of Revenue"]
[{"$f":"'Sch Title'!$A$2","v":"Short Form Rate Application"}]
[{"$f":"A7","v":"PROOF OF REVENUE"}]
[{"$f":"'Sch Title'!$A$4","v":"Test Year Ended 12/31/20"}]
[]
[]
["PROOF OF REVENUE"]
[]
[]
[null,null,"Revenues:","Current",null,null,null,null,null,null,null,"Proposed"]
[null,null,"  Total",{"$f":"+L33+S33+Z33+AG33+AN33+AU33+BB33+BI33+BP33+BW33+CD33","v":0},null,null,null,null,null,null,null,{"$f":"+O33+V33+AC33+AJ33+AQ33+AX33+BE33+BL33+BS33+BZ33+CG33","v":0}]
[null,null,"Test Year Metered Revenues",{"$f":"'Sch 9'!D10","v":0}]
[null,null,"Over(Short)",{"$f":"D12-D11","v":0}]
[null,null,"Percent Difference",{"$f":"IF(D12>0,D13/D12,\"\")","v":""}]
[]
[]
[]
[null,null,"Meter Size",{"$f":"'Sch 7'!A11","v":"5/8\" x 3/4\" Meter"},null,null,null,null,null,null,null,null,null,null,null,{"$f":"'Sch 7'!A12","v":"3/4\"Meter"},null,null,null,null,null,null,{"$f":"'Sch 7'!A13","v":"1\" Meter"},null,null,null,null,null,null,{"$f":"'Sch 7'!A14","v":"1-1/2\" Meter"},null,null,null,null,null,null,{"$f":"'Sch 7'!A15","v":"2\" Meter"},null,null,null,null,null,null,{"$f":"'Sch 7'!A16","v":"3\" Meter"},null,null,null,null,null,null,{"$f":"'Sch 7'!A17","v":"4\" Meter"},null,null,null,null,null,null,{"$f":"'Sch 7'!A18","v":"6\" Meter"},null,null,null,null,null,null,{"$f":"'Sch 7'!A19","v":"8\" Meter"},null,null,null,null,null,null,{"$f":"'Sch 7'!A20","v":"10\" Meter"},null,null,null,null,null,null,{"$f":"'Sch 7'!A21","v":0}]
[null,null,"Customer Class",{"$f":"'Sch 7'!B11","v":0},null,null,null,null,null,null,null,null,null,null,null,{"$f":"'Sch 7'!B12","v":0},null,null,null,null,null,null,{"$f":"'Sch 7'!B13","v":0},null,null,null,null,null,null,{"$f":"'Sch 7'!B14","v":0},null,null,null,null,null,null,{"$f":"'Sch 7'!B15","v":0},null,null,null,null,null,null,{"$f":"'Sch 7'!B16","v":0},null,null,null,null,null,null,{"$f":"'Sch 7'!B17","v":0},null,null,null,null,null,null,{"$f":"'Sch 7'!B18","v":0},null,null,null,null,null,null,{"$f":"'Sch 7'!B19","v":0},null,null,null,null,null,null,{"$f":"'Sch 7'!B20","v":0},null,null,null,null,null,null,{"$f":"'Sch 7'!B21","v":0}]
[null,null,null,null,null,null,null,null,null,null,null,"Current",null,null,"Proposed",null,null,null,"Current",null,null,"Proposed",null,null,null,"Current",null,null,"Proposed",null,null,null,"Current",null,null,"Proposed",null,null,null,"Current",null,null,"Proposed",null,null,null,"Current",null,null,"Proposed",null,null,null,"Current",null,null,"Proposed",null,null,null,"Current",null,null,"Proposed",null,null,null,"Current",null,null,"Proposed",null,null,null,"Current",null,null,"Proposed",null,null,null,"Current",null,null,"Proposed"]
["Basic Charge:",null,null,null,null,null,null,null,null,null,null,{"$f":"'Sch 7'!C11","v":0},null,null,{"$f":"'Sch 7'!E11","v":0},null,null,null,{"$f":"'Sch 7'!C12","v":0},null,null,{"$f":"'Sch 7'!E12","v":0},null,null,null,{"$f":"'Sch 7'!C13","v":0},null,null,{"$f":"'Sch 7'!E13","v":0},null,null,null,{"$f":"'Sch 7'!C14","v":0},null,null,{"$f":"'Sch 7'!E13","v":0},null,null,null,{"$f":"'Sch 7'!C15","v":0},null,null,{"$f":"'Sch 7'!E15","v":0},null,null,null,{"$f":"'Sch 7'!C16","v":0},null,null,{"$f":"'Sch 7'!E16","v":0},null,null,null,{"$f":"'Sch 7'!C17","v":0},null,null,{"$f":"'Sch 7'!E17","v":0},null,null,null,{"$f":"'Sch 7'!C18","v":0},null,null,{"$f":"'Sch 7'!E18","v":0},null,null,null,{"$f":"'Sch 7'!C19","v":0},null,null,{"$f":"'Sch 7'!E19","v":0},null,null,null,{"$f":"'Sch 7'!C20","v":0},null,null,{"$f":"'Sch 7'!E20","v":0},null,null,null,{"$f":"'Sch 7'!C21","v":0},null,null,{"$f":"'Sch 7'!E20","v":0}]
["Tier One Rate:",null,null,null,null,null,null,null,null,null,null,{"$f":"'Sch 7'!B29","v":0},null,null,{"$f":"'Sch 7'!E29","v":0},null,null,null,{"$f":"'Sch 7'!B39","v":0},null,null,{"$f":"'Sch 7'!E39","v":0},null,null,null,{"$f":"'Sch 7'!B40","v":0},null,null,{"$f":"'Sch 7'!E40","v":0},null,null,null,{"$f":"'Sch 7'!B41","v":0},null,null,{"$f":"'Sch 7'!E41","v":0},null,null,null,{"$f":"'Sch 7'!B42","v":0},null,null,{"$f":"'Sch 7'!E42","v":0},null,null,null,{"$f":"'Sch 7'!B43","v":0},null,null,{"$f":"'Sch 7'!E43","v":0},null,null,null,{"$f":"'Sch 7'!B44","v":0},null,null,{"$f":"'Sch 7'!E44","v":0},null,null,null,{"$f":"'Sch 7'!B45","v":0},null,null,{"$f":"'Sch 7'!E45","v":0},null,null,null,{"$f":"'Sch 7'!B46","v":0},null,null,{"$f":"'Sch 7'!E46","v":0},null,null,null,{"$f":"'Sch 7'!B47","v":0},null,null,{"$f":"'Sch 7'!E47","v":0},null,null,null,{"$f":"'Sch 7'!B48","v":0},null,null,{"$f":"'Sch 7'!E48","v":0}]
["Incremental Tier Two Rate:",null,null,null,null,null,null,null,null,null,null,{"$f":"'Sch 7'!B30-'Sch 7'!B29","v":0},null,null,{"$f":"'Sch 7'!E30-'Sch 7'!E29","v":0},null,null,null,{"$f":"'Sch 7'!C39-'Sch 7'!B39","v":0},null,null,{"$f":"'Sch 7'!F39-'Sch 7'!E39","v":0},null,null,null,{"$f":"'Sch 7'!C40-'Sch 7'!B40","v":0},null,null,{"$f":"'Sch 7'!F40-'Sch 7'!E40","v":0},null,null,null,{"$f":"'Sch 7'!C41-'Sch 7'!B41","v":0},null,null,{"$f":"'Sch 7'!F41-'Sch 7'!E41","v":0},null,null,null,{"$f":"'Sch 7'!C42-'Sch 7'!B42","v":0},null,null,{"$f":"'Sch 7'!F42-'Sch 7'!E42","v":0},null,null,null,{"$f":"'Sch 7'!C43-'Sch 7'!B43","v":0},null,null,{"$f":"'Sch 7'!F43-'Sch 7'!E43","v":0},null,null,null,{"$f":"'Sch 7'!C44-'Sch 7'!B44","v":0},null,null,{"$f":"'Sch 7'!F44-'Sch 7'!E44","v":0},null,null,null,{"$f":"'Sch 7'!C45-'Sch 7'!B45","v":0},null,null,{"$f":"'Sch 7'!F45-'Sch 7'!E45","v":0},null,null,null,{"$f":"'Sch 7'!C46-'Sch 7'!B46","v":0},null,null,{"$f":"'Sch 7'!F46-'Sch 7'!E46","v":0},null,null,null,{"$f":"'Sch 7'!C47-'Sch 7'!B47","v":0},null,null,{"$f":"'Sch 7'!F47-'Sch 7'!E47","v":0},null,null,null,{"$f":"'Sch 7'!C48-'Sch 7'!B48","v":0},null,null,{"$f":"'Sch 7'!F48-'Sch 7'!E48","v":0}]
["Incremental Tier Three Rate:",null,null,null,null,null,null,null,null,null,null,{"$f":"'Sch 7'!B31-'Sch 7'!B30","v":0},null,null,{"$f":"'Sch 7'!E31-'Sch 7'!E30","v":0}]
["Surcharge Per M-Gallon"]
[]
["Gallons in Minimum: (000's)",null,null,null,null,null,null,null,null,null,null,{"$f":"'Sch 7'!D11/1000","v":0},null,null,{"$f":"'Sch 7'!F11/1000","v":0},null,null,null,{"$f":"'Sch 7'!D12/1000","v":0},null,null,{"$f":"'Sch 7'!F12/1000","v":0},null,null,null,{"$f":"'Sch 7'!D13/1000","v":0},null,null,{"$f":"'Sch 7'!F13/1000","v":0},null,null,null,{"$f":"'Sch 7'!D14/1000","v":0},null,null,{"$f":"'Sch 7'!F14/1000","v":0},null,null,null,{"$f":"'Sch 7'!D15/1000","v":0},null,null,{"$f":"'Sch 7'!F15/1000","v":0},null,null,null,{"$f":"'Sch 7'!D16/1000","v":0},null,null,{"$f":"'Sch 7'!F16/1000","v":0},null,null,null,{"$f":"'Sch 7'!D17/1000","v":0},null,null,{"$f":"'Sch 7'!F17/1000","v":0},null,null,null,{"$f":"'Sch 7'!D18/1000","v":0},null,null,{"$f":"'Sch 7'!F18/1000","v":0},null,null,null,{"$f":"'Sch 7'!D19/1000","v":0},null,null,{"$f":"'Sch 7'!F19/1000","v":0},null,null,null,{"$f":"'Sch 7'!D20/1000","v":0},null,null,{"$f":"'Sch 7'!F20/1000","v":0},null,null,null,{"$f":"'Sch 7'!D21/1000","v":0},null,null,{"$f":"'Sch 7'!F21/1000","v":0}]
["Tier One Upper Limit:",null,null,null,null,null,null,null,null,null,null,{"$f":"'Sch 7'!D29/1000","v":0},null,null,{"$f":"'Sch 7'!G29/1000","v":0},null,null,null,0,null,null,0,null,null,null,0,null,null,0,null,null,null,0,null,null,0,null,null,null,0,null,null,0,null,null,null,0,null,null,0,null,null,null,0,null,null,0,null,null,null,0,null,null,0,null,null,null,0,null,null,0,null,null,null,0,null,null,0,null,null,null,0,null,null,0]
["Tier Two Upper Limit:",null,null,null,null,null,null,null,null,null,null,{"$f":"'Sch 7'!D30/1000","v":0},null,null,{"$f":"'Sch 7'!G30/1000","v":0},null,null,null,{"$f":"'Sch 7'!D39/1000","v":0},null,null,{"$f":"'Sch 7'!G39/1000","v":0},null,null,null,{"$f":"'Sch 7'!D40/1000","v":0},null,null,{"$f":"'Sch 7'!G40/1000","v":0},null,null,null,{"$f":"'Sch 7'!D41/1000","v":0},null,null,{"$f":"'Sch 7'!G41/1000","v":0},null,null,null,{"$f":"'Sch 7'!D42/1000","v":0},null,null,{"$f":"'Sch 7'!G42/1000","v":0},null,null,null,{"$f":"'Sch 7'!D43/1000","v":0},null,null,{"$f":"'Sch 7'!G43/1000","v":0},null,null,null,{"$f":"'Sch 7'!D44/1000","v":0},null,null,{"$f":"'Sch 7'!G44/1000","v":0},null,null,null,{"$f":"'Sch 7'!D45/1000","v":0},null,null,{"$f":"'Sch 7'!G45/1000","v":0},null,null,null,{"$f":"'Sch 7'!D46/1000","v":0},null,null,{"$f":"'Sch 7'!G46/1000","v":0},null,null,null,{"$f":"'Sch 7'!D47/1000","v":0},null,null,{"$f":"'Sch 7'!G47/1000","v":0},null,null,null,{"$f":"'Sch 7'!D48/1000","v":0},null,null,{"$f":"'Sch 7'!G48/1000","v":0}]
["Surcharge Initiation Level:"]
[]
[null,null,"CONSUMPTION","BILLS","Average","Median",null,null,null,null,null,"Current",null,null,"Proposed","BILLS",null,null,"Current",null,null,"Proposed","BILLS",null,null,"Current",null,null,"Proposed","BILLS",null,null,"Current",null,null,"Proposed","BILLS",null,null,"Current",null,null,"Proposed","BILLS",null,null,"Current",null,null,"Proposed","BILLS",null,null,"Current",null,null,"Proposed","BILLS",null,null,"Current",null,null,"Proposed","BILLS",null,null,"Current",null,null,"Proposed","BILLS",null,null,"Current",null,null,"Proposed","BILLS",null,null,"Current",null,null,"Proposed"]
["CONSUMPTION","CONSUMPTION","RANGE",{"$f":"SUM(D41:D87)","v":0},{"$f":"D33/12","v":0},null,null,null,null,null,null,{"$f":"SUM(L41:L87)","v":0},null,null,0,0,null,null,0,null,null,0,0,null,null,0,null,null,0,0,null,null,0,null,null,0,0,null,null,0,null,null,0,0,null,null,0,null,null,0,0,null,null,0,null,null,0,0,null,null,0,null,null,0,0,null,null,0,null,null,0,0,null,null,0,null,null,0,0,null,null,0,null,null,0]
[null,null,"MonMin",null,null,null,null,null,null,null,null,{"$f":"$D$33*L21","v":0},null,null,{"$f":"$D$33*O21","v":0},null,null,null,{"$f":"$P$33*S21","v":0},null,null,{"$f":"$P$33*V21","v":0},null,null,null,{"$f":"$W$33*Z21","v":0},null,null,{"$f":"$W$33*AC21","v":0},null,null,null,{"$f":"$AD$33*AG21","v":0},null,null,{"$f":"$AD$33*AJ21","v":0},null,null,null,{"$f":"$AK$33*AN21","v":0},null,null,{"$f":"$AK$33*AQ21","v":0},null,null,null,{"$f":"$AR$33*AU21","v":0},null,null,{"$f":"$AR$33*AX21","v":0},null,null,null,{"$f":"$AY$33*BB21","v":0},null,null,{"$f":"$AY$33*BE21","v":0},null,null,null,{"$f":"$BF$33*BI21","v":0},null,null,{"$f":"$BF$33*BL21","v":0},null,null,null,{"$f":"$BM$33*BP21","v":0},null,null,{"$f":"$BM$33*BS21","v":0},null,null,null,{"$f":"$BT$33*BW21","v":0},null,null,{"$f":"$BT$33*BZ21","v":0},null,null,null,{"$f":"$CA$33*CD21","v":0},null,null,{"$f":"$CA$33*CG21","v":0}]
[null,null,"Tier 1",null,null,null,null,null,null,{"$f":"SUMIFS($D$41:$D$1111,$J$41:$J$1111,C35)","v":0},{"$f":"SUMIFS(K$41:K$126,J$41:J$126,C35)","v":0},{"$f":"(K35*L22)+(((J36*L28)*L22)+((J37*L28)*L22))","v":0},{"$f":"SUMIFS($D$41:$D$1111,$M$41:$M$1111,C35)","v":0},{"$f":"SUMIFS(N$41:N$126,M$41:M$126,$C35)","v":0},{"$f":"(N35*O22)+(((M36*O28)*O22)+((M37*O28)*O22))","v":0},null,{"$f":"SUMIFS($P$41:$P$1111,$Q$41:$Q$1111,C35)","v":0},{"$f":"SUMIFS(R$41:R$126,Q$41:Q$126,$C35)","v":0},{"$f":"(R35*S22)+(((Q36*S28)*S22)+((Q37*S28)*S22))","v":0},{"$f":"SUMIFS($P$41:$P$1111,$T$41:$T$1111,C35)","v":0},{"$f":"SUMIFS(U$41:U$126,T$41:T$126,$C35)","v":0},{"$f":"(U35*V22)+(((T36*V28)*V22)+((T37*V28)*V22))","v":0},null,{"$f":"SUMIFS($W$41:$W$1111,$X$41:$X$1111,C35)","v":0},{"$f":"SUMIFS(Y$41:Y$126,X$41:X$126,$C35)","v":0},{"$f":"(Y35*Z22)+(((X36*Z28)*Z22)+((X37*Z28)*Z22))","v":0},{"$f":"SUMIFS($W$41:$W$1111,$AA$41:$AA$1111,C35)","v":0},{"$f":"SUMIFS(AB$41:AB$126,AA$41:AA$126,$C35)","v":0},{"$f":"(AB35*AC22)+(((AA36*AC28)*AC22)+((AA37*AC28)*AC22))","v":0},null,{"$f":"SUMIFS($AD$41:$AD$1111,$AE$41:$AE$1111,C35)","v":0},{"$f":"SUMIFS(AF$41:AF$126,AE$41:AE$126,$C35)","v":0},{"$f":"(AF35*AG22)+(((AE36*AG28)*AG22)+((AE37*AG28)*AG22))","v":0},{"$f":"SUMIFS($AD$41:$AD$1111,$AH$41:$AH$1111,C35)","v":0},{"$f":"SUMIFS(AI$41:AI$126,AH$41:AH$126,$C35)","v":0},{"$f":"(AI35*AJ22)+(((AH36*AJ28)*AJ22)+((AH37*AJ28)*AJ22))","v":0},null,{"$f":"SUMIFS($AK$41:$AK$1111,$AL$41:$AL$1111,C35)","v":0},{"$f":"SUMIFS(AM$41:AM$126,AL$41:AL$126,$C35)","v":0},{"$f":"(AM35*AN22)+(((AL36*AN28)*AN22)+((AL37*AN28)*AN22))","v":0},{"$f":"SUMIFS($AK$41:$AK$1111,$AO$41:$AO$1111,C35)","v":0},{"$f":"SUMIFS(AP$41:AP$126,AO$41:AO$126,$C35)","v":0},{"$f":"(AP35*AQ22)+(((AO36*AQ28)*AQ22)+((AO37*AQ28)*AQ22))","v":0},null,{"$f":"SUMIFS($AR$41:$AR$1111,$AS$41:$AS$1111,C35)","v":0},{"$f":"SUMIFS(AT$41:AT$126,AS$41:AS$126,$C35)","v":0},{"$f":"(AT35*AU22)+(((AS36*AU28)*AU22)+((AS37*AU28)*AU22))","v":0},{"$f":"SUMIFS($AR$41:$AR$1111,$AV$41:$AV$1111,C35)","v":0},{"$f":"SUMIFS(AW$41:AW$126,AV$41:AV$126,$C35)","v":0},{"$f":"(AW35*AX22)+(((AV36*AX28)*AX22)+((AV37*AX28)*AX22))","v":0},null,{"$f":"SUMIFS($AY$41:$AY$1111,$AZ$41:$AZ$1111,C35)","v":0},{"$f":"SUMIFS(BA$41:BA$126,AZ$41:AZ$126,$C35)","v":0},{"$f":"(BA35*BB22)+(((AZ36*BB28)*BB22)+((AZ37*BB28)*BB22))","v":0},{"$f":"SUMIFS($AY$41:$AY$1111,$BC$41:$BC$1111,C35)","v":0},{"$f":"SUMIFS(BD$41:BD$126,BC$41:BC$126,$C35)","v":0},{"$f":"(BD35*BE22)+(((BC36*BE28)*BE22)+((BC37*BE28)*BE22))","v":0},null,{"$f":"SUMIFS($BF$41:$BF$1111,$BG$41:$BG$1111,C35)","v":0},{"$f":"SUMIFS(BH$41:BH$126,BG$41:BG$126,$C35)","v":0},{"$f":"(BH35*BI22)+(((BG36*BI28)*BI22)+((BG37*BI28)*BI22))","v":0},{"$f":"SUMIFS($BF$41:$BF$1111,$BJ$41:$BJ$1111,C35)","v":0},{"$f":"SUMIFS(BK$41:BK$126,BJ$41:BJ$126,$C35)","v":0},{"$f":"(BK35*BL22)+(((BJ36*BL28)*BL22)+((BJ37*BL28)*BL22))","v":0},null,{"$f":"SUMIFS($BM$41:$BM$1111,$BN$41:$BN$1111,C35)","v":0},{"$f":"SUMIFS(BO$41:BO$126,BN$41:BN$126,$C35)","v":0},{"$f":"(BO35*BP22)+(((BN36*BP28)*BP22)+((BN37*BP28)*BP22))","v":0},{"$f":"SUMIFS($BM$41:$BM$1111,$BQ$41:$BQ$1111,C35)","v":0},{"$f":"SUMIFS(BR$41:BR$126,BQ$41:BQ$126,$C35)","v":0},{"$f":"(BR35*BS22)+(((BQ36*BS28)*BS22)+((BQ37*BS28)*BS22))","v":0},null,{"$f":"SUMIFS($BT$41:$BT$1111,$BU$41:$BU$1111,C35)","v":0},{"$f":"SUMIFS(BV$41:BV$126,BU$41:BU$126,$C35)","v":0},{"$f":"(BV35*BW22)+(((BU36*BW28)*BW22)+((BU37*BW28)*BW22))","v":0},{"$f":"SUMIFS($BT$41:$BT$1111,$BX$41:$BX$1111,C35)","v":0},{"$f":"SUMIFS(BY$41:BY$126,BX$41:BX$126,$C35)","v":0},{"$f":"(BY35*BZ22)+(((BX36*BZ28)*BZ22)+((BX37*BZ28)*BZ22))","v":0},null,{"$f":"SUMIFS($CA$41:$CA$1111,$CB$41:$CB$1111,C35)","v":0},{"$f":"SUMIFS(CC$41:CC$126,CB$41:CB$126,$C35)","v":0},{"$f":"(CC35*CD22)+(((CB36*CD28)*CD22)+((CB37*CD28)*CD22))","v":0},{"$f":"SUMIFS($CA$41:$CA$1111,$CE$41:$CE$1111,C35)","v":0},{"$f":"SUMIFS(CF$41:CF$126,CE$41:CE$126,$C35)","v":0},{"$f":"(CF35*CG22)+(((CE36*CG28)*CG22)+((CE37*CG28)*CG22))","v":0}]
[null,null,"Tier 2",null,null,null,null,null,null,{"$f":"SUMIFS($D$41:$D$1111,$J$41:$J$1111,C36)","v":0},{"$f":"SUMIFS(K$41:K$126,J$41:J$126,C36)","v":0},{"$f":"((K36-(J36*L28))*(L22+L23))+((J37*(L29-L28))*(L22+L23))","v":0},{"$f":"SUMIFS($D$41:$D$1111,$M$41:$M$1111,C36)","v":0},{"$f":"SUMIFS(N$41:N$126,M$41:M$126,$C36)","v":0},{"$f":"((N36-(M36*O28))*(O22+O23))+((M37*(O29-O28))*(O22+O23))","v":0},null,{"$f":"SUMIFS($P$41:$P$1111,$Q$41:$Q$1111,C36)","v":0},{"$f":"SUMIFS(R$41:R$126,Q$41:Q$126,$C36)","v":0},{"$f":"((R36-(Q36*S28))*(S22+S23))+((Q37*(S29-S28))*(S22+S23))","v":0},{"$f":"SUMIFS($P$41:$P$1111,$T$41:$T$1111,C36)","v":0},{"$f":"SUMIFS(U$41:U$126,T$41:T$126,$C36)","v":0},{"$f":"((U36-(T36*V28))*(V22+V23))+((T37*(V29-V28))*(V22+V23))","v":0},null,{"$f":"SUMIFS($W$41:$W$1111,$X$41:$X$1111,C36)","v":0},{"$f":"SUMIFS(Y$41:Y$126,X$41:X$126,$C36)","v":0},{"$f":"((Y36-(X36*Z28))*(Z22+Z23))+((X37*(Z29-Z28))*(Z22+Z23))","v":0},{"$f":"SUMIFS($W$41:$W$1111,$AA$41:$AA$1111,C36)","v":0},{"$f":"SUMIFS(AB$41:AB$126,AA$41:AA$126,$C36)","v":0},{"$f":"((AB36-(AA36*AC28))*(AC22+AC23))+((AA37*(AC29-AC28))*(AC22+AC23))","v":0},null,{"$f":"SUMIFS($AD$41:$AD$1111,$AE$41:$AE$1111,C36)","v":0},{"$f":"SUMIFS(AF$41:AF$126,AE$41:AE$126,$C36)","v":0},{"$f":"((AF36-(AE36*AG28))*(AG22+AG23))+((AE37*(AG29-AG28))*(AG22+AG23))","v":0},{"$f":"SUMIFS($AD$41:$AD$1111,$AH$41:$AH$1111,C36)","v":0},{"$f":"SUMIFS(AI$41:AI$126,AH$41:AH$126,$C36)","v":0},{"$f":"((AI36-(AH36*AJ28))*(AJ22+AJ23))+((AH37*(AJ29-AJ28))*(AJ22+AJ23))","v":0},null,{"$f":"SUMIFS($AK$41:$AK$1111,$AL$41:$AL$1111,C36)","v":0},{"$f":"SUMIFS(AM$41:AM$126,AL$41:AL$126,$C36)","v":0},{"$f":"((AM36-(AL36*AN28))*(AN22+AN23))+((AL37*(AN29-AN28))*(AN22+AN23))","v":0},{"$f":"SUMIFS($AK$41:$AK$1111,$AO$41:$AO$1111,C36)","v":0},{"$f":"SUMIFS(AP$41:AP$126,AO$41:AO$126,$C36)","v":0},{"$f":"((AP36-(AO36*AQ28))*(AQ22+AQ23))+((AO37*(AQ29-AQ28))*(AQ22+AQ23))","v":0},null,{"$f":"SUMIFS($AR$41:$AR$1111,$AS$41:$AS$1111,C36)","v":0},{"$f":"SUMIFS(AT$41:AT$126,AS$41:AS$126,$C36)","v":0},{"$f":"((AT36-(AS36*AU28))*(AU22+AU23))+((AS37*(AU29-AU28))*(AU22+AU23))","v":0},{"$f":"SUMIFS($AR$41:$AR$1111,$AV$41:$AV$1111,C36)","v":0},{"$f":"SUMIFS(AW$41:AW$126,AV$41:AV$126,$C36)","v":0},{"$f":"((AW36-(AV36*AX28))*(AX22+AX23))+((AV37*(AX29-AX28))*(AX22+AX23))","v":0},null,{"$f":"SUMIFS($AY$41:$AY$1111,$AZ$41:$AZ$1111,C36)","v":0},{"$f":"SUMIFS(BA$41:BA$126,AZ$41:AZ$126,$C36)","v":0},{"$f":"((BA36-(AZ36*BB28))*(BB22+BB23))+((AZ37*(BB29-BB28))*(BB22+BB23))","v":0},{"$f":"SUMIFS($AY$41:$AY$1111,$BC$41:$BC$1111,C36)","v":0},{"$f":"SUMIFS(BD$41:BD$126,BC$41:BC$126,$C36)","v":0},{"$f":"((BD36-(BC36*BE28))*(BE22+BE23))+((BC37*(BE29-BE28))*(BE22+BE23))","v":0},null,{"$f":"SUMIFS($BF$41:$BF$1111,$BG$41:$BG$1111,C36)","v":0},{"$f":"SUMIFS(BH$41:BH$126,BG$41:BG$126,$C36)","v":0},{"$f":"((BH36-(BG36*BI28))*(BI22+BI23))+((BG37*(BI29-BI28))*(BI22+BI23))","v":0},{"$f":"SUMIFS($BF$41:$BF$1111,$BJ$41:$BJ$1111,C36)","v":0},{"$f":"SUMIFS(BK$41:BK$126,BJ$41:BJ$126,$C36)","v":0},{"$f":"((BK36-(BJ36*BL28))*(BL22+BL23))+((BJ37*(BL29-BL28))*(BL22+BL23))","v":0},null,{"$f":"SUMIFS($BM$41:$BM$1111,$BN$41:$BN$1111,C36)","v":0},{"$f":"SUMIFS(BO$41:BO$126,BN$41:BN$126,$C36)","v":0},{"$f":"((BO36-(BN36*BP28))*(BP22+BP23))+((BN37*(BP29-BP28))*(BP22+BP23))","v":0},{"$f":"SUMIFS($BM$41:$BM$1111,$BQ$41:$BQ$1111,C36)","v":0},{"$f":"SUMIFS(BR$41:BR$126,BQ$41:BQ$126,$C36)","v":0},{"$f":"((BR36-(BQ36*BS28))*(BS22+BS23))+((BQ37*(BS29-BS28))*(BS22+BS23))","v":0},null,{"$f":"SUMIFS($BT$41:$BT$1111,$BU$41:$BU$1111,C36)","v":0},{"$f":"SUMIFS(BV$41:BV$126,BU$41:BU$126,$C36)","v":0},{"$f":"((BV36-(BU36*BW28))*(BW22+BW23))+((BU37*(BW29-BW28))*(BW22+BW23))","v":0},{"$f":"SUMIFS($BT$41:$BT$1111,$BX$41:$BX$1111,C36)","v":0},{"$f":"SUMIFS(BY$41:BY$126,BX$41:BX$126,$C36)","v":0},{"$f":"((BY36-(BX36*BZ28))*(BZ22+BZ23))+((BX37*(BZ29-BZ28))*(BZ22+BZ23))","v":0},null,{"$f":"SUMIFS($CA$41:$CA$1111,$CB$41:$CB$1111,C36)","v":0},{"$f":"SUMIFS(CC$41:CC$126,CB$41:CB$126,$C36)","v":0},{"$f":"((CC36-(CB36*CD28))*(CD22+CD23))+((CB37*(CD29-CD28))*(CD22+CD23))","v":0},{"$f":"SUMIFS($CA$41:$CA$1111,$CE$41:$CE$1111,C36)","v":0},{"$f":"SUMIFS(CF$41:CF$126,CE$41:CE$126,$C36)","v":0},{"$f":"((CF36-(CE36*CG28))*(CG22+CG23))+((CE37*(CG29-CG28))*(CG22+CG23))","v":0}]
[null,null,"Tier 3",null,null,null,null,null,null,{"$f":"SUMIFS($D$41:$D$1111,$J$41:$J$1111,C37)","v":0},0,{"$f":"(K37-(J37*L29))*(L22+L23+L24)","v":0},{"$f":"SUMIFS($D$41:$D$1111,$M$41:$M$1111,C37)","v":0},0,{"$f":"(N37-(M37*O29))*(O22+O23+O24)","v":0},null,{"$f":"SUMIFS($P$41:$P$1111,$Q$41:$Q$1111,C37)","v":0},0,{"$f":"(R37-(Q37*S29))*(S22+S23+S24)","v":0},{"$f":"SUMIFS($P$41:$P$1111,$T$41:$T$1111,C37)","v":0},0,{"$f":"(U37-(T37*V29))*(V22+V23+V24)","v":0},null,{"$f":"SUMIFS($W$41:$W$1111,$X$41:$X$1111,C37)","v":0},0,{"$f":"(Y37-(X37*Z29))*(Z22+Z23+Z24)","v":0},{"$f":"SUMIFS($W$41:$W$1111,$AA$41:$AA$1111,C37)","v":0},0,{"$f":"(AB37-(AA37*AC29))*(AC22+AC23+AC24)","v":0},null,{"$f":"SUMIFS($AD$41:$AD$1111,$AE$41:$AE$1111,C37)","v":0},0,{"$f":"(AF37-(AE37*AG29))*(AG22+AG23+AG24)","v":0},{"$f":"SUMIFS($AD$41:$AD$1111,$AH$41:$AH$1111,C37)","v":0},0,{"$f":"(AI37-(AH37*AJ29))*(AJ22+AJ23+AJ24)","v":0},null,{"$f":"SUMIFS($AK$41:$AK$1111,$AL$41:$AL$1111,C37)","v":0},0,{"$f":"(AM37-(AL37*AN29))*(AN22+AN23+AN24)","v":0},{"$f":"SUMIFS($AK$41:$AK$1111,$AO$41:$AO$1111,C37)","v":0},0,{"$f":"(AP37-(AO37*AQ29))*(AQ22+AQ23+AQ24)","v":0},null,{"$f":"SUMIFS($AR$41:$AR$1111,$AS$41:$AS$1111,C37)","v":0},0,{"$f":"(AT37-(AS37*AU29))*(AU22+AU23+AU24)","v":0},{"$f":"SUMIFS($AR$41:$AR$1111,$AV$41:$AV$1111,C37)","v":0},0,{"$f":"(AW37-(AV37*AX29))*(AX22+AX23+AX24)","v":0},null,{"$f":"SUMIFS($AY$41:$AY$1111,$AZ$41:$AZ$1111,C37)","v":0},0,{"$f":"(BA37-(AZ37*BB29))*(BB22+BB23+BB24)","v":0},{"$f":"SUMIFS($AY$41:$AY$1111,$BC$41:$BC$1111,C37)","v":0},0,{"$f":"(BD37-(BC37*BE29))*(BE22+BE23+BE24)","v":0},null,{"$f":"SUMIFS($BF$41:$BF$1111,$BG$41:$BG$1111,C37)","v":0},0,{"$f":"(BH37-(BG37*BI29))*(BI22+BI23+BI24)","v":0},{"$f":"SUMIFS($BF$41:$BF$1111,$BJ$41:$BJ$1111,C37)","v":0},0,{"$f":"(BK37-(BJ37*BL29))*(BL22+BL23+BL24)","v":0},null,{"$f":"SUMIFS($BM$41:$BM$1111,$BN$41:$BN$1111,C37)","v":0},0,{"$f":"(BO37-(BN37*BP29))*(BP22+BP23+BP24)","v":0},{"$f":"SUMIFS($BM$41:$BM$1111,$BQ$41:$BQ$1111,C37)","v":0},0,{"$f":"(BR37-(BQ37*BS29))*(BS22+BS23+BS24)","v":0},null,{"$f":"SUMIFS($BT$41:$BT$1111,$BU$41:$BU$1111,C37)","v":0},0,{"$f":"(BV37-(BU37*BW29))*(BW22+BW23+BW24)","v":0},{"$f":"SUMIFS($BT$41:$BT$1111,$BX$41:$BX$1111,C37)","v":0},0,{"$f":"(BY37-(BX37*BZ29))*(BZ22+BZ23+BZ24)","v":0},null,{"$f":"SUMIFS($CA$41:$CA$1111,$CB$41:$CB$1111,C37)","v":0},0,{"$f":"(CC37-(CB37*CD29))*(CD22+CD23+CD24)","v":0},{"$f":"SUMIFS($CA$41:$CA$1111,$CE$41:$CE$1111,C37)","v":0},0,{"$f":"(CF37-(CE37*CG29))*(CG22+CG23+CG24)","v":0}]
["RANGE","RANGE","CALCULATION",null,null,null,{"$f":"VLOOKUP(0.5,G41:H1048576,1)","v":{"$error":"#N/A"}},{"$f":"VLOOKUP(0.5,G41:H1048576,2)","v":{"$error":"#N/A"}}]
["BEGINNING","END","BASIS",null,{"$f":"SUM(E41:E69)","v":0},"Cum",null,{"$f":"(0.5-G38)/(H38-G38)","v":{"$error":"#N/A"}},{"$f":"VLOOKUP(0.5,H41:I1048576,2)","v":{"$error":"#N/A"}},{"$f":"IF(L29<9999,3,2)","v":3},null,null,{"$f":"IF(O29<9999,3,2)","v":3},null,null,null,{"$f":"IF(S29<9999,3,2)","v":3},null,null,{"$f":"IF(V29<9999,3,2)","v":3},null,null,null,{"$f":"IF(Z29<9999,3,2)","v":3},null,null,{"$f":"IF(AC29<9999,3,2)","v":3},null,null,null,{"$f":"IF(AG29<9999,3,2)","v":3},null,null,{"$f":"IF(AJ29<9999,3,2)","v":3},null,null,null,{"$f":"IF(AN29<9999,3,2)","v":3},null,null,{"$f":"IF(AQ29<9999,3,2)","v":3},null,null,null,{"$f":"IF(AU29<9999,3,2)","v":3},null,null,{"$f":"IF(AX29<9999,3,2)","v":3},null,null,null,{"$f":"IF(BB29<9999,3,2)","v":3},null,null,{"$f":"IF(BE29<9999,3,2)","v":3},null,null,null,{"$f":"IF(BI29<9999,3,2)","v":3},null,null,{"$f":"IF(BL29<9999,3,2)","v":3},null,null,null,{"$f":"IF(BP29<9999,3,2)","v":3},null,null,{"$f":"IF(BS29<9999,3,2)","v":3},null,null,null,{"$f":"IF(BW29<9999,3,2)","v":3},null,null,{"$f":"IF(BZ29<9999,3,2)","v":3},null,null,null,{"$f":"IF(CD29<9999,3,2)","v":3},null,null,{"$f":"IF(CG29<9999,3,2)","v":3}]
["(000's)","(000's)","(000's)",null,{"$f":"E39/D33","v":{"$error":"#DIV/0!"}},"Bills Ct","Proportions",null,{"$f":"I39+H39","v":{"$error":"#N/A"}}]
[0,0,0,{"$f":"'Sch 6'!B10","v":0},{"$f":"D41*C41","v":0},{"$f":"D41","v":0},{"$f":"F41/$D$33","v":{"$error":"#DIV/0!"}},{"$f":"G42","v":{"$error":"#DIV/0!"}},{"$f":"B42","v":1},{"$f":"IF(AND($J$39=2,C41< $L$28), \"Tier 2\", IF(AND($J$39=3,C41< $L$28), \"Tier 1\", IF(AND($J$39=3,C41< $L$29), \"Tier 2\", \"Tier 3\")))","v":"Tier 3"},{"$f":"D41*C41","v":0},{"$f":"D41*(L$21+IF($C41>L$27,($C41-L$27)*L$22,0)+IF($C41>L$28,($C41-L$28)*L$23,0)+IF($C41>L$29,($C41-L$29)*L$24,0)+IF($C41>L$30,($C41-L$30)*L$25,0))","v":0},{"$f":"IF(AND($M$39=2,C41< $O$28), \"Tier 2\", IF(AND($M$39=3,C41< $O$28), \"Tier 1\", IF(AND($M$39=3,C41< $O$29), \"Tier 2\", \"Tier 3\")))","v":"Tier 3"},{"$f":"D41*C41","v":0},{"$f":"D41*(O$21+IF($C41>O$27,($C41-O$27)*O$22,0)+IF($C41>O$28,($C41-O$28)*O$23,0)+IF($C41>O$29,($C41-O$29)*O$24,0)+IF($C41>O$30,($C41-O$30)*O$25,0))","v":0},{"$f":"'Sch 6'!C10","v":0},{"$f":"IF(AND($Q$39=2,C41< $S$28), \"Tier 2\", IF(AND($Q$39=3,C41< $S$28), \"Tier 1\", IF(AND($Q$39=3,C41< $S$29), \"Tier 2\", \"Tier 3\")))","v":"Tier 3"},{"$f":"P41*C41","v":0},{"$f":"P41*(S$21+IF($C41>S$27,($C41-S$27)*S$22,0)+IF($C41>S$28,($C41-S$28)*S$23,0)+IF($C41>S$29,($C41-S$29)*S$24,0)+IF($C41>S$30,($C41-S$30)*S$25,0))","v":0},{"$f":"IF(AND($T$39=2,C41< $V$28), \"Tier 2\", IF(AND($T$39=3,C41< $V$28), \"Tier 1\", IF(AND($T$39=3,C41< $V$29), \"Tier 2\", \"Tier 3\")))","v":"Tier 3"},{"$f":"P41*C41","v":0},{"$f":"P41*(V$21+IF($C41>V$27,($C41-V$27)*V$22,0)+IF($C41>V$28,($C41-V$28)*V$23,0)+IF($C41>V$29,($C41-V$29)*V$24,0)+IF($C41>V$30,($C41-V$30)*V$25,0))","v":0},{"$f":"'Sch 6'!D10","v":0},{"$f":"IF(AND($X$39=2,C41< $Z$28), \"Tier 2\", IF(AND($X$39=3,C41< $Z$28), \"Tier 1\", IF(AND($X$39=3,C41< $Z$29), \"Tier 2\", \"Tier 3\")))","v":"Tier 3"},{"$f":"W41*C41","v":0},{"$f":"W41*(Z$21+IF($C41>Z$27,($C41-Z$27)*Z$22,0)+IF($C41>Z$28,($C41-Z$28)*Z$23,0)+IF($C41>Z$29,($C41-Z$29)*Z$24,0)+IF($C41>Z$30,($C41-Z$30)*Z$25,0))","v":0},{"$f":"IF(AND($AA$39=2,C41< $AC$28), \"Tier 2\", IF(AND($AA$39=3,C41< $AC$28), \"Tier 1\", IF(AND($AA$39=3,C41< $AC$29), \"Tier 2\", \"Tier 3\")))","v":"Tier 3"},{"$f":"W41*C41","v":0},{"$f":"W41*(AC$21+IF($C41>AC$27,($C41-AC$27)*AC$22,0)+IF($C41>AC$28,($C41-AC$28)*AC$23,0)+IF($C41>AC$29,($C41-AC$29)*AC$24,0)+IF($C41>AC$30,($C41-AC$30)*AC$25,0))","v":0},{"$f":"'Sch 6'!E10","v":0},{"$f":"IF(AND($AE$39=2,C41< $AG$28), \"Tier 2\", IF(AND($AE$39=3,C41< $AG$28), \"Tier 1\", IF(AND($AE$39=3,C41< $AG$29), \"Tier 2\", \"Tier 3\")))","v":"Tier 3"},{"$f":"AD41*C41","v":0},{"$f":"AD41*(AG$21+IF($C41>AG$27,($C41-AG$27)*AG$22,0)+IF($C41>AG$28,($C41-AG$28)*AG$23,0)+IF($C41>AG$29,($C41-AG$29)*AG$24,0)+IF($C41>AG$30,($C41-AG$30)*AG$25,0))","v":0},{"$f":"IF(AND($AH$39=2,C41< $AJ$28), \"Tier 2\", IF(AND($AH$39=3,C41< $AJ$28), \"Tier 1\", IF(AND($AH$39=3,C41< $AJ$29), \"Tier 2\", \"Tier 3\")))","v":"Tier 3"},{"$f":"AD41*C41","v":0},{"$f":"AD41*(AJ$21+IF($C41>AJ$27,($C41-AJ$27)*AJ$22,0)+IF($C41>AJ$28,($C41-AJ$28)*AJ$23,0)+IF($C41>AJ$29,($C41-AJ$29)*AJ$24,0)+IF($C41>AJ$30,($C41-AJ$30)*AJ$25,0))","v":0},{"$f":"'Sch 6'!F10","v":0},{"$f":"IF(AND($AL$39=2,C41< $AN$28), \"Tier 2\", IF(AND($AL$39=3,C41< $AN$28), \"Tier 1\", IF(AND($AL$39=3,C41< $AN$29), \"Tier 2\", \"Tier 3\")))","v":"Tier 3"},{"$f":"AK41*C41","v":0},{"$f":"AK41*(AN$21+IF($C41>AN$27,($C41-AN$27)*AN$22,0)+IF($C41>AN$28,($C41-AN$28)*AN$23,0)+IF($C41>AN$29,($C41-AN$29)*AN$24,0)+IF($C41>AN$30,($C41-AN$30)*AN$25,0))","v":0},{"$f":"IF(AND($AO$39=2,C41< $AQ$28), \"Tier 2\", IF(AND($AO$39=3,C41< $AQ$28), \"Tier 1\", IF(AND($AO$39=3,C41< $AQ$29), \"Tier 2\", \"Tier 3\")))","v":"Tier 3"},{"$f":"AK41*C41","v":0},{"$f":"AK41*(AQ$21+IF($C41>AQ$27,($C41-AQ$27)*AQ$22,0)+IF($C41>AQ$28,($C41-AQ$28)*AQ$23,0)+IF($C41>AQ$29,($C41-AQ$29)*AQ$24,0)+IF($C41>AQ$30,($C41-AQ$30)*AQ$25,0))","v":0},{"$f":"'Sch 6'!G10","v":0},{"$f":"IF(AND($AS$39=2,C41< $AU$28), \"Tier 2\", IF(AND($AS$39=3,C41< $AU$28), \"Tier 1\", IF(AND($AS$39=3,C41< $AU$29), \"Tier 2\", \"Tier 3\")))","v":"Tier 3"},{"$f":"AR41*C41","v":0},{"$f":"AR41*(AU$21+IF($C41>AU$27,($C41-AU$27)*AU$22,0)+IF($C41>AU$28,($C41-AU$28)*AU$23,0)+IF($C41>AU$29,($C41-AU$29)*AU$24,0)+IF($C41>AU$30,($C41-AU$30)*AU$25,0))","v":0},{"$f":"IF(AND($AV$39=2,C41< $AX$28), \"Tier 2\", IF(AND($AV$39=3,C41< $AX$28), \"Tier 1\", IF(AND($AV$39=3,C41< $AX$29), \"Tier 2\", \"Tier 3\")))","v":"Tier 3"},{"$f":"AR41*C41","v":0},{"$f":"AR41*(AX$21+IF($C41>AX$27,($C41-AX$27)*AX$22,0)+IF($C41>AX$28,($C41-AX$28)*AX$23,0)+IF($C41>AX$29,($C41-AX$29)*AX$24,0)+IF($C41>AX$30,($C41-AX$30)*AX$25,0))","v":0},{"$f":"'Sch 6'!H10","v":0},{"$f":"IF(AND($AZ$39=2,C41< $BB$28), \"Tier 2\", IF(AND($AZ$39=3,C41< $BB$28), \"Tier 1\", IF(AND($AZ$39=3,C41< $BB$29), \"Tier 2\", \"Tier 3\")))","v":"Tier 3"},{"$f":"AY41*C41","v":0},{"$f":"AY41*(BB$21+IF($C41>BB$27,($C41-BB$27)*BB$22,0)+IF($C41>BB$28,($C41-BB$28)*BB$23,0)+IF($C41>BB$29,($C41-BB$29)*BB$24,0)+IF($C41>BB$30,($C41-BB$30)*BB$25,0))","v":0},{"$f":"IF(AND($BC$39=2,C41< $BE$28), \"Tier 2\", IF(AND($BC$39=3,C41< $BE$28), \"Tier 1\", IF(AND($BC$39=3,C41< $BE$29), \"Tier 2\", \"Tier 3\")))","v":"Tier 3"},{"$f":"AY41*C41","v":0},{"$f":"AY41*(BE$21+IF($C41>BE$27,($C41-BE$27)*BE$22,0)+IF($C41>BE$28,($C41-BE$28)*BE$23,0)+IF($C41>BE$29,($C41-BE$29)*BE$24,0)+IF($C41>BE$30,($C41-BE$30)*BE$25,0))","v":0},{"$f":"'Sch 6'!I10","v":0},{"$f":"IF(AND($BG$39=2,C41< $BI$28), \"Tier 2\", IF(AND($BG$39=3,C41< $BI$28), \"Tier 1\", IF(AND($BG$39=3,C41< $BI$29), \"Tier 2\", \"Tier 3\")))","v":"Tier 3"},{"$f":"BF41*C41","v":0},{"$f":"BF41*(BI$21+IF($C41>BI$27,($C41-BI$27)*BI$22,0)+IF($C41>BI$28,($C41-BI$28)*BI$23,0)+IF($C41>BI$29,($C41-BI$29)*BI$24,0)+IF($C41>BI$30,($C41-BI$30)*BI$25,0))","v":0},{"$f":"IF(AND($BJ$39=2,C41< $BL$28), \"Tier 2\", IF(AND($BJ$39=3,C41< $BL$28), \"Tier 1\", IF(AND($BJ$39=3,C41< $BL$29), \"Tier 2\", \"Tier 3\")))","v":"Tier 3"},{"$f":"BF41*C41","v":0},{"$f":"BF41*(BL$21+IF($C41>BL$27,($C41-BL$27)*BL$22,0)+IF($C41>BL$28,($C41-BL$28)*BL$23,0)+IF($C41>BL$29,($C41-BL$29)*BL$24,0)+IF($C41>BL$30,($C41-BL$30)*BL$25,0))","v":0},{"$f":"'Sch 6'!J10","v":0},{"$f":"IF(AND($BN$39=2,C41< $BP$28), \"Tier 2\", IF(AND($BN$39=3,C41< $BP$28), \"Tier 1\", IF(AND($BN$39=3,C41< $BP$29), \"Tier 2\", \"Tier 3\")))","v":"Tier 3"},{"$f":"BM41*C41","v":0},{"$f":"BM41*(BP$21+IF($C41>BP$27,($C41-BP$27)*BP$22,0)+IF($C41>BP$28,($C41-BP$28)*BP$23,0)+IF($C41>BP$29,($C41-BP$29)*BP$24,0)+IF($C41>BP$30,($C41-BP$30)*BP$25,0))","v":0},{"$f":"IF(AND($BQ$39=2,C41< $BS$28), \"Tier 2\", IF(AND($BQ$39=3,C41< $BS$28), \"Tier 1\", IF(AND($BQ$39=3,C41< $BS$29), \"Tier 2\", \"Tier 3\")))","v":"Tier 3"},{"$f":"BM41*C41","v":0},{"$f":"BM41*(BS$21+IF($C41>BS$27,($C41-BS$27)*BS$22,0)+IF($C41>BS$28,($C41-BS$28)*BS$23,0)+IF($C41>BS$29,($C41-BS$29)*BS$24,0)+IF($C41>BS$30,($C41-BS$30)*BS$25,0))","v":0},{"$f":"'Sch 6'!K10","v":0},{"$f":"IF(AND($BU$39=2,C41< $BW$28), \"Tier 2\", IF(AND($BU$39=3,C41< $BW$28), \"Tier 1\", IF(AND($BU$39=3,C41< $BW$29), \"Tier 2\", \"Tier 3\")))","v":"Tier 3"},{"$f":"BT41*C41","v":0},{"$f":"BT41*(BW$21+IF($C41>BW$27,($C41-BW$27)*BW$22,0)+IF($C41>BW$28,($C41-BW$28)*BW$23,0)+IF($C41>BW$29,($C41-BW$29)*BW$24,0)+IF($C41>BW$30,($C41-BW$30)*BW$25,0))","v":0},{"$f":"IF(AND($BX$39=2,C41< $BZ$28), \"Tier 2\", IF(AND($BX$39=3,C41< $BZ$28), \"Tier 1\", IF(AND($BX$39=3,C41< $BZ$29), \"Tier 2\", \"Tier 3\")))","v":"Tier 3"},{"$f":"BT41*C41","v":0},{"$f":"BT41*(BZ$21+IF($C41>BZ$27,($C41-BZ$27)*BZ$22,0)+IF($C41>BZ$28,($C41-BZ$28)*BZ$23,0)+IF($C41>BZ$29,($C41-BZ$29)*BZ$24,0)+IF($C41>BZ$30,($C41-BZ$30)*BZ$25,0))","v":0},null,{"$f":"IF(AND($CB$39=2,C41< $CD$28), \"Tier 2\", IF(AND($CB$39=3,C41< $CD$28), \"Tier 1\", IF(AND($CB$39=3,C41< $CD$29), \"Tier 2\", \"Tier 3\")))","v":"Tier 3"},{"$f":"CA41*C41","v":0},{"$f":"CA41*(CD$21+IF($C41>CD$27,($C41-CD$27)*CD$22,0)+IF($C41>CD$28,($C41-CD$28)*CD$23,0)+IF($C41>CD$29,($C41-CD$29)*CD$24,0)+IF($C41>CD$30,($C41-CD$30)*CD$25,0))","v":0},{"$f":"IF(AND($CE$39=2,C41< $CG$28), \"Tier 2\", IF(AND($CE$39=3,C41< $CG$28), \"Tier 1\", IF(AND($CE$39=3,C41< $CG$29), \"Tier 2\", \"Tier 3\")))","v":"Tier 3"},{"$f":"CA41*C41","v":0},{"$f":"CA41*(CG$21+IF($C41>CG$27,($C41-CG$27)*CG$22,0)+IF($C41>CG$28,($C41-CG$28)*CG$23,0)+IF($C41>CG$29,($C41-CG$29)*CG$24,0)+IF($C41>CG$30,($C41-CG$30)*CG$25,0))","v":0}]
[1,{"$f":"+B41+1","v":1},0.501,{"$f":"'Sch 6'!B11","v":0},0,{"$f":"D42+F41","v":0},{"$error":"#DIV/0!"},{"$f":"G43","v":{"$error":"#DIV/0!"}},2,{"$f":"IF(AND($J$39=2,C42< $L$28), \"Tier 2\", IF(AND($J$39=3,C42< $L$28), \"Tier 1\", IF(AND($J$39=3,C42< $L$29), \"Tier 2\", \"Tier 3\")))","v":"Tier 3"},{"$f":"D42*C42","v":0},{"$f":"D42*(L$21+IF($C42>L$27,($C42-L$27)*L$22,0)+IF($C42>L$28,($C42-L$28)*L$23,0)+IF($C42>L$29,($C42-L$29)*L$24,0)+IF($C42>L$30,($C42-L$30)*L$25,0))","v":0},{"$f":"IF(AND($M$39=2,C42< $O$28), \"Tier 2\", IF(AND($M$39=3,C42< $O$28), \"Tier 1\", IF(AND($M$39=3,C42< $O$29), \"Tier 2\", \"Tier 3\")))","v":"Tier 3"},{"$f":"D42*C42","v":0},0,{"$f":"'Sch 6'!C11","v":0},{"$f":"IF(AND($Q$39=2,C42< $S$28), \"Tier 2\", IF(AND($Q$39=3,C42< $S$28), \"Tier 1\", IF(AND($Q$39=3,C42< $S$29), \"Tier 2\", \"Tier 3\")))","v":"Tier 3"},{"$f":"P42*C42","v":0},0,{"$f":"IF(AND($T$39=2,C42< $V$28), \"Tier 2\", IF(AND($T$39=3,C42< $V$28), \"Tier 1\", IF(AND($T$39=3,C42< $V$29), \"Tier 2\", \"Tier 3\")))","v":"Tier 3"},{"$f":"P42*C42","v":0},0,{"$f":"'Sch 6'!D11","v":0},{"$f":"IF(AND($X$39=2,C42< $Z$28), \"Tier 2\", IF(AND($X$39=3,C42< $Z$28), \"Tier 1\", IF(AND($X$39=3,C42< $Z$29), \"Tier 2\", \"Tier 3\")))","v":"Tier 3"},{"$f":"W42*C42","v":0},0,{"$f":"IF(AND($AA$39=2,C42< $AC$28), \"Tier 2\", IF(AND($AA$39=3,C42< $AC$28), \"Tier 1\", IF(AND($AA$39=3,C42< $AC$29), \"Tier 2\", \"Tier 3\")))","v":"Tier 3"},{"$f":"W42*C42","v":0},0,{"$f":"'Sch 6'!E11","v":0},{"$f":"IF(AND($AE$39=2,C42< $AG$28), \"Tier 2\", IF(AND($AE$39=3,C42< $AG$28), \"Tier 1\", IF(AND($AE$39=3,C42< $AG$29), \"Tier 2\", \"Tier 3\")))","v":"Tier 3"},{"$f":"AD42*C42","v":0},0,{"$f":"IF(AND($AH$39=2,C42< $AJ$28), \"Tier 2\", IF(AND($AH$39=3,C42< $AJ$28), \"Tier 1\", IF(AND($AH$39=3,C42< $AJ$29), \"Tier 2\", \"Tier 3\")))","v":"Tier 3"},{"$f":"AD42*C42","v":0},0,{"$f":"'Sch 6'!F11","v":0},{"$f":"IF(AND($AL$39=2,C42< $AN$28), \"Tier 2\", IF(AND($AL$39=3,C42< $AN$28), \"Tier 1\", IF(AND($AL$39=3,C42< $AN$29), \"Tier 2\", \"Tier 3\")))","v":"Tier 3"},{"$f":"AK42*C42","v":0},0,{"$f":"IF(AND($AO$39=2,C42< $AQ$28), \"Tier 2\", IF(AND($AO$39=3,C42< $AQ$28), \"Tier 1\", IF(AND($AO$39=3,C42< $AQ$29), \"Tier 2\", \"Tier 3\")))","v":"Tier 3"},{"$f":"AK42*C42","v":0},0,{"$f":"'Sch 6'!G11","v":0},{"$f":"IF(AND($AS$39=2,C42< $AU$28), \"Tier 2\", IF(AND($AS$39=3,C42< $AU$28), \"Tier 1\", IF(AND($AS$39=3,C42< $AU$29), \"Tier 2\", \"Tier 3\")))","v":"Tier 3"},{"$f":"AR42*C42","v":0},0,{"$f":"IF(AND($AV$39=2,C42< $AX$28), \"Tier 2\", IF(AND($AV$39=3,C42< $AX$28), \"Tier 1\", IF(AND($AV$39=3,C42< $AX$29), \"Tier 2\", \"Tier 3\")))","v":"Tier 3"},{"$f":"AR42*C42","v":0},0,{"$f":"'Sch 6'!H11","v":0},{"$f":"IF(AND($AZ$39=2,C42< $BB$28), \"Tier 2\", IF(AND($AZ$39=3,C42< $BB$28), \"Tier 1\", IF(AND($AZ$39=3,C42< $BB$29), \"Tier 2\", \"Tier 3\")))","v":"Tier 3"},{"$f":"AY42*C42","v":0},0,{"$f":"IF(AND($BC$39=2,C42< $BE$28), \"Tier 2\", IF(AND($BC$39=3,C42< $BE$28), \"Tier 1\", IF(AND($BC$39=3,C42< $BE$29), \"Tier 2\", \"Tier 3\")))","v":"Tier 3"},{"$f":"AY42*C42","v":0},0,{"$f":"'Sch 6'!I11","v":0},{"$f":"IF(AND($BG$39=2,C42< $BI$28), \"Tier 2\", IF(AND($BG$39=3,C42< $BI$28), \"Tier 1\", IF(AND($BG$39=3,C42< $BI$29), \"Tier 2\", \"Tier 3\")))","v":"Tier 3"},{"$f":"BF42*C42","v":0},0,{"$f":"IF(AND($BJ$39=2,C42< $BL$28), \"Tier 2\", IF(AND($BJ$39=3,C42< $BL$28), \"Tier 1\", IF(AND($BJ$39=3,C42< $BL$29), \"Tier 2\", \"Tier 3\")))","v":"Tier 3"},{"$f":"BF42*C42","v":0},0,{"$f":"'Sch 6'!J11","v":0},{"$f":"IF(AND($BN$39=2,C42< $BP$28), \"Tier 2\", IF(AND($BN$39=3,C42< $BP$28), \"Tier 1\", IF(AND($BN$39=3,C42< $BP$29), \"Tier 2\", \"Tier 3\")))","v":"Tier 3"},{"$f":"BM42*C42","v":0},0,{"$f":"IF(AND($BQ$39=2,C42< $BS$28), \"Tier 2\", IF(AND($BQ$39=3,C42< $BS$28), \"Tier 1\", IF(AND($BQ$39=3,C42< $BS$29), \"Tier 2\", \"Tier 3\")))","v":"Tier 3"},{"$f":"BM42*C42","v":0},0,{"$f":"'Sch 6'!K11","v":0},{"$f":"IF(AND($BU$39=2,C42< $BW$28), \"Tier 2\", IF(AND($BU$39=3,C42< $BW$28), \"Tier 1\", IF(AND($BU$39=3,C42< $BW$29), \"Tier 2\", \"Tier 3\")))","v":"Tier 3"},{"$f":"BT42*C42","v":0},0,{"$f":"IF(AND($BX$39=2,C42< $BZ$28), \"Tier 2\", IF(AND($BX$39=3,C42< $BZ$28), \"Tier 1\", IF(AND($BX$39=3,C42< $BZ$29), \"Tier 2\", \"Tier 3\")))","v":"Tier 3"},{"$f":"BT42*C42","v":0},0,null,{"$f":"IF(AND($CB$39=2,C42< $CD$28), \"Tier 2\", IF(AND($CB$39=3,C42< $CD$28), \"Tier 1\", IF(AND($CB$39=3,C42< $CD$29), \"Tier 2\", \"Tier 3\")))","v":"Tier 3"},{"$f":"CA42*C42","v":0},0,{"$f":"IF(AND($CE$39=2,C42< $CG$28), \"Tier 2\", IF(AND($CE$39=3,C42< $CG$28), \"Tier 1\", IF(AND($CE$39=3,C42< $CG$29), \"Tier 2\", \"Tier 3\")))","v":"Tier 3"},{"$f":"CA42*C42","v":0},0]
[1.0009999999999999,2,{"$f":"(A43+B43)/2","v":1.5004999999999999},{"$f":"'Sch 6'!B12","v":0},0,{"$f":"F42+D43","v":0},{"$error":"#DIV/0!"},{"$error":"#DIV/0!"},3,"Tier 3",0,0,"Tier 3",0,0,{"$f":"'Sch 6'!C12","v":0},"Tier 3",0,0,"Tier 3",0,0,{"$f":"'Sch 6'!D12","v":0},"Tier 3",0,0,"Tier 3",0,0,{"$f":"'Sch 6'!E12","v":0},"Tier 3",0,0,"Tier 3",0,0,{"$f":"'Sch 6'!F12","v":0},"Tier 3",0,0,"Tier 3",0,0,{"$f":"'Sch 6'!G12","v":0},"Tier 3",0,0,"Tier 3",0,0,{"$f":"'Sch 6'!H12","v":0},"Tier 3",0,0,"Tier 3",0,0,{"$f":"'Sch 6'!I12","v":0},"Tier 3",0,0,"Tier 3",0,0,{"$f":"'Sch 6'!J12","v":0},"Tier 3",0,0,"Tier 3",0,0,{"$f":"'Sch 6'!K12","v":0},"Tier 3",0,0,"Tier 3",0,0,null,"Tier 3",0,0,"Tier 3",0,0]
[2.0009999999999999,3,2.5004999999999997,{"$f":"'Sch 6'!B13","v":0},0,0,{"$error":"#DIV/0!"},{"$error":"#DIV/0!"},4,"Tier 3",0,0,"Tier 3",0,0,{"$f":"'Sch 6'!C13","v":0},"Tier 3",0,0,"Tier 3",0,0,{"$f":"'Sch 6'!D13","v":0},"Tier 3",0,0,"Tier 3",0,0,{"$f":"'Sch 6'!E13","v":0},"Tier 3",0,0,"Tier 3",0,0,{"$f":"'Sch 6'!F13","v":0},"Tier 3",0,0,"Tier 3",0,0,{"$f":"'Sch 6'!G13","v":0},"Tier 3",0,0,"Tier 3",0,0,{"$f":"'Sch 6'!H13","v":0},"Tier 3",0,0,"Tier 3",0,0,{"$f":"'Sch 6'!I13","v":0},"Tier 3",0,0,"Tier 3",0,0,{"$f":"'Sch 6'!J13","v":0},"Tier 3",0,0,"Tier 3",0,0,{"$f":"'Sch 6'!K13","v":0},"Tier 3",0,0,"Tier 3",0,0,null,"Tier 3",0,0,"Tier 3",0,0]
[3.0009999999999999,4,3.5004999999999997,{"$f":"'Sch 6'!B14","v":0},0,0,{"$error":"#DIV/0!"},{"$error":"#DIV/0!"},5,"Tier 3",0,0,"Tier 3",0,0,{"$f":"'Sch 6'!C14","v":0},"Tier 3",0,0,"Tier 3",0,0,{"$f":"'Sch 6'!D14","v":0},"Tier 3",0,0,"Tier 3",0,0,{"$f":"'Sch 6'!E14","v":0},"Tier 3",0,0,"Tier 3",0,0,{"$f":"'Sch 6'!F14","v":0},"Tier 3",0,0,"Tier 3",0,0,{"$f":"'Sch 6'!G14","v":0},"Tier 3",0,0,"Tier 3",0,0,{"$f":"'Sch 6'!H14","v":0},"Tier 3",0,0,"Tier 3",0,0,{"$f":"'Sch 6'!I14","v":0},"Tier 3",0,0,"Tier 3",0,0,{"$f":"'Sch 6'!J14","v":0},"Tier 3",0,0,"Tier 3",0,0,{"$f":"'Sch 6'!K14","v":0},"Tier 3",0,0,"Tier 3",0,0,null,"Tier 3",0,0,"Tier 3",0,0]
[4.0010000000000003,5,4.5005000000000006,{"$f":"'Sch 6'!B15","v":0},0,0,{"$error":"#DIV/0!"},{"$error":"#DIV/0!"},6,"Tier 3",0,0,"Tier 3",0,0,{"$f":"'Sch 6'!C15","v":0},"Tier 3",0,0,"Tier 3",0,0,{"$f":"'Sch 6'!D15","v":0},"Tier 3",0,0,"Tier 3",0,0,{"$f":"'Sch 6'!E15","v":0},"Tier 3",0,0,"Tier 3",0,0,{"$f":"'Sch 6'!F15","v":0},"Tier 3",0,0,"Tier 3",0,0,{"$f":"'Sch 6'!G15","v":0},"Tier 3",0,0,"Tier 3",0,0,{"$f":"'Sch 6'!H15","v":0},"Tier 3",0,0,"Tier 3",0,0,{"$f":"'Sch 6'!I15","v":0},"Tier 3",0,0,"Tier 3",0,0,{"$f":"'Sch 6'!J15","v":0},"Tier 3",0,0,"Tier 3",0,0,{"$f":"'Sch 6'!K15","v":0},"Tier 3",0,0,"Tier 3",0,0,null,"Tier 3",0,0,"Tier 3",0,0]
[5.0010000000000003,6,5.5005000000000006,{"$f":"'Sch 6'!B16","v":0},0,0,{"$error":"#DIV/0!"},{"$error":"#DIV/0!"},7,"Tier 3",0,0,"Tier 3",0,0,{"$f":"'Sch 6'!C16","v":0},"Tier 3",0,0,"Tier 3",0,0,{"$f":"'Sch 6'!D16","v":0},"Tier 3",0,0,"Tier 3",0,0,{"$f":"'Sch 6'!E16","v":0},"Tier 3",0,0,"Tier 3",0,0,{"$f":"'Sch 6'!F16","v":0},"Tier 3",0,0,"Tier 3",0,0,{"$f":"'Sch 6'!G16","v":0},"Tier 3",0,0,"Tier 3",0,0,{"$f":"'Sch 6'!H16","v":0},"Tier 3",0,0,"Tier 3",0,0,{"$f":"'Sch 6'!I16","v":0},"Tier 3",0,0,"Tier 3",0,0,{"$f":"'Sch 6'!J16","v":0},"Tier 3",0,0,"Tier 3",0,0,{"$f":"'Sch 6'!K16","v":0},"Tier 3",0,0,"Tier 3",0,0,null,"Tier 3",0,0,"Tier 3",0,0]
[6.0010000000000003,7,6.5005000000000006,{"$f":"'Sch 6'!B17","v":0},0,0,{"$error":"#DIV/0!"},{"$error":"#DIV/0!"},8,"Tier 3",0,0,"Tier 3",0,0,{"$f":"'Sch 6'!C17","v":0},"Tier 3",0,0,"Tier 3",0,0,{"$f":"'Sch 6'!D17","v":0},"Tier 3",0,0,"Tier 3",0,0,{"$f":"'Sch 6'!E17","v":0},"Tier 3",0,0,"Tier 3",0,0,{"$f":"'Sch 6'!F17","v":0},"Tier 3",0,0,"Tier 3",0,0,{"$f":"'Sch 6'!G17","v":0},"Tier 3",0,0,"Tier 3",0,0,{"$f":"'Sch 6'!H17","v":0},"Tier 3",0,0,"Tier 3",0,0,{"$f":"'Sch 6'!I17","v":0},"Tier 3",0,0,"Tier 3",0,0,{"$f":"'Sch 6'!J17","v":0},"Tier 3",0,0,"Tier 3",0,0,{"$f":"'Sch 6'!K17","v":0},"Tier 3",0,0,"Tier 3",0,0,null,"Tier 3",0,0,"Tier 3",0,0]
[7.0010000000000003,8,7.5005000000000006,{"$f":"'Sch 6'!B18","v":0},0,0,{"$error":"#DIV/0!"},{"$error":"#DIV/0!"},9,"Tier 3",0,0,"Tier 3",0,0,{"$f":"'Sch 6'!C18","v":0},"Tier 3",0,0,"Tier 3",0,0,{"$f":"'Sch 6'!D18","v":0},"Tier 3",0,0,"Tier 3",0,0,{"$f":"'Sch 6'!E18","v":0},"Tier 3",0,0,"Tier 3",0,0,{"$f":"'Sch 6'!F18","v":0},"Tier 3",0,0,"Tier 3",0,0,{"$f":"'Sch 6'!G18","v":0},"Tier 3",0,0,"Tier 3",0,0,{"$f":"'Sch 6'!H18","v":0},"Tier 3",0,0,"Tier 3",0,0,{"$f":"'Sch 6'!I18","v":0},"Tier 3",0,0,"Tier 3",0,0,{"$f":"'Sch 6'!J18","v":0},"Tier 3",0,0,"Tier 3",0,0,{"$f":"'Sch 6'!K18","v":0},"Tier 3",0,0,"Tier 3",0,0,null,"Tier 3",0,0,"Tier 3",0,0]
[8.0009999999999994,9,8.5004999999999988,{"$f":"'Sch 6'!B19","v":0},0,0,{"$error":"#DIV/0!"},{"$error":"#DIV/0!"},10,"Tier 3",0,0,"Tier 3",0,0,{"$f":"'Sch 6'!C19","v":0},"Tier 3",0,0,"Tier 3",0,0,{"$f":"'Sch 6'!D19","v":0},"Tier 3",0,0,"Tier 3",0,0,{"$f":"'Sch 6'!E19","v":0},"Tier 3",0,0,"Tier 3",0,0,{"$f":"'Sch 6'!F19","v":0},"Tier 3",0,0,"Tier 3",0,0,{"$f":"'Sch 6'!G19","v":0},"Tier 3",0,0,"Tier 3",0,0,{"$f":"'Sch 6'!H19","v":0},"Tier 3",0,0,"Tier 3",0,0,{"$f":"'Sch 6'!I19","v":0},"Tier 3",0,0,"Tier 3",0,0,{"$f":"'Sch 6'!J19","v":0},"Tier 3",0,0,"Tier 3",0,0,{"$f":"'Sch 6'!K19","v":0},"Tier 3",0,0,"Tier 3",0,0,null,"Tier 3",0,0,"Tier 3",0,0]
[9.0009999999999994,10,9.5004999999999988,{"$f":"'Sch 6'!B20","v":0},0,0,{"$error":"#DIV/0!"},{"$error":"#DIV/0!"},12,"Tier 3",0,0,"Tier 3",0,0,{"$f":"'Sch 6'!C20","v":0},"Tier 3",0,0,"Tier 3",0,0,{"$f":"'Sch 6'!D20","v":0},"Tier 3",0,0,"Tier 3",0,0,{"$f":"'Sch 6'!E20","v":0},"Tier 3",0,0,"Tier 3",0,0,{"$f":"'Sch 6'!F20","v":0},"Tier 3",0,0,"Tier 3",0,0,{"$f":"'Sch 6'!G20","v":0},"Tier 3",0,0,"Tier 3",0,0,{"$f":"'Sch 6'!H20","v":0},"Tier 3",0,0,"Tier 3",0,0,{"$f":"'Sch 6'!I20","v":0},"Tier 3",0,0,"Tier 3",0,0,{"$f":"'Sch 6'!J20","v":0},"Tier 3",0,0,"Tier 3",0,0,{"$f":"'Sch 6'!K20","v":0},"Tier 3",0,0,"Tier 3",0,0,null,"Tier 3",0,0,"Tier 3",0,0]
[10.000999999999999,12,11.000499999999999,{"$f":"'Sch 6'!B21","v":0},0,0,{"$error":"#DIV/0!"},{"$error":"#DIV/0!"},14,"Tier 3",0,0,"Tier 3",0,0,{"$f":"'Sch 6'!C21","v":0},"Tier 3",0,0,"Tier 3",0,0,{"$f":"'Sch 6'!D21","v":0},"Tier 3",0,0,"Tier 3",0,0,{"$f":"'Sch 6'!E21","v":0},"Tier 3",0,0,"Tier 3",0,0,{"$f":"'Sch 6'!F21","v":0},"Tier 3",0,0,"Tier 3",0,0,{"$f":"'Sch 6'!G21","v":0},"Tier 3",0,0,"Tier 3",0,0,{"$f":"'Sch 6'!H21","v":0},"Tier 3",0,0,"Tier 3",0,0,{"$f":"'Sch 6'!I21","v":0},"Tier 3",0,0,"Tier 3",0,0,{"$f":"'Sch 6'!J21","v":0},"Tier 3",0,0,"Tier 3",0,0,{"$f":"'Sch 6'!K21","v":0},"Tier 3",0,0,"Tier 3",0,0,null,"Tier 3",0,0,"Tier 3",0,0]
[12.000999999999999,14,13.000499999999999,{"$f":"'Sch 6'!B22","v":0},0,0,{"$error":"#DIV/0!"},{"$error":"#DIV/0!"},16,"Tier 3",0,0,"Tier 3",0,0,{"$f":"'Sch 6'!C22","v":0},"Tier 3",0,0,"Tier 3",0,0,{"$f":"'Sch 6'!D22","v":0},"Tier 3",0,0,"Tier 3",0,0,{"$f":"'Sch 6'!E22","v":0},"Tier 3",0,0,"Tier 3",0,0,{"$f":"'Sch 6'!F22","v":0},"Tier 3",0,0,"Tier 3",0,0,{"$f":"'Sch 6'!G22","v":0},"Tier 3",0,0,"Tier 3",0,0,{"$f":"'Sch 6'!H22","v":0},"Tier 3",0,0,"Tier 3",0,0,{"$f":"'Sch 6'!I22","v":0},"Tier 3",0,0,"Tier 3",0,0,{"$f":"'Sch 6'!J22","v":0},"Tier 3",0,0,"Tier 3",0,0,{"$f":"'Sch 6'!K22","v":0},"Tier 3",0,0,"Tier 3",0,0,null,"Tier 3",0,0,"Tier 3",0,0]
[14.000999999999999,16,15.000499999999999,{"$f":"'Sch 6'!B23","v":0},0,0,{"$error":"#DIV/0!"},{"$error":"#DIV/0!"},18,"Tier 3",0,0,"Tier 3",0,0,{"$f":"'Sch 6'!C23","v":0},"Tier 3",0,0,"Tier 3",0,0,{"$f":"'Sch 6'!D23","v":0},"Tier 3",0,0,"Tier 3",0,0,{"$f":"'Sch 6'!E23","v":0},"Tier 3",0,0,"Tier 3",0,0,{"$f":"'Sch 6'!F23","v":0},"Tier 3",0,0,"Tier 3",0,0,{"$f":"'Sch 6'!G23","v":0},"Tier 3",0,0,"Tier 3",0,0,{"$f":"'Sch 6'!H23","v":0},"Tier 3",0,0,"Tier 3",0,0,{"$f":"'Sch 6'!I23","v":0},"Tier 3",0,0,"Tier 3",0,0,{"$f":"'Sch 6'!J23","v":0},"Tier 3",0,0,"Tier 3",0,0,{"$f":"'Sch 6'!K23","v":0},"Tier 3",0,0,"Tier 3",0,0,null,"Tier 3",0,0,"Tier 3",0,0]
[16.001000000000001,18,17.000500000000002,{"$f":"'Sch 6'!B24","v":0},0,0,{"$error":"#DIV/0!"},{"$error":"#DIV/0!"},20,"Tier 3",0,0,"Tier 3",0,0,{"$f":"'Sch 6'!C24","v":0},"Tier 3",0,0,"Tier 3",0,0,{"$f":"'Sch 6'!D24","v":0},"Tier 3",0,0,"Tier 3",0,0,{"$f":"'Sch 6'!E24","v":0},"Tier 3",0,0,"Tier 3",0,0,{"$f":"'Sch 6'!F24","v":0},"Tier 3",0,0,"Tier 3",0,0,{"$f":"'Sch 6'!G24","v":0},"Tier 3",0,0,"Tier 3",0,0,{"$f":"'Sch 6'!H24","v":0},"Tier 3",0,0,"Tier 3",0,0,{"$f":"'Sch 6'!I24","v":0},"Tier 3",0,0,"Tier 3",0,0,{"$f":"'Sch 6'!J24","v":0},"Tier 3",0,0,"Tier 3",0,0,{"$f":"'Sch 6'!K24","v":0},"Tier 3",0,0,"Tier 3",0,0,null,"Tier 3",0,0,"Tier 3",0,0]
[18.001000000000001,20,19.000500000000002,{"$f":"'Sch 6'!B25","v":0},0,0,{"$error":"#DIV/0!"},{"$error":"#DIV/0!"},25,"Tier 3",0,0,"Tier 3",0,0,{"$f":"'Sch 6'!C25","v":0},"Tier 3",0,0,"Tier 3",0,0,{"$f":"'Sch 6'!D25","v":0},"Tier 3",0,0,"Tier 3",0,0,{"$f":"'Sch 6'!E25","v":0},"Tier 3",0,0,"Tier 3",0,0,{"$f":"'Sch 6'!F25","v":0},"Tier 3",0,0,"Tier 3",0,0,{"$f":"'Sch 6'!G25","v":0},"Tier 3",0,0,"Tier 3",0,0,{"$f":"'Sch 6'!H25","v":0},"Tier 3",0,0,"Tier 3",0,0,{"$f":"'Sch 6'!I25","v":0},"Tier 3",0,0,"Tier 3",0,0,{"$f":"'Sch 6'!J25","v":0},"Tier 3",0,0,"Tier 3",0,0,{"$f":"'Sch 6'!K25","v":0},"Tier 3",0,0,"Tier 3",0,0,null,"Tier 3",0,0,"Tier 3",0,0]
[20.001000000000001,25,22.500500000000002,{"$f":"'Sch 6'!B26","v":0},0,0,{"$error":"#DIV/0!"},{"$error":"#DIV/0!"},30,"Tier 3",0,0,"Tier 3",0,0,{"$f":"'Sch 6'!C26","v":0},"Tier 3",0,0,"Tier 3",0,0,{"$f":"'Sch 6'!D26","v":0},"Tier 3",0,0,"Tier 3",0,0,{"$f":"'Sch 6'!E26","v":0},"Tier 3",0,0,"Tier 3",0,0,{"$f":"'Sch 6'!F26","v":0},"Tier 3",0,0,"Tier 3",0,0,{"$f":"'Sch 6'!G26","v":0},"Tier 3",0,0,"Tier 3",0,0,{"$f":"'Sch 6'!H26","v":0},"Tier 3",0,0,"Tier 3",0,0,{"$f":"'Sch 6'!I26","v":0},"Tier 3",0,0,"Tier 3",0,0,{"$f":"'Sch 6'!J26","v":0},"Tier 3",0,0,"Tier 3",0,0,{"$f":"'Sch 6'!K26","v":0},"Tier 3",0,0,"Tier 3",0,0,null,"Tier 3",0,0,"Tier 3",0,0]
[25.001000000000001,30,27.500500000000002,{"$f":"'Sch 6'!B27","v":0},0,0,{"$error":"#DIV/0!"},{"$error":"#DIV/0!"},35,"Tier 3",0,0,"Tier 3",0,0,{"$f":"'Sch 6'!C27","v":0},"Tier 3",0,0,"Tier 3",0,0,{"$f":"'Sch 6'!D27","v":0},"Tier 3",0,0,"Tier 3",0,0,{"$f":"'Sch 6'!E27","v":0},"Tier 3",0,0,"Tier 3",0,0,{"$f":"'Sch 6'!F27","v":0},"Tier 3",0,0,"Tier 3",0,0,{"$f":"'Sch 6'!G27","v":0},"Tier 3",0,0,"Tier 3",0,0,{"$f":"'Sch 6'!H27","v":0},"Tier 3",0,0,"Tier 3",0,0,{"$f":"'Sch 6'!I27","v":0},"Tier 3",0,0,"Tier 3",0,0,{"$f":"'Sch 6'!J27","v":0},"Tier 3",0,0,"Tier 3",0,0,{"$f":"'Sch 6'!K27","v":0},"Tier 3",0,0,"Tier 3",0,0,null,"Tier 3",0,0,"Tier 3",0,0]
[30.001000000000001,35,32.500500000000002,{"$f":"'Sch 6'!B28","v":0},0,0,{"$error":"#DIV/0!"},{"$error":"#DIV/0!"},40,"Tier 3",0,0,"Tier 3",0,0,{"$f":"'Sch 6'!C28","v":0},"Tier 3",0,0,"Tier 3",0,0,{"$f":"'Sch 6'!D28","v":0},"Tier 3",0,0,"Tier 3",0,0,{"$f":"'Sch 6'!E28","v":0},"Tier 3",0,0,"Tier 3",0,0,{"$f":"'Sch 6'!F28","v":0},"Tier 3",0,0,"Tier 3",0,0,{"$f":"'Sch 6'!G28","v":0},"Tier 3",0,0,"Tier 3",0,0,{"$f":"'Sch 6'!H28","v":0},"Tier 3",0,0,"Tier 3",0,0,{"$f":"'Sch 6'!I28","v":0},"Tier 3",0,0,"Tier 3",0,0,{"$f":"'Sch 6'!J28","v":0},"Tier 3",0,0,"Tier 3",0,0,{"$f":"'Sch 6'!K28","v":0},"Tier 3",0,0,"Tier 3",0,0,null,"Tier 3",0,0,"Tier 3",0,0]
[35.000999999999998,40,37.500500000000002,{"$f":"'Sch 6'!B29","v":0},0,0,{"$error":"#DIV/0!"},{"$error":"#DIV/0!"},50,"Tier 3",0,0,"Tier 3",0,0,{"$f":"'Sch 6'!C29","v":0},"Tier 3",0,0,"Tier 3",0,0,{"$f":"'Sch 6'!D29","v":0},"Tier 3",0,0,"Tier 3",0,0,{"$f":"'Sch 6'!E29","v":0},"Tier 3",0,0,"Tier 3",0,0,{"$f":"'Sch 6'!F29","v":0},"Tier 3",0,0,"Tier 3",0,0,{"$f":"'Sch 6'!G29","v":0},"Tier 3",0,0,"Tier 3",0,0,{"$f":"'Sch 6'!H29","v":0},"Tier 3",0,0,"Tier 3",0,0,{"$f":"'Sch 6'!I29","v":0},"Tier 3",0,0,"Tier 3",0,0,{"$f":"'Sch 6'!J29","v":0},"Tier 3",0,0,"Tier 3",0,0,{"$f":"'Sch 6'!K29","v":0},"Tier 3",0,0,"Tier 3",0,0,null,"Tier 3",0,0,"Tier 3",0,0]
[40.000999999999998,50,45.000500000000002,{"$f":"'Sch 6'!B30","v":0},0,0,{"$error":"#DIV/0!"},{"$error":"#DIV/0!"},60,"Tier 3",0,0,"Tier 3",0,0,{"$f":"'Sch 6'!C30","v":0},"Tier 3",0,0,"Tier 3",0,0,{"$f":"'Sch 6'!D30","v":0},"Tier 3",0,0,"Tier 3",0,0,{"$f":"'Sch 6'!E30","v":0},"Tier 3",0,0,"Tier 3",0,0,{"$f":"'Sch 6'!F30","v":0},"Tier 3",0,0,"Tier 3",0,0,{"$f":"'Sch 6'!G30","v":0},"Tier 3",0,0,"Tier 3",0,0,{"$f":"'Sch 6'!H30","v":0},"Tier 3",0,0,"Tier 3",0,0,{"$f":"'Sch 6'!I30","v":0},"Tier 3",0,0,"Tier 3",0,0,{"$f":"'Sch 6'!J30","v":0},"Tier 3",0,0,"Tier 3",0,0,{"$f":"'Sch 6'!K30","v":0},"Tier 3",0,0,"Tier 3",0,0,null,"Tier 3",0,0,"Tier 3",0,0]
[50.000999999999998,60,55.000500000000002,{"$f":"'Sch 6'!B31","v":0},0,0,{"$error":"#DIV/0!"},{"$error":"#DIV/0!"},70,"Tier 3",0,0,"Tier 3",0,0,{"$f":"'Sch 6'!C31","v":0},"Tier 3",0,0,"Tier 3",0,0,{"$f":"'Sch 6'!D31","v":0},"Tier 3",0,0,"Tier 3",0,0,{"$f":"'Sch 6'!E31","v":0},"Tier 3",0,0,"Tier 3",0,0,{"$f":"'Sch 6'!F31","v":0},"Tier 3",0,0,"Tier 3",0,0,{"$f":"'Sch 6'!G31","v":0},"Tier 3",0,0,"Tier 3",0,0,{"$f":"'Sch 6'!H31","v":0},"Tier 3",0,0,"Tier 3",0,0,{"$f":"'Sch 6'!I31","v":0},"Tier 3",0,0,"Tier 3",0,0,{"$f":"'Sch 6'!J31","v":0},"Tier 3",0,0,"Tier 3",0,0,{"$f":"'Sch 6'!K31","v":0},"Tier 3",0,0,"Tier 3",0,0,null,"Tier 3",0,0,"Tier 3",0,0]
[60.000999999999998,70,65.000500000000002,{"$f":"'Sch 6'!B32","v":0},0,0,{"$error":"#DIV/0!"},{"$error":"#DIV/0!"},80,"Tier 3",0,0,"Tier 3",0,0,{"$f":"'Sch 6'!C32","v":0},"Tier 3",0,0,"Tier 3",0,0,{"$f":"'Sch 6'!D32","v":0},"Tier 3",0,0,"Tier 3",0,0,{"$f":"'Sch 6'!E32","v":0},"Tier 3",0,0,"Tier 3",0,0,{"$f":"'Sch 6'!F32","v":0},"Tier 3",0,0,"Tier 3",0,0,{"$f":"'Sch 6'!G32","v":0},"Tier 3",0,0,"Tier 3",0,0,{"$f":"'Sch 6'!H32","v":0},"Tier 3",0,0,"Tier 3",0,0,{"$f":"'Sch 6'!I32","v":0},"Tier 3",0,0,"Tier 3",0,0,{"$f":"'Sch 6'!J32","v":0},"Tier 3",0,0,"Tier 3",0,0,{"$f":"'Sch 6'!K32","v":0},"Tier 3",0,0,"Tier 3",0,0,null,"Tier 3",0,0,"Tier 3",0,0]
[70.001000000000005,80,75.000500000000002,{"$f":"'Sch 6'!B33","v":0},0,0,{"$error":"#DIV/0!"},{"$error":"#DIV/0!"},90,"Tier 3",0,0,"Tier 3",0,0,{"$f":"'Sch 6'!C33","v":0},"Tier 3",0,0,"Tier 3",0,0,{"$f":"'Sch 6'!D33","v":0},"Tier 3",0,0,"Tier 3",0,0,{"$f":"'Sch 6'!E33","v":0},"Tier 3",0,0,"Tier 3",0,0,{"$f":"'Sch 6'!F33","v":0},"Tier 3",0,0,"Tier 3",0,0,{"$f":"'Sch 6'!G33","v":0},"Tier 3",0,0,"Tier 3",0,0,{"$f":"'Sch 6'!H33","v":0},"Tier 3",0,0,"Tier 3",0,0,{"$f":"'Sch 6'!I33","v":0},"Tier 3",0,0,"Tier 3",0,0,{"$f":"'Sch 6'!J33","v":0},"Tier 3",0,0,"Tier 3",0,0,{"$f":"'Sch 6'!K33","v":0},"Tier 3",0,0,"Tier 3",0,0,null,"Tier 3",0,0,"Tier 3",0,0]
[80.001000000000005,90,85.000500000000002,{"$f":"'Sch 6'!B34","v":0},0,0,{"$error":"#DIV/0!"},{"$error":"#DIV/0!"},100,"Tier 3",0,0,"Tier 3",0,0,{"$f":"'Sch 6'!C34","v":0},"Tier 3",0,0,"Tier 3",0,0,{"$f":"'Sch 6'!D34","v":0},"Tier 3",0,0,"Tier 3",0,0,{"$f":"'Sch 6'!E34","v":0},"Tier 3",0,0,"Tier 3",0,0,{"$f":"'Sch 6'!F34","v":0},"Tier 3",0,0,"Tier 3",0,0,{"$f":"'Sch 6'!G34","v":0},"Tier 3",0,0,"Tier 3",0,0,{"$f":"'Sch 6'!H34","v":0},"Tier 3",0,0,"Tier 3",0,0,{"$f":"'Sch 6'!I34","v":0},"Tier 3",0,0,"Tier 3",0,0,{"$f":"'Sch 6'!J34","v":0},"Tier 3",0,0,"Tier 3",0,0,{"$f":"'Sch 6'!K34","v":0},"Tier 3",0,0,"Tier 3",0,0,null,"Tier 3",0,0,"Tier 3",0,0]
[90.001000000000005,100,95.000500000000002,{"$f":"'Sch 6'!B35","v":0},0,0,{"$error":"#DIV/0!"},{"$error":"#DIV/0!"},0,"Tier 3",0,0,"Tier 3",0,0,{"$f":"'Sch 6'!C35","v":0},"Tier 3",0,0,"Tier 3",0,0,{"$f":"'Sch 6'!D35","v":0},"Tier 3",0,0,"Tier 3",0,0,{"$f":"'Sch 6'!E35","v":0},"Tier 3",0,0,"Tier 3",0,0,{"$f":"'Sch 6'!F35","v":0},"Tier 3",0,0,"Tier 3",0,0,{"$f":"'Sch 6'!G35","v":0},"Tier 3",0,0,"Tier 3",0,0,{"$f":"'Sch 6'!H35","v":0},"Tier 3",0,0,"Tier 3",0,0,{"$f":"'Sch 6'!I35","v":0},"Tier 3",0,0,"Tier 3",0,0,{"$f":"'Sch 6'!J35","v":0},"Tier 3",0,0,"Tier 3",0,0,{"$f":"'Sch 6'!K35","v":0},"Tier 3",0,0,"Tier 3",0,0,null,"Tier 3",0,0,"Tier 3",0,0]
[{"$f":"'Sch 6'!A36/1000","v":0},{"$f":"A67","v":0},0,{"$f":"'Sch 6'!B36","v":0},0,0,{"$error":"#DIV/0!"},{"$error":"#DIV/0!"},0,"Tier 3",0,0,"Tier 3",0,0,{"$f":"'Sch 6'!C36","v":0},"Tier 3",0,0,"Tier 3",0,0,{"$f":"'Sch 6'!D36","v":0},"Tier 3",0,0,"Tier 3",0,0,{"$f":"'Sch 6'!E36","v":0},"Tier 3",0,0,"Tier 3",0,0,{"$f":"'Sch 6'!F36","v":0},"Tier 3",0,0,"Tier 3",0,0,{"$f":"'Sch 6'!G36","v":0},"Tier 3",0,0,"Tier 3",0,0,{"$f":"'Sch 6'!H36","v":0},"Tier 3",0,0,"Tier 3",0,0,{"$f":"'Sch 6'!I36","v":0},"Tier 3",0,0,"Tier 3",0,0,{"$f":"'Sch 6'!J36","v":0},"Tier 3",0,0,"Tier 3",0,0,{"$f":"'Sch 6'!K36","v":0},"Tier 3",0,0,"Tier 3",0,0,null,"Tier 3",0,0,"Tier 3",0,0]
[{"$f":"'Sch 6'!A37/1000","v":0},{"$f":"A68","v":0},0,{"$f":"'Sch 6'!B37","v":0},{"$f":"D68*C68","v":0},{"$f":"F67+D68","v":0},{"$f":"F68/$D$33","v":{"$error":"#DIV/0!"}},{"$f":"G69","v":{"$error":"#DIV/0!"}},{"$f":"B69","v":0},"Tier 3",0,{"$f":"D68*(L$21+IF($C68>L$27,($C68-L$27)*L$22,0)+IF($C68>L$28,($C68-L$28)*L$23,0)+IF($C68>L$29,($C68-L$29)*L$24,0)+IF($C68>L$30,($C68-L$30)*L$25,0))","v":0},"Tier 3",0,{"$f":"D68*(O$21+IF($C68>O$27,($C68-O$27)*O$22,0)+IF($C68>O$28,($C68-O$28)*O$23,0)+IF($C68>O$29,($C68-O$29)*O$24,0)+IF($C68>O$30,($C68-O$30)*O$25,0))","v":0},{"$f":"'Sch 6'!C37","v":0},"Tier 3",0,0,"Tier 3",0,0,{"$f":"'Sch 6'!D37","v":0},"Tier 3",0,0,"Tier 3",0,0,{"$f":"'Sch 6'!E37","v":0},"Tier 3",0,0,"Tier 3",0,0,{"$f":"'Sch 6'!F37","v":0},"Tier 3",0,0,"Tier 3",0,0,{"$f":"'Sch 6'!G37","v":0},"Tier 3",0,0,"Tier 3",0,0,{"$f":"'Sch 6'!H37","v":0},"Tier 3",0,0,"Tier 3",0,0,{"$f":"'Sch 6'!I37","v":0},"Tier 3",0,0,"Tier 3",0,0,{"$f":"'Sch 6'!J37","v":0},"Tier 3",0,0,"Tier 3",0,0,{"$f":"'Sch 6'!K37","v":0},"Tier 3",0,0,"Tier 3",0,0,null,"Tier 3",0,0,"Tier 3",0,0]
[{"$f":"'Sch 6'!A38/1000","v":0},0,0,{"$f":"'Sch 6'!B38","v":0},{"$f":"D69*C69","v":0},{"$f":"F68+D69","v":0},{"$f":"F69/$D$33","v":{"$error":"#DIV/0!"}},{"$f":"G70","v":{"$error":"#DIV/0!"}},{"$f":"B70","v":0},"Tier 3",0,{"$f":"D69*(L$21+IF($C69>L$27,($C69-L$27)*L$22,0)+IF($C69>L$28,($C69-L$28)*L$23,0)+IF($C69>L$29,($C69-L$29)*L$24,0)+IF($C69>L$30,($C69-L$30)*L$25,0))","v":0},"Tier 3",0,{"$f":"D69*(O$21+IF($C69>O$27,($C69-O$27)*O$22,0)+IF($C69>O$28,($C69-O$28)*O$23,0)+IF($C69>O$29,($C69-O$29)*O$24,0)+IF($C69>O$30,($C69-O$30)*O$25,0))","v":0},{"$f":"'Sch 6'!C38","v":0},"Tier 3",0,0,"Tier 3",0,0,{"$f":"'Sch 6'!D38","v":0},"Tier 3",0,0,"Tier 3",0,0,{"$f":"'Sch 6'!E38","v":0},"Tier 3",0,0,"Tier 3",0,0,{"$f":"'Sch 6'!F38","v":0},"Tier 3",0,0,"Tier 3",0,0,{"$f":"'Sch 6'!G38","v":0},"Tier 3",0,0,"Tier 3",0,0,{"$f":"'Sch 6'!H38","v":0},"Tier 3",0,0,"Tier 3",0,0,{"$f":"'Sch 6'!I38","v":0},"Tier 3",0,0,"Tier 3",0,0,{"$f":"'Sch 6'!J38","v":0},"Tier 3",0,0,"Tier 3",0,0,{"$f":"'Sch 6'!K38","v":0},"Tier 3",0,0,"Tier 3",0,0,null,"Tier 3",0,0,"Tier 3",0,0]
[{"$f":"'Sch 6'!A39/1000","v":0},0,0,{"$f":"'Sch 6'!B39","v":0},{"$f":"D70*C70","v":0},{"$f":"F69+D70","v":0},{"$f":"F70/$D$33","v":{"$error":"#DIV/0!"}},{"$f":"G71","v":{"$error":"#DIV/0!"}},{"$f":"B71","v":0},"Tier 3",0,{"$f":"D70*(L$21+IF($C70>L$27,($C70-L$27)*L$22,0)+IF($C70>L$28,($C70-L$28)*L$23,0)+IF($C70>L$29,($C70-L$29)*L$24,0)+IF($C70>L$30,($C70-L$30)*L$25,0))","v":0},"Tier 3",0,{"$f":"D70*(O$21+IF($C70>O$27,($C70-O$27)*O$22,0)+IF($C70>O$28,($C70-O$28)*O$23,0)+IF($C70>O$29,($C70-O$29)*O$24,0)+IF($C70>O$30,($C70-O$30)*O$25,0))","v":0},{"$f":"'Sch 6'!C39","v":0},"Tier 3",0,{"$f":"P70*(S$21+IF($C70>S$27,($C70-S$27)*S$22,0)+IF($C70>S$28,($C70-S$28)*S$23,0)+IF($C70>S$29,($C70-S$29)*S$24,0)+IF($C70>S$30,($C70-S$30)*S$25,0))","v":0},"Tier 3",0,{"$f":"P70*(V$21+IF($C70>V$27,($C70-V$27)*V$22,0)+IF($C70>V$28,($C70-V$28)*V$23,0)+IF($C70>V$29,($C70-V$29)*V$24,0)+IF($C70>V$30,($C70-V$30)*V$25,0))","v":0},{"$f":"'Sch 6'!D39","v":0},"Tier 3",0,{"$f":"W70*(Z$21+IF($C70>Z$27,($C70-Z$27)*Z$22,0)+IF($C70>Z$28,($C70-Z$28)*Z$23,0)+IF($C70>Z$29,($C70-Z$29)*Z$24,0)+IF($C70>Z$30,($C70-Z$30)*Z$25,0))","v":0},"Tier 3",0,{"$f":"W70*(AC$21+IF($C70>AC$27,($C70-AC$27)*AC$22,0)+IF($C70>AC$28,($C70-AC$28)*AC$23,0)+IF($C70>AC$29,($C70-AC$29)*AC$24,0)+IF($C70>AC$30,($C70-AC$30)*AC$25,0))","v":0},{"$f":"'Sch 6'!E39","v":0},"Tier 3",0,{"$f":"AD70*(AG$21+IF($C70>AG$27,($C70-AG$27)*AG$22,0)+IF($C70>AG$28,($C70-AG$28)*AG$23,0)+IF($C70>AG$29,($C70-AG$29)*AG$24,0)+IF($C70>AG$30,($C70-AG$30)*AG$25,0))","v":0},"Tier 3",0,{"$f":"AD70*(AJ$21+IF($C70>AJ$27,($C70-AJ$27)*AJ$22,0)+IF($C70>AJ$28,($C70-AJ$28)*AJ$23,0)+IF($C70>AJ$29,($C70-AJ$29)*AJ$24,0)+IF($C70>AJ$30,($C70-AJ$30)*AJ$25,0))","v":0},{"$f":"'Sch 6'!F39","v":0},"Tier 3",0,{"$f":"AK70*(AN$21+IF($C70>AN$27,($C70-AN$27)*AN$22,0)+IF($C70>AN$28,($C70-AN$28)*AN$23,0)+IF($C70>AN$29,($C70-AN$29)*AN$24,0)+IF($C70>AN$30,($C70-AN$30)*AN$25,0))","v":0},"Tier 3",0,{"$f":"AK70*(AQ$21+IF($C70>AQ$27,($C70-AQ$27)*AQ$22,0)+IF($C70>AQ$28,($C70-AQ$28)*AQ$23,0)+IF($C70>AQ$29,($C70-AQ$29)*AQ$24,0)+IF($C70>AQ$30,($C70-AQ$30)*AQ$25,0))","v":0},{"$f":"'Sch 6'!G39","v":0},"Tier 3",0,{"$f":"AR70*(AU$21+IF($C70>AU$27,($C70-AU$27)*AU$22,0)+IF($C70>AU$28,($C70-AU$28)*AU$23,0)+IF($C70>AU$29,($C70-AU$29)*AU$24,0)+IF($C70>AU$30,($C70-AU$30)*AU$25,0))","v":0},"Tier 3",0,{"$f":"AR70*(AX$21+IF($C70>AX$27,($C70-AX$27)*AX$22,0)+IF($C70>AX$28,($C70-AX$28)*AX$23,0)+IF($C70>AX$29,($C70-AX$29)*AX$24,0)+IF($C70>AX$30,($C70-AX$30)*AX$25,0))","v":0},{"$f":"'Sch 6'!H39","v":0},"Tier 3",0,{"$f":"AY70*(BB$21+IF($C70>BB$27,($C70-BB$27)*BB$22,0)+IF($C70>BB$28,($C70-BB$28)*BB$23,0)+IF($C70>BB$29,($C70-BB$29)*BB$24,0)+IF($C70>BB$30,($C70-BB$30)*BB$25,0))","v":0},"Tier 3",0,{"$f":"AY70*(BE$21+IF($C70>BE$27,($C70-BE$27)*BE$22,0)+IF($C70>BE$28,($C70-BE$28)*BE$23,0)+IF($C70>BE$29,($C70-BE$29)*BE$24,0)+IF($C70>BE$30,($C70-BE$30)*BE$25,0))","v":0},{"$f":"'Sch 6'!I39","v":0},"Tier 3",0,{"$f":"BF70*(BI$21+IF($C70>BI$27,($C70-BI$27)*BI$22,0)+IF($C70>BI$28,($C70-BI$28)*BI$23,0)+IF($C70>BI$29,($C70-BI$29)*BI$24,0)+IF($C70>BI$30,($C70-BI$30)*BI$25,0))","v":0},"Tier 3",0,{"$f":"BF70*(BL$21+IF($C70>BL$27,($C70-BL$27)*BL$22,0)+IF($C70>BL$28,($C70-BL$28)*BL$23,0)+IF($C70>BL$29,($C70-BL$29)*BL$24,0)+IF($C70>BL$30,($C70-BL$30)*BL$25,0))","v":0},{"$f":"'Sch 6'!J39","v":0},"Tier 3",0,{"$f":"BM70*(BP$21+IF($C70>BP$27,($C70-BP$27)*BP$22,0)+IF($C70>BP$28,($C70-BP$28)*BP$23,0)+IF($C70>BP$29,($C70-BP$29)*BP$24,0)+IF($C70>BP$30,($C70-BP$30)*BP$25,0))","v":0},"Tier 3",0,{"$f":"BM70*(BS$21+IF($C70>BS$27,($C70-BS$27)*BS$22,0)+IF($C70>BS$28,($C70-BS$28)*BS$23,0)+IF($C70>BS$29,($C70-BS$29)*BS$24,0)+IF($C70>BS$30,($C70-BS$30)*BS$25,0))","v":0},{"$f":"'Sch 6'!K39","v":0},"Tier 3",0,{"$f":"BT70*(BW$21+IF($C70>BW$27,($C70-BW$27)*BW$22,0)+IF($C70>BW$28,($C70-BW$28)*BW$23,0)+IF($C70>BW$29,($C70-BW$29)*BW$24,0)+IF($C70>BW$30,($C70-BW$30)*BW$25,0))","v":0},"Tier 3",0,{"$f":"BT70*(BZ$21+IF($C70>BZ$27,($C70-BZ$27)*BZ$22,0)+IF($C70>BZ$28,($C70-BZ$28)*BZ$23,0)+IF($C70>BZ$29,($C70-BZ$29)*BZ$24,0)+IF($C70>BZ$30,($C70-BZ$30)*BZ$25,0))","v":0},null,"Tier 3",0,{"$f":"CA70*(CD$21+IF($C70>CD$27,($C70-CD$27)*CD$22,0)+IF($C70>CD$28,($C70-CD$28)*CD$23,0)+IF($C70>CD$29,($C70-CD$29)*CD$24,0)+IF($C70>CD$30,($C70-CD$30)*CD$25,0))","v":0},"Tier 3",0,{"$f":"CA70*(CG$21+IF($C70>CG$27,($C70-CG$27)*CG$22,0)+IF($C70>CG$28,($C70-CG$28)*CG$23,0)+IF($C70>CG$29,($C70-CG$29)*CG$24,0)+IF($C70>CG$30,($C70-CG$30)*CG$25,0))","v":0}]
[{"$f":"'Sch 6'!A40/1000","v":0},0,0,{"$f":"'Sch 6'!B40","v":0},{"$f":"D71*C71","v":0},{"$f":"F70+D71","v":0},{"$f":"F71/$D$33","v":{"$error":"#DIV/0!"}},{"$f":"G72","v":{"$error":"#DIV/0!"}},{"$f":"B72","v":0},"Tier 3",0,{"$f":"D71*(L$21+IF($C71>L$27,($C71-L$27)*L$22,0)+IF($C71>L$28,($C71-L$28)*L$23,0)+IF($C71>L$29,($C71-L$29)*L$24,0)+IF($C71>L$30,($C71-L$30)*L$25,0))","v":0},"Tier 3",0,{"$f":"D71*(O$21+IF($C71>O$27,($C71-O$27)*O$22,0)+IF($C71>O$28,($C71-O$28)*O$23,0)+IF($C71>O$29,($C71-O$29)*O$24,0)+IF($C71>O$30,($C71-O$30)*O$25,0))","v":0},{"$f":"'Sch 6'!C40","v":0},"Tier 3",0,0,"Tier 3",0,0,{"$f":"'Sch 6'!D40","v":0},"Tier 3",0,0,"Tier 3",0,0,{"$f":"'Sch 6'!E40","v":0},"Tier 3",0,0,"Tier 3",0,0,{"$f":"'Sch 6'!F40","v":0},"Tier 3",0,0,"Tier 3",0,0,{"$f":"'Sch 6'!G40","v":0},"Tier 3",0,0,"Tier 3",0,0,{"$f":"'Sch 6'!H40","v":0},"Tier 3",0,0,"Tier 3",0,0,{"$f":"'Sch 6'!I40","v":0},"Tier 3",0,0,"Tier 3",0,0,{"$f":"'Sch 6'!J40","v":0},"Tier 3",0,0,"Tier 3",0,0,{"$f":"'Sch 6'!K40","v":0},"Tier 3",0,0,"Tier 3",0,0,null,"Tier 3",0,0,"Tier 3",0,0]
[{"$f":"'Sch 6'!A41/1000","v":0},0,0,{"$f":"'Sch 6'!B41","v":0},0,0,{"$error":"#DIV/0!"},{"$error":"#DIV/0!"},0,"Tier 3",0,0,"Tier 3",0,0,{"$f":"'Sch 6'!C41","v":0},"Tier 3",0,0,"Tier 3",0,0,{"$f":"'Sch 6'!D41","v":0},"Tier 3",0,0,"Tier 3",0,0,{"$f":"'Sch 6'!E41","v":0},"Tier 3",0,0,"Tier 3",0,0,{"$f":"'Sch 6'!F41","v":0},"Tier 3",0,0,"Tier 3",0,0,{"$f":"'Sch 6'!G41","v":0},"Tier 3",0,0,"Tier 3",0,0,{"$f":"'Sch 6'!H41","v":0},"Tier 3",0,0,"Tier 3",0,0,{"$f":"'Sch 6'!I41","v":0},"Tier 3",0,0,"Tier 3",0,0,{"$f":"'Sch 6'!J41","v":0},"Tier 3",0,0,"Tier 3",0,0,{"$f":"'Sch 6'!K41","v":0},"Tier 3",0,0,"Tier 3",0,0,null,"Tier 3",0,0,"Tier 3",0,0]
[{"$f":"'Sch 6'!A42/1000","v":0},0,0,{"$f":"'Sch 6'!B42","v":0},0,0,{"$error":"#DIV/0!"},{"$error":"#DIV/0!"},0,"Tier 3",0,0,"Tier 3",0,0,{"$f":"'Sch 6'!C42","v":0},"Tier 3",0,0,"Tier 3",0,0,{"$f":"'Sch 6'!D42","v":0},"Tier 3",0,0,"Tier 3",0,0,{"$f":"'Sch 6'!E42","v":0},"Tier 3",0,0,"Tier 3",0,0,{"$f":"'Sch 6'!F42","v":0},"Tier 3",0,0,"Tier 3",0,0,{"$f":"'Sch 6'!G42","v":0},"Tier 3",0,0,"Tier 3",0,0,{"$f":"'Sch 6'!H42","v":0},"Tier 3",0,0,"Tier 3",0,0,{"$f":"'Sch 6'!I42","v":0},"Tier 3",0,0,"Tier 3",0,0,{"$f":"'Sch 6'!J42","v":0},"Tier 3",0,0,"Tier 3",0,0,{"$f":"'Sch 6'!K42","v":0},"Tier 3",0,0,"Tier 3",0,0,null,"Tier 3",0,0,"Tier 3",0,0]
[{"$f":"'Sch 6'!A43/1000","v":0},0,0,{"$f":"'Sch 6'!B43","v":0},0,0,{"$error":"#DIV/0!"},{"$error":"#DIV/0!"},0,"Tier 3",0,0,"Tier 3",0,0,{"$f":"'Sch 6'!C43","v":0},"Tier 3",0,0,"Tier 3",0,0,{"$f":"'Sch 6'!D43","v":0},"Tier 3",0,0,"Tier 3",0,0,{"$f":"'Sch 6'!E43","v":0},"Tier 3",0,0,"Tier 3",0,0,{"$f":"'Sch 6'!F43","v":0},"Tier 3",0,0,"Tier 3",0,0,{"$f":"'Sch 6'!G43","v":0},"Tier 3",0,0,"Tier 3",0,0,{"$f":"'Sch 6'!H43","v":0},"Tier 3",0,0,"Tier 3",0,0,{"$f":"'Sch 6'!I43","v":0},"Tier 3",0,0,"Tier 3",0,0,{"$f":"'Sch 6'!J43","v":0},"Tier 3",0,0,"Tier 3",0,0,{"$f":"'Sch 6'!K43","v":0},"Tier 3",0,0,"Tier 3",0,0,null,"Tier 3",0,0,"Tier 3",0,0]
[{"$f":"'Sch 6'!A44/1000","v":0},0,0,{"$f":"'Sch 6'!B44","v":0},0,0,{"$error":"#DIV/0!"},{"$error":"#DIV/0!"},0,"Tier 3",0,0,"Tier 3",0,0,{"$f":"'Sch 6'!C44","v":0},"Tier 3",0,0,"Tier 3",0,0,{"$f":"'Sch 6'!D44","v":0},"Tier 3",0,0,"Tier 3",0,0,{"$f":"'Sch 6'!E44","v":0},"Tier 3",0,0,"Tier 3",0,0,{"$f":"'Sch 6'!F44","v":0},"Tier 3",0,0,"Tier 3",0,0,{"$f":"'Sch 6'!G44","v":0},"Tier 3",0,0,"Tier 3",0,0,{"$f":"'Sch 6'!H44","v":0},"Tier 3",0,0,"Tier 3",0,0,{"$f":"'Sch 6'!I44","v":0},"Tier 3",0,0,"Tier 3",0,0,{"$f":"'Sch 6'!J44","v":0},"Tier 3",0,0,"Tier 3",0,0,{"$f":"'Sch 6'!K44","v":0},"Tier 3",0,0,"Tier 3",0,0,null,"Tier 3",0,0,"Tier 3",0,0]
[{"$f":"'Sch 6'!A45/1000","v":0},0,0,{"$f":"'Sch 6'!B45","v":0},0,0,{"$error":"#DIV/0!"},{"$error":"#DIV/0!"},0,"Tier 3",0,0,"Tier 3",0,0,{"$f":"'Sch 6'!C45","v":0},"Tier 3",0,0,"Tier 3",0,0,{"$f":"'Sch 6'!D45","v":0},"Tier 3",0,0,"Tier 3",0,0,{"$f":"'Sch 6'!E45","v":0},"Tier 3",0,0,"Tier 3",0,0,{"$f":"'Sch 6'!F45","v":0},"Tier 3",0,0,"Tier 3",0,0,{"$f":"'Sch 6'!G45","v":0},"Tier 3",0,0,"Tier 3",0,0,{"$f":"'Sch 6'!H45","v":0},"Tier 3",0,0,"Tier 3",0,0,{"$f":"'Sch 6'!I45","v":0},"Tier 3",0,0,"Tier 3",0,0,{"$f":"'Sch 6'!J45","v":0},"Tier 3",0,0,"Tier 3",0,0,{"$f":"'Sch 6'!K45","v":0},"Tier 3",0,0,"Tier 3",0,0,null,"Tier 3",0,0,"Tier 3",0,0]
[{"$f":"'Sch 6'!A46/1000","v":0},0,0,{"$f":"'Sch 6'!B46","v":0},0,0,{"$error":"#DIV/0!"},{"$error":"#DIV/0!"},0,"Tier 3",0,0,"Tier 3",0,0,{"$f":"'Sch 6'!C46","v":0},"Tier 3",0,0,"Tier 3",0,0,{"$f":"'Sch 6'!D46","v":0},"Tier 3",0,0,"Tier 3",0,0,{"$f":"'Sch 6'!E46","v":0},"Tier 3",0,0,"Tier 3",0,0,{"$f":"'Sch 6'!F46","v":0},"Tier 3",0,0,"Tier 3",0,0,{"$f":"'Sch 6'!G46","v":0},"Tier 3",0,0,"Tier 3",0,0,{"$f":"'Sch 6'!H46","v":0},"Tier 3",0,0,"Tier 3",0,0,{"$f":"'Sch 6'!I46","v":0},"Tier 3",0,0,"Tier 3",0,0,{"$f":"'Sch 6'!J46","v":0},"Tier 3",0,0,"Tier 3",0,0,{"$f":"'Sch 6'!K46","v":0},"Tier 3",0,0,"Tier 3",0,0,null,"Tier 3",0,0,"Tier 3",0,0]
[{"$f":"'Sch 6'!A47/1000","v":0},0,0,{"$f":"'Sch 6'!B47","v":0},0,0,{"$error":"#DIV/0!"},{"$error":"#DIV/0!"},0,"Tier 3",0,0,"Tier 3",0,0,{"$f":"'Sch 6'!C47","v":0},"Tier 3",0,0,"Tier 3",0,0,{"$f":"'Sch 6'!D47","v":0},"Tier 3",0,0,"Tier 3",0,0,{"$f":"'Sch 6'!E47","v":0},"Tier 3",0,0,"Tier 3",0,0,{"$f":"'Sch 6'!F47","v":0},"Tier 3",0,0,"Tier 3",0,0,{"$f":"'Sch 6'!G47","v":0},"Tier 3",0,0,"Tier 3",0,0,{"$f":"'Sch 6'!H47","v":0},"Tier 3",0,0,"Tier 3",0,0,{"$f":"'Sch 6'!I47","v":0},"Tier 3",0,0,"Tier 3",0,0,{"$f":"'Sch 6'!J47","v":0},"Tier 3",0,0,"Tier 3",0,0,{"$f":"'Sch 6'!K47","v":0},"Tier 3",0,0,"Tier 3",0,0,null,"Tier 3",0,0,"Tier 3",0,0]
[{"$f":"'Sch 6'!A48/1000","v":0},0,0,{"$f":"'Sch 6'!B48","v":0},0,0,{"$error":"#DIV/0!"},{"$error":"#DIV/0!"},0,"Tier 3",0,0,"Tier 3",0,0,{"$f":"'Sch 6'!C48","v":0},"Tier 3",0,0,"Tier 3",0,0,{"$f":"'Sch 6'!D48","v":0},"Tier 3",0,0,"Tier 3",0,0,{"$f":"'Sch 6'!E48","v":0},"Tier 3",0,0,"Tier 3",0,0,{"$f":"'Sch 6'!F48","v":0},"Tier 3",0,0,"Tier 3",0,0,{"$f":"'Sch 6'!G48","v":0},"Tier 3",0,0,"Tier 3",0,0,{"$f":"'Sch 6'!H48","v":0},"Tier 3",0,0,"Tier 3",0,0,{"$f":"'Sch 6'!I48","v":0},"Tier 3",0,0,"Tier 3",0,0,{"$f":"'Sch 6'!J48","v":0},"Tier 3",0,0,"Tier 3",0,0,{"$f":"'Sch 6'!K48","v":0},"Tier 3",0,0,"Tier 3",0,0,null,"Tier 3",0,0,"Tier 3",0,0]
[{"$f":"'Sch 6'!A49/1000","v":0},0,0,{"$f":"'Sch 6'!B49","v":0},0,0,{"$error":"#DIV/0!"},{"$error":"#DIV/0!"},0,"Tier 3",0,0,"Tier 3",0,0,{"$f":"'Sch 6'!C49","v":0},"Tier 3",0,0,"Tier 3",0,0,{"$f":"'Sch 6'!D49","v":0},"Tier 3",0,0,"Tier 3",0,0,{"$f":"'Sch 6'!E49","v":0},"Tier 3",0,0,"Tier 3",0,0,{"$f":"'Sch 6'!F49","v":0},"Tier 3",0,0,"Tier 3",0,0,{"$f":"'Sch 6'!G49","v":0},"Tier 3",0,0,"Tier 3",0,0,{"$f":"'Sch 6'!H49","v":0},"Tier 3",0,0,"Tier 3",0,0,{"$f":"'Sch 6'!I49","v":0},"Tier 3",0,0,"Tier 3",0,0,{"$f":"'Sch 6'!J49","v":0},"Tier 3",0,0,"Tier 3",0,0,{"$f":"'Sch 6'!K49","v":0},"Tier 3",0,0,"Tier 3",0,0,null,"Tier 3",0,0,"Tier 3",0,0]
[{"$f":"'Sch 6'!A50/1000","v":0},0,0,{"$f":"'Sch 6'!B50","v":0},0,0,{"$error":"#DIV/0!"},{"$error":"#DIV/0!"},0,"Tier 3",0,0,"Tier 3",0,0,{"$f":"'Sch 6'!C50","v":0},"Tier 3",0,0,"Tier 3",0,0,{"$f":"'Sch 6'!D50","v":0},"Tier 3",0,0,"Tier 3",0,0,{"$f":"'Sch 6'!E50","v":0},"Tier 3",0,0,"Tier 3",0,0,{"$f":"'Sch 6'!F50","v":0},"Tier 3",0,0,"Tier 3",0,0,{"$f":"'Sch 6'!G50","v":0},"Tier 3",0,0,"Tier 3",0,0,{"$f":"'Sch 6'!H50","v":0},"Tier 3",0,0,"Tier 3",0,0,{"$f":"'Sch 6'!I50","v":0},"Tier 3",0,0,"Tier 3",0,0,{"$f":"'Sch 6'!J50","v":0},"Tier 3",0,0,"Tier 3",0,0,{"$f":"'Sch 6'!K50","v":0},"Tier 3",0,0,"Tier 3",0,0,null,"Tier 3",0,0,"Tier 3",0,0]
[{"$f":"'Sch 6'!A51/1000","v":0},0,0,{"$f":"'Sch 6'!B51","v":0},0,0,{"$error":"#DIV/0!"},{"$error":"#DIV/0!"},0,"Tier 3",0,0,"Tier 3",0,0,{"$f":"'Sch 6'!C51","v":0},"Tier 3",0,0,"Tier 3",0,0,{"$f":"'Sch 6'!D51","v":0},"Tier 3",0,0,"Tier 3",0,0,{"$f":"'Sch 6'!E51","v":0},"Tier 3",0,0,"Tier 3",0,0,{"$f":"'Sch 6'!F51","v":0},"Tier 3",0,0,"Tier 3",0,0,{"$f":"'Sch 6'!G51","v":0},"Tier 3",0,0,"Tier 3",0,0,{"$f":"'Sch 6'!H51","v":0},"Tier 3",0,0,"Tier 3",0,0,{"$f":"'Sch 6'!I51","v":0},"Tier 3",0,0,"Tier 3",0,0,{"$f":"'Sch 6'!J51","v":0},"Tier 3",0,0,"Tier 3",0,0,{"$f":"'Sch 6'!K51","v":0},"Tier 3",0,0,"Tier 3",0,0,null,"Tier 3",0,0,"Tier 3",0,0]
[{"$f":"'Sch 6'!A52/1000","v":0},0,0,{"$f":"'Sch 6'!B52","v":0},0,0,{"$error":"#DIV/0!"},{"$error":"#DIV/0!"},0,"Tier 3",0,0,"Tier 3",0,0,{"$f":"'Sch 6'!C52","v":0},"Tier 3",0,0,"Tier 3",0,0,{"$f":"'Sch 6'!D52","v":0},"Tier 3",0,0,"Tier 3",0,0,{"$f":"'Sch 6'!E52","v":0},"Tier 3",0,0,"Tier 3",0,0,{"$f":"'Sch 6'!F52","v":0},"Tier 3",0,0,"Tier 3",0,0,{"$f":"'Sch 6'!G52","v":0},"Tier 3",0,0,"Tier 3",0,0,{"$f":"'Sch 6'!H52","v":0},"Tier 3",0,0,"Tier 3",0,0,{"$f":"'Sch 6'!I52","v":0},"Tier 3",0,0,"Tier 3",0,0,{"$f":"'Sch 6'!J52","v":0},"Tier 3",0,0,"Tier 3",0,0,{"$f":"'Sch 6'!K52","v":0},"Tier 3",0,0,"Tier 3",0,0,null,"Tier 3",0,0,"Tier 3",0,0]
[{"$f":"'Sch 6'!A53/1000","v":0},0,0,{"$f":"'Sch 6'!B53","v":0},0,0,{"$error":"#DIV/0!"},{"$error":"#DIV/0!"},0,"Tier 3",0,0,"Tier 3",0,0,{"$f":"'Sch 6'!C53","v":0},"Tier 3",0,0,"Tier 3",0,0,{"$f":"'Sch 6'!D53","v":0},"Tier 3",0,0,"Tier 3",0,0,{"$f":"'Sch 6'!E53","v":0},"Tier 3",0,0,"Tier 3",0,0,{"$f":"'Sch 6'!F53","v":0},"Tier 3",0,0,"Tier 3",0,0,{"$f":"'Sch 6'!G53","v":0},"Tier 3",0,0,"Tier 3",0,0,{"$f":"'Sch 6'!H53","v":0},"Tier 3",0,0,"Tier 3",0,0,{"$f":"'Sch 6'!I53","v":0},"Tier 3",0,0,"Tier 3",0,0,{"$f":"'Sch 6'!J53","v":0},"Tier 3",0,0,"Tier 3",0,0,{"$f":"'Sch 6'!K53","v":0},"Tier 3",0,0,"Tier 3",0,0,null,"Tier 3",0,0,"Tier 3",0,0]
[{"$f":"'Sch 6'!A54/1000","v":0},0,0,{"$f":"'Sch 6'!B54","v":0},0,0,{"$error":"#DIV/0!"},{"$error":"#DIV/0!"},0,"Tier 3",0,0,"Tier 3",0,0,{"$f":"'Sch 6'!C54","v":0},"Tier 3",0,0,"Tier 3",0,0,{"$f":"'Sch 6'!D54","v":0},"Tier 3",0,0,"Tier 3",0,0,{"$f":"'Sch 6'!E54","v":0},"Tier 3",0,0,"Tier 3",0,0,{"$f":"'Sch 6'!F54","v":0},"Tier 3",0,0,"Tier 3",0,0,{"$f":"'Sch 6'!G54","v":0},"Tier 3",0,0,"Tier 3",0,0,{"$f":"'Sch 6'!H54","v":0},"Tier 3",0,0,"Tier 3",0,0,{"$f":"'Sch 6'!I54","v":0},"Tier 3",0,0,"Tier 3",0,0,{"$f":"'Sch 6'!J54","v":0},"Tier 3",0,0,"Tier 3",0,0,{"$f":"'Sch 6'!K54","v":0},"Tier 3",0,0,"Tier 3",0,0,null,"Tier 3",0,0,"Tier 3",0,0]
[{"$f":"'Sch 6'!A55/1000","v":0},0,0,{"$f":"'Sch 6'!B55","v":0},0,0,{"$error":"#DIV/0!"},{"$error":"#DIV/0!"},0,"Tier 3",0,0,"Tier 3",0,0,{"$f":"'Sch 6'!C55","v":0},"Tier 3",0,0,"Tier 3",0,0,{"$f":"'Sch 6'!D55","v":0},"Tier 3",0,0,"Tier 3",0,0,{"$f":"'Sch 6'!E55","v":0},"Tier 3",0,0,"Tier 3",0,0,{"$f":"'Sch 6'!F55","v":0},"Tier 3",0,0,"Tier 3",0,0,{"$f":"'Sch 6'!G55","v":0},"Tier 3",0,0,"Tier 3",0,0,{"$f":"'Sch 6'!H55","v":0},"Tier 3",0,0,"Tier 3",0,0,{"$f":"'Sch 6'!I55","v":0},"Tier 3",0,0,"Tier 3",0,0,{"$f":"'Sch 6'!J55","v":0},"Tier 3",0,0,"Tier 3",0,0,{"$f":"'Sch 6'!K55","v":0},"Tier 3",0,0,"Tier 3",0,0,null,"Tier 3",0,0,"Tier 3",0,0]
[{"$f":"'Sch 6'!A56/1000","v":0},0,0,{"$f":"'Sch 6'!B56","v":0},0,0,{"$error":"#DIV/0!"},null,0,"Tier 3",0,0,"Tier 3",0,0,{"$f":"'Sch 6'!C56","v":0},"Tier 3",0,0,"Tier 3",0,0,{"$f":"'Sch 6'!D56","v":0},"Tier 3",0,0,"Tier 3",0,0,{"$f":"'Sch 6'!E56","v":0},"Tier 3",0,0,"Tier 3",0,0,{"$f":"'Sch 6'!F56","v":0},"Tier 3",0,0,"Tier 3",0,0,{"$f":"'Sch 6'!G56","v":0},"Tier 3",0,0,"Tier 3",0,0,{"$f":"'Sch 6'!H56","v":0},"Tier 3",0,0,"Tier 3",0,0,{"$f":"'Sch 6'!I56","v":0},"Tier 3",0,0,"Tier 3",0,0,{"$f":"'Sch 6'!J56","v":0},"Tier 3",0,0,"Tier 3",0,0,{"$f":"'Sch 6'!K56","v":0},"Tier 3",0,0,"Tier 3",0,0,null,"Tier 3",0,0,"Tier 3",0,0]
[null,null,null,null,null,null,{"$f":"\"Page \" &V89","v":"Page "},null,null,null,0,null,"Tier 3",0,null,null,null,0,null,null,0,null,null,null,0,null,null,0,null,null,null,0,null,null,0,null,null,null,0,null,null,0,null,null,null,0,null,null,0,null,null,null,0,null,null,0,null,null,null,0,null,null,0,null,null,null,0,null,null,0,null,null,null,0,null,null,0,null,null,null,0,null,null,0]

{"sheet":"Sch 7b","index":73,"n_rows":60,"n_cols":6,"rows_kept":60,"cut":false,"hidden":true,"merged":[[5,0,5,5],[6,0,6,5],[23,0,23,5],[24,0,24,5]]}
[{"$f":"'AR1'!$B$12","v":0},null,null,null,null,"Schedule 7b"]
[{"$f":"'Sch Title'!$A$2","v":"Short Form Rate Application"}]
[{"$f":"Sch1_rates","v":"CURRENT AND PROPOSED RATES"}]
[{"$f":"'Sch Title'!$A$4","v":"Test Year Ended 12/31/20"}]
[]
["TYPICAL BILL ANALYSIS"]
["General Service 5/8 x 3/4-Inch Meter"]
[]
[]
["Average Number of Customers:",null,null,{"$f":"'Sch 6'!B59","v":0}]
[]
[]
[null,null,"Present","Proposed","Dollar","Percent"]
["Company Proposed","Gallons","Rates","Rates","Increase","Increase"]
[]
["Average Usage",{"$f":"'Proof of Rev Hidden'!E40*1000","v":{"$error":"#DIV/0!"}},{"$f":"B42","v":{"$error":"#DIV/0!"}},{"$f":"C42","v":{"$error":"#DIV/0!"}},{"$f":"$D$16-$C$16","v":{"$error":"#DIV/0!"}},{"$f":"$E$16/$C$16","v":{"$error":"#DIV/0!"}}]
[]
["Median Usage",{"$f":"'Proof of Rev Hidden'!I40*1000","v":{"$error":"#N/A"}},{"$f":"B43","v":{"$error":"#N/A"}},{"$f":"C43","v":{"$error":"#N/A"}},{"$f":"$D$18-$C$18","v":{"$error":"#N/A"}},{"$f":"$E$18/$C$18","v":{"$error":"#N/A"}}]
[]
[]
[]
[]
[]
["Present & Proposed Rates (Without Taxes)"]
[{"$f":"+A7","v":"General Service 5/8 x 3/4-Inch Meter"}]
[]
[null,null," Company"]
["Gallons","Present","Proposed","%"]
["Minimum Charge",{"$f":"'Sch 7'!C11","v":0},{"$f":"'Sch 7'!E11","v":0}]
["1st Tier Rate",{"$f":"'Sch 7'!B29","v":0},{"$f":"'Sch 7'!E29","v":0}]
["1st Tier Break-over",{"$f":"'Sch 7'!D29","v":0},{"$f":"'Sch 7'!G29","v":0}]
["2nd Tier Rate",{"$f":"'Sch 7'!B30","v":0},{"$f":"'Sch 7'!E30","v":0}]
["2nd Tier Break-over",{"$f":"'Sch 7'!D30","v":0},{"$f":"'Sch 7'!G30","v":0}]
["3rd Tier Rate",{"$f":"'Sch 7'!B31","v":0},{"$f":"'Sch 7'!E31","v":0}]
["Consumption","Rates","Rates","Increase"]
[]
[0,{"$f":"+B$29+IF($A37<=B$31,$A37/1000*B$30,+IF(AND($A37>B$31,$A37<=B$33),+B$31/1000*B$30+($A37-B$31)/1000*B$32,B$30*B$31/1000+(B$33-B$31)/1000*B$32+($A37-B$33)/1000*B$34))","v":0},{"$f":"+C$29+IF($A37<=C$31,$A37/1000*C$30,+IF(AND($A37>C$31,$A37<=C$33),+C$31/1000*C$30+($A37-C$31)/1000*C$32,C$30*C$31/1000+(C$33-C$31)/1000*C$32+($A37-C$33)/1000*C$34))","v":0},{"$f":"(+C37/B37)-1","v":{"$error":"#DIV/0!"}}]
[1000,{"$f":"+B$29+IF($A38<=B$31,$A38/1000*B$30,+IF(AND($A38>B$31,$A38<=B$33),+B$31/1000*B$30+($A38-B$31)/1000*B$32,B$30*B$31/1000+(B$33-B$31)/1000*B$32+($A38-B$33)/1000*B$34))","v":0},{"$f":"+C$29+IF($A38<=C$31,$A38/1000*C$30,+IF(AND($A38>C$31,$A38<=C$33),+C$31/1000*C$30+($A38-C$31)/1000*C$32,C$30*C$31/1000+(C$33-C$31)/1000*C$32+($A38-C$33)/1000*C$34))","v":0},{"$error":"#DIV/0!"}]
[2000,{"$f":"+B$29+IF($A39<=B$31,$A39/1000*B$30,+IF(AND($A39>B$31,$A39<=B$33),+B$31/1000*B$30+($A39-B$31)/1000*B$32,B$30*B$31/1000+(B$33-B$31)/1000*B$32+($A39-B$33)/1000*B$34))","v":0},0,{"$error":"#DIV/0!"}]
[3000,0,0,{"$error":"#DIV/0!"}]
[4000,0,0,{"$error":"#DIV/0!"}]
[{"$f":"B16","v":{"$error":"#DIV/0!"}},{"$error":"#DIV/0!"},{"$error":"#DIV/0!"},{"$error":"#DIV/0!"}]
[{"$f":"B18","v":{"$error":"#N/A"}},{"$error":"#N/A"},{"$error":"#N/A"},{"$error":"#N/A"}]
[5000,0,0,{"$error":"#DIV/0!"}]
[6000,0,0,{"$error":"#DIV/0!"}]
[7000,0,0,{"$error":"#DIV/0!"}]
[8000,0,0,{"$error":"#DIV/0!"}]
[9000,0,0,{"$error":"#DIV/0!"}]
[10000,0,0,{"$error":"#DIV/0!"}]
[15000,0,0,{"$error":"#DIV/0!"}]
[20000,0,0,{"$error":"#DIV/0!"}]
[25000,0,0,{"$error":"#DIV/0!"}]
[50000,0,0,{"$error":"#DIV/0!"}]
[75000,0,0,{"$error":"#DIV/0!"}]
[100000,0,0,{"$error":"#DIV/0!"}]
[125000,0,0,{"$error":"#DIV/0!"}]
[150000,0,0,{"$error":"#DIV/0!"}]
[175000,0,0,{"$error":"#DIV/0!"}]
[200000,0,0,{"$error":"#DIV/0!"},null,{"$f":"\"Page \" &F60&\"B\"","v":"Page 26B"}]
[null,null,null,null,null,{"$f":"'Sch 7'!G60","v":26}]

{"sheet":"Sch 8","index":74,"n_rows":57,"n_cols":17,"rows_kept":57,"cut":false,"hidden":true,"merged":[[0,1,0,2],[9,7,9,9],[9,1,9,3],[9,4,9,6],[8,0,8,6],[44,0,45,6],[48,0,49,6],[5,0,5,6],[51,0,51,6],[1,1,1,2],[43,0,43,6],[42,0,42,6],[41,0,41,6],[40,0,40,6]]}
[{"$f":"'AR1'!$B$12","v":0},null,null,null,null,null,{"$f":"'Sch Title'!$A$25","v":"Schedule 8"}]
[{"$f":"'Sch Title'!$A$2","v":"Short Form Rate Application"},null,null,null,null,null,{"$f":"\" Short Form Rate Application Page No. \"&G57","v":" Short Form Rate Application Page No. 27"}]
[{"$f":"Sch2_Oth_Chgs","v":"CURRENT AND PROPOSED SERVICE CHARGES"}]
[{"$f":"'Sch Title'!$A$4","v":"Test Year Ended 12/31/20"}]
[null,null,null,null,null,null,null,null,"Table of contents"]
["CURRENT AND PROPOSED SERVICE CHARGES"]
[]
[]
["SERVICE LINE AND METER INSTALLATION CHARGES"]
[null,"CURRENT CHARGES",null,null,"COMPANY PROPOSED ",null,null,"STAFF TYPICAL RATES"]
["METER SIZE","Service Line Charge","Meter Charge","Total Charge","Service Line Charge","Meter Charge","Total Charge","Service Line Charge","Meter Charge","Total Charge"]
["5/8\" x 3/4\" Meter",null,null,{"$f":"B12+C12","v":0},null,null,{"$f":"E12+F12","v":0},415,105,{"$f":"H12+I12","v":520},null,{"$f":"IF(B12<>\"\",\"Complete\",\"Incomplete\")","v":"Incomplete"},{"$f":"IF(C12<>\"\",\"Complete\",\"Incomplete\")","v":"Incomplete"},{"$f":"IF(E12<>\"\",\"Complete\",\"Incomplete\")","v":"Incomplete"},{"$f":"IF(F12<>\"\",\"Complete\",\"Incomplete\")","v":"Incomplete"},{"$f":"IF(L12=\"Incomplete\",\"Incomplete\",IF(M12=\"Incomplete\",\"Incomplete\",IF(N12=\"Incomplete\",\"Incomplete\",IF(O12=\"Incomplete\",\"Incomplete\",\"Complete\"))))","v":"Incomplete"}]
["3/4\" Meter",null,null,{"$f":"B13+C13","v":0},null,null,{"$f":"E13+F13","v":0},415,205,{"$f":"H13+I13","v":620},null,{"$f":"IF(B13<>\"\",\"Complete\",\"Incomplete\")","v":"Incomplete"},{"$f":"IF(C13<>\"\",\"Complete\",\"Incomplete\")","v":"Incomplete"},{"$f":"IF(E13<>\"\",\"Complete\",\"Incomplete\")","v":"Incomplete"},{"$f":"IF(F13<>\"\",\"Complete\",\"Incomplete\")","v":"Incomplete"},{"$f":"IF(L13=\"Incomplete\",\"Incomplete\",IF(M13=\"Incomplete\",\"Incomplete\",IF(N13=\"Incomplete\",\"Incomplete\",IF(O13=\"Incomplete\",\"Incomplete\",\"Complete\"))))","v":"Incomplete"}]
["1\" Meter",null,null,0,null,null,0,465,265,730,null,"Incomplete","Incomplete","Incomplete","Incomplete","Incomplete"]
["1½\" Meter",null,null,0,null,null,0,520,475,995,null,"Incomplete","Incomplete","Incomplete","Incomplete","Incomplete"]
["2\" Turbine Meter",null,null,0,null,null,0,800,995,1795,null,"Incomplete","Incomplete","Incomplete","Incomplete","Incomplete"]
["2\" Compound Meter",null,null,0,null,null,0,800,1840,2640,null,"Incomplete","Incomplete","Incomplete","Incomplete","Incomplete",{"$f":"IF(P12=\"Incomplete\",\"Incomplete\",IF(P13=\"Incomplete\",\"Incomplete\",IF(P14=\"Incomplete\",\"Incomplete\",IF(P15=\"Incomplete\",\"Incomplete\",IF(P16=\"Incomplete\",\"Incomplete\",IF(P17=\"Incomplete\",\"Incomplete\",\"Complete\"))))))","v":"Incomplete"}]
["3\" Turbine Meter",null,null,0,null,null,0,1015,1620,2635,null,"Incomplete","Incomplete","Incomplete","Incomplete","Incomplete"]
["3\" Compound Meter",null,null,0,null,null,0,1135,2495,3630,null,"Incomplete","Incomplete","Incomplete","Incomplete","Incomplete"]
["4\" Turbine Meter",null,null,0,null,null,0,1430,2570,4000,null,"Incomplete","Incomplete","Incomplete","Incomplete","Incomplete"]
["4\" Compound Meter",null,null,0,null,null,0,1610,3545,5155,null,"Incomplete","Incomplete","Incomplete","Incomplete","Incomplete"]
["6\" Turbine Meter",null,null,0,null,null,0,2150,4925,7075,null,"Incomplete","Incomplete","Incomplete","Incomplete","Incomplete"]
["6\" Compound Meter",null,null,0,null,null,0,2270,6820,9090,null,"Incomplete","Incomplete","Incomplete","Incomplete","Incomplete",{"$f":"IF(P18=\"Incomplete\",\"Incomplete\",IF(P19=\"Incomplete\",\"Incomplete\",IF(P20=\"Incomplete\",\"Incomplete\",IF(P21=\"Incomplete\",\"Incomplete\",IF(P22=\"Incomplete\",\"Incomplete\",IF(P23=\"Incomplete\",\"Incomplete\",\"Complete\"))))))","v":"Incomplete"}]
[]
[]
["SERVICE CHARGES","CURRENT CHARGES","PROPOSED CHARGES"]
["Establishment",null,null,null,null,null,null,null,null,null,null,{"$f":"IF(B27<>\"\",\"Complete\",\"Incomplete\")","v":"Incomplete"},{"$f":"IF(C27<>\"\",\"Complete\",\"Incomplete\")","v":"Incomplete"},null,null,{"$f":"IF(L27=\"Incomplete\",\"Incomplete\",IF(M27=\"Incomplete\",\"Incomplete\",\"Complete\"))","v":"Incomplete"}]
["Reconnection (delinquent)",null,null,null,null,null,null,null,null,null,null,{"$f":"IF(B28<>\"\",\"Complete\",\"Incomplete\")","v":"Incomplete"},{"$f":"IF(C28<>\"\",\"Complete\",\"Incomplete\")","v":"Incomplete"},null,null,{"$f":"IF(L28=\"Incomplete\",\"Incomplete\",IF(M28=\"Incomplete\",\"Incomplete\",\"Complete\"))","v":"Incomplete"}]
["After Hours Service Charge",null,null,null,null,null,null,null,null,null,null,"Incomplete","Incomplete",null,null,"Incomplete"]
["Meter Test",null,null,null,null,null,null,null,null,null,null,"Incomplete","Incomplete",null,null,"Incomplete"]
["Deposit",null,null,null,null,null,null,{"$f":"'Sch 7b'!C16*2","v":{"$error":"#DIV/0!"}},{"$f":"'Sch 7b'!D16*2","v":{"$error":"#DIV/0!"}},null,null,"Incomplete","Incomplete",null,null,"Incomplete"]
["Deposit Interest",null,null,null,null,null,null,null,null,null,null,"Incomplete","Incomplete",null,null,"Incomplete",{"$f":"IF(P27=\"Incomplete\",\"Incomplete\",IF(P28=\"Incomplete\",\"Incomplete\",IF(P29=\"Incomplete\",\"Incomplete\",IF(P30=\"Incomplete\",\"Incomplete\",IF(P31=\"Incomplete\",\"Incomplete\",IF(P32=\"Incomplete\",\"Incomplete\",\"Complete\"))))))","v":"Incomplete"}]
["Re-establishment (within 12 months)",null,null,null,null,null,null,null,null,null,null,"Incomplete","Incomplete",null,null,"Incomplete"]
["NSF Check",null,null,null,null,null,null,null,null,null,null,"Incomplete","Incomplete",null,null,"Incomplete"]
["Deferred Payment (Per Month)",null,null,null,null,null,null,null,null,null,null,"Incomplete","Incomplete",null,null,"Incomplete"]
["Meter Re-read",null,null,null,null,null,null,null,null,null,null,"Incomplete","Incomplete",null,null,"Incomplete"]
["Late Fee",null,null,null,null,null,null,null,null,null,null,"Incomplete","Incomplete",null,null,"Incomplete",{"$f":"IF(P33=\"Incomplete\",\"Incomplete\",IF(P34=\"Incomplete\",\"Incomplete\",IF(P35=\"Incomplete\",\"Incomplete\",IF(P36=\"Incomplete\",\"Incomplete\",IF(P37=\"Incomplete\",\"Incomplete\",\"Complete\")))))","v":"Incomplete"}]
[null,null,null,null,null,null,null,null,null,null,null,null,null,null,null,null,{"$f":"IF(Q17=\"Incomplete\",\"Incomplete\",IF(Q23=\"Incomplete\",\"Incomplete\",IF(Q32=\"Incomplete\",\"Incomplete\",IF(Q37=\"Incomplete\",\"Incomplete\",\"Complete\"))))","v":"Incomplete"}]
[]
[]
["Deposit - Per Commission Rule A.A.C. R-14-2-403(B)(7)."]
["Deposit Interest - Per Commission Rule A.A.C. R-14-2-403(B)(3)."]
["Deferred Payment - 1.50% of unpaid monthly balance."]
["Re-establishment (within 12 months) - Month off system times the monthly minimum A.A.C. R14-2-403(D)."]
["2% of Monthly Minimum for a Comparable Sized Meter Connection, but no less than $11.00 per month.  The Service Charge for Fire Sprinklers is only applicable to service lines separate and distinct from the primary water service line."]
[]
[]
[]
["In addition to the collection of regular rates, the utility will collect from its customers a proportionate share of any privilege, sales, use, and franchise tax. Per commission rule A.A.C. 14-2-409D(5)."]
[]
[]
["Instructions: Update all information in the Grey highlighted cells.  Add rows as necessary."]
[]
[]
[]
[null,null,null,null,null,null,{"$f":"\"Page \" &G57","v":"Page 27"}]
[null,null,null,null,null,null,{"$f":"'Sch 7'!G60+1","v":27}]

{"sheet":"Sch 9","index":75,"n_rows":71,"n_cols":23,"rows_kept":71,"cut":false,"hidden":true,"merged":[[64,0,64,7],[6,8,6,15],[6,0,6,7],[21,9,42,14],[61,0,61,7],[9,8,10,15],[62,0,62,7]]}
[{"$f":"'AR1'!$B$12","v":0},null,null,null,null,null,null,{"$f":"'Sch Title'!$A$26","v":"Schedule 9"},{"$f":"'AR1'!$B$12","v":0},null,null,null,null,null,null,{"$f":"'Sch Title'!$A$26","v":"Schedule 9"}]
[{"$f":"'Sch Title'!$A$2","v":"Short Form Rate Application"},null,null,null,null,null,null,{"$f":"\" Short Form Rate Application Page No. \"&H68","v":" Short Form Rate Application Page No. 28"},{"$f":"'Sch Title'!$A$2","v":"Short Form Rate Application"},null,null,null,null,null,null,{"$f":"\" Short Form Rate Application Page No. \"&P68","v":" Short Form Rate Application Page No. 29"}]
[{"$f":"Sch8_IS","v":"COMPARATIVE INCOME STATEMENT"},null,null,null,null,null,null,null,{"$f":"I7","v":"PROOF OF REVENUE"}]
[{"$f":"'Sch Title'!$A$4","v":"Test Year Ended 12/31/20"},null,null,null,null,null,null,null,{"$f":"'Sch Title'!$A$4","v":"Test Year Ended 12/31/20"}]
[null,null,null,null,null,null,null,null,null,null,null,null,null,null,null,null,null,null,null,null,null,null,"Table of contents"]
[]
["COMPARATIVE INCOME STATEMENT",null,null,null,null,null,null,null,"PROOF OF REVENUE"]
[]
["Account No.","Operating Revenue","Prior Year *","Test Year *","Company Adjustments **","Company Adjusted","Increase Requested","Company Proposed"]
[461,"Metered Water Revenue",{"$f":"'AR6'!D10","v":0},{"$f":"'AR6'!C10","v":0},{"$f":"IF('Sch 14'!C25>0%,'Sch 14'!C28,0)","v":0},{"$f":"D10+E10","v":0},null,{"$f":"SUM(F10:G10)","v":0},"After updating the information on this schedule and inputting the Bill Count information on Schedule 6, if cell I10 is pink with red font then please double check your data entry, especially your bill counts.",null,null,null,null,null,null,null,null,null,null,{"$f":"ISBLANK(G10)","v":true},{"$f":"IF(T10=TRUE,\"Incomplete\",\"Complete\")","v":"Incomplete"}]
[460,"Unmetered Water Revenue",{"$f":"'AR6'!D11","v":0},{"$f":"'AR6'!C11","v":0},{"$f":"'Sch 11'!G12","v":0},0,null,0,null,null,null,null,null,null,null,null,null,null,null,true,"Incomplete"]
[462,"Fire Protection Revenue",{"$f":"'AR6'!D12","v":0},{"$f":"'AR6'!C12","v":0},{"$f":"'Sch 11'!G13","v":0},0,null,0,null,null,null,null,null,null,null,null,null,null,null,true,"Incomplete"]
[469,"Guaranteed Revenues (Surcharges)",{"$f":"'AR6'!D13","v":0},{"$f":"'AR6'!C13","v":0},{"$f":"'Sch 11'!G14","v":0},0,null,0,null,null,null,null,null,null,null,null,null,null,null,true,"Incomplete"]
[471,"Miscellaneous Service Revenues",{"$f":"'AR6'!D14","v":0},{"$f":"'AR6'!C14","v":0},{"$f":"'Sch 11'!G15","v":0},0,null,0,null,null,null,null,null,null,null,null,null,null,null,true,"Incomplete"]
[474,"Other Water Revenue",{"$f":"'AR6'!D15","v":0},{"$f":"'AR6'!C15","v":0},{"$f":"'Sch 11'!G16","v":0},0,null,0,null,null,null,null,null,null,null,null,null,null,null,true,"Incomplete",{"$f":"IF(U10=\"Incomplete\",\"Incomplete\",IF(U11=\"Incomplete\",\"Incomplete\",IF(U12=\"Incomplete\",\"Incomplete\",IF(U13=\"Incomplete\",\"Incomplete\",IF(U14=\"Incomplete\",\"Incomplete\",IF(U15=\"Incomplete\",\"Incomplete\",\"Complete\"))))))","v":"Incomplete"}]
[null,"Total Revenues",{"$f":"SUM(C10:C15)","v":0},0,0,0,0,0]
[]
[null,"Operating Expenses",null,null,null,null,null,null,null,"Revenues",{"$f":"'Proof of Rev Hidden'!D13","v":0},{"$f":"'Proof of Rev Hidden'!D14","v":""}]
[601,"Salaries and Wages",{"$f":"'AR6'!D19","v":0},{"$f":"'AR6'!C19","v":0},{"$f":"'Sch 11'!G20","v":0},{"$f":"D19+E19","v":0},null,{"$f":"SUM(F19:G19)","v":0},null,null,null,null,null,null,null,null,null,null,null,{"$f":"ISBLANK(G19)","v":true},{"$f":"IF(T19=TRUE,\"Incomplete\",\"Complete\")","v":"Incomplete"}]
[604,"Employee Pensions and Benefits",{"$f":"'AR6'!D20","v":0},{"$f":"'AR6'!C20","v":0},{"$f":"'Sch 11'!G21","v":0},{"$f":"D20+E20","v":0},null,0,null,null,null,null,null,null,null,null,null,null,null,{"$f":"ISBLANK(G20)","v":true},{"$f":"IF(T20=TRUE,\"Incomplete\",\"Complete\")","v":"Incomplete"}]
[610,"Purchased Water",{"$f":"'AR6'!D21","v":0},{"$f":"'AR6'!C21","v":0},{"$f":"IF('Sch 14'!C25>0%,'Sch 14'!C29,0)","v":0},0,null,0,null,"Explanation for Difference",null,null,null,null,null,null,null,null,null,true,"Incomplete"]
[615,"Purchased Power",{"$f":"'AR6'!D22","v":0},{"$f":"'AR6'!C22","v":0},{"$f":"IF('Sch 14'!C25>0%,'Sch 14'!C30,0)","v":0},0,null,0,null,null,null,null,null,null,null,null,null,null,null,true,"Incomplete"]
[618,"Chemicals",{"$f":"'AR6'!D23","v":0},{"$f":"'AR6'!C23","v":0},{"$f":"IF('Sch 14'!C25>0%,'Sch 14'!C31,0)","v":0},0,null,0,null,null,null,null,null,null,null,null,null,null,null,true,"Incomplete"]
[620,"Materials and Supplies",{"$f":"'AR6'!D24","v":0},{"$f":"'AR6'!C24","v":0},{"$f":"'Sch 11'!G25","v":0},0,null,0,null,null,null,null,null,null,null,null,null,null,null,true,"Incomplete",{"$f":"IF(U19=\"Incomplete\",\"Incomplete\",IF(U20=\"Incomplete\",\"Incomplete\",IF(U21=\"Incomplete\",\"Incomplete\",IF(U22=\"Incomplete\",\"Incomplete\",IF(U23=\"Incomplete\",\"Incomplete\",IF(U24=\"Incomplete\",\"Incomplete\",\"Complete\"))))))","v":"Incomplete"}]
[620.1,"Repairs and Maintenance",{"$f":"'AR6'!D25","v":0},{"$f":"'AR6'!C25","v":0},{"$f":"'Sch 11'!G26","v":0},{"$f":"D25+E25","v":0},null,{"$f":"SUM(F25:G25)","v":0},null,null,null,null,null,null,null,null,null,null,null,true,"Incomplete"]
[620.20000000000005,"Office Supplies and Expense",{"$f":"'AR6'!D26","v":0},{"$f":"'AR6'!C26","v":0},{"$f":"'Sch 11'!G27","v":0},{"$f":"D26+E26","v":0},null,{"$f":"SUM(F26:G26)","v":0},null,null,null,null,null,null,null,null,null,null,null,true,"Incomplete"]
[630,"Outside Services",{"$f":"'AR6'!D27","v":0},{"$f":"'AR6'!C27","v":0},{"$f":"'Sch 11'!G28","v":0},0,null,0,null,null,null,null,null,null,null,null,null,null,null,true,"Incomplete"]
[631,"Contractual Services -Engineering",{"$f":"'AR6'!D28","v":0},{"$f":"'AR6'!C28","v":0},{"$f":"'Sch 11'!G29","v":0},{"$f":"D28+E28","v":0},null,{"$f":"SUM(F28:G28)","v":0},null,null,null,null,null,null,null,null,null,null,null,true,"Incomplete"]
[632,"Contractual Services - Accounting",{"$f":"'AR6'!D29","v":0},{"$f":"'AR6'!C29","v":0},{"$f":"'Sch 11'!G30","v":0},0,null,0,null,null,null,null,null,null,null,null,null,null,null,true,"Incomplete"]
[633,"Contractual Services - Legal",{"$f":"'AR6'!D30","v":0},{"$f":"'AR6'!C30","v":0},{"$f":"'Sch 11'!G31","v":0},0,null,0,null,null,null,null,null,null,null,null,null,null,null,true,"Incomplete",{"$f":"IF(U25=\"Incomplete\",\"Incomplete\",IF(U26=\"Incomplete\",\"Incomplete\",IF(U27=\"Incomplete\",\"Incomplete\",IF(U28=\"Incomplete\",\"Incomplete\",IF(U29=\"Incomplete\",\"Incomplete\",IF(U30=\"Incomplete\",\"Incomplete\",\"Complete\"))))))","v":"Incomplete"}]
[634,"Contractual Services - Management Fees",{"$f":"'AR6'!D31","v":0},{"$f":"'AR6'!C31","v":0},{"$f":"'Sch 11'!G32","v":0},0,null,0,null,null,null,null,null,null,null,null,null,null,null,true,"Incomplete"]
[635,"Contractual Services - Water Testing",{"$f":"'AR6'!D32","v":0},{"$f":"'AR6'!C32","v":0},{"$f":"'Sch 11'!G33","v":0},0,null,0,null,null,null,null,null,null,null,null,null,null,null,true,"Incomplete"]
[636,"Contractual Services - Other",{"$f":"'AR6'!D33","v":0},{"$f":"'AR6'!C33","v":0},{"$f":"'Sch 11'!G34","v":0},0,null,0,null,null,null,null,null,null,null,null,null,null,null,true,"Incomplete"]
[640,"Rents",{"$f":"'AR6'!D34","v":0},{"$f":"'AR6'!C34","v":0},{"$f":"'Sch 11'!G35","v":0},0,null,0,null,null,null,null,null,null,null,null,null,null,null,true,"Incomplete"]
[641,"Rental of Building/Real Property",{"$f":"'AR6'!D35","v":0},{"$f":"'AR6'!C35","v":0},{"$f":"'Sch 11'!G36","v":0},{"$f":"D35+E35","v":0},null,{"$f":"SUM(F35:G35)","v":0},null,null,null,null,null,null,null,null,null,null,null,true,"Incomplete"]
[642,"Rental of Equipment",{"$f":"'AR6'!D36","v":0},{"$f":"'AR6'!C36","v":0},{"$f":"'Sch 11'!G37","v":0},{"$f":"D36+E36","v":0},null,{"$f":"SUM(F36:G36)","v":0},null,null,null,null,null,null,null,null,null,null,null,true,"Incomplete",{"$f":"IF(U31=\"Incomplete\",\"Incomplete\",IF(U32=\"Incomplete\",\"Incomplete\",IF(U33=\"Incomplete\",\"Incomplete\",IF(U34=\"Incomplete\",\"Incomplete\",IF(U35=\"Incomplete\",\"Incomplete\",IF(U36=\"Incomplete\",\"Incomplete\",\"Complete\"))))))","v":"Incomplete"}]
[650,"Transportation Expenses",{"$f":"'AR6'!D37","v":0},{"$f":"'AR6'!C37","v":0},{"$f":"'Sch 11'!G38","v":0},0,null,0,null,null,null,null,null,null,null,null,null,null,null,true,"Incomplete"]
[657,"Insurance - General Liability",{"$f":"'AR6'!D38","v":0},{"$f":"'AR6'!C38","v":0},{"$f":"'Sch 11'!G39","v":0},0,null,0,null,null,null,null,null,null,null,null,null,null,null,true,"Incomplete"]
[657.1,"Insurance - Health and Life",{"$f":"'AR6'!D39","v":0},{"$f":"'AR6'!C39","v":0},{"$f":"'Sch 11'!G40","v":0},0,null,0,null,null,null,null,null,null,null,null,null,null,null,true,"Incomplete"]
[666,"Regulatory Commission Expense - Rate",{"$f":"'AR6'!D40","v":0},{"$f":"'AR6'!C40","v":0},{"$f":"'Sch 11'!G41","v":0},0,null,0,null,null,null,null,null,null,null,null,null,null,null,true,"Incomplete"]
[670,"Bad Debt Expense",{"$f":"'AR6'!D41","v":0},{"$f":"'AR6'!C41","v":0},{"$f":"'Sch 11'!G42","v":0},0,null,0]
[675,"Miscellaneous Expense",{"$f":"'AR6'!D42","v":0},{"$f":"'AR6'!C42","v":0},{"$f":"'Sch 11'!G43","v":0},0,null,0,null,null,null,null,null,null,null,null,null,null,null,true,"Incomplete"]
[403,"Depreciation Expense",{"$f":"'AR6'!D43","v":0},{"$f":"'Sch 10'!G56","v":""},{"$f":"'Sch 11'!G44","v":0},{"$error":"#VALUE!"},null,{"$error":"#VALUE!"},null,null,null,null,null,null,null,null,null,null,null,true,"Incomplete"]
[408,"Taxes Other Than Income",{"$f":"'AR6'!D44","v":0},{"$f":"'AR6'!C44","v":0},{"$f":"'Sch 11'!G45","v":0},0,null,0,null,null,null,null,null,null,null,null,null,null,null,true,"Incomplete",{"$f":"IF(U37=\"Incomplete\",\"Incomplete\",IF(U38=\"Incomplete\",\"Incomplete\",IF(U39=\"Incomplete\",\"Incomplete\",IF(U40=\"Incomplete\",\"Incomplete\",IF(U42=\"Incomplete\",\"Incomplete\",IF(U43=\"Incomplete\",\"Incomplete\",IF(U44=\"Incomplete\",\"Incomplete\",\"Complete\")))))))","v":"Incomplete"}]
[408.11,"Property Taxes",{"$f":"'AR6'!D45","v":0},{"$f":"'AR6'!C45","v":0},{"$f":"'Sch 11'!G46","v":0},0,{"$f":"'Sch 12'!C35","v":0},0]
[409,"Income Taxes",{"$f":"'AR6'!D46","v":0},{"$f":"'AR6'!C46","v":0},{"$f":"'Sch 11'!G47","v":0},0,null,0,null,null,null,null,null,null,null,null,null,null,null,{"$f":"ISBLANK(G46)","v":true},{"$f":"IF(T46=TRUE,\"Incomplete\",\"Complete\")","v":"Incomplete"},{"$f":"IF(V15=\"Incomplete\",\"Incomplete\",IF(V24=\"Incomplete\",\"Incomplete\",IF(V30=\"Incomplete\",\"Incomplete\",IF(V36=\"Incomplete\",\"Incomplete\",IF(V44=\"Incomplete\",\"Incomplete\",IF(U46=\"Incomplete\",\"Incomplete\",\"Complete\"))))))","v":"Incomplete"}]
[427.1,"Customer Security Deposit Interest",{"$f":"'AR6'!D47","v":0},{"$f":"'AR6'!C47","v":0},{"$f":"'Sch 11'!G48","v":0},{"$f":"D47+E47","v":0},null,{"$f":"SUM(F47:G47)","v":0}]
[null,"Total Operating Expenses",{"$f":"SUM(C19:C47)","v":0},0,0,{"$error":"#VALUE!"},0,{"$error":"#VALUE!"}]
[]
[null,"Operating Income / (Loss)",{"$f":"C16-C48","v":0},0,0,{"$error":"#VALUE!"},0,{"$error":"#VALUE!"}]
[]
[null,"Other Income / (Expense) "]
[419,"Interest and Dividend Income",{"$f":"'AR6'!D53","v":0},{"$f":"'AR6'!C53","v":0},{"$f":"'Sch 11'!G54","v":0},{"$f":"D53+E53","v":0},null,{"$f":"SUM(F53:G53)","v":0},null,null,null,null,null,null,null,null,null,null,null,{"$f":"ISBLANK(G53)","v":true},{"$f":"IF(T53=TRUE,\"Incomplete\",\"Complete\")","v":"Incomplete"}]
[421,"Non-Utility Income",{"$f":"'AR6'!D54","v":0},{"$f":"'AR6'!C54","v":0},{"$f":"'Sch 11'!G55","v":0},{"$f":"D54+E54","v":0},null,{"$f":"SUM(F54:G54)","v":0},null,null,null,null,null,null,null,null,null,null,null,{"$f":"ISBLANK(G54)","v":true},{"$f":"IF(T54=TRUE,\"Incomplete\",\"Complete\")","v":"Incomplete"}]
[426,"Miscellaneous Non-Utility Expense",{"$f":"'AR6'!D55","v":0},{"$f":"'AR6'!C55","v":0},{"$f":"'Sch 11'!G56","v":0},{"$f":"D55+E55","v":0},null,{"$f":"SUM(F55:G55)","v":0},null,null,null,null,null,null,null,null,null,null,null,{"$f":"ISBLANK(G55)","v":true},{"$f":"IF(T55=TRUE,\"Incomplete\",\"Complete\")","v":"Incomplete"}]
[427,"Interest Expense",{"$f":"'AR6'!D56","v":0},{"$f":"'AR6'!C56","v":0},{"$f":"'Sch 11'!G57","v":0},{"$f":"D56+E56","v":0},null,{"$f":"SUM(F56:G56)","v":0},null,null,null,null,null,null,null,null,null,null,null,{"$f":"ISBLANK(G56)","v":true},{"$f":"IF(T56=TRUE,\"Incomplete\",\"Complete\")","v":"Incomplete"},{"$f":"IF(U53=\"Incomplete\",\"Incomplete\",IF(U54=\"Incomplete\",\"Incomplete\",IF(U55=\"Incomplete\",\"Incomplete\",IF(U56=\"Incomplete\",\"Incomplete\",\"Complete\"))))","v":"Incomplete"}]
[null,"Total Other Income / (Expense)",{"$f":"C53+C54+C55+C56","v":0},0,0,0,0,0]
[null,null,null,null,null,null,null,null,null,null,null,null,null,null,null,null,null,null,null,null,null,{"$f":"IF(V46=\"Incomplete\",\"Incomplete\",IF(V56=\"Incomplete\",\"Incomplete\",\"Complete\"))","v":"Incomplete"}]
[null,"Net Income / (Loss) ",{"$f":"C50+C57","v":0},0,0,{"$error":"#VALUE!"},0,{"$error":"#VALUE!"}]
[]
[]
[{"$f":"\"* This item automatically populates with information from your annual report \"&'AR6'!D64","v":"* This item automatically populates with information from your annual report Page 8"}]
[{"$f":"\"** This item automatically populates with information from \"&'Sch 11'!G1&\" \"&'Sch 11'!A7:G7","v":"** This item automatically populates with information from Schedule 11 PRO FORMA ADDITIONS/SUBTRACTIONS FROM TEST YEAR"}]
[]
["Note: Do not include the sales taxes in revenues or expenses. Please refer to the checklist on page 1 for the required attachments related to this schedule."]
[]
[null,null,null,null,null,null,null,{"$f":"\"Page \" &H68","v":"Page 28"},null,null,null,null,null,null,null,{"$f":"\"Page \" &P68","v":"Page 29"}]
[null,null,null,null,null,null,null,{"$f":"'Sch 8'!G57+1","v":28},null,null,null,null,null,null,null,{"$f":"H68+1","v":29}]
[]
[null,{"$f":"\"From Annual Rerport \"&'AR6'!D64","v":"From Annual Rerport Page 8"},{"$f":"'AR6'!D59","v":0},{"$f":"'AR6'!C59","v":0}]
[null,"Difference",{"$f":"C70-C59","v":0},{"$f":"D70-D59","v":0}]

{"sheet":"Sch 10","index":76,"n_rows":63,"n_cols":14,"rows_kept":63,"cut":false,"hidden":true,"merged":[[7,10,7,13],[57,0,59,6],[6,0,6,6],[46,1,46,2],[51,1,51,2],[50,1,50,2],[49,1,49,2],[48,1,48,2],[47,1,47,2]]}
[{"$f":"'AR1'!$B$12","v":0},null,null,null,null,null,{"$f":"'Sch Title'!$A$27","v":"Schedule 10"}]
[{"$f":"'Sch Title'!$A$2","v":"Short Form Rate Application"},null,null,null,null,null,{"$f":"\" Short Form Rate Application Page No. \"&G63","v":" Short Form Rate Application Page No. 30"}]
[{"$f":"Sch9_DepExp","v":"CALCULATION OF DEPRECIATION EXPENSE"},null,null,null,null,null,null,null,"Table of contents"]
[{"$f":"'Sch Title'!$A$4","v":"Test Year Ended 12/31/20"}]
[]
[]
["CALCULATION OF DEPRECIATION EXPENSE"]
[null,null,null,null,null,null,null,null,null,null,"Staff's Recommended Rates"]
["Acct. No.","Plant Description","Test Year Plant Original Cost","Fully Depreciated/Non-depreciable Plant","Depreciable Plant","Depreciation Percentage","Depreciation Expense","Annual Report Depreciation","Variance",null,"Acct. No.","Plant Description","Service Life (yrs)","Rate"]
[{"$f":"'Sch 4'!A9","v":301},{"$f":"'Sch 4'!B9","v":"Organization"},{"$f":"'Sch 4'!C9","v":0},{"$f":"'Sch Title'!K9","v":0},"N/A",0,"N/A",null,null,null,301,"Organization","N/A","N/A"]
[{"$f":"'Sch 4'!A10","v":302},{"$f":"'Sch 4'!B10","v":"Franchises"},{"$f":"'Sch 4'!C10","v":0},{"$f":"'Sch Title'!K10","v":0},"N/A",{"$f":"'AR4'!I10","v":0},"N/A",null,null,null,302,"Franchises","N/A","N/A"]
[{"$f":"'Sch 4'!A11","v":303},{"$f":"'Sch 4'!B11","v":"Land and Land Rights"},{"$f":"'Sch 4'!C11","v":0},{"$f":"'Sch Title'!K11","v":0},"N/A",{"$f":"'AR4'!I11","v":0},"N/A",null,null,null,303,"Land and Land Rights","N/A","N/A"]
[{"$f":"'Sch 4'!A12","v":304},{"$f":"'Sch 4'!B12","v":"Structures and Improvements"},{"$f":"'Sch 4'!C12","v":0},{"$f":"'Sch Title'!K12","v":0},{"$f":"C13-D13","v":0},{"$f":"'AR4'!I12","v":0},{"$f":"E13*F13","v":0},{"$f":"'AR4'!J12","v":0},{"$f":"H13-G13","v":0},null,304,"Structures and Improvements",30,3.3300000000000003E-2]
[{"$f":"'Sch 4'!A13","v":305},{"$f":"'Sch 4'!B13","v":"Collecting & Improving Reservoirs"},{"$f":"'Sch 4'!C13","v":0},{"$f":"'Sch Title'!K13","v":0},0,{"$f":"'AR4'!I13","v":0},{"$f":"E14*F14","v":0},{"$f":"'AR4'!J13","v":0},0,null,305,"Collecting & Improving Reservoirs",40,2.5000000000000001E-2]
[{"$f":"'Sch 4'!A14","v":306},{"$f":"'Sch 4'!B14","v":"Lake, River, Canal Intakes"},{"$f":"'Sch 4'!C14","v":0},{"$f":"'Sch Title'!K14","v":0},0,{"$f":"'AR4'!I14","v":0},0,{"$f":"'AR4'!J14","v":0},0,null,306,"Lake, River, Canal Intakes",40,2.5000000000000001E-2]
[{"$f":"'Sch 4'!A15","v":307},{"$f":"'Sch 4'!B15","v":"Wells and Springs"},{"$f":"'Sch 4'!C15","v":0},{"$f":"'Sch Title'!K15","v":0},0,{"$f":"'AR4'!I15","v":0},0,{"$f":"'AR4'!J15","v":0},0,null,307,"Wells and Springs",30,3.3300000000000003E-2]
[{"$f":"'Sch 4'!A16","v":308},{"$f":"'Sch 4'!B16","v":"Infiltration Galleries"},{"$f":"'Sch 4'!C16","v":0},{"$f":"'Sch Title'!K16","v":0},0,{"$f":"'AR4'!I16","v":0},0,{"$f":"'AR4'!J16","v":0},0,null,308,"Infiltration Galleries",15,6.6699999999999995E-2]
[{"$f":"'Sch 4'!A17","v":309},{"$f":"'Sch 4'!B17","v":"Supply Mains"},{"$f":"'Sch 4'!C17","v":0},{"$f":"'Sch Title'!K17","v":0},0,{"$f":"'AR4'!I17","v":0},0,{"$f":"'AR4'!J17","v":0},0,null,309,"Raw Water Supply Mains",50,0.02]
[{"$f":"'Sch 4'!A18","v":310},{"$f":"'Sch 4'!B18","v":"Power Generation Equipment"},{"$f":"'Sch 4'!C18","v":0},{"$f":"'Sch Title'!K18","v":0},0,{"$f":"'AR4'!I18","v":0},0,{"$f":"'AR4'!J18","v":0},0,null,310,"Power Generation Equipment",20,0.05]
[{"$f":"'Sch 4'!A19","v":311},{"$f":"'Sch 4'!B19","v":"Pumping Equipment"},{"$f":"'Sch 4'!C19","v":0},{"$f":"'Sch Title'!K19","v":0},0,{"$f":"'AR4'!I19","v":0},0,{"$f":"'AR4'!J19","v":0},0,null,311,"Pumping Equipment",8,0.125]
[{"$f":"'Sch 4'!A20","v":320},{"$f":"'Sch 4'!B20","v":"Water Treatment Equipment"},{"$f":"'Sch 4'!C20","v":0},{"$f":"'Sch Title'!K20","v":0},"N/A",{"$f":"'AR4'!I20","v":0},"N/A",null,null,null,320,"Water Treatment Equipment","N/A","N/A"]
[{"$f":"'Sch 4'!A21","v":320.10000000000002},{"$f":"'Sch 4'!B21","v":"Water Treatment Plants"},{"$f":"'Sch 4'!C21","v":0},{"$f":"'Sch Title'!K21","v":0},{"$f":"C22-D22","v":0},{"$f":"'AR4'!I21","v":0},0,{"$f":"'AR4'!J21","v":0},0,null,320.10000000000002,"Water Treatment Plants",30,3.3300000000000003E-2]
[{"$f":"'Sch 4'!A22","v":320.2},{"$f":"'Sch 4'!B22","v":"Solution Chemical Feeders"},{"$f":"'Sch 4'!C22","v":0},{"$f":"'Sch Title'!K22","v":0},0,{"$f":"'AR4'!I22","v":0},0,{"$f":"'AR4'!J22","v":0},0,null,320.2,"Solution Chemical Feeders",{"$f":"1/N23","v":5},0.2]
[{"$f":"'Sch 4'!A23","v":320.3},{"$f":"'Sch 4'!B23","v":"Point-of-Use Treatment Devices"},{"$f":"'Sch 4'!C23","v":0},{"$f":"'Sch Title'!K23","v":0},0,{"$f":"'AR4'!I23","v":0},0,{"$f":"'AR4'!J23","v":0},0,null,320.3,"Point-of-Use Treatment Devices",10,0.1]
[{"$f":"'Sch 4'!A24","v":330},{"$f":"'Sch 4'!B24","v":"Distribution Reservoirs and Standpipes"},{"$f":"'Sch 4'!C24","v":0},{"$f":"'Sch Title'!K24","v":0},"N/A",{"$f":"'AR4'!I24","v":0},"N/A",null,null,null,330,"Distribution Reservoirs and Standpipes","N/A","N/A"]
[{"$f":"'Sch 4'!A25","v":330.1},{"$f":"'Sch 4'!B25","v":"Storage Tanks"},{"$f":"'Sch 4'!C25","v":0},{"$f":"'Sch Title'!K25","v":0},0,{"$f":"'AR4'!I25","v":0},0,{"$f":"'AR4'!J25","v":0},0,null,330.1,"Storage Tanks",45,2.2200000000000001E-2]
[{"$f":"'Sch 4'!A26","v":330.2},{"$f":"'Sch 4'!B26","v":"Pressure Tanks"},{"$f":"'Sch 4'!C26","v":0},{"$f":"'Sch Title'!K26","v":0},0,{"$f":"'AR4'!I26","v":0},0,{"$f":"'AR4'!J26","v":0},0,null,330.2,"Pressure Tanks",20,0.05]
[{"$f":"'Sch 4'!A27","v":331},{"$f":"'Sch 4'!B27","v":"Transmission and Distribution Mains"},{"$f":"'Sch 4'!C27","v":0},{"$f":"'Sch Title'!K27","v":0},0,{"$f":"'AR4'!I27","v":0},0,{"$f":"'AR4'!J27","v":0},0,null,331,"Transmission and Distribution Mains",50,0.02]
[{"$f":"'Sch 4'!A28","v":333},{"$f":"'Sch 4'!B28","v":"Services"},{"$f":"'Sch 4'!C28","v":0},{"$f":"'Sch Title'!K28","v":0},0,{"$f":"'AR4'!I28","v":0},0,{"$f":"'AR4'!J28","v":0},0,null,333,"Services",30,3.3300000000000003E-2]
[{"$f":"'Sch 4'!A29","v":334},{"$f":"'Sch 4'!B29","v":"Meters and Meter Installations"},{"$f":"'Sch 4'!C29","v":0},{"$f":"'Sch Title'!K29","v":0},0,{"$f":"'AR4'!I29","v":0},0,{"$f":"'AR4'!J29","v":0},0,null,334,"Meters and Meter Installations",12.004801920768308,8.3299999999999999E-2]
[{"$f":"'Sch 4'!A30","v":335},{"$f":"'Sch 4'!B30","v":"Hydrants"},{"$f":"'Sch 4'!C30","v":0},{"$f":"'Sch Title'!K30","v":0},0,{"$f":"'AR4'!I30","v":0},0,{"$f":"'AR4'!J30","v":0},0,null,335,"Hydrants",50,0.02]
[{"$f":"'Sch 4'!A31","v":336},{"$f":"'Sch 4'!B31","v":"Backflow Prevention Devices"},{"$f":"'Sch 4'!C31","v":0},{"$f":"'Sch Title'!K31","v":0},0,{"$f":"'AR4'!I31","v":0},0,{"$f":"'AR4'!J31","v":0},0,null,336,"Backflow Prevention Devices",15,6.6699999999999995E-2]
[{"$f":"'Sch 4'!A32","v":339},{"$f":"'Sch 4'!B32","v":"Other Plant and Misc. Equipment"},{"$f":"'Sch 4'!C32","v":0},{"$f":"'Sch Title'!K32","v":0},0,{"$f":"'AR4'!I32","v":0},0,{"$f":"'AR4'!J32","v":0},0,null,339,"Other Plant and Misc. Equipment",15,6.6699999999999995E-2]
[{"$f":"'Sch 4'!A33","v":340},{"$f":"'Sch 4'!B33","v":"Office Furniture and Equipment"},{"$f":"'Sch 4'!C33","v":0},{"$f":"'Sch Title'!K33","v":0},0,{"$f":"'AR4'!I33","v":0},0,{"$f":"'AR4'!J33","v":0},0,null,340,"Office Furniture and Equipment",15,6.6699999999999995E-2]
[{"$f":"'Sch 4'!A34","v":340.1},{"$f":"'Sch 4'!B34","v":"Computer & Software"},{"$f":"'Sch 4'!C34","v":0},{"$f":"'Sch Title'!K34","v":0},0,{"$f":"'AR4'!I34","v":0},0,{"$f":"'AR4'!J34","v":0},0,null,340.1,"Computer & Software",5,0.2]
[{"$f":"'Sch 4'!A35","v":341},{"$f":"'Sch 4'!B35","v":"Transportation Equipment"},{"$f":"'Sch 4'!C35","v":0},{"$f":"'Sch Title'!K35","v":0},0,{"$f":"'AR4'!I35","v":0},0,{"$f":"'AR4'!J35","v":0},0,null,341,"Transportation Equipment",5,0.2]
[{"$f":"'Sch 4'!A36","v":342},{"$f":"'Sch 4'!B36","v":"Stores Equipment"},{"$f":"'Sch 4'!C36","v":0},{"$f":"'Sch Title'!K36","v":0},0,{"$f":"'AR4'!I36","v":0},0,{"$f":"'AR4'!J36","v":0},0,null,342,"Stores Equipment",25,0.04]
[{"$f":"'Sch 4'!A37","v":343},{"$f":"'Sch 4'!B37","v":"Tools, Shop and Garage Equipment"},{"$f":"'Sch 4'!C37","v":0},{"$f":"'Sch Title'!K37","v":0},0,{"$f":"'AR4'!I37","v":0},0,{"$f":"'AR4'!J37","v":0},0,null,343,"Tools, Shop and Garage Equipment",20,0.05]
[{"$f":"'Sch 4'!A38","v":344},{"$f":"'Sch 4'!B38","v":"Laboratory Equipment"},{"$f":"'Sch 4'!C38","v":0},{"$f":"'Sch Title'!K38","v":0},0,{"$f":"'AR4'!I38","v":0},0,{"$f":"'AR4'!J38","v":0},0,null,344,"Laboratory Equipment",10,0.1]
[{"$f":"'Sch 4'!A39","v":345},{"$f":"'Sch 4'!B39","v":"Power Operated Equipment"},{"$f":"'Sch 4'!C39","v":0},{"$f":"'Sch Title'!K39","v":0},0,{"$f":"'AR4'!I39","v":0},0,{"$f":"'AR4'!J39","v":0},0,null,345,"Power Operated Equipment",20,0.05]
[{"$f":"'Sch 4'!A40","v":346},{"$f":"'Sch 4'!B40","v":"Communication Equipment"},{"$f":"'Sch 4'!C40","v":0},{"$f":"'Sch Title'!K40","v":0},0,{"$f":"'AR4'!I40","v":0},0,{"$f":"'AR4'!J40","v":0},0,null,346,"Communication Equipment",10,0.1]
[{"$f":"'Sch 4'!A41","v":347},{"$f":"'Sch 4'!B41","v":"Miscellaneous Equipment"},{"$f":"'Sch 4'!C41","v":0},{"$f":"'Sch Title'!K41","v":0},0,{"$f":"'AR4'!I41","v":0},0,{"$f":"'AR4'!J41","v":0},0,null,347,"Miscellaneous Equipment",10,0.1]
[{"$f":"'Sch 4'!A42","v":348},{"$f":"'Sch 4'!B42","v":"Other Tangible Plant"},{"$f":"'Sch 4'!C42","v":0},{"$f":"'Sch Title'!K42","v":0},0,{"$f":"'AR4'!I42","v":0},0,{"$f":"'AR4'!J42","v":0},0,null,348,"Other Tangible Plant"]
[null,"TOTAL",{"$f":"SUM(C10:C43)","v":0},{"$f":"SUM(D10:D43)","v":0},{"$f":"SUM(E10:E43)","v":0},null,{"$f":"SUM(G10:G43)","v":0},null,null,null,null,{"$f":"IF(G44=0,\"\",G44/E44)","v":""},null,"Composite rate"]
[]
[null,null,null,null,null,null,null,"WP 4"]
[null,"Contribution(s) in Aid of Construction (Gross)",null,{"$f":"'AR4'!G47","v":0},null,null,null,{"$f":"'WP 4'!C44","v":0},{"$f":"H47-D47","v":0}]
[null,"Less: Non Amortizable Contribution(s)",null,{"$f":"'AR4'!G48","v":0}]
[null,"          Fully Amortized Contribution(s)",null,{"$f":"'AR4'!G49","v":0}]
[null,"     Amortizable Contribution(s)",null,{"$f":"D47-D48-D49","v":0}]
[null,"     Times: Proposed Amortization Rate",null,{"$f":"L44","v":""}]
[null,"     Amortization of CIAC",null,{"$f":"IF(D50>0,D50*D51,\"\")","v":""}]
[]
[null,null,null,null,null,"Less: Amortization of CIAC",{"$f":"D52","v":""}]
[]
[null,null,null,null,null,"DEPRECIATION EXPENSE",{"$f":"IF(G44>0,G44-G54,\"\")","v":""}]
[]
["Instructions:  This information is linked to the information reported on the Annual Report.  Column F should be the Commission approved depreciation rates from the prior rate case.  As a default, the typical depreciation rates Staff recommended for water companies have been entered.  If these aren't the rate approved in the prior Decision, consider proposing the use of alternative rates."]
[]
[]
[]
[null,null,null,null,null,null,{"$f":"\"Page \" &G63","v":"Page 30"}]
[null,null,null,null,null,null,{"$f":"'Sch 9'!P68+1","v":30}]

{"sheet":"Sch 11","index":77,"n_rows":68,"n_cols":19,"rows_kept":68,"cut":false,"hidden":true,"merged":[[6,0,6,6],[61,0,65,6],[6,14,6,18],[61,14,65,18],[10,15,23,18],[26,15,43,18],[45,15,55,18]]}
[{"$f":"'AR1'!$B$12","v":0},null,null,null,null,null,{"$f":"'Sch Title'!$A$28","v":"Schedule 11"},null,null,null,null,null,null,null,{"$f":"'AR1'!$B$12","v":0},null,null,null,{"$f":"'Sch Title'!$A$28","v":"Schedule 11"}]
[{"$f":"'Sch Title'!$A$2","v":"Short Form Rate Application"},null,null,null,null,null,{"$f":"\" Short Form Rate Application Page No. \"&G68","v":" Short Form Rate Application Page No. 31"},null,null,null,null,null,null,null,{"$f":"'Sch Title'!$A$2","v":"Short Form Rate Application"},null,null,null,{"$f":"\" Short Form Rate Application Page No. \"&S68","v":" Short Form Rate Application Page No. 32"}]
[{"$f":"A7","v":"PRO FORMA ADDITIONS/SUBTRACTIONS FROM TEST YEAR"},null,null,null,null,null,null,null,null,null,null,null,null,null,{"$f":"O7","v":"EXPLANATION OF PRO FORMA ADDITIONS/SUBTRACTIONS FROM TEST YEAR"}]
[{"$f":"'Sch Title'!$A$4","v":"Test Year Ended 12/31/20"},null,null,null,null,null,null,null,null,null,null,null,null,"Table of contents",{"$f":"'Sch Title'!$A$4","v":"Test Year Ended 12/31/20"}]
[]
[]
["PRO FORMA ADDITIONS/SUBTRACTIONS FROM TEST YEAR",null,null,null,null,null,null,null,null,null,null,null,null,null,"EXPLANATION OF PRO FORMA ADDITIONS/SUBTRACTIONS FROM TEST YEAR"]
[]
["Account No.","Calendar Year",null,"Additions","Subtractions","Water Conservation Adjustments","Total Pro Formas"]
[null,"Operating Revenue"]
[461,"Metered Water Revenue",null,null,null,{"$f":"'Sch 14'!C28","v":""},{"$f":"D11-E11+F11","v":{"$error":"#VALUE!"}},{"$f":"ISBLANK(D11)","v":true},true,{"$f":"IF(H11=TRUE,\"Incomplete\",\"Complete\")","v":"Incomplete"},"Incomplete",{"$f":"IF(J11=\"Incomplete\",\"Incomplete\",IF(K11=\"Incomplete\",\"Incomplete\",\"Complete\"))","v":"Incomplete"}]
[460,"Unmetered Water Revenue",null,null,null,null,{"$f":"D12-E12+F12","v":0},true,true,"Incomplete","Incomplete","Incomplete"]
[462,"Fire Protection Revenue",null,null,null,null,{"$f":"D13-E13+F13","v":0},true,true,"Incomplete","Incomplete","Incomplete"]
[469,"Guaranteed Revenues (Surcharges)",null,null,null,null,0,true,true,"Incomplete","Incomplete","Incomplete"]
[471,"Miscellaneous Service Revenues",null,null,null,null,0,true,true,"Incomplete","Incomplete","Incomplete"]
[474,"Other Water Revenue",null,null,null,null,0,true,true,"Incomplete","Incomplete","Incomplete",{"$f":"IF(L11=\"Incomplete\",\"Incomplete\",IF(L12=\"Incomplete\",\"Incomplete\",IF(L13=\"Incomplete\",\"Incomplete\",IF(L14=\"Incomplete\",\"Incomplete\",IF(L15=\"Incomplete\",\"Incomplete\",IF(L16=\"Incomplete\",\"Incomplete\",\"Complete\"))))))","v":"Incomplete"}]
[null,"Total Revenues",null,{"$f":"SUM(D11:D16)","v":0},{"$f":"SUM(E11:E16)","v":0},{"$f":"SUM(F11:F16)","v":0},{"$f":"SUM(G11:G16)","v":{"$error":"#VALUE!"}}]
[]
[null,"Operating Expenses"]
[601,"Salaries and Wages",null,null,null,null,{"$f":"D20-E20+F20","v":0},{"$f":"ISBLANK(D20)","v":true},{"$f":"ISBLANK(E20)","v":true},{"$f":"IF(H20=TRUE,\"Incomplete\",\"Complete\")","v":"Incomplete"},{"$f":"IF(I20=TRUE,\"Incomplete\",\"Complete\")","v":"Incomplete"},{"$f":"IF(J20=\"Incomplete\",\"Incomplete\",IF(K20=\"Incomplete\",\"Incomplete\",\"Complete\"))","v":"Incomplete"}]
[604,"Employee Pensions and Benefits",null,null,null,null,0,{"$f":"ISBLANK(D21)","v":true},{"$f":"ISBLANK(E21)","v":true},{"$f":"IF(H21=TRUE,\"Incomplete\",\"Complete\")","v":"Incomplete"},{"$f":"IF(I21=TRUE,\"Incomplete\",\"Complete\")","v":"Incomplete"},{"$f":"IF(J21=\"Incomplete\",\"Incomplete\",IF(K21=\"Incomplete\",\"Incomplete\",\"Complete\"))","v":"Incomplete"}]
[610,"Purchased Water",null,null,null,{"$f":"'Sch 14'!C29","v":""},{"$f":"D22-E22+F22","v":{"$error":"#VALUE!"}},true,true,"Incomplete","Incomplete","Incomplete"]
[615,"Purchased Power",null,null,null,{"$f":"'Sch 14'!C30","v":""},{"$error":"#VALUE!"},true,true,"Incomplete","Incomplete","Incomplete"]
[618,"Chemicals",null,null,null,{"$f":"'Sch 14'!C31","v":""},{"$error":"#VALUE!"},true,true,"Incomplete","Incomplete","Incomplete"]
[620,"Materials and Supplies",null,null,null,null,0,true,true,"Incomplete","Incomplete","Incomplete",{"$f":"IF(L20=\"Incomplete\",\"Incomplete\",IF(L21=\"Incomplete\",\"Incomplete\",IF(L22=\"Incomplete\",\"Incomplete\",IF(L23=\"Incomplete\",\"Incomplete\",IF(L24=\"Incomplete\",\"Incomplete\",IF(L25=\"Incomplete\",\"Incomplete\",\"Complete\"))))))","v":"Incomplete"}]
[620.1,"Repairs and Maintenance",null,null,null,null,0,true,true,"Incomplete","Incomplete","Incomplete"]
[620.20000000000005,"Office Supplies and Expense",null,null,null,null,0,true,true,"Incomplete","Incomplete","Incomplete"]
[630,"Outside Services",null,null,null,null,0,true,true,"Incomplete","Incomplete","Incomplete"]
[631,"Contractual Services -Engineering",null,null,null,null,0,true,true,"Incomplete","Incomplete","Incomplete"]
[632,"Contractual Services - Accounting",null,null,null,null,0,true,true,"Incomplete","Incomplete","Incomplete"]
[633,"Contractual Services - Legal",null,null,null,null,0,true,true,"Incomplete","Incomplete","Incomplete",{"$f":"IF(L26=\"Incomplete\",\"Incomplete\",IF(L27=\"Incomplete\",\"Incomplete\",IF(L28=\"Incomplete\",\"Incomplete\",IF(L29=\"Incomplete\",\"Incomplete\",IF(L30=\"Incomplete\",\"Incomplete\",IF(L31=\"Incomplete\",\"Incomplete\",\"Complete\"))))))","v":"Incomplete"}]
[634,"Contractual Services - Management Fees",null,null,null,null,0,true,true,"Incomplete","Incomplete","Incomplete"]
[635,"Contractual Services - Water Testing",null,null,null,null,0,true,true,"Incomplete","Incomplete","Incomplete"]
[636,"Contractual Services - Other",null,null,null,null,0,true,true,"Incomplete","Incomplete","Incomplete"]
[640,"Rents",null,null,null,null,0,true,true,"Incomplete","Incomplete","Incomplete"]
[641,"Rental of Building/Real Property",null,null,null,null,0,true,true,"Incomplete","Incomplete","Incomplete"]
[642,"Rental of Equipment",null,null,null,null,0,true,true,"Incomplete","Incomplete","Incomplete"]
[650,"Transportation Expenses",null,null,null,null,0,true,true,"Incomplete","Incomplete","Incomplete",{"$f":"IF(L32=\"Incomplete\",\"Incomplete\",IF(L33=\"Incomplete\",\"Incomplete\",IF(L34=\"Incomplete\",\"Incomplete\",IF(L35=\"Incomplete\",\"Incomplete\",IF(L36=\"Incomplete\",\"Incomplete\",IF(L37=\"Incomplete\",\"Incomplete\",IF(L38=\"Incomplete\",\"Incomplete\",\"Complete\")))))))","v":"Incomplete"}]
[657,"Insurance - General Liability",null,null,null,null,0,true,true,"Incomplete","Incomplete","Incomplete"]
[657.1,"Insurance - Health and Life",null,null,null,null,0,true,true,"Incomplete","Incomplete","Incomplete"]
[666,"Regulatory Commission Expense - Rate",null,null,null,null,0,true,true,"Incomplete","Incomplete","Incomplete"]
[670,"Bad Debt Expense",null,null,null,null,0]
[675,"Miscellaneous Expense",null,null,null,null,0,true,true,"Incomplete","Incomplete","Incomplete"]
[403,"Depreciation Expense",null,null,null,null,0,true,true,"Incomplete","Incomplete","Incomplete"]
[408,"Taxes Other Than Income",null,null,null,null,0,true,true,"Incomplete","Incomplete","Incomplete"]
[408.11,"Property Taxes",null,{"$f":"IF('Sch 12'!B31<0,0,'Sch 12'!B31)","v":0},{"$f":"IF('Sch 12'!B31>0,0,'Sch 12'!B31)","v":0},null,0]
[409,"Income Taxes",null,null,null,null,0,{"$f":"ISBLANK(D47)","v":true},{"$f":"ISBLANK(E47)","v":true},{"$f":"IF(H47=TRUE,\"Incomplete\",\"Complete\")","v":"Incomplete"},{"$f":"IF(I47=TRUE,\"Incomplete\",\"Complete\")","v":"Incomplete"},{"$f":"IF(J47=\"Incomplete\",\"Incomplete\",IF(K47=\"Incomplete\",\"Incomplete\",\"Complete\"))","v":"Incomplete"},{"$f":"IF(L40=\"Incomplete\",\"Incomplete\",IF(L41=\"Incomplete\",\"Incomplete\",IF(L43=\"Incomplete\",\"Incomplete\",IF(L44=\"Incomplete\",\"Incomplete\",IF(L45=\"Incomplete\",\"Incomplete\",IF(L39=\"Incomplete\",\"Incomplete\",IF(L47=\"Incomplete\",\"Incomplete\",\"Complete\")))))))","v":"Incomplete"}]
[427.1,"Customer Security Deposit Interest",null,null,null,null,0]
[null,"Total Operating Expenses",null,{"$f":"SUM(D20:D48)","v":0},{"$f":"SUM(E20:E48)","v":0},{"$f":"SUM(F20:F48)","v":0},{"$f":"SUM(G20:G48)","v":{"$error":"#VALUE!"}},null,null,null,null,null,{"$f":"IF(M16=\"Incomplete\",\"Incomplete\",IF(M25=\"Incomplete\",\"Incomplete\",IF(M31=\"Incomplete\",\"Incomplete\",IF(M38=\"Incomplete\",\"Incomplete\",IF(M47=\"Incomplete\",\"Incomplete\",\"Complete\")))))","v":"Incomplete"}]
[]
[null,"Operating Income / (Loss)",null,{"$f":"D17-D49","v":0},{"$f":"E17-E49","v":0},{"$f":"F17-F49","v":0},{"$f":"G17-G49","v":{"$error":"#VALUE!"}}]
[]
[null,"Other Income / (Expense) "]
[419,"Interest and Dividend Income",null,null,null,null,{"$f":"D54-E54+F54","v":0},{"$f":"ISBLANK(D54)","v":true},true,{"$f":"IF(H54=TRUE,\"Incomplete\",\"Complete\")","v":"Incomplete"},"Incomplete",{"$f":"IF(J54=\"Incomplete\",\"Incomplete\",IF(K54=\"Incomplete\",\"Incomplete\",\"Complete\"))","v":"Incomplete"}]
[421,"Non-Utility Income",null,null,null,null,0,true,true,"Incomplete","Incomplete",{"$f":"IF(J55=\"Incomplete\",\"Incomplete\",IF(K55=\"Incomplete\",\"Incomplete\",\"Complete\"))","v":"Incomplete"}]
[426,"Miscellaneous Non-Utility Expense",null,null,null,null,0,true,true,"Incomplete","Incomplete",{"$f":"IF(J56=\"Incomplete\",\"Incomplete\",IF(K56=\"Incomplete\",\"Incomplete\",\"Complete\"))","v":"Incomplete"}]
[427,"Interest Expense",null,null,null,null,0,true,true,"Incomplete","Incomplete",{"$f":"IF(J57=\"Incomplete\",\"Incomplete\",IF(K57=\"Incomplete\",\"Incomplete\",\"Complete\"))","v":"Incomplete"}]
[null,"Total Other Income / (Expense)",null,{"$f":"SUM(D54:D57)","v":0},{"$f":"SUM(E54:E57)","v":0},{"$f":"SUM(F54:F57)","v":0},{"$f":"SUM(G54:G57)","v":0},null,null,null,null,null,{"$f":"IF(L54=\"Incomplete\",\"Incomplete\",IF(L55=\"Incomplete\",\"Incomplete\",IF(L56=\"Incomplete\",\"Incomplete\",IF(L57=\"Incomplete\",\"Incomplete\",\"Complete\"))))","v":"Incomplete"}]
[]
[null,"Net Income / (Loss) ",null,{"$f":"D51+D58","v":0},{"$f":"E51+E58","v":0},{"$f":"F51+F58","v":0},{"$f":"G51+G58","v":{"$error":"#VALUE!"}}]
[null,null,null,null,null,null,null,null,null,null,null,null,{"$f":"IF(M49=\"Incomplete\",\"Incomplete\",IF(M58=\"Incomplete\",\"Incomplete\",\"Complete\"))","v":"Incomplete"}]
["Instructions: Use this page to add upcoming known and measurable changes to your business. Examples include, hiring employees, increases to rental costs, increases/decreases to fuel costs, or a customer had an abnormally low or high bill, which does not normally occur etc. Please insert amount of rate case expenses estimated in Account 666 and divide by three.  To ensure the completeness of the appliction enter in a $0 in every grey highlighted cell.",null,null,null,null,null,null,null,null,null,null,null,null,null,"Instructions: Please Explain All Adjustments Made on Previous Page. Attach other back-up (calculations etc) to application at end."]
[]
[]
[]
[]
[null,null,null,null,null,null,{"$f":"\"Page \" &G68","v":"Page 31"},null,null,null,null,null,null,null,null,null,null,null,{"$f":"\"Page \" &S68","v":"Page 32"}]
[null,null,null,null,null,null,{"$f":"'Sch 10'!G63+1","v":31},null,null,null,null,null,null,null,null,null,null,null,{"$f":"G68+1","v":32}]

{"sheet":"Sch 12","index":78,"n_rows":41,"n_cols":7,"rows_kept":41,"cut":false,"hidden":true,"merged":[[6,0,6,2]]}
[{"$f":"'AR1'!$B$12","v":0},null,{"$f":"'Sch Title'!$A$29","v":"Schedule 12"}]
[{"$f":"'Sch Title'!$A$2","v":"Short Form Rate Application"},null,{"$f":"\" Short Form Rate Application Page No. \"&C41","v":" Short Form Rate Application Page No. 33"}]
[{"$f":"A7","v":"PRO FORMA PROPERTY TAX CALCULATION"}]
[{"$f":"'Sch Title'!$A$4","v":"Test Year Ended 12/31/20"},null,null,null,"Table of contents"]
[]
[]
["PRO FORMA PROPERTY TAX CALCULATION"]
[]
[]
[null,"Adjusted Test Year","At Proposed Rates"]
[{"$f":"\"Adjusted Revenues \"&A4","v":"Adjusted Revenues Test Year Ended 12/31/20"},{"$f":"'Sch 9'!F16","v":0},{"$f":"B11","v":0}]
[{"$f":"A11","v":"Adjusted Revenues Test Year Ended 12/31/20"},{"$f":"B11","v":0},{"$f":"B12","v":0}]
["Proposed Revenues",{"$f":"B12","v":0},{"$f":"'Sch 9'!H16","v":0}]
["Average of Three Years of Revenue",{"$f":"AVERAGE(B11:B13)","v":0},{"$f":"AVERAGE(C11:C13)","v":0}]
["Average of Three Years of Revenue, times 2",{"$f":"B14*2","v":0},{"$f":"C14*2","v":0}]
["Add:"]
["Construction Work in Progress at 10%",{"$f":"IF('Sch 12'!D27=\"\",\"\",(0.1*'Sch 1'!D27))","v":""},{"$f":"B17","v":""}]
["Deduct:"]
["Net Book Value of Transportation Equipment *",{"$f":"'AR3'!H34","v":0},{"$f":"B19","v":0}]
[]
["Full Cash Value",{"$f":"SUM(B15:B17)-B19","v":0},{"$f":"SUM(C15:C17)-C19","v":0}]
["Assessment Ratio (For 2015 and Beyond per HB 2001 Sec 42-15001)",null,{"$f":"B22","v":0},null,null,{"$f":"ISBLANK(B22)","v":true},{"$f":"IF(F22=TRUE,\"Incomplete\",\"Complete\")","v":"Incomplete"}]
["Assessed Value",{"$f":"B21*B22","v":0},{"$f":"C21*C22","v":0}]
["Property Tax Rate",null,{"$f":"B24","v":0},null,null,{"$f":"ISBLANK(B24)","v":true},{"$f":"IF(F24=TRUE,\"Incomplete\",\"Complete\")","v":"Incomplete"}]
[]
["Property Tax ",{"$f":"(B23*B24)","v":0},{"$f":"(C23*C24)","v":0},null,null,null,{"$f":"IF(G22=\"Incomplete\",\"Incomplete\",IF(G24=\"Incomplete\",\"Incomplete\",\"Complete\"))","v":"Incomplete"}]
["Tax on Parcels",0,{"$f":"B27","v":0}]
[]
["Adjusted Test Year Property Taxes at Present Rates",{"$f":"SUM(B26:B28)","v":0}]
["Test Year Property Taxes",{"$f":"'Sch 9'!D45","v":0}]
["Adjustment to Revenue and/or Expense",{"$f":"(B29-B30)","v":0}]
[]
["Adjusted Test Year Property Taxes at Proposed Rates",null,{"$f":"SUM(C26:C32)","v":0}]
["Adjusted Test Year Property Taxes at Present Rates",null,{"$f":"B29","v":0}]
["Additional Property Taxes on Proposed Revenues",null,{"$f":"(C33-C34)","v":0}]
[]
[]
[{"$f":"\"*From Schedule 5 \"&'Sch 4'!E54","v":"*From Schedule 5 Page 23"}]
[]
[null,null,{"$f":"\"Page \" &C41","v":"Page 33"}]
[null,null,{"$f":"'Sch 11'!S68+1","v":33}]

{"sheet":"Sch 13","index":79,"n_rows":49,"n_cols":7,"rows_kept":49,"cut":false,"hidden":true,"merged":[[10,0,12,4],[8,0,8,4]]}
[{"$f":"'AR1'!$B$12","v":0},null,null,null,{"$f":"'Sch Title'!$A$33","v":"Schedule 13"}]
[{"$f":"'Sch Title'!$A$2","v":"Short Form Rate Application"},null,null,null,{"$f":"\" Short Form Rate Application Page No. \"&E44","v":" Short Form Rate Application Page No. 34"}]
[{"$f":"A9","v":"CASH AVAILABILITY"},null,null,null,null,null,"Table of contents"]
[{"$f":"'Sch Title'!$A$4","v":"Test Year Ended 12/31/20"}]
[]
[]
[]
[]
["CASH AVAILABILITY"]
[]
["Instructions: The purpose of this schedule is to provide a calculation of the Company's Cash Availability. Most of this data feeds from the Income Statement and the Balance Sheet and does not require input, there is however, one input on this page.  This information is included for supplemental purposes and as such this is an optional schedule that is not required for the filing. "]
[]
[]
[]
["Source of Funds"]
["From Operations"]
[null,"Net Income",{"$f":"'Sch 9'!D59","v":0}]
[null,"Depreciation and Amortization",{"$f":"'Sch 9'!D43","v":""}]
[null,"Def. Investment Tax Credits",{"$f":"'Sch 1'!I28-'Sch 1'!H28","v":{"$error":"#VALUE!"}}]
[null,"Deferred income Taxes",{"$f":"'Sch 1'!I31-'Sch 1'!H31","v":{"$error":"#VALUE!"}}]
[null,"Amort. of Regulatory Expense",{"$f":"'Sch 9'!D40","v":0}]
[null,"Total From Operations",{"$f":"SUM(C17:C21)","v":{"$error":"#VALUE!"}}]
[]
["From Financing"]
[null,"Advances in Aid of Construction",{"$f":"'Sch 1'!I27-'Sch 1'!H27","v":{"$error":"#VALUE!"}}]
[null,"Contributions in Aid of Construction",{"$f":"SUM('Sch 1'!I29:I30)-SUM('Sch 1'!H29:H30)","v":0}]
[null,"Issuance of Long-Term Debt",{"$f":"'Sch 1'!I23-'Sch 1'!H23","v":0}]
[null,"    Due to Parent and Affiliates",{"$f":"'Sch 1'!I15-'Sch 1'!H15","v":{"$error":"#VALUE!"}}]
[null,"Total From Financing",{"$f":"SUM(C25:C28)","v":{"$error":"#VALUE!"}}]
[]
[null,"Total Funds Provided",{"$f":"C29+C22","v":{"$error":"#VALUE!"}}]
[]
["Application of Funds"]
[null,"Capital/Plant Expenditures",{"$f":"SUM('Sch 1'!D31-'Sch 1'!C31)","v":0}]
[null,"Rate Case Expenses",{"$f":"'Sch 11'!E41*3","v":0},{"$f":"\"Please enter this on \"&'Sch Title'!A28","v":"Please enter this on Schedule 11"}]
[null,"Dividends Paid",null,"Please enter the Amount of Dividends Paid during the test year"]
[null,"Other Deferred Debits and Credits",{"$f":"'Sch 1'!I19-'Sch 1'!H19","v":{"$error":"#VALUE!"}}]
[null,"Total Funds Applied",{"$f":"SUM(C34:C37)","v":{"$error":"#VALUE!"}}]
[]
[null,"Net Cash Flow",{"$f":"C31-C38","v":{"$error":"#VALUE!"}}]
[]
[]
[null,null,null,null,{"$f":"\"Page \" &E44","v":"Page 34"}]
[null,null,null,null,{"$f":"'Sch 12'!C41+1","v":34}]
[]
[]
[null,null,{"$f":"ISBLANK(C36)","v":true}]
[]
[null,null,{"$f":"IF(C47=TRUE,\"Incomplete\",\"Complete\")","v":"Incomplete"}]

{"sheet":"Sch 14","index":80,"n_rows":59,"n_cols":12,"rows_kept":59,"cut":false,"hidden":true,"merged":[[5,0,5,5],[53,0,56,5],[19,0,22,5],[33,0,39,5]]}
[{"$f":"'AR1'!$B$12","v":0},null,null,null,null,{"$f":"'Sch Title'!$A$34","v":"Schedule 14"}]
[{"$f":"'Sch Title'!$A$2","v":"Short Form Rate Application"},null,null,null,null,{"$f":"\" Short Form Rate Application Page No. \"&F59","v":" Short Form Rate Application Page No. 35"}]
[{"$f":"A6","v":"WATER CONSERVATION ADJUSTMENT"},null,null,null,null,null,null,"Table of contents"]
[{"$f":"'Sch Title'!$A$4","v":"Test Year Ended 12/31/20"}]
[]
["WATER CONSERVATION ADJUSTMENT"]
[]
[]
["PERIOD","NUMBER OF CUSTOMERS","GALLONS SOLD (Thousands)","Average Kgal usage per Customer","Change in Usage Per customer"]
[{"$f":"A4","v":"Test Year Ended 12/31/20"},{"$f":"'AR10 (h)'!Q25","v":0},{"$f":"'Sch 5 (h)'!U27","v":0},{"$f":"IF(B10>0,(C10/B10),\"\")","v":""},{"$f":"IF(B11>0,(D10-D11),\"\")","v":""}]
[{"$f":"YEAR('AR1'!B19)-1","v":2019},null,null,{"$f":"IF(B11>0,(C11/B11),\"\")","v":""},{"$f":"IF(B12>0,(D11-D12),\"\")","v":""},null,null,null,null,{"$f":"IF(SUM(B11:B14)=0,\"Incomplete\",\"Complete\")","v":"Incomplete"},{"$f":"IF(SUM(C11:C14)=0,\"Incomplete\",\"Complete\")","v":"Incomplete"},{"$f":"IF(J11=\"Incomplete\",\"Incomplete\",IF(K11=\"Incomplete\",\"Incomplete\",\"Complete\"))","v":"Incomplete"}]
[{"$f":"A11-1","v":2018},null,null,{"$f":"IF(B12>0,(C12/B12),\"\")","v":""},{"$f":"IF(B13>0,(D12-D13),\"\")","v":""}]
[{"$f":"A12-1","v":2017},null,null,{"$f":"IF(B13>0,(C13/B13),\"\")","v":""},{"$f":"IF(B14>0,(D13-D14),\"\")","v":""}]
[{"$f":"A13-1","v":2016},null,null,{"$f":"IF(B14>0,(C14/B14),\"\")","v":""}]
[]
["Average Decline in Use Per Customer",null,null,null,{"$f":"IF(SUM(B11:B14)>0,AVERAGE(E10:E15),\"\")","v":""}]
["Percent Decline Expected",null,null,null,{"$f":"IF(SUM(B11:B14)>0,ROUND(E16/D10,4),\"\")","v":""}]
[]
[]
[{"$f":"\"NOTE: If implementation of a rate increase will likely result in further decline than \"&E17&\", please enter the percentage you anticipate sales to decline below:\"","v":"NOTE: If implementation of a rate increase will likely result in further decline than , please enter the percentage you anticipate sales to decline below:"}]
[]
[]
[]
[]
["Anticipated Decline"]
[]
[]
["Decline in Metered Water Revnues Expected",null,{"$f":"IF(AND($C$25=\"\",$E$17=\"\"),\"\",IF(AND($C$25=\"\",$E$17<0),$E$17*'Sch 9'!F10,$C$25*'Sch 9'!F10))","v":""},"This Feeds to the Income Statement Automatically"]
["Decline in Purchased Water Expense",null,{"$f":"IF(AND($C$25=\"\",$E$17=\"\"),\"\",IF(AND($C$25=\"\",$E$17<0),$E$17*'Sch 9'!F21,$C$25*'Sch 9'!F21))","v":""}]
["Decline in Purchased Power Expense",null,{"$f":"IF(AND($C$25=\"\",$E$17=\"\"),\"\",IF(AND($C$25=\"\",$E$17<0),$E$17*'Sch 9'!F22,$C$25*'Sch 9'!F22))","v":""}]
["Decline in Chemical Expense",null,{"$f":"IF(AND($C$25=\"\",$E$17=\"\"),\"\",IF(AND($C$25=\"\",$E$17<0),$E$17*'Sch 9'!F23,$C$25*'Sch 9'!F23))","v":""}]
[]
["Explain Reason for Anticipated Decline"]
[]
[]
[]
[]
[]
[]
[]
[]
[]
[]
[]
[]
[]
[]
[]
[]
[]
[]
[]
[]
["Instructions: Enter the amount of water sales in kgals and number of customers for the last 5 years from your annual reports."]
[]
[]
[]
[null,null,null,null,null,{"$f":"\"Page \" &F59","v":"Page 35"}]
[null,null,null,null,null,{"$f":"'Sch 13'!E44+1","v":35}]

{"sheet":"Sch 15","index":81,"n_rows":53,"n_cols":10,"rows_kept":53,"cut":false,"hidden":true,"merged":[[8,0,9,4],[11,0,12,4],[47,0,50,4],[33,0,33,2]]}
[{"$f":"'AR1'!$B$12","v":0},null,null,null,{"$f":"'Sch Title'!$A$35","v":"Schedule 15"}]
[{"$f":"'Sch Title'!$A$2","v":"Short Form Rate Application"},null,null,null,{"$f":"\" Short Form Rate Application Page No. \"&E53","v":" Short Form Rate Application Page No. 36"}]
[{"$f":"A9","v":"PURCHASED WATER ADJUSTOR MECHANISM (PWAM)"},null,null,null,null,null,"Table of contents"]
[{"$f":"'Sch Title'!$A$4","v":"Test Year Ended 12/31/20"}]
[]
[]
[]
[]
["PURCHASED WATER ADJUSTOR MECHANISM (PWAM)"]
[]
[]
["As Part of this Rate Application, The Company is requesting approval of an adjustor Mechanism, whereby increased costs of Purchased Water may be recovered through a surcharge on customer bills. The Proposed calculation of such a charge is below:"]
[]
[]
[]
["Pass Through Calculation"]
["Expected Purchased Water Expense",null,null,null,null,null,null,null,{"$f":"ISBLANK(B17)","v":true},{"$f":"IF(I17=TRUE,\"Incomplete\",\"Complete\")","v":"Incomplete"}]
["Expected Year Gallons Purchased (Thousands)",null,null,null,null,null,null,null,{"$f":"ISBLANK(B18)","v":true},{"$f":"IF(I18=TRUE,\"Incomplete\",\"Complete\")","v":"Incomplete"}]
["Expected Year Water Expense per 1,000 Gal.",{"$f":"IF(B18>0,B17/B18,\"\")","v":""},null,null,null,null,null,null,null,{"$f":"IF(J17=\"Incomplete\",\"Incomplete\",IF(J18=\"Incomplete\",\"Incomplete\",\"Complete\"))","v":"Incomplete"}]
[]
["Test Year Purchased Water Expense",{"$f":"'Sch 9'!D21","v":0},"From Schedule 9"]
["Test Year Gallons Purchased (Thousands)",{"$f":"'Sch 5'!E24","v":0},"From Schedule 5"]
["Test Year Water Expense per 1,000 Gal.",{"$f":"B21/B22","v":{"$error":"#DIV/0!"}}]
[]
["Expected Purchased Water Expense Normalized for Test Year Sales",{"$f":"B19*B22","v":{"$error":"#VALUE!"}}]
["Increase to Test Year Purchased Water Expense",{"$f":"B25-B21","v":{"$error":"#VALUE!"}}]
[]
[]
["Water Sales During the Test Year",{"$f":"#REF!","v":{"$error":"#REF!"}},"Annual Report Schedule 12"]
[]
["Expense Increase (Decrease) per Thousand Gallons Sold",{"$f":"B26/B29","v":{"$error":"#VALUE!"}}]
[]
[]
["PWAM Charge to Sample Customer Bill Monthly"]
["5/8\" Residential Usage","Gallons","Surcharge per Gallon"]
["Average",{"$f":"'Proof of Rev Hidden'!E40*1000","v":{"$error":"#DIV/0!"}},{"$f":"(B36*$B$31)/1000","v":{"$error":"#DIV/0!"}}]
["Gallons",5000,{"$f":"(B37*$B$31)/1000","v":{"$error":"#VALUE!"}}]
["Gallons",10000,{"$f":"(B38*$B$31)/1000","v":{"$error":"#VALUE!"}}]
["Gallons",15000,{"$f":"(B39*$B$31)/1000","v":{"$error":"#VALUE!"}}]
[]
[]
[]
[]
[]
[]
[]
[]
["The Company Seeks to file, annually with the Commission, a calculation in this form, to support implementation of such a surcharge. Calculations resulting in a credit will also be passed through to the customer. Customer will be notified either by a message on their bill, by bill insert, or by mail."]
[]
[]
[]
[null,null,null,null,{"$f":"\"Page \" &E53","v":"Page 36"}]
[null,null,null,null,{"$f":"'Sch 14'!F59+1","v":36}]

{"sheet":"Sch 16","index":82,"n_rows":53,"n_cols":10,"rows_kept":53,"cut":false,"hidden":true,"merged":[[8,0,9,5],[11,0,12,5],[46,0,49,5],[33,0,33,2]]}
[{"$f":"'AR1'!$B$12","v":0},null,null,null,null,{"$f":"'Sch Title'!$A$36","v":"Schedule 16"}]
[{"$f":"'Sch Title'!$A$2","v":"Short Form Rate Application"},null,null,null,null,{"$f":"\" Short Form Rate Application Page No. \"&F53","v":" Short Form Rate Application Page No. 37"}]
[{"$f":"A9","v":"PURCHASED POWER ADJUSTOR MECHANISM (PPAM)"},null,null,null,null,null,null,"Table of contents"]
[{"$f":"'Sch Title'!$A$4","v":"Test Year Ended 12/31/20"}]
[]
[]
[]
[]
["PURCHASED POWER ADJUSTOR MECHANISM (PPAM)"]
[]
[]
["As Part of this Rate Application, The Company is requesting approval of an adjustor Mechanism, whereby increased costs of Purchased Power may be recovered through a surcharge on customer bills. The Proposed calculation of such a charge is below:"]
[]
[]
[]
["Pass Through Calculation"]
["Current Year Purchased Power Expense",null,null,null,null,null,null,null,{"$f":"ISBLANK(B17)","v":true},{"$f":"IF(I17=TRUE,\"Incomplete\",\"Complete\")","v":"Incomplete"}]
["Current Year Gallons Sold (Thousands)",null,null,null,null,null,null,null,{"$f":"ISBLANK(B18)","v":true},{"$f":"IF(I18=TRUE,\"Incomplete\",\"Complete\")","v":"Incomplete"}]
["Current Year Power Expense per 1,000 Gal.",{"$f":"IF(B18>0,B17/B18,\"\")","v":""},null,null,null,null,null,null,null,{"$f":"IF(J17=\"Incomplete\",\"Incomplete\",IF(J18=\"Incomplete\",\"Incomplete\",\"Complete\"))","v":"Incomplete"}]
[]
["Test Year Purchased Power Expense",{"$f":"'Sch 9'!D22","v":0},"From Schedule 9"]
["Test Year Gallons Sold (Thousands)",{"$f":"'Sch 5'!C24/1000","v":0},"From Schedule 5"]
["Test Year Water Expense per 1,000 Gal.",{"$f":"B21/B22","v":{"$error":"#DIV/0!"}}]
[]
["Current Purchased Power Expense Normalized for Test Year Sales",{"$f":"B19*B22","v":{"$error":"#VALUE!"}}]
["Increase (Decrease) to Purchased Power Expense",{"$f":"B25-B21","v":{"$error":"#VALUE!"}}]
[]
[]
["Water Sales During the Test Year",{"$f":"#REF!","v":{"$error":"#REF!"}},"Annual Report Schedule 12"]
[]
["Expense Increase (Decrease) per Thousand Gallons Sold",{"$f":"B26/B29","v":{"$error":"#VALUE!"}}]
[]
[]
["PPAM Charge to Sample Customer Bill Monthly"]
["5/8\" Residential Usage","Gallons","Surcharge per Gallon"]
["Average",{"$f":"'Proof of Rev Hidden'!E40*1000","v":{"$error":"#DIV/0!"}},{"$f":"(B36*$B$31)/1000","v":{"$error":"#DIV/0!"}}]
["Gallons",5000,{"$f":"(B37*$B$31)/1000","v":{"$error":"#VALUE!"}}]
["Gallons",10000,{"$f":"(B38*$B$31)/1000","v":{"$error":"#VALUE!"}}]
["Gallons",15000,{"$f":"(B39*$B$31)/1000","v":{"$error":"#VALUE!"}}]
[]
[]
[]
[]
[]
[]
[]
["The Company Seeks to file, annually with the Commission, a calculation in this form, to support implementation of such a surcharge. Calculations resulting in a credit will also be passed through to the customer. Customer will be notified either by a message on their bill, by bill insert, or by mail."]
[]
[]
[]
[]
[null,null,null,null,null,{"$f":"\"Page \" &F53","v":"Page 37"}]
[null,null,null,null,null,{"$f":"'Sch 15'!E53+1","v":37}]

{"sheet":"Sch 17","index":83,"n_rows":55,"n_cols":11,"rows_kept":55,"cut":false,"hidden":true,"merged":[[8,0,9,5],[11,0,14,5],[48,0,51,5],[43,0,45,5]]}
[{"$f":"'AR1'!$B$12","v":0},null,null,null,null,{"$f":"'Sch Title'!$A$37","v":"Schedule 17"}]
[{"$f":"'Sch Title'!$A$2","v":"Short Form Rate Application"},null,null,null,null,{"$f":"\" Short Form Rate Application Page No. \"&F55","v":" Short Form Rate Application Page No. 38"},null,"Table of contents"]
[{"$f":"ERRF","v":"EMERGENCY REPAIR AND REPLACEMENT FUND"}]
[{"$f":"'Sch Title'!$A$4","v":"Test Year Ended 12/31/20"}]
[]
[]
[]
[]
["EMERGENCY REPAIR AND REPLACEMENT FUND"]
[]
[]
["As part of this rate application, the Company is requesting approval of an Emergency Repair and Replacement Fund surcharge.  This surcharge will allow, when revenues are determined to be insufficient, the Company to set aside funds to be able to respond to and correct emergency repairs and replacements in a timely manner.  The proposed calculation of the surcharge is detailed below:"]
[]
[]
[]
[]
[]
[]
[]
["Surchage Calculation"]
["Emergency Repair and Replacement total need (1)",null,null,"Stated Purpose:",null,null,null,null,{"$f":"ISBLANK(B21)","v":true},{"$f":"IF(I21=TRUE,\"Incomplete\",\"Complete\")","v":"Incomplete"}]
["Number of Customers",{"$f":"'Sch 14'!B10","v":0}]
["Time period of surcharge (in months)",null,null,null,null,null,null,null,{"$f":"ISBLANK(B23)","v":true},{"$f":"IF(I23=TRUE,\"Incomplete\",\"Complete\")","v":"Incomplete"},{"$f":"IF(J21=\"Incomplete\",\"Incomplete\",IF(J23=\"Incomplete\",\"Incomplete\",\"Complete\"))","v":"Incomplete"}]
["Surcharge per Customer per Month",{"$f":"IF(B22>0,B21/B22/B23,\"\")","v":""}]
[]
[]
[]
[null,"Meter","Capacity"]
[null,"Size","Multiplier","Surcharge"]
[null,"5/8\"",null,{"$f":"B24","v":""}]
[null,"3/4\"",1.5,{"$f":"IF($B$22>0,$D$30*C31,\"\")","v":""}]
[null,"1\"",2.5,{"$f":"IF($B$22>0,$D$30*C32,\"\")","v":""}]
[null,"1 1/2\"",5,{"$f":"IF($B$22>0,$D$30*C33,\"\")","v":""}]
[null,"2\"",8,""]
[null,"3\"",16,""]
[null,"4\"",25,""]
[null,"6\"",50,""]
[null,"8\"",80,""]
[null,"10\"",115,""]
[null,"12\"",215,""]
[]
[]
[]
["(1) This is the total amount that the Company believes is necessary to ensure continued safe, adequate and reliable service that meets all water quality standards.  Examples would include source wells, treatment systems, storage tanks, booster pumps, pressure tanks, customer meters, master meters, main and service lines, repair equipment and electrical components."]
[]
[]
[]
[]
["This surcharge will be subject to the following conditions per Decision No. 75626.  Requests will be considered on a case by case basis.  Surcharges will be capped and funds from each surcharge must be strictly tracked and spent only for the specified purposes.  Deposits will be required to be deposited into separate, segregated bank accounts.  Any surcharges approved by the Commission will continue until the utility's next rate case.  The surcharge will be fixed.  "]
[]
[]
[]
[]
[null,null,null,null,null,{"$f":"\"Page \" &F55","v":"Page 38"}]
[null,null,null,null,null,{"$f":"'Sch 16'!F53+1","v":38}]

{"sheet":"Sch 18","index":84,"n_rows":65,"n_cols":36,"rows_kept":65,"cut":false,"hidden":true,"merged":[[37,0,37,1],[11,0,13,9],[50,2,52,7],[54,2,54,5],[8,26,9,33],[11,26,13,33],[15,26,15,27],[34,26,34,27],[8,18,9,25],[11,18,13,25],[15,18,15,19],[34,18,34,19],[8,10,9,17],[11,10,13,17],[15,10,15,11],[34,10,34,11],[14,7,14,9],[8,0,9,9]]}
[{"$f":"'AR1'!$B$12","v":0},null,null,null,null,null,null,null,null,{"$f":"'Sch Title'!$A$38","v":"Schedule 18"},{"$f":"'AR1'!$B$12","v":0},null,null,null,null,null,null,{"$f":"'Sch Title'!$A$38","v":"Schedule 18"},{"$f":"'AR1'!$B$12","v":0},null,null,null,null,null,null,{"$f":"'Sch Title'!$A$38","v":"Schedule 18"},{"$f":"'AR1'!$B$12","v":0},null,null,null,null,null,null,{"$f":"'Sch Title'!$A$38","v":"Schedule 18"}]
[{"$f":"'Sch Title'!$A$2","v":"Short Form Rate Application"},null,null,null,null,null,null,null,null,{"$f":"\" Short Form Rate Application Page No. \"&J58","v":" Short Form Rate Application Page No. 39"},{"$f":"'Sch Title'!$A$2","v":"Short Form Rate Application"},null,null,null,null,null,null,{"$f":"\" Short Form Rate Application Page No. \"&R58","v":" Short Form Rate Application Page No. 40"},{"$f":"'Sch Title'!$A$2","v":"Short Form Rate Application"},null,null,null,null,null,null,{"$f":"\" Short Form Rate Application Page No. \"&Z58","v":" Short Form Rate Application Page No. 41"},{"$f":"'Sch Title'!$A$2","v":"Short Form Rate Application"},null,null,null,null,null,null,{"$f":"\" Short Form Rate Application Page No. \"&AH58","v":" Short Form Rate Application Page No. 42"}]
[{"$f":"A9","v":"SYSTEM IMPROVEMENT FUND SURCHARGE (SIFS)"},null,null,null,null,null,null,null,null,null,{"$f":"K9","v":"SYSTEM IMPROVEMENT FUND SURCHARGE (SIFS) CONTINUED"},null,null,null,null,null,null,null,{"$f":"S9","v":"SYSTEM IMPROVEMENT FUND SURCHARGE (SIFS) CONTINUED"},null,null,null,null,null,null,null,{"$f":"AA9","v":"SYSTEM IMPROVEMENT FUND SURCHARGE (SIFS) CONTINUED"},null,null,null,null,null,null,null,null,"Table of contents"]
[{"$f":"'Sch Title'!$A$4","v":"Test Year Ended 12/31/20"},null,null,null,null,null,null,null,null,null,{"$f":"'Sch Title'!$A$4","v":"Test Year Ended 12/31/20"},null,null,null,null,null,null,null,{"$f":"'Sch Title'!$A$4","v":"Test Year Ended 12/31/20"},null,null,null,null,null,null,null,{"$f":"'Sch Title'!$A$4","v":"Test Year Ended 12/31/20"}]
[]
[]
[]
[]
["SYSTEM IMPROVEMENT FUND SURCHARGE (SIFS)",null,null,null,null,null,null,null,null,null,"SYSTEM IMPROVEMENT FUND SURCHARGE (SIFS) CONTINUED",null,null,null,null,null,null,null,"SYSTEM IMPROVEMENT FUND SURCHARGE (SIFS) CONTINUED",null,null,null,null,null,null,null,"SYSTEM IMPROVEMENT FUND SURCHARGE (SIFS) CONTINUED"]
[]
[]
["As Part of this Rate Application, the Company is requesting approval of a System Improvemet Fund Surcharge, whereby vital capital expenditures made over the next 5 years may be recovered through a surcharge on customer bills. The proposed calculation of such a charge is below:",null,null,null,null,null,null,null,null,null,"As Part of this Rate Application, the Company is requesting approval of a System Improvemet Fund Surcharge, whereby vital capital expenditures made over the next 5 years may be recovered through a surcharge on customer bills. The proposed calculation of such a charge is below:",null,null,null,null,null,null,null,"As Part of this Rate Application, the Company is requesting approval of a System Improvemet Fund Surcharge, whereby vital capital expenditures made over the next 5 years may be recovered through a surcharge on customer bills. The proposed calculation of such a charge is below:",null,null,null,null,null,null,null,"As Part of this Rate Application, the Company is requesting approval of a System Improvemet Fund Surcharge, whereby vital capital expenditures made over the next 5 years may be recovered through a surcharge on customer bills. The proposed calculation of such a charge is below:"]
[]
[]
[null,null,null,null,null,null,null,"Per Decision XXXXX"]
[null,null,null,null,null,null,null,"ROR",null,null,"YEAR 1",null,null,null,null,null,null,null,"YEAR 3",null,null,null,null,null,null,null,"YEAR 5"]
[null,null,null,null,"Number of equivalent meters from below",{"$f":"D34","v":0},"B","ROE",null,null,"Line No.",null,"Services","Valves","Hydrants","Meters","Total",null,"Line No.",null,"Services","Valves","Hydrants","Meters","Total",null,"Line No.",null,"Services","Valves","Hydrants","Meters","Total"]
[null,null,null,null,"Charge for 5/8\" customer per year",{"$f":"J45/F17","v":{"$error":"#DIV/0!"}},"A/B = C",null,null,null,1,"SIFS Eligible Investments",50000,5000,5000,25000,{"$f":"SUM(M18:P18)","v":85000},null,1,"SIFS Eligible Investments",50000,5000,5000,25000,{"$f":"SUM(U18:X18)","v":85000},null,1,"SIFS Eligible Investments",50000,5000,5000,25000,{"$f":"SUM(AC18:AF18)","v":85000}]
[null,null,null,null,"Charge for 5/8\" customer per month",{"$f":"F18/12","v":{"$error":"#DIV/0!"}},"C / 12 = D","Annual Depr Rate","NARUC","Description",2,"Plant Retirements",{"$f":"-M18*0.25","v":-12500},{"$f":"-N18*0.25","v":-1250},{"$f":"-O18*0.25","v":-1250},{"$f":"-P18*0.25","v":-6250},{"$f":"SUM(M19:P19)","v":-21250},null,2,"Plant Retirements",{"$f":"-U18*0.25","v":-12500},{"$f":"-V18*0.25","v":-1250},{"$f":"-W18*0.25","v":-1250},{"$f":"-X18*0.25","v":-6250},{"$f":"SUM(U19:X19)","v":-21250},null,2,"Plant Retirements",{"$f":"-AC18*0.25","v":-12500},{"$f":"-AD18*0.25","v":-1250},{"$f":"-AE18*0.25","v":-1250},{"$f":"-AF18*0.25","v":-6250},{"$f":"SUM(AC19:AF19)","v":-21250}]
["Table I",null,null,"Annual","Annual","Annual",null,{"$f":"'Sch 10'!F29","v":0},333,"Services",3,"Net Plant Line [1] + Line  [2]",{"$f":"SUM(M18:M19)","v":37500},{"$f":"SUM(N18:N19)","v":3750},{"$f":"SUM(O18:O19)","v":3750},{"$f":"SUM(P18:P19)","v":18750},{"$f":"SUM(Q18:Q19)","v":63750},null,3,"Net Plant Line [1] + Line  [2]",{"$f":"SUM(U18:U19)","v":37500},{"$f":"SUM(V18:V19)","v":3750},{"$f":"SUM(W18:W19)","v":3750},{"$f":"SUM(X18:X19)","v":18750},{"$f":"SUM(Y18:Y19)","v":63750},null,3,"Net Plant Line [1] + Line  [2]",{"$f":"SUM(AC18:AC19)","v":37500},{"$f":"SUM(AD18:AD19)","v":3750},{"$f":"SUM(AE18:AE19)","v":3750},{"$f":"SUM(AF18:AF19)","v":18750},{"$f":"SUM(AG18:AG19)","v":63750}]
[null,null,null,"Equivalent Meters",null,"Annual Rev",null,{"$f":"'Sch 10'!F28","v":0},331,"Valves"]
["Meter Size","No. of Cust","Multiplier","5/8\" x  3/4 \"","Fixed Surcharge","By Meter Size",null,{"$f":"'Sch 10'!F31","v":0},335,"Hydrants",null,"ACCUMULATED DEPRECIATION",null,null,null,null,null,null,null,"ACCUMULATED DEPRECIATION",null,null,null,null,null,null,null,"ACCUMULATED DEPRECIATION"]
[null,"[1]","[2]","[3] =\n [1] * [2]","[4] = \n[Net SIFS Surcharge Table II] * 12","[5] = \n[1] * [4]",null,{"$f":"'Sch 10'!F30","v":0},334,"Meters",4,"SIFS Eligible Investments Lines 13 to 16 Column [A]",null,null,null,null,null,null,4,"SIFS Eligible Investments Lines 13 to 16 Column [A]",null,null,null,null,null,null,4,"SIFS Eligible Investments Lines 13 to 16 Column [A]"]
[{"$f":"'Drop down lists'!E5","v":"5/8\" x 3/4\" Meter"},{"$f":"IFERROR(HLOOKUP(A24,'Sch 6'!$8:$60,51,FALSE),0)","v":0},"1.0 Time",{"$f":"B24*1","v":0},{"$f":"F39*12","v":{"$error":"#DIV/0!"}},{"$f":"E24*B24","v":{"$error":"#DIV/0!"}},null,null,null,null,5,"Plant Retirements",null,null,null,null,null,null,5,"Plant Retirements",null,null,null,null,null,null,5,"Plant Retirements"]
[{"$f":"'Drop down lists'!E6","v":"3/4\"Meter"},{"$f":"IFERROR(HLOOKUP(A25,'Sch 6'!$8:$60,51,FALSE),0)","v":0},"1.5 Times",{"$f":"B25*1.5","v":0},{"$f":"F40*12","v":{"$error":"#DIV/0!"}},{"$f":"E25*B25","v":{"$error":"#DIV/0!"}},null,null,null,null,6,"Net Accumulated Depreciation [4] + Line  [5]",null,null,null,null,null,null,6,"Net Accumulated Depreciation [4] + Line  [5]",null,null,null,null,null,null,6,"Net Accumulated Depreciation [4] + Line  [5]"]
[{"$f":"'Drop down lists'!E7","v":"1\" Meter"},{"$f":"IFERROR(HLOOKUP(A26,'Sch 6'!$8:$60,51,FALSE),0)","v":0},"2.5 Times",{"$f":"B26*2.5","v":0},{"$f":"F41*12","v":{"$error":"#DIV/0!"}},{"$f":"E26*B26","v":{"$error":"#DIV/0!"}},null,null,null,null,7,"Rate Base Line [3] + Line [6]",null,null,null,null,null,null,7,"Rate Base Line [3] + Line [6]",null,null,null,null,null,null,7,"Rate Base Line [3] + Line [6]"]
[{"$f":"'Drop down lists'!E8","v":"1-1/2\" Meter"},{"$f":"IFERROR(HLOOKUP(A27,'Sch 6'!$8:$60,51,FALSE),0)","v":0},"5 Times",{"$f":"B27*5","v":0},{"$error":"#DIV/0!"},{"$error":"#DIV/0!"},null,"Conv Factor",1.5,null,10,"Depreciation Expense [Lines 13 to 16 Column C ]",null,null,null,null,null,null,10,"Depreciation Expense [Lines 13 to 16 Column C ]",null,null,null,null,null,null,10,"Depreciation Expense [Lines 13 to 16 Column C ]"]
[{"$f":"'Drop down lists'!E9","v":"2\" Meter"},{"$f":"IFERROR(HLOOKUP(A28,'Sch 6'!$8:$60,51,FALSE),0)","v":0},"8 Times",{"$f":"B28*8","v":0},{"$error":"#DIV/0!"},{"$error":"#DIV/0!"},null,null,null,null,null,"Depreciation Expense by NARUC 1st Year","SIFS Investments","Plant Retirements","Net",null,null,null,null,"Depreciation Expense by NARUC 1st Year","SIFS Investments","Plant Retirements","Net",null,null,null,null,"Depreciation Expense by NARUC 1st Year","SIFS Investments","Plant Retirements","Net"]
[{"$f":"'Drop down lists'!E10","v":"3\" Meter"},{"$f":"IFERROR(HLOOKUP(A29,'Sch 6'!$8:$60,51,FALSE),0)","v":0},"16 Times",{"$f":"B29*16","v":0},{"$error":"#DIV/0!"},{"$error":"#DIV/0!"},null,null,null,null,13,"Service Lines",{"$f":"M18*$H$20*0.5","v":0},{"$f":"M19*$H$20*0.5","v":0},{"$f":"SUM(M29:N29)","v":0},null,null,null,13,"Service Lines",{"$f":"U18*$H$20*0.5","v":0},{"$f":"U19*$H$20*0.5","v":0},{"$f":"SUM(U29:V29)","v":0},null,null,null,13,"Service Lines",{"$f":"AC18*$H$20*0.5","v":0},{"$f":"AC19*$H$20*0.5","v":0},{"$f":"SUM(AC29:AD29)","v":0}]
[{"$f":"'Drop down lists'!E11","v":"4\" Meter"},{"$f":"IFERROR(HLOOKUP(A30,'Sch 6'!$8:$60,51,FALSE),0)","v":0},"25 Times",{"$f":"B30*25","v":0},{"$error":"#DIV/0!"},{"$error":"#DIV/0!"},null,null,"Total Authorized Revenues per Decision",null,14,"Valves",{"$f":"N18*$H$21*0.5","v":0},{"$f":"N19*$H$21*0.5","v":0},{"$f":"SUM(M30:N30)","v":0},null,null,null,14,"Valves",{"$f":"V18*$H$21*0.5","v":0},{"$f":"V19*$H$21*0.5","v":0},{"$f":"SUM(U30:V30)","v":0},null,null,null,14,"Valves",{"$f":"AD18*$H$21*0.5","v":0},{"$f":"AD19*$H$21*0.5","v":0},{"$f":"SUM(AC30:AD30)","v":0}]
[{"$f":"'Drop down lists'!E12","v":"6\" Meter"},{"$f":"IFERROR(HLOOKUP(A31,'Sch 6'!$8:$60,51,FALSE),0)","v":0},"50 Times",{"$f":"B31*50","v":0},{"$error":"#DIV/0!"},{"$error":"#DIV/0!"},null,null,"SIFS Revenue Cap %",0.05,15,"Hydrants",{"$f":"O18*$H$22*0.5","v":0},{"$f":"O19*$H$22*0.5","v":0},{"$f":"SUM(M31:N31)","v":0},null,null,null,15,"Hydrants",{"$f":"W18*$H$22*0.5","v":0},{"$f":"W19*$H$22*0.5","v":0},{"$f":"SUM(U31:V31)","v":0},null,null,null,15,"Hydrants",{"$f":"AE18*$H$22*0.5","v":0},{"$f":"AE19*$H$22*0.5","v":0},{"$f":"SUM(AC31:AD31)","v":0}]
[{"$f":"'Drop down lists'!E13","v":"8\" Meter"},{"$f":"IFERROR(HLOOKUP(A32,'Sch 6'!$8:$60,51,FALSE),0)","v":0},"80 Times",{"$f":"B32*80","v":0},{"$error":"#DIV/0!"},{"$error":"#DIV/0!"},null,null,"Annual SIFS Revenue Cap",{"$f":"J30*J31","v":0},16,"Meters",{"$f":"P18*$H$23*0.5","v":0},{"$f":"P19*$H$23*0.5","v":0},{"$f":"SUM(M32:N32)","v":0},null,null,null,16,"Meters",{"$f":"X18*$H$23*0.5","v":0},{"$f":"X19*$H$23*0.5","v":0},{"$f":"SUM(U32:V32)","v":0},null,null,null,16,"Meters",{"$f":"AF18*$H$23*0.5","v":0},{"$f":"AF19*$H$23*0.5","v":0},{"$f":"SUM(AC32:AD32)","v":0}]
[{"$f":"'Drop down lists'!E14","v":"10\" Meter"},{"$f":"IFERROR(HLOOKUP(A33,'Sch 6'!$8:$60,51,FALSE),0)","v":0},"115 Times",{"$f":"B33*115","v":0},{"$error":"#DIV/0!"},{"$error":"#DIV/0!"},null,null,null,null,17,"Total",{"$f":"SUM(M29:M32)","v":0},{"$f":"SUM(N29:N32)","v":0},{"$f":"SUM(M33:N33)","v":0},null,null,null,17,"Total",{"$f":"SUM(U29:U32)","v":0},{"$f":"SUM(V29:V32)","v":0},{"$f":"SUM(U33:V33)","v":0},null,null,null,17,"Total",{"$f":"SUM(AC29:AC32)","v":0},{"$f":"SUM(AD29:AD32)","v":0},{"$f":"SUM(AC33:AD33)","v":0}]
["Totals",{"$f":"SUM(B24:B33)","v":0},"B",{"$f":"SUM(D24:D33)","v":0},null,{"$f":"SUM(F24:F33)","v":{"$error":"#DIV/0!"}},null,null,"NET SIFS Rate Base",{"$f":"Q20","v":63750}]
[null,null,null,null,"Probable Over/(Under) Collection Year 1",{"$f":"F34-J45","v":{"$error":"#DIV/0!"}},null,null,"Authorized Rate of Return",{"$f":"I16","v":0},"YEAR 2",null,null,null,null,null,null,null,"YEAR 4",null,null,null,null,null,null,null,"TOTAL SIFS EXPENDITURES"]
[null,null,null,null,null,null,null,null,"Required Operating Income",{"$f":"J34*J35","v":0},"Line No.",null,"Services","Valves","Hydrants","Meters","Total",null,"Line No.",null,"Services","Valves","Hydrants","Meters","Total",null,"Line No.",null,"Services","Valves","Hydrants","Meters","Total"]
["Table II",null,null,"Monthly","Monthly","Monthly",null,null,"Conversion factor",{"$f":"I27","v":1.5},1,"SIFS Eligible Investments",50000,5000,5000,25000,{"$f":"SUM(M37:P37)","v":85000},null,1,"SIFS Eligible Investments",50000,5000,5000,25000,{"$f":"SUM(U37:X37)","v":85000},null,1,"SIFS Eligible Investments",{"$f":"SUM(AC18,U37,U18,M37,M18)","v":250000},25000,25000,125000,{"$f":"SUM(AC37:AF37)","v":425000}]
["Meter Size",null,"Multiplier","SIFS Surcharge *","SIFS Efficiency Credit","Net SIFS Surcharge",null,null,"Required Revenue",{"$f":"J36*J37","v":0},2,"Plant Retirements",{"$f":"-M37*0.25","v":-12500},{"$f":"-N37*0.25","v":-1250},{"$f":"-O37*0.25","v":-1250},{"$f":"-P37*0.25","v":-6250},{"$f":"SUM(M38:P38)","v":-21250},null,2,"Plant Retirements",{"$f":"-U37*0.25","v":-12500},{"$f":"-V37*0.25","v":-1250},{"$f":"-W37*0.25","v":-1250},{"$f":"-X37*0.25","v":-6250},{"$f":"SUM(U38:X38)","v":-21250},null,2,"Plant Retirements",-62500,-6250,-6250,-31250,{"$f":"SUM(AC38:AF38)","v":-106250}]
["5/8 X 3/4 \"",null,"1.0 Time",{"$f":"ROUNDDOWN(F39/0.95,2)","v":{"$error":"#DIV/0!"}},{"$f":"ROUND(D39*-0.05,2)","v":{"$error":"#DIV/0!"}},{"$f":"F19","v":{"$error":"#DIV/0!"}},"D",null,"Depreciation Expense",{"$f":"O33","v":0},3,"Net Plant Line [1] + Line  [2]",{"$f":"SUM(M37:M38)","v":37500},{"$f":"SUM(N37:N38)","v":3750},{"$f":"SUM(O37:O38)","v":3750},{"$f":"SUM(P37:P38)","v":18750},{"$f":"SUM(Q37:Q38)","v":63750},null,3,"Net Plant Line [1] + Line  [2]",{"$f":"SUM(U37:U38)","v":37500},{"$f":"SUM(V37:V38)","v":3750},{"$f":"SUM(W37:W38)","v":3750},{"$f":"SUM(X37:X38)","v":18750},{"$f":"SUM(Y37:Y38)","v":63750},null,3,"Net Plant Line [1] + Line  [2]",{"$f":"SUM(AC37:AC38)","v":187500},{"$f":"SUM(AD37:AD38)","v":18750},{"$f":"SUM(AE37:AE38)","v":18750},{"$f":"SUM(AF37:AF38)","v":93750},{"$f":"SUM(AG37:AG38)","v":318750}]
["3/4\"",null,"1.5 Times",{"$f":"ROUND(D39*1.5,2)","v":{"$error":"#DIV/0!"}},{"$error":"#DIV/0!"},{"$f":"SUM(D40:E40)","v":{"$error":"#DIV/0!"}},null,null,"SIFS Efficiency Credit",-0.05]
["1\"",null,"2.5 Times",{"$f":"ROUND(D39*2.5,2)","v":{"$error":"#DIV/0!"}},{"$error":"#DIV/0!"},{"$f":"SUM(D41:E41)","v":{"$error":"#DIV/0!"}},null,null,"SIFS Revenue Requirement Efficiency Credit",{"$f":"J38*J40","v":0},null,"ACCUMULATED DEPRECIATION",null,null,null,null,null,null,null,"ACCUMULATED DEPRECIATION",null,null,null,null,null,null,null,"ACCUMULATED DEPRECIATION"]
["1.5\"",null,"5 Times",{"$f":"ROUND(D39*5,2)","v":{"$error":"#DIV/0!"}},{"$error":"#DIV/0!"},{"$error":"#DIV/0!"},null,null,null,null,4,"SIFS Eligible Investments Lines 13 to 16 Column [A]",null,null,null,null,null,null,4,"SIFS Eligible Investments Lines 13 to 16 Column [A]",null,null,null,null,null,null,4,"SIFS Eligible Investments Lines 13 to 16 Column [A]"]
["2\"",null,"8 Times",{"$f":"ROUND(D39*8,2)","v":{"$error":"#DIV/0!"}},{"$error":"#DIV/0!"},{"$error":"#DIV/0!"},null,null,"Under Collection from Previous Year",null,5,"Plant Retirements",null,null,null,null,null,null,5,"Plant Retirements",null,null,null,null,null,null,5,"Plant Retirements"]
["3\"",null,"16 Times",{"$f":"ROUND(D39*16,2)","v":{"$error":"#DIV/0!"}},{"$error":"#DIV/0!"},{"$error":"#DIV/0!"},null,null,null,null,6,"Net Accumulated Depreciation [4] + Line  [5]",null,null,null,null,null,null,6,"Net Accumulated Depreciation [4] + Line  [5]",null,null,null,null,null,null,6,"Net Accumulated Depreciation [4] + Line  [5]"]
["4\"",null,"25 Times",{"$f":"ROUND(D39*25,2)","v":{"$error":"#DIV/0!"}},{"$error":"#DIV/0!"},{"$error":"#DIV/0!"},null,null,"Proposed SIFS Authorized Revenue",{"$f":"IF(J41+J38+J39+J43>J32,J32,J41+J38+J39+J43)","v":0},7,"Rate Base Line [3] + Line [6]",null,null,null,null,null,null,7,"Rate Base Line [3] + Line [6]",null,null,null,null,null,null,7,"Rate Base Line [3] + Line [6]"]
["6\"",null,"50 Times",{"$f":"ROUND(D39*50,2)","v":{"$error":"#DIV/0!"}},{"$error":"#DIV/0!"},{"$error":"#DIV/0!"},null,null,null,null,10,"Depreciation Expense [Lines 13 to 16 Column C ]",null,null,null,null,null,null,10,"Depreciation Expense [Lines 13 to 16 Column C ]",null,null,null,null,null,null,10,"Depreciation Expense [Lines 13 to 16 Column C ]"]
["8\"",null,"80 Times",{"$f":"ROUND(D39*80,2)","v":{"$error":"#DIV/0!"}},{"$error":"#DIV/0!"},{"$error":"#DIV/0!"},null,null,null,null,null,"Depreciation Expense by NARUC 1st Year","SIFS Investments","Plant Retirements","Net",null,null,null,null,"Depreciation Expense by NARUC 1st Year","SIFS Investments","Plant Retirements","Net",null,null,null,null,"Depreciation Expense by NARUC 1st Year","SIFS Investments","Plant Retirements","Net"]
["10\"",null,"115 Times",{"$f":"ROUND(D39*115,2)","v":{"$error":"#DIV/0!"}},{"$error":"#DIV/0!"},{"$error":"#DIV/0!"},null,null,null,null,13,"Service Lines",{"$f":"M37*$H$20*0.5","v":0},{"$f":"M38*$H$20*0.5","v":0},{"$f":"SUM(M48:N48)","v":0},null,null,null,13,"Service Lines",{"$f":"U37*$H$20*0.5","v":0},{"$f":"U38*$H$20*0.5","v":0},{"$f":"SUM(U48:V48)","v":0},null,null,null,13,"Service Lines",{"$f":"AC37*$H$20*0.5","v":0},{"$f":"AC38*$H$20*0.5","v":0},{"$f":"SUM(AC48:AD48)","v":0}]
["* Surcharge has been rounded down to the nearest penny",null,null,null,null,null,null,null,null,null,14,"Valves",{"$f":"N37*$H$21*0.5","v":0},{"$f":"N38*$H$21*0.5","v":0},{"$f":"SUM(M49:N49)","v":0},null,null,null,14,"Valves",{"$f":"V37*$H$21*0.5","v":0},{"$f":"V38*$H$21*0.5","v":0},{"$f":"SUM(U49:V49)","v":0},null,null,null,14,"Valves",{"$f":"AD37*$H$21*0.5","v":0},{"$f":"AD38*$H$21*0.5","v":0},{"$f":"SUM(AC49:AD49)","v":0}]
[null,null,null,null,null,null,null,null,null,null,15,"Hydrants",{"$f":"O37*$H$22*0.5","v":0},{"$f":"O38*$H$22*0.5","v":0},{"$f":"SUM(M50:N50)","v":0},null,null,null,15,"Hydrants",{"$f":"W37*$H$22*0.5","v":0},{"$f":"W38*$H$22*0.5","v":0},{"$f":"SUM(U50:V50)","v":0},null,null,null,15,"Hydrants",{"$f":"AE37*$H$22*0.5","v":0},{"$f":"AE38*$H$22*0.5","v":0},{"$f":"SUM(AC50:AD50)","v":0}]
[null,null,"The Company seeks to file, annually with the Commission, a calculation in this form to support implementation of such a surcharge. Customer will be notified either by a message on their bill, by bill insert, or by mail.",null,null,null,null,null,null,null,16,"Meters",{"$f":"P37*$H$23*0.5","v":0},{"$f":"P38*$H$23*0.5","v":0},{"$f":"SUM(M51:N51)","v":0},null,null,null,16,"Meters",{"$f":"X37*$H$23*0.5","v":0},{"$f":"X38*$H$23*0.5","v":0},{"$f":"SUM(U51:V51)","v":0},null,null,null,16,"Meters",{"$f":"AF37*$H$23*0.5","v":0},{"$f":"AF38*$H$23*0.5","v":0},{"$f":"SUM(AC51:AD51)","v":0}]
[null,null,null,null,null,null,null,null,null,null,17,"Total",{"$f":"SUM(M48:M51)","v":0},{"$f":"SUM(N48:N51)","v":0},{"$f":"SUM(M52:N52)","v":0},null,null,null,17,"Total",{"$f":"SUM(U48:U51)","v":0},{"$f":"SUM(V48:V51)","v":0},{"$f":"SUM(U52:V52)","v":0},null,null,null,17,"Total",{"$f":"SUM(AC48:AC51)","v":0},{"$f":"SUM(AD48:AD51)","v":0},{"$f":"SUM(AC52:AD52)","v":0}]
[]
[]
[null,null,{"$f":"\"*Note: This Figures Comes from Schedule 14 \"&'Sch 6'!K67","v":"*Note: This Figures Comes from Schedule 14 Page 25"}]
[]
[null,null,null,null,null,null,null,null,null,{"$f":"\"Page \" &J58","v":"Page 39"},null,null,null,null,null,null,null,{"$f":"\"Page \" &R58","v":"Page 40"},null,null,null,null,null,null,null,{"$f":"\"Page \" &Z58","v":"Page 41"},null,null,null,null,null,null,null,{"$f":"\"Page \" &AH58","v":"Page 42"}]
[null,null,null,null,null,null,null,null,null,{"$f":"'Sch 17'!F55+1","v":39},null,null,null,null,null,null,null,{"$f":"J58+1","v":40},null,null,null,null,null,null,null,{"$f":"R58+1","v":41},null,null,null,null,null,null,null,{"$f":"Z58+1","v":42}]
[]
[null,null,null,null,null,null,null,null,{"$f":"ISBLANK(I16)","v":true},{"$f":"IF(I60=TRUE,\"Incomplete\",\"Complete\")","v":"Incomplete"}]
[null,null,null,null,null,null,null,null,{"$f":"ISBLANK(I17)","v":true},{"$f":"IF(I61=TRUE,\"Incomplete\",\"Complete\")","v":"Incomplete"}]
[null,null,null,null,null,null,null,null,{"$f":"ISBLANK(I27)","v":false},{"$f":"IF(I62=TRUE,\"Incomplete\",\"Complete\")","v":"Complete"}]
[null,null,null,null,null,null,null,null,{"$f":"ISBLANK(J30)","v":true},{"$f":"IF(I63=TRUE,\"Incomplete\",\"Complete\")","v":"Incomplete"}]
[null,null,null,null,null,null,null,null,{"$f":"ISBLANK(J43)","v":true},{"$f":"IF(I64=TRUE,\"Incomplete\",\"Complete\")","v":"Incomplete"}]
[null,null,null,null,null,null,null,null,null,{"$f":"IF(J60=\"Incomplete\",\"Incomplete\",IF(J61=\"Incomplete\",\"Incomplete\",IF(J62=\"Incomplete\",\"Incomplete\",IF(J63=\"Incomplete\",\"Incomplete\",IF(J64=\"Incomplete\",\"Incomplete\",\"Complete\")))))","v":"Incomplete"}]

{"sheet":"Sch 19","index":85,"n_rows":35,"n_cols":17,"rows_kept":35,"cut":false,"hidden":true,"merged":[[5,0,5,14],[19,1,20,14],[27,1,28,14],[23,1,24,14],[7,1,9,14],[12,1,12,14],[15,1,16,14]]}
[{"$f":"'AR1'!$B$12","v":0},null,null,null,null,null,null,null,null,null,null,null,null,null,{"$f":"'Sch Title'!$A$39","v":"Schedule 19"}]
[{"$f":"'Sch Title'!$A$2","v":"Short Form Rate Application"},null,null,null,null,null,null,null,null,null,null,null,null,null,{"$f":"\" Short Form Rate Application Page No. \"&O35","v":" Short Form Rate Application Page No. 43"}]
[{"$f":"A6","v":"CHECKLIST"}]
[{"$f":"'Sch Title'!$A$4","v":"Test Year Ended 12/31/20"},null,null,null,null,null,null,null,null,null,null,null,null,null,null,null,"Table of contents"]
[]
["CHECKLIST"]
[]
[4,"(Plant Additions) - Please provide a list of all plant additions by year and NARUC plant account number. For each plant addition project with over $500 in total costs, please provide (1) a list showing the individual cost components of the plant addition and (2) invoices to support each cost component shown on the list. Please cross-reference the amounts on the list to the invoices."]
[]
[]
[]
[]
[5,"(Salaries and Wages) – Please provide a breakdown by position, salary, and duties for all of the Company’s employees. (Acct. 601)"]
[]
[]
[6,"(Purchased Water) – Please provide (1) a list showing the individual cost components of the total purchased water expense and (2) invoices to support each cost component over $250 shown on the list. (Acct. 610)"]
[]
[]
[]
[7,"(Purchased Power) – Please provide (1) a list showing the individual cost components of the total purchased power expense and (2) invoices to support each cost component over $250 shown on the list. (Acct. 615)"]
[]
[]
[]
[8,"(Repairs and Maintenance) – Please provide (1) a list showing the individual cost components of the total purchased repairs and maintenance expense and (2) invoices to support each cost component over $250 shown on the list. (Acct. 620.1)"]
[]
[]
[]
[9,"(Outside Services) – Please provide (1) a list showing the individual cost components of the total purchased outside services expense and (2) invoices to support each cost component over $250 shown on the list. (Acct. 630)"]
[]
[]
[]
[]
[]
[null,null,null,null,null,null,null,null,null,null,null,null,null,null,{"$f":"\"Page \" &O35","v":"Page 43"}]
[null,null,null,null,null,null,null,null,null,null,null,null,null,null,{"$f":"'Sch 18'!AH58+1","v":43}]

{"sheet":"Item #4","index":86,"n_rows":41,"n_cols":11,"rows_kept":41,"cut":false,"hidden":true,"merged":[[7,0,9,5],[5,0,5,5]]}
[{"$f":"'AR1'!$B$12","v":0},null,null,null,null,{"$f":"'Sch Title'!A40","v":"Item # 4"}]
[{"$f":"'Sch Title'!$A$2","v":"Short Form Rate Application"},null,null,null,null,{"$f":"\" Short Form Rate Application Page No. \"&F41","v":" Short Form Rate Application Page No. 44"}]
[{"$f":"Item4","v":"PLANT ADDITIONS"},null,null,null,null,null,null,"Table of contents"]
[{"$f":"'Sch Title'!$A$4","v":"Test Year Ended 12/31/20"}]
[]
["PLANT ADDITIONS"]
[]
["Please provide a list of all plant additions by year and NARUC plant account number. For each plant addition project with over $500 in total costs, please provide (1) a list showing the individual cost components of the plant addition and (2) invoices to support each cost component shown on the list. Please cross-reference the amounts on the list to the invoices."]
[]
[]
[]
["ACC Acct. No.","Vendor/Company","Description","Date","Amount","Invoice Index"]
[]
[null,null,null,null,null,null,null,null,null,"Check:"]
[null,null,null,null,null,null,null,null,null,"Item #4",{"$f":"SUM(E:E)","v":0}]
[null,null,null,null,null,null,null,null,null,"Sch 3 additions",{"$f":"'Sch 3'!D43","v":0}]
[null,null,null,null,null,null,null,null,null,"Difference",{"$f":"K16-K15","v":0}]
[]
[]
[]
[]
[]
[]
[]
[]
[]
[]
[]
[]
[]
[]
[]
[]
[]
[]
[]
[]
[]
[]
[null,null,null,null,null,{"$f":"\"Page \" &F41","v":"Page 44"}]
[null,null,null,null,null,{"$f":"'Sch 19'!O35+1","v":44}]

{"sheet":"Item #5","index":87,"n_rows":53,"n_cols":12,"rows_kept":53,"cut":false,"hidden":true,"merged":[[10,2,10,5],[11,2,11,5],[12,2,12,5],[8,0,8,5],[6,0,6,5],[13,2,13,5],[14,2,14,5],[15,2,15,5],[16,2,16,5],[17,2,17,5],[18,2,18,5],[19,2,19,5],[20,2,20,5],[21,2,21,5],[22,2,22,5],[23,2,23,5],[24,2,24,5],[25,2,25,5],[26,2,26,5],[27,2,27,5],[28,2,28,5],[29,2,29,5],[30,2,30,5],[31,2,31,5],[32,2,32,5],[33,2,33,5],[34,2,34,5],[35,2,35,5],[36,2,36,5],[37,2,37,5],[38,2,38,5],[39,2,39,5],[40,2,40,5],[41,2,41,5],[42,2,42,5],[43,2,43,5],[44,2,44,5],[45,2,45,5],[46,2,46,5],[47,2,47,5]]}
[{"$f":"'AR1'!$B$12","v":0},null,null,null,null,{"$f":"'Sch Title'!A41","v":"Item # 5"}]
[{"$f":"'Sch Title'!$A$2","v":"Short Form Rate Application"},null,null,null,null,{"$f":"\" Short Form Rate Application Page No. \"&F53","v":" Short Form Rate Application Page No. 45"}]
[{"$f":"Item5","v":"SALARIES AND WAGES"},null,null,null,null,null,null,"Table of contents"]
[{"$f":"'Sch Title'!$A$4","v":"Test Year Ended 12/31/20"}]
[]
[]
["SALARIES AND WAGES"]
[]
["Instructions: Please break down by position, salary, and duties for the Salaries and Wages expense. (Acct. 601)."]
[]
["Position","Salary","Duties"]
[]
[]
[null,null,null,null,null,null,null,null,null,null,"Check:"]
[null,null,null,null,null,null,null,null,null,null,"Item #5",{"$f":"SUM(B:B)","v":0}]
[null,null,null,null,null,null,null,null,null,null,"Income Statement",{"$f":"'Sch 9'!F19","v":0}]
[null,null,null,null,null,null,null,null,null,null,"Difference",{"$f":"L16-L15","v":0}]
[]
[]
[]
[]
[]
[]
[]
[]
[]
[]
[]
[]
[]
[]
[]
[]
[]
[]
[]
[]
[]
[]
[]
[]
[]
[]
[]
[]
[]
[]
[]
[]
[]
[]
[null,null,null,null,null,{"$f":"\"Page \" &F53","v":"Page 45"}]
[null,null,null,null,null,{"$f":"'Item #4'!F41+1","v":45}]

{"sheet":"Item #6","index":88,"n_rows":46,"n_cols":11,"rows_kept":46,"cut":false,"hidden":true,"merged":[[11,0,11,4],[7,0,8,5],[5,0,5,5]]}
[{"$f":"'AR1'!$B$12","v":0},null,null,null,null,{"$f":"'Sch Title'!A42","v":"Item # 6"}]
[{"$f":"'Sch Title'!$A$2","v":"Short Form Rate Application"},null,null,null,null,{"$f":"\" Short Form Rate Application Page No. \"&F46","v":" Short Form Rate Application Page No. 46"}]
[{"$f":"Item6","v":"PURCHASED WATER"},null,null,null,null,null,null,"Table of contents"]
[{"$f":"'Sch Title'!$A$4","v":"Test Year Ended 12/31/20"}]
[]
["PURCHASED WATER"]
[]
["Please provide (1) a list showing the individual cost components of the total purchased water expense and (2) invoices to support each cost component over $250 shown on the list."]
[]
[]
[]
["Cost components"]
["ACC Acct. No.","Vendor/Company","Date","Amount","Invoice Index"]
[]
[]
[null,null,null,null,null,null,null,null,null,"Check:"]
[null,null,null,null,null,null,null,null,null,"Item #6",{"$f":"SUM(D:D)","v":0}]
[null,null,null,null,null,null,null,null,null,"Income Statement",{"$f":"'Sch 9'!F21","v":0}]
[null,null,null,null,null,null,null,null,null,"Difference",{"$f":"K18-K17","v":0}]
[]
[]
[]
[]
[]
[]
[]
[]
[]
[]
[]
[]
[]
[]
[]
[]
[]
[]
[]
[]
[]
[]
[]
[]
[]
[null,null,null,null,null,{"$f":"\"Page \" &F46","v":"Page 46"}]
[null,null,null,null,null,{"$f":"'Item #5'!F53+1","v":46}]

{"sheet":"Item #7","index":89,"n_rows":48,"n_cols":11,"rows_kept":48,"cut":false,"hidden":true,"merged":[[13,0,13,4],[7,0,7,5],[9,0,10,5]]}
[{"$f":"'AR1'!$B$12","v":0},null,null,null,null,{"$f":"'Sch Title'!A43","v":"Item # 7"}]
[{"$f":"'Sch Title'!$A$2","v":"Short Form Rate Application"},null,null,null,null,{"$f":"\" Short Form Rate Application Page No. \"&F48","v":" Short Form Rate Application Page No. 47"}]
[{"$f":"PurPow","v":"PURCHASED POWER"},null,null,null,null,null,null,"Table of contents"]
[{"$f":"'Sch Title'!$A$4","v":"Test Year Ended 12/31/20"}]
[]
[]
[]
["PURCHASED POWER"]
[]
["Please provide (1) a list showing the individual cost components of the total purchased power expense and (2) invoices to support each cost component over $250 shown on the list."]
[]
[]
[]
["Cost components"]
["ACC Acct. No.","Vendor/Company","Date","Amount","Invoice Index"]
[]
[null,null,null,null,null,null,null,null,null,"Check:"]
[null,null,null,null,null,null,null,null,null,"Item #7",{"$f":"SUM(D:D)","v":0}]
[null,null,null,null,null,null,null,null,null,"Income Statement",{"$f":"'Sch 9'!F22","v":0}]
[null,null,null,null,null,null,null,null,null,"Difference",{"$f":"K19-K18","v":0}]
[]
[]
[]
[]
[]
[]
[]
[]
[]
[]
[]
[]
[]
[]
[]
[]
[]
[]
[]
[]
[]
[]
[]
[]
[]
[]
[null,null,null,null,null,{"$f":"\"Page \" &F48","v":"Page 47"}]
[null,null,null,null,null,{"$f":"'Item #6'!F46+1","v":47}]

{"sheet":"Item #8","index":90,"n_rows":46,"n_cols":12,"rows_kept":46,"cut":false,"hidden":true,"merged":[[13,0,13,4],[7,0,7,5],[9,0,10,5]]}
[{"$f":"'AR1'!$B$12","v":0},null,null,null,null,{"$f":"'Sch Title'!A44","v":"Item # 8"}]
[{"$f":"'Sch Title'!$A$2","v":"Short Form Rate Application"},null,null,null,null,{"$f":"\" Short Form Rate Application Page No. \"&F46","v":" Short Form Rate Application Page No. 48"}]
[{"$f":"A8","v":"REPAIRS AND MAINTENANCE"},null,null,null,null,null,null,"Table of contents"]
[{"$f":"'Sch Title'!$A$4","v":"Test Year Ended 12/31/20"}]
[]
[]
[]
["REPAIRS AND MAINTENANCE"]
[]
["Please provide (1) a list showing the individual cost components of the total purchased repairs and maintenance expense and (2) invoices to support each cost component over $250 shown on the list."]
[]
[]
[]
["Cost components"]
["ACC Acct. No.","Vendor/Company","Date","Amount","Invoice Index"]
[null,null,null,null,null,null,null,null,null,null,"Check:"]
[null,null,null,null,null,null,null,null,null,null,"Item #8",{"$f":"SUM(D:D)","v":0}]
[null,null,null,null,null,null,null,null,null,null,"Income Statement",{"$f":"'Sch 9'!F25","v":0}]
[null,null,null,null,null,null,null,null,null,null,"Difference",{"$f":"L18-L17","v":0}]
[]
[]
[]
[]
[]
[]
[]
[]
[]
[]
[]
[]
[]
[]
[]
[]
[]
[]
[]
[]
[]
[]
[]
[]
[]
[null,null,null,null,null,{"$f":"\"Page \" &F46","v":"Page 48"}]
[null,null,null,null,null,{"$f":"'Item #7'!F48+1","v":48}]

{"sheet":"Item #9","index":91,"n_rows":53,"n_cols":12,"rows_kept":53,"cut":false,"hidden":true,"merged":[[13,0,13,4],[7,0,7,5],[9,0,10,5]]}
[{"$f":"'AR1'!$B$12","v":0},null,null,null,null,{"$f":"'Sch Title'!A45","v":"Item # 9"}]
[{"$f":"'Sch Title'!$A$2","v":"Short Form Rate Application"},null,null,null,null,{"$f":"\" Short Form Rate Application Page No. \"&F53","v":" Short Form Rate Application Page No. 49"}]
[{"$f":"A8","v":"OUTSIDE SERVICES"},null,null,null,null,null,null,"Table of contents"]
[{"$f":"'Sch Title'!$A$4","v":"Test Year Ended 12/31/20"}]
[]
[]
[]
["OUTSIDE SERVICES"]
[]
["Please provide (1) a list showing the individual cost components of the total purchased outside services expense and (2) invoices to support each cost component over $250 shown on the list."]
[]
[]
[]
["Cost components"]
["ACC Acct. No.","Vendor/Company","Date","Amount","Invoice Index","Service"]
[null,null,null,null,null,null,null,null,null,null,"Check:"]
[null,null,null,null,null,null,null,null,null,null,"Item #9",{"$f":"SUM(D:D)","v":0}]
[null,null,null,null,null,null,null,null,null,null,"Income Statement",{"$f":"SUM('Sch 9'!F27:F31,'Sch 9'!F33)","v":0}]
[null,null,null,null,null,null,null,null,null,null,"Difference",{"$f":"L18-L17","v":0}]
[]
[]
[]
[]
[]
[]
[]
[]
[]
[]
[]
[]
[]
[]
[]
[]
[]
[]
[]
[]
[]
[]
[]
[]
[]
[]
[]
[]
[]
[]
[]
[]
[null,null,null,null,null,{"$f":"\"Page \" &F53","v":"Page 49"}]
[null,null,null,null,null,{"$f":"'Item #8'!F46+1","v":49}]

{"sheet":"WP 1","index":92,"n_rows":51,"n_cols":36,"rows_kept":51,"cut":false,"hidden":true,"merged":[[8,18,8,19],[8,20,8,21],[50,12,55,17],[8,8,8,9],[8,10,8,11],[8,12,8,13],[8,16,8,17],[50,18,55,23],[50,2,55,5],[5,0,6,1],[8,34,8,35],[8,26,8,27],[8,14,8,15],[8,22,8,23],[8,2,8,3],[8,4,8,5],[8,6,8,7],[50,24,55,29],[50,30,55,35],[8,28,8,29],[8,32,8,33],[8,24,8,25],[50,6,55,11],[8,30,8,31]]}
[{"$f":"'AR1'!$B$12","v":0},null,null,null,null,null,null,null,{"$f":"'Sch Title'!$A$49","v":"Work Paper 1"},null,null,null,null,null,null,null,null,{"$f":"'Sch Title'!$A$49","v":"Work Paper 1"},null,null,null,null,null,null,{"$f":"'Sch Title'!$A$49","v":"Work Paper 1"},null,null,null,null,null,null,null,null,null,null,{"$f":"'Sch Title'!$A$49","v":"Work Paper 1"}]
[{"$f":"'Sch Title'!$A$2","v":"Short Form Rate Application"},null,null,null,null,null,null,null,"Table of contents",null,null,null,null,null,null,null,null,"Table of contents",null,null,null,null,null,null,"Table of contents",null,null,null,null,null,null,null,null,null,null,"Table of contents"]
[{"$f":"sCH3_pLANT_aDDS","v":"PLANT ADDITIONS AND RETIREMENT BY YEAR"}]
[{"$f":"'Sch Title'!$A$4","v":"Test Year Ended 12/31/20"}]
[]
["PLANT ADDITIONS AND RETIREMENT BY YEAR"]
[]
[]
["Acct. No.","Description","Enter Year Here",null,"Enter Year Here",null,"Enter Year Here",null,"Enter Year Here",null,"Enter Year Here",null,"Enter Year Here",null,"Enter Year Here",null,"Enter Year Here",null,"Enter Year Here",null,"Enter Year Here",null,"Enter Year Here",null,"Enter Year Here",null,"Enter Year Here",null,"Enter Year Here",null,"Enter Year Here",null,{"$f":"IF('Sch Title'!B12=\"\",\"\",'Sch Title'!B12)","v":"Test Year Ended 12/31/20"},null,"Total"]
[null,null,"Additions","Retirements","Additions","Retirements","Additions","Retirements","Additions","Retirements","Additions","Retirements","Additions","Retirements","Additions","Retirements","Additions","Retirements","Additions","Retirements","Additions","Retirements","Additions","Retirements","Additions","Retirements","Additions","Retirements","Additions","Retirements","Additions","Retirements","Additions","Retirements","Additions","Retirements"]
[{"$f":"'Sch Title'!G9","v":301},{"$f":"'Sch Title'!H9","v":"Organization"},null,null,null,null,null,null,null,null,null,null,null,null,null,null,null,null,null,null,null,null,null,null,null,null,null,null,null,null,null,null,{"$f":"'AR3'!D8","v":0},{"$f":"'AR3'!E8","v":0},{"$f":"SUMIFS(C11:AH11,$C$10:$AH$10,$AI$10)","v":0},{"$f":"SUMIFS(C11:AH11,$C$10:$AH$10,$AJ$10)","v":0}]
[{"$f":"'Sch Title'!G10","v":302},{"$f":"'Sch Title'!H10","v":"Franchises"},null,null,null,null,null,null,null,null,null,null,null,null,null,null,null,null,null,null,null,null,null,null,null,null,null,null,null,null,null,null,{"$f":"'AR3'!D9","v":0},{"$f":"'AR3'!E9","v":0},{"$f":"SUMIFS(C12:AH12,$C$10:$AH$10,$AI$10)","v":0},{"$f":"SUMIFS(C12:AH12,$C$10:$AH$10,$AJ$10)","v":0}]
[{"$f":"'Sch Title'!G11","v":303},{"$f":"'Sch Title'!H11","v":"Land and Land Rights"},null,null,null,null,null,null,null,null,null,null,null,null,null,null,null,null,null,null,null,null,null,null,null,null,null,null,null,null,null,null,{"$f":"'AR3'!D10","v":0},{"$f":"'AR3'!E10","v":0},{"$f":"SUMIFS(C13:AH13,$C$10:$AH$10,$AI$10)","v":0},0]
[{"$f":"'Sch Title'!G12","v":304},{"$f":"'Sch Title'!H12","v":"Structures and Improvements"},null,null,null,null,null,null,null,null,null,null,null,null,null,null,null,null,null,null,null,null,null,null,null,null,null,null,null,null,null,null,{"$f":"'AR3'!D11","v":0},{"$f":"'AR3'!E11","v":0},0,0]
[{"$f":"'Sch Title'!G13","v":305},{"$f":"'Sch Title'!H13","v":"Collecting & Improving Reservoirs"},null,null,null,null,null,null,null,null,null,null,null,null,null,null,null,null,null,null,null,null,null,null,null,null,null,null,null,null,null,null,{"$f":"'AR3'!D12","v":0},{"$f":"'AR3'!E12","v":0},0,0]
[{"$f":"'Sch Title'!G14","v":306},{"$f":"'Sch Title'!H14","v":"Lake, River, Canal Intakes"},null,null,null,null,null,null,null,null,null,null,null,null,null,null,null,null,null,null,null,null,null,null,null,null,null,null,null,null,null,null,{"$f":"'AR3'!D13","v":0},{"$f":"'AR3'!E13","v":0},0,0]
[{"$f":"'Sch Title'!G15","v":307},{"$f":"'Sch Title'!H15","v":"Wells and Springs"},null,null,null,null,null,null,null,null,null,null,null,null,null,null,null,null,null,null,null,null,null,null,null,null,null,null,null,null,null,null,{"$f":"'AR3'!D14","v":0},{"$f":"'AR3'!E14","v":0},0,0]
[{"$f":"'Sch Title'!G16","v":308},{"$f":"'Sch Title'!H16","v":"Infiltration Galleries"},null,null,null,null,null,null,null,null,null,null,null,null,null,null,null,null,null,null,null,null,null,null,null,null,null,null,null,null,null,null,{"$f":"'AR3'!D15","v":0},{"$f":"'AR3'!E15","v":0},0,0]
[{"$f":"'Sch Title'!G17","v":309},{"$f":"'Sch Title'!H17","v":"Supply Mains"},null,null,null,null,null,null,null,null,null,null,null,null,null,null,null,null,null,null,null,null,null,null,null,null,null,null,null,null,null,null,{"$f":"'AR3'!D16","v":0},{"$f":"'AR3'!E16","v":0},0,0]
[{"$f":"'Sch Title'!G18","v":310},{"$f":"'Sch Title'!H18","v":"Power Generation Equipment"},null,null,null,null,null,null,null,null,null,null,null,null,null,null,null,null,null,null,null,null,null,null,null,null,null,null,null,null,null,null,{"$f":"'AR3'!D17","v":0},{"$f":"'AR3'!E17","v":0},0,0]
[{"$f":"'Sch Title'!G19","v":311},{"$f":"'Sch Title'!H19","v":"Pumping Equipment"},null,null,null,null,null,null,null,null,null,null,null,null,null,null,null,null,null,null,null,null,null,null,null,null,null,null,null,null,null,null,{"$f":"'AR3'!D18","v":0},{"$f":"'AR3'!E18","v":0},0,0]
[{"$f":"'Sch Title'!G20","v":320},{"$f":"'Sch Title'!H20","v":"Water Treatment Equipment"},null,null,null,null,null,null,null,null,null,null,null,null,null,null,null,null,null,null,null,null,null,null,null,null,null,null,null,null,null,null,{"$f":"'AR3'!D19","v":0},{"$f":"'AR3'!E19","v":0},0,0]
[{"$f":"'Sch Title'!G21","v":320.10000000000002},{"$f":"'Sch Title'!H21","v":"Water Treatment Plants"},null,null,null,null,null,null,null,null,null,null,null,null,null,null,null,null,null,null,null,null,null,null,null,null,null,null,null,null,null,null,{"$f":"'AR3'!D20","v":0},{"$f":"'AR3'!E20","v":0},{"$f":"SUMIFS(C23:AH23,$C$10:$AH$10,$AI$10)","v":0},{"$f":"SUMIFS(C23:AH23,$C$10:$AH$10,$AJ$10)","v":0}]
[{"$f":"'Sch Title'!G22","v":320.2},{"$f":"'Sch Title'!H22","v":"Solution Chemical Feeders"},null,null,null,null,null,null,null,null,null,null,null,null,null,null,null,null,null,null,null,null,null,null,null,null,null,null,null,null,null,null,{"$f":"'AR3'!D21","v":0},{"$f":"'AR3'!E21","v":0},0,0]
[{"$f":"'Sch Title'!G23","v":320.3},{"$f":"'Sch Title'!H23","v":"Point-of-Use Treatment Devices"},null,null,null,null,null,null,null,null,null,null,null,null,null,null,null,null,null,null,null,null,null,null,null,null,null,null,null,null,null,null,{"$f":"'AR3'!D22","v":0},{"$f":"'AR3'!E22","v":0},0,0]
[{"$f":"'Sch Title'!G24","v":330},{"$f":"'Sch Title'!H24","v":"Distribution Reservoirs and Standpipes"},null,null,null,null,null,null,null,null,null,null,null,null,null,null,null,null,null,null,null,null,null,null,null,null,null,null,null,null,null,null,{"$f":"'AR3'!D23","v":0},{"$f":"'AR3'!E23","v":0},0,0]
[{"$f":"'Sch Title'!G25","v":330.1},{"$f":"'Sch Title'!H25","v":"Storage Tanks"},null,null,null,null,null,null,null,null,null,null,null,null,null,null,null,null,null,null,null,null,null,null,null,null,null,null,null,null,null,null,{"$f":"'AR3'!D24","v":0},{"$f":"'AR3'!E24","v":0},0,0]
[{"$f":"'Sch Title'!G26","v":330.2},{"$f":"'Sch Title'!H26","v":"Pressure Tanks"},null,null,null,null,null,null,null,null,null,null,null,null,null,null,null,null,null,null,null,null,null,null,null,null,null,null,null,null,null,null,{"$f":"'AR3'!D25","v":0},{"$f":"'AR3'!E25","v":0},0,0]
[{"$f":"'Sch Title'!G27","v":331},{"$f":"'Sch Title'!H27","v":"Transmission and Distribution Mains"},null,null,null,null,null,null,null,null,null,null,null,null,null,null,null,null,null,null,null,null,null,null,null,null,null,null,null,null,null,null,{"$f":"'AR3'!D26","v":0},{"$f":"'AR3'!E26","v":0},{"$f":"SUMIFS(C29:AH29,$C$10:$AH$10,$AI$10)","v":0},{"$f":"SUMIFS(C29:AH29,$C$10:$AH$10,$AJ$10)","v":0}]
[{"$f":"'Sch Title'!G28","v":333},{"$f":"'Sch Title'!H28","v":"Services"},null,null,null,null,null,null,null,null,null,null,null,null,null,null,null,null,null,null,null,null,null,null,null,null,null,null,null,null,null,null,{"$f":"'AR3'!D27","v":0},{"$f":"'AR3'!E27","v":0},0,0]
[{"$f":"'Sch Title'!G29","v":334},{"$f":"'Sch Title'!H29","v":"Meters and Meter Installations"},null,null,null,null,null,null,null,null,null,null,null,null,null,null,null,null,null,null,null,null,null,null,null,null,null,null,null,null,null,null,{"$f":"'AR3'!D28","v":0},{"$f":"'AR3'!E28","v":0},0,0]
[{"$f":"'Sch Title'!G30","v":335},{"$f":"'Sch Title'!H30","v":"Hydrants"},null,null,null,null,null,null,null,null,null,null,null,null,null,null,null,null,null,null,null,null,null,null,null,null,null,null,null,null,null,null,{"$f":"'AR3'!D29","v":0},{"$f":"'AR3'!E29","v":0},0,0]
[{"$f":"'Sch Title'!G31","v":336},{"$f":"'Sch Title'!H31","v":"Backflow Prevention Devices"},null,null,null,null,null,null,null,null,null,null,null,null,null,null,null,null,null,null,null,null,null,null,null,null,null,null,null,null,null,null,{"$f":"'AR3'!D30","v":0},{"$f":"'AR3'!E30","v":0},0,0]
[{"$f":"'Sch Title'!G32","v":339},{"$f":"'Sch Title'!H32","v":"Other Plant and Misc. Equipment"},null,null,null,null,null,null,null,null,null,null,null,null,null,null,null,null,null,null,null,null,null,null,null,null,null,null,null,null,null,null,{"$f":"'AR3'!D31","v":0},{"$f":"'AR3'!E31","v":0},0,0]
[{"$f":"'Sch Title'!G33","v":340},{"$f":"'Sch Title'!H33","v":"Office Furniture and Equipment"},null,null,null,null,null,null,null,null,null,null,null,null,null,null,null,null,null,null,null,null,null,null,null,null,null,null,null,null,null,null,{"$f":"'AR3'!D32","v":0},{"$f":"'AR3'!E32","v":0},0,0]
[{"$f":"'Sch Title'!G34","v":340.1},{"$f":"'Sch Title'!H34","v":"Computer & Software"},null,null,null,null,null,null,null,null,null,null,null,null,null,null,null,null,null,null,null,null,null,null,null,null,null,null,null,null,null,null,{"$f":"'AR3'!D33","v":0},{"$f":"'AR3'!E33","v":0},0,0]
[{"$f":"'Sch Title'!G35","v":341},{"$f":"'Sch Title'!H35","v":"Transportation Equipment"},null,null,null,null,null,null,null,null,null,null,null,null,null,null,null,null,null,null,null,null,null,null,null,null,null,null,null,null,null,null,{"$f":"'AR3'!D34","v":0},{"$f":"'AR3'!E34","v":0},0,0]
[{"$f":"'Sch Title'!G36","v":342},{"$f":"'Sch Title'!H36","v":"Stores Equipment"},null,null,null,null,null,null,null,null,null,null,null,null,null,null,null,null,null,null,null,null,null,null,null,null,null,null,null,null,null,null,{"$f":"'AR3'!D35","v":0},{"$f":"'AR3'!E35","v":0},0,0]
[{"$f":"'Sch Title'!G37","v":343},{"$f":"'Sch Title'!H37","v":"Tools, Shop and Garage Equipment"},null,null,null,null,null,null,null,null,null,null,null,null,null,null,null,null,null,null,null,null,null,null,null,null,null,null,null,null,null,null,{"$f":"'AR3'!D36","v":0},{"$f":"'AR3'!E36","v":0},{"$f":"SUMIFS(C39:AH39,$C$10:$AH$10,$AI$10)","v":0},{"$f":"SUMIFS(C39:AH39,$C$10:$AH$10,$AJ$10)","v":0}]
[{"$f":"'Sch Title'!G38","v":344},{"$f":"'Sch Title'!H38","v":"Laboratory Equipment"},null,null,null,null,null,null,null,null,null,null,null,null,null,null,null,null,null,null,null,null,null,null,null,null,null,null,null,null,null,null,{"$f":"'AR3'!D37","v":0},{"$f":"'AR3'!E37","v":0},0,0]
[{"$f":"'Sch Title'!G39","v":345},{"$f":"'Sch Title'!H39","v":"Power Operated Equipment"},null,null,null,null,null,null,null,null,null,null,null,null,null,null,null,null,null,null,null,null,null,null,null,null,null,null,null,null,null,null,{"$f":"'AR3'!D38","v":0},{"$f":"'AR3'!E38","v":0},0,0]
[{"$f":"'Sch Title'!G40","v":346},{"$f":"'Sch Title'!H40","v":"Communication Equipment"},null,null,null,null,null,null,null,null,null,null,null,null,null,null,null,null,null,null,null,null,null,null,null,null,null,null,null,null,null,null,{"$f":"'AR3'!D39","v":0},{"$f":"'AR3'!E39","v":0},0,0]
[{"$f":"'Sch Title'!G41","v":347},{"$f":"'Sch Title'!H41","v":"Miscellaneous Equipment"},null,null,null,null,null,null,null,null,null,null,null,null,null,null,null,null,null,null,null,null,null,null,null,null,null,null,null,null,null,null,{"$f":"'AR3'!D40","v":0},{"$f":"'AR3'!E40","v":0},0,0]
[{"$f":"'Sch Title'!G42","v":348},{"$f":"'Sch Title'!H42","v":"Other Tangible Plant"},null,null,null,null,null,null,null,null,null,null,null,null,null,null,null,null,null,null,null,null,null,null,null,null,null,null,null,null,null,null,{"$f":"'AR3'!D41","v":0},{"$f":"'AR3'!E41","v":0},0,0]
[null,"TOTAL WATER PLANT",{"$f":"SUM(C11:C44)","v":0},0,0,0,0,0,0,0,0,0,0,0,0,0,0,0,0,0,0,0,0,0,0,0,0,0,0,0,0,0,0,0,{"$f":"SUM(AI11:AI44)","v":0},{"$f":"SUM(AJ11:AJ44)","v":0}]
[]
[]
[]
[]
[]
[null,null,"Instructions: Update all information in the Grey highlighted cells as necessary.  To do this, enter the additions and retirements by year and NARUC account, starting with the year after the test year in the last rate case.  Leave all excess columns blank. ",null,null,null,"Instructions: Update all information in the Grey highlighted cells as necessary.  To do this, enter the additions and retirements by year and NARUC account, starting with the year after the test year in the last rate case.  Leave all excess columns blank. ",null,null,null,null,null,"Instructions: Update all information in the Grey highlighted cells as necessary.  To do this, enter the additions and retirements by year and NARUC account, starting with the year after the test year in the last rate case.  Leave all excess columns blank. ",null,null,null,null,null,"Instructions: Update all information in the Grey highlighted cells as necessary.  To do this, enter the additions and retirements by year and NARUC account, starting with the year after the test year in the last rate case.  Leave all excess columns blank. ",null,null,null,null,null,"Instructions: Update all information in the Grey highlighted cells as necessary.  To do this, enter the additions and retirements by year and NARUC account, starting with the year after the test year in the last rate case.  Leave all excess columns blank. ",null,null,null,null,null,"Instructions: Update all information in the Grey highlighted cells as necessary.  To do this, enter the additions and retirements by year and NARUC account, starting with the year after the test year in the last rate case.  Leave all excess columns blank. "]

{"sheet":"WP 2","index":93,"n_rows":770,"n_cols":12,"rows_kept":770,"cut":false,"hidden":true,"merged":[[6,0,6,11],[343,4,343,11],[391,4,391,11],[440,4,440,11],[489,4,489,11],[56,4,56,11],[103,4,103,11],[150,4,150,11],[199,4,199,11],[247,4,247,11],[295,4,295,11],[8,4,8,11],[682,4,682,11],[585,4,585,11],[634,4,634,11],[729,4,729,11],[537,4,537,11]]}
[{"$f":"'AR1'!$B$12","v":0},null,null,null,null,null,null,null,null,null,null,{"$f":"'Sch Title'!A50","v":"Work Paper 2"}]
[{"$f":"'Sch Title'!$A$2","v":"Short Form Rate Application"},null,null,null,null,null,null,null,null,null,null,"Table of contents"]
[{"$f":"A7","v":"PLANT ACCUMULATED DEPRECIATION"}]
[{"$f":"'Sch Title'!$A$4","v":"Test Year Ended 12/31/20"}]
[]
[]
["PLANT ACCUMULATED DEPRECIATION"]
[]
[null,null,null,null,{"$f":"Year1","v":"Enter Year Here"}]
[null,null,"ACCUMULATED",null,"PLANT"]
[null,null,"DEPRECIATION",null,"BALANCE"]
["ACCT.",null,"PER PRIOR","DEPREC.","PER PRIOR","PLANT","PLANT",null,"FULLY","CALCULATED","PLANT","ACCUMMULATED"]
["NO.","DESCRIPTION","DECISION","RATE","DECISION","ADDITION","RETIREMENT","SALVAGE","DEPRECIATED","DEPRECIATION","BALANCE","DEPRECIATION"]
[{"$f":"'Sch Title'!G9","v":301},{"$f":"'Sch Title'!H9","v":"Organization"},{"$f":"'Sch Title'!J9","v":0},0,{"$f":"'Sch Title'!I9","v":0},{"$f":"'WP 1'!C11","v":0},{"$f":"'WP 1'!D11","v":0},null,{"$f":"'Sch Title'!K9","v":0},{"$f":"IF($E$9=\"Enter Year Here\",0,((E14-I14+(F14-G14)/2))*D14)","v":0},{"$f":"+E14+F14-G14","v":0},{"$f":"+C14+J14-G14+H14","v":0}]
[{"$f":"'Sch Title'!G10","v":302},{"$f":"'Sch Title'!H10","v":"Franchises"},{"$f":"'Sch Title'!J10","v":0},0,{"$f":"'Sch Title'!I10","v":0},{"$f":"'WP 1'!C12","v":0},{"$f":"'WP 1'!D12","v":0},null,{"$f":"'Sch Title'!K10","v":0},{"$f":"IF($E$9=\"Enter Year Here\",0,((E15-I15+(F15-G15)/2))*D15)","v":0},{"$f":"+E15+F15-G15","v":0},0]
[{"$f":"'Sch Title'!G11","v":303},{"$f":"'Sch Title'!H11","v":"Land and Land Rights"},{"$f":"'Sch Title'!J11","v":0},0,{"$f":"'Sch Title'!I11","v":0},{"$f":"'WP 1'!C13","v":0},{"$f":"'WP 1'!D13","v":0},null,{"$f":"'Sch Title'!K11","v":0},{"$f":"IF($E$9=\"Enter Year Here\",0,((E16-I16+(F16-G16)/2))*D16)","v":0},0,0]
[{"$f":"'Sch Title'!G12","v":304},{"$f":"'Sch Title'!H12","v":"Structures and Improvements"},{"$f":"'Sch Title'!J12","v":0},{"$f":"'Sch 10'!F13","v":0},{"$f":"'Sch Title'!I12","v":0},{"$f":"'WP 1'!C14","v":0},{"$f":"'WP 1'!D14","v":0},null,{"$f":"'Sch Title'!K12","v":0},0,0,0]
[{"$f":"'Sch Title'!G13","v":305},{"$f":"'Sch Title'!H13","v":"Collecting & Improving Reservoirs"},{"$f":"'Sch Title'!J13","v":0},{"$f":"'Sch 10'!F14","v":0},{"$f":"'Sch Title'!I13","v":0},{"$f":"'WP 1'!C15","v":0},{"$f":"'WP 1'!D15","v":0},null,{"$f":"'Sch Title'!K13","v":0},0,0,0]
[{"$f":"'Sch Title'!G14","v":306},{"$f":"'Sch Title'!H14","v":"Lake, River, Canal Intakes"},{"$f":"'Sch Title'!J14","v":0},{"$f":"'Sch 10'!F15","v":0},{"$f":"'Sch Title'!I14","v":0},{"$f":"'WP 1'!C16","v":0},{"$f":"'WP 1'!D16","v":0},null,{"$f":"'Sch Title'!K14","v":0},0,0,0]
[{"$f":"'Sch Title'!G15","v":307},{"$f":"'Sch Title'!H15","v":"Wells and Springs"},{"$f":"'Sch Title'!J15","v":0},{"$f":"'Sch 10'!F16","v":0},{"$f":"'Sch Title'!I15","v":0},{"$f":"'WP 1'!C17","v":0},{"$f":"'WP 1'!D17","v":0},null,{"$f":"'Sch Title'!K15","v":0},0,0,0]
[{"$f":"'Sch Title'!G16","v":308},{"$f":"'Sch Title'!H16","v":"Infiltration Galleries"},{"$f":"'Sch Title'!J16","v":0},{"$f":"'Sch 10'!F17","v":0},{"$f":"'Sch Title'!I16","v":0},{"$f":"'WP 1'!C18","v":0},{"$f":"'WP 1'!D18","v":0},null,{"$f":"'Sch Title'!K16","v":0},0,0,0]
[{"$f":"'Sch Title'!G17","v":309},{"$f":"'Sch Title'!H17","v":"Supply Mains"},{"$f":"'Sch Title'!J17","v":0},{"$f":"'Sch 10'!F18","v":0},{"$f":"'Sch Title'!I17","v":0},{"$f":"'WP 1'!C19","v":0},{"$f":"'WP 1'!D19","v":0},null,{"$f":"'Sch Title'!K17","v":0},0,0,0]
[{"$f":"'Sch Title'!G18","v":310},{"$f":"'Sch Title'!H18","v":"Power Generation Equipment"},{"$f":"'Sch Title'!J18","v":0},{"$f":"'Sch 10'!F19","v":0},{"$f":"'Sch Title'!I18","v":0},{"$f":"'WP 1'!C20","v":0},{"$f":"'WP 1'!D20","v":0},null,{"$f":"'Sch Title'!K18","v":0},0,0,0]
[{"$f":"'Sch Title'!G19","v":311},{"$f":"'Sch Title'!H19","v":"Pumping Equipment"},{"$f":"'Sch Title'!J19","v":0},{"$f":"'Sch 10'!F20","v":0},{"$f":"'Sch Title'!I19","v":0},{"$f":"'WP 1'!C21","v":0},{"$f":"'WP 1'!D21","v":0},null,{"$f":"'Sch Title'!K19","v":0},0,0,0]
[{"$f":"'Sch Title'!G20","v":320},{"$f":"'Sch Title'!H20","v":"Water Treatment Equipment"},{"$f":"'Sch Title'!J20","v":0},0,{"$f":"'Sch Title'!I20","v":0},{"$f":"'WP 1'!C22","v":0},{"$f":"'WP 1'!D22","v":0},null,{"$f":"'Sch Title'!K20","v":0},0,0,0]
[{"$f":"'Sch Title'!G21","v":320.10000000000002},{"$f":"'Sch Title'!H21","v":"Water Treatment Plants"},{"$f":"'Sch Title'!J21","v":0},{"$f":"'Sch 10'!F22","v":0},{"$f":"'Sch Title'!I21","v":0},{"$f":"'WP 1'!C23","v":0},{"$f":"'WP 1'!D23","v":0},null,{"$f":"'Sch Title'!K21","v":0},0,0,0]
[{"$f":"'Sch Title'!G22","v":320.2},{"$f":"'Sch Title'!H22","v":"Solution Chemical Feeders"},{"$f":"'Sch Title'!J22","v":0},{"$f":"'Sch 10'!F23","v":0},{"$f":"'Sch Title'!I22","v":0},{"$f":"'WP 1'!C24","v":0},{"$f":"'WP 1'!D24","v":0},null,{"$f":"'Sch Title'!K22","v":0},0,0,0]
[{"$f":"'Sch Title'!G23","v":320.3},{"$f":"'Sch Title'!H23","v":"Point-of-Use Treatment Devices"},{"$f":"'Sch Title'!J23","v":0},{"$f":"'Sch 10'!F24","v":0},{"$f":"'Sch Title'!I23","v":0},{"$f":"'WP 1'!C25","v":0},{"$f":"'WP 1'!D25","v":0},null,{"$f":"'Sch Title'!K23","v":0},0,0,0]
[{"$f":"'Sch Title'!G24","v":330},{"$f":"'Sch Title'!H24","v":"Distribution Reservoirs and Standpipes"},{"$f":"'Sch Title'!J24","v":0},0,{"$f":"'Sch Title'!I24","v":0},{"$f":"'WP 1'!C26","v":0},{"$f":"'WP 1'!D26","v":0},null,{"$f":"'Sch Title'!K24","v":0},0,0,0]
[{"$f":"'Sch Title'!G25","v":330.1},{"$f":"'Sch Title'!H25","v":"Storage Tanks"},{"$f":"'Sch Title'!J25","v":0},{"$f":"'Sch 10'!F26","v":0},{"$f":"'Sch Title'!I25","v":0},{"$f":"'WP 1'!C27","v":0},{"$f":"'WP 1'!D27","v":0},null,{"$f":"'Sch Title'!K25","v":0},0,0,0]
[{"$f":"'Sch Title'!G26","v":330.2},{"$f":"'Sch Title'!H26","v":"Pressure Tanks"},{"$f":"'Sch Title'!J26","v":0},{"$f":"'Sch 10'!F27","v":0},{"$f":"'Sch Title'!I26","v":0},{"$f":"'WP 1'!C28","v":0},{"$f":"'WP 1'!D28","v":0},null,{"$f":"'Sch Title'!K26","v":0},0,0,0]
[{"$f":"'Sch Title'!G27","v":331},{"$f":"'Sch Title'!H27","v":"Transmission and Distribution Mains"},{"$f":"'Sch Title'!J27","v":0},{"$f":"'Sch 10'!F28","v":0},{"$f":"'Sch Title'!I27","v":0},{"$f":"'WP 1'!C29","v":0},{"$f":"'WP 1'!D29","v":0},null,{"$f":"'Sch Title'!K27","v":0},0,0,0]
[{"$f":"'Sch Title'!G28","v":333},{"$f":"'Sch Title'!H28","v":"Services"},{"$f":"'Sch Title'!J28","v":0},{"$f":"'Sch 10'!F29","v":0},{"$f":"'Sch Title'!I28","v":0},{"$f":"'WP 1'!C30","v":0},{"$f":"'WP 1'!D30","v":0},null,{"$f":"'Sch Title'!K28","v":0},0,0,0]
[{"$f":"'Sch Title'!G29","v":334},{"$f":"'Sch Title'!H29","v":"Meters and Meter Installations"},{"$f":"'Sch Title'!J29","v":0},{"$f":"'Sch 10'!F30","v":0},{"$f":"'Sch Title'!I29","v":0},{"$f":"'WP 1'!C31","v":0},{"$f":"'WP 1'!D31","v":0},null,{"$f":"'Sch Title'!K29","v":0},0,0,0]
[{"$f":"'Sch Title'!G30","v":335},{"$f":"'Sch Title'!H30","v":"Hydrants"},{"$f":"'Sch Title'!J30","v":0},{"$f":"'Sch 10'!F31","v":0},{"$f":"'Sch Title'!I30","v":0},{"$f":"'WP 1'!C32","v":0},{"$f":"'WP 1'!D32","v":0},null,{"$f":"'Sch Title'!K30","v":0},0,0,0]
[{"$f":"'Sch Title'!G31","v":336},{"$f":"'Sch Title'!H31","v":"Backflow Prevention Devices"},{"$f":"'Sch Title'!J31","v":0},{"$f":"'Sch 10'!F32","v":0},{"$f":"'Sch Title'!I31","v":0},{"$f":"'WP 1'!C33","v":0},{"$f":"'WP 1'!D33","v":0},null,{"$f":"'Sch Title'!K31","v":0},0,0,0]
[{"$f":"'Sch Title'!G32","v":339},{"$f":"'Sch Title'!H32","v":"Other Plant and Misc. Equipment"},{"$f":"'Sch Title'!J32","v":0},{"$f":"'Sch 10'!F33","v":0},{"$f":"'Sch Title'!I32","v":0},{"$f":"'WP 1'!C34","v":0},{"$f":"'WP 1'!D34","v":0},null,{"$f":"'Sch Title'!K32","v":0},0,0,0]
[{"$f":"'Sch Title'!G33","v":340},{"$f":"'Sch Title'!H33","v":"Office Furniture and Equipment"},{"$f":"'Sch Title'!J33","v":0},{"$f":"'Sch 10'!F34","v":0},{"$f":"'Sch Title'!I33","v":0},{"$f":"'WP 1'!C35","v":0},{"$f":"'WP 1'!D35","v":0},null,{"$f":"'Sch Title'!K33","v":0},0,0,0]
[{"$f":"'Sch Title'!G34","v":340.1},{"$f":"'Sch Title'!H34","v":"Computer & Software"},{"$f":"'Sch Title'!J34","v":0},{"$f":"'Sch 10'!F35","v":0},{"$f":"'Sch Title'!I34","v":0},{"$f":"'WP 1'!C36","v":0},{"$f":"'WP 1'!D36","v":0},null,{"$f":"'Sch Title'!K34","v":0},0,0,0]
[{"$f":"'Sch Title'!G35","v":341},{"$f":"'Sch Title'!H35","v":"Transportation Equipment"},{"$f":"'Sch Title'!J35","v":0},{"$f":"'Sch 10'!F36","v":0},{"$f":"'Sch Title'!I35","v":0},{"$f":"'WP 1'!C37","v":0},{"$f":"'WP 1'!D37","v":0},null,{"$f":"'Sch Title'!K35","v":0},0,0,0]
[{"$f":"'Sch Title'!G36","v":342},{"$f":"'Sch Title'!H36","v":"Stores Equipment"},{"$f":"'Sch Title'!J36","v":0},{"$f":"'Sch 10'!F37","v":0},{"$f":"'Sch Title'!I36","v":0},{"$f":"'WP 1'!C38","v":0},{"$f":"'WP 1'!D38","v":0},null,{"$f":"'Sch Title'!K36","v":0},0,0,0]
[{"$f":"'Sch Title'!G37","v":343},{"$f":"'Sch Title'!H37","v":"Tools, Shop and Garage Equipment"},{"$f":"'Sch Title'!J37","v":0},{"$f":"'Sch 10'!F38","v":0},{"$f":"'Sch Title'!I37","v":0},{"$f":"'WP 1'!C39","v":0},{"$f":"'WP 1'!D39","v":0},null,{"$f":"'Sch Title'!K37","v":0},0,0,0]
[{"$f":"'Sch Title'!G38","v":344},{"$f":"'Sch Title'!H38","v":"Laboratory Equipment"},{"$f":"'Sch Title'!J38","v":0},{"$f":"'Sch 10'!F39","v":0},{"$f":"'Sch Title'!I38","v":0},{"$f":"'WP 1'!C40","v":0},{"$f":"'WP 1'!D40","v":0},null,{"$f":"'Sch Title'!K38","v":0},0,0,0]
[{"$f":"'Sch Title'!G39","v":345},{"$f":"'Sch Title'!H39","v":"Power Operated Equipment"},{"$f":"'Sch Title'!J39","v":0},{"$f":"'Sch 10'!F40","v":0},{"$f":"'Sch Title'!I39","v":0},{"$f":"'WP 1'!C41","v":0},{"$f":"'WP 1'!D41","v":0},null,{"$f":"'Sch Title'!K39","v":0},0,0,0]
[{"$f":"'Sch Title'!G40","v":346},{"$f":"'Sch Title'!H40","v":"Communication Equipment"},{"$f":"'Sch Title'!J40","v":0},{"$f":"'Sch 10'!F41","v":0},{"$f":"'Sch Title'!I40","v":0},{"$f":"'WP 1'!C42","v":0},{"$f":"'WP 1'!D42","v":0},null,{"$f":"'Sch Title'!K40","v":0},0,0,0]
[{"$f":"'Sch Title'!G41","v":347},{"$f":"'Sch Title'!H41","v":"Miscellaneous Equipment"},{"$f":"'Sch Title'!J41","v":0},{"$f":"'Sch 10'!F42","v":0},{"$f":"'Sch Title'!I41","v":0},{"$f":"'WP 1'!C43","v":0},{"$f":"'WP 1'!D43","v":0},null,{"$f":"'Sch Title'!K41","v":0},0,0,0]
[{"$f":"'Sch Title'!G42","v":348},{"$f":"'Sch Title'!H42","v":"Other Tangible Plant"},{"$f":"'Sch Title'!J42","v":0},{"$f":"'Sch 10'!F43","v":0},{"$f":"'Sch Title'!I42","v":0},{"$f":"'WP 1'!C44","v":0},{"$f":"'WP 1'!D44","v":0},null,{"$f":"'Sch Title'!K42","v":0},0,0,0]
[]
[null,"TOTAL",{"$f":"SUM(C14:C48)","v":0},null,{"$f":"SUM(E14:E48)","v":0},{"$f":"SUM(F14:F48)","v":0},0,0,0,0,0,0]
[]
[]
[{"$f":"'AR1'!$B$12","v":0},null,null,null,null,null,null,null,null,null,null,{"$f":"$L$1","v":"Work Paper 2"}]
[{"$f":"'Sch Title'!$A$2","v":"Short Form Rate Application"}]
[{"$f":"'Sch Title'!$B$50","v":"PLANT ACCUMULATED DEPRECIATION"}]
[{"$f":"'Sch Title'!$A$4","v":"Test Year Ended 12/31/20"}]
[]
[null,null,null,null,{"$f":"Year2","v":"Enter Year Here"}]
[null,null,"ACCUMULATED",null,"PLANT"]
[null,null,"DEPRECIATION",null,"BALANCE"]
["ACCT.",null,"PER","DEPREC.","PER PRIOR","PLANT","PLANT",null,"FULLY","CALCULATED","PLANT","ACCUMMULATED"]
["NO.","DESCRIPTION",{"$f":"Year1","v":"Enter Year Here"},"RATE",{"$f":"C61","v":"Enter Year Here"},"ADDITION","RETIREMENT","SALVAGE","DEPRECIATED","DEPRECIATION","BALANCE","DEPRECIATION"]
[{"$f":"+A14","v":301},"Organization",{"$f":"+L14","v":0},{"$f":"+D14","v":0},{"$f":"+K14","v":0},{"$f":"'WP 1'!E11","v":0},{"$f":"'WP 1'!F11","v":0},null,{"$f":"I14","v":0},{"$f":"IF($E$57=\"Enter Year Here\",0,((E62-I62+(F62-G62)/2))*D62)","v":0},{"$f":"+E62+F62-G62","v":0},{"$f":"+C62+J62-G62+H62","v":0}]
[302,"Franchises",0,0,0,{"$f":"'WP 1'!E12","v":0},{"$f":"'WP 1'!F12","v":0},null,0,{"$f":"IF($E$57=\"Enter Year Here\",0,((E63-I63+(F63-G63)/2))*D63)","v":0},0,0]
[303,"Land and Land Rights",0,0,0,{"$f":"'WP 1'!E13","v":0},{"$f":"'WP 1'!F13","v":0},null,0,{"$f":"IF($E$57=\"Enter Year Here\",0,((E64-I64+(F64-G64)/2))*D64)","v":0},0,0]
[304,"Structures and Improvements",0,0,0,{"$f":"'WP 1'!E14","v":0},{"$f":"'WP 1'!F14","v":0},null,0,0,0,0]
[305,"Collecting & Improving Reservoirs",0,0,0,{"$f":"'WP 1'!E15","v":0},{"$f":"'WP 1'!F15","v":0},null,0,0,0,0]
[306,"Lake, River, Canal Intakes",0,0,0,{"$f":"'WP 1'!E16","v":0},{"$f":"'WP 1'!F16","v":0},null,0,0,0,0]
[307,"Wells and Springs",0,0,0,{"$f":"'WP 1'!E17","v":0},{"$f":"'WP 1'!F17","v":0},null,0,0,0,0]
[308,"Infiltration Galleries",0,0,0,{"$f":"'WP 1'!E18","v":0},{"$f":"'WP 1'!F18","v":0},null,0,0,0,0]
[309,"Supply Mains",0,0,0,{"$f":"'WP 1'!E19","v":0},{"$f":"'WP 1'!F19","v":0},null,0,0,0,0]
[310,"Power Generation Equipment",0,0,0,{"$f":"'WP 1'!E20","v":0},{"$f":"'WP 1'!F20","v":0},null,0,0,0,0]
[311,"Pumping Equipment",0,0,0,{"$f":"'WP 1'!E21","v":0},{"$f":"'WP 1'!F21","v":0},null,0,0,0,0]
[320,"Water Treatment Equipment",0,0,0,{"$f":"'WP 1'!E22","v":0},{"$f":"'WP 1'!F22","v":0},null,0,0,{"$f":"+E73+F73-G73","v":0},{"$f":"+C73+J73-G73+H73","v":0}]
[320.10000000000002,"Water Treatment Plants",0,0,0,{"$f":"'WP 1'!E23","v":0},{"$f":"'WP 1'!F23","v":0},null,0,0,0,0]
[320.2,"Solution Chemical Feeders",0,0,0,{"$f":"'WP 1'!E24","v":0},{"$f":"'WP 1'!F24","v":0},null,0,0,0,0]
[320.3,"Point-of-Use Treatment Devices",0,0,0,{"$f":"'WP 1'!E25","v":0},{"$f":"'WP 1'!F25","v":0},null,0,0,0,0]
[330,"Distribution Reservoirs and Standpipes",0,0,0,{"$f":"'WP 1'!E26","v":0},{"$f":"'WP 1'!F26","v":0},null,0,0,0,0]
[330.1,"Storage Tanks",0,0,0,{"$f":"'WP 1'!E27","v":0},{"$f":"'WP 1'!F27","v":0},null,0,0,0,0]
[330.2,"Pressure Tanks",0,0,0,{"$f":"'WP 1'!E28","v":0},{"$f":"'WP 1'!F28","v":0},null,0,0,0,0]
[331,"Transmission and Distribution Mains",0,0,0,{"$f":"'WP 1'!E29","v":0},{"$f":"'WP 1'!F29","v":0},null,0,0,0,0]
[333,"Services",0,0,0,{"$f":"'WP 1'!E30","v":0},{"$f":"'WP 1'!F30","v":0},null,0,0,0,0]
[{"$f":"+A34","v":334},"Meters and Meter Installations",0,0,0,{"$f":"'WP 1'!E31","v":0},{"$f":"'WP 1'!F31","v":0},null,0,0,0,0]
[335,"Hydrants",0,0,0,{"$f":"'WP 1'!E32","v":0},{"$f":"'WP 1'!F32","v":0},null,0,0,0,0]
[336,"Backflow Prevention Devices",0,0,0,{"$f":"'WP 1'!E33","v":0},{"$f":"'WP 1'!F33","v":0},null,0,0,0,0]
[339,"Other Plant and Misc. Equipment",0,0,0,{"$f":"'WP 1'!E34","v":0},{"$f":"'WP 1'!F34","v":0},null,0,0,0,0]
[340,"Office Furniture and Equipment",0,0,0,{"$f":"'WP 1'!E35","v":0},{"$f":"'WP 1'!F35","v":0},null,0,0,0,0]
[340.1,"Computer & Software",0,0,0,{"$f":"'WP 1'!E36","v":0},{"$f":"'WP 1'!F36","v":0},null,0,0,0,0]
[341,"Transportation Equipment",0,0,0,{"$f":"'WP 1'!E37","v":0},{"$f":"'WP 1'!F37","v":0},null,0,0,0,0]
[342,"Stores Equipment",0,0,0,{"$f":"'WP 1'!E38","v":0},{"$f":"'WP 1'!F38","v":0},null,0,0,0,0]
[343,"Tools, Shop and Garage Equipment",0,0,0,{"$f":"'WP 1'!E39","v":0},{"$f":"'WP 1'!F39","v":0},null,0,0,0,0]
[344,"Laboratory Equipment",0,0,0,{"$f":"'WP 1'!E40","v":0},{"$f":"'WP 1'!F40","v":0},null,0,0,0,0]
[345,"Power Operated Equipment",0,0,0,{"$f":"'WP 1'!E41","v":0},{"$f":"'WP 1'!F41","v":0},null,0,0,0,0]
[346,"Communication Equipment",0,0,0,{"$f":"'WP 1'!E42","v":0},{"$f":"'WP 1'!F42","v":0},null,0,0,0,0]
[347,"Miscellaneous Equipment",0,0,0,{"$f":"'WP 1'!E43","v":0},{"$f":"'WP 1'!F43","v":0},null,0,0,0,0]
[348,"Other Tangible Plant",0,0,0,{"$f":"'WP 1'!E44","v":0},{"$f":"'WP 1'!F44","v":0},null,0,0,0,0]
[]
[null,null,{"$f":"SUM(C62:C95)","v":0},null,{"$f":"SUM(E62:E95)","v":0},{"$f":"SUM(F62:F95)","v":0},0,0,0,0,0,0]
[]
[{"$f":"'AR1'!$B$12","v":0},null,null,null,null,null,null,null,null,null,null,{"$f":"$L$1","v":"Work Paper 2"}]
[{"$f":"'Sch Title'!$A$2","v":"Short Form Rate Application"}]
[{"$f":"'Sch Title'!$B$50","v":"PLANT ACCUMULATED DEPRECIATION"}]
[{"$f":"'Sch Title'!$A$4","v":"Test Year Ended 12/31/20"}]
[]
[null,null,null,null,{"$f":"Year3","v":"Enter Year Here"}]
[null,null,"ACCUMULATED",null,"PLANT"]
[null,null,"DEPRECIATION",null,"BALANCE"]
[null,null,"PER","DEPREC.","PER","PLANT","PLANT",null,"FULLY","CALCULATED","PLANT","ACCUMMULATED"]
[null,null,{"$f":"Year2","v":"Enter Year Here"},"RATE",{"$f":"C108","v":"Enter Year Here"},"ADDITION","RETIREMENT","SALVAGE","DEPRECIATED","DEPRECIATION","BALANCE","DEPRECIATION"]
[{"$f":"+A14","v":301},{"$f":"+B62","v":"Organization"},{"$f":"+L62","v":0},{"$f":"+D62","v":0},{"$f":"+K62","v":0},{"$f":"'WP 1'!G11","v":0},{"$f":"'WP 1'!H11","v":0},null,{"$f":"I62","v":0},{"$f":"IF($E$104=\"Enter Year Here\",0,((E109-I109+(F109-G109)/2))*D109)","v":0},{"$f":"+E109+F109-G109","v":0},{"$f":"+C109+J109-G109+H109","v":0}]
[302,"Franchises",0,0,0,{"$f":"'WP 1'!G12","v":0},{"$f":"'WP 1'!H12","v":0},null,0,{"$f":"IF($E$104=\"Enter Year Here\",0,((E110-I110+(F110-G110)/2))*D110)","v":0},0,0]
[303,"Land and Land Rights",0,0,0,{"$f":"'WP 1'!G13","v":0},{"$f":"'WP 1'!H13","v":0},null,0,{"$f":"IF($E$104=\"Enter Year Here\",0,((E111-I111+(F111-G111)/2))*D111)","v":0},0,0]
[304,"Structures and Improvements",0,0,0,{"$f":"'WP 1'!G14","v":0},{"$f":"'WP 1'!H14","v":0},null,0,0,0,0]
[305,"Collecting & Improving Reservoirs",0,0,0,{"$f":"'WP 1'!G15","v":0},{"$f":"'WP 1'!H15","v":0},null,0,0,0,0]
[306,"Lake, River, Canal Intakes",0,0,0,{"$f":"'WP 1'!G16","v":0},{"$f":"'WP 1'!H16","v":0},null,0,0,0,0]
[307,"Wells and Springs",0,0,0,{"$f":"'WP 1'!G17","v":0},{"$f":"'WP 1'!H17","v":0},null,0,0,0,0]
[308,"Infiltration Galleries",0,0,0,{"$f":"'WP 1'!G18","v":0},{"$f":"'WP 1'!H18","v":0},null,0,0,0,0]
[309,"Supply Mains",0,0,0,{"$f":"'WP 1'!G19","v":0},{"$f":"'WP 1'!H19","v":0},null,0,0,0,0]
[310,"Power Generation Equipment",0,0,0,{"$f":"'WP 1'!G20","v":0},{"$f":"'WP 1'!H20","v":0},null,0,0,0,0]
[311,"Pumping Equipment",0,0,0,{"$f":"'WP 1'!G21","v":0},{"$f":"'WP 1'!H21","v":0},null,0,0,{"$f":"+E119+F119-G119","v":0},{"$f":"+C119+J119-G119+H119","v":0}]
[320,"Water Treatment Equipment",0,0,0,{"$f":"'WP 1'!G22","v":0},{"$f":"'WP 1'!H22","v":0},null,0,0,0,0]
[320.10000000000002,"Water Treatment Plants",0,0,0,{"$f":"'WP 1'!G23","v":0},{"$f":"'WP 1'!H23","v":0},null,0,0,0,0]
[320.2,"Solution Chemical Feeders",0,0,0,{"$f":"'WP 1'!G24","v":0},{"$f":"'WP 1'!H24","v":0},null,0,0,0,0]
[320.3,"Point-of-Use Treatment Devices",0,0,0,{"$f":"'WP 1'!G25","v":0},{"$f":"'WP 1'!H25","v":0},null,0,0,0,0]
[330,"Distribution Reservoirs and Standpipes",0,0,0,{"$f":"'WP 1'!G26","v":0},{"$f":"'WP 1'!H26","v":0},null,0,0,0,0]
[330.1,"Storage Tanks",0,0,0,{"$f":"'WP 1'!G27","v":0},{"$f":"'WP 1'!H27","v":0},null,0,0,0,0]
[330.2,"Pressure Tanks",0,0,0,{"$f":"'WP 1'!G28","v":0},{"$f":"'WP 1'!H28","v":0},null,0,0,0,0]
[331,"Transmission and Distribution Mains",0,0,0,{"$f":"'WP 1'!G29","v":0},{"$f":"'WP 1'!H29","v":0},null,0,0,0,0]
[333,"Services",0,0,0,{"$f":"'WP 1'!G30","v":0},{"$f":"'WP 1'!H30","v":0},null,0,0,0,0]
[334,"Meters and Meter Installations",0,0,0,{"$f":"'WP 1'!G31","v":0},{"$f":"'WP 1'!H31","v":0},null,0,0,0,0]
[335,"Hydrants",0,0,0,{"$f":"'WP 1'!G32","v":0},{"$f":"'WP 1'!H32","v":0},null,0,0,0,0]
[336,"Backflow Prevention Devices",0,0,0,{"$f":"'WP 1'!G33","v":0},{"$f":"'WP 1'!H33","v":0},null,0,0,0,0]
[339,"Other Plant and Misc. Equipment",0,0,0,{"$f":"'WP 1'!G34","v":0},{"$f":"'WP 1'!H34","v":0},null,0,0,0,0]
[340,"Office Furniture and Equipment",0,0,0,{"$f":"'WP 1'!G35","v":0},{"$f":"'WP 1'!H35","v":0},null,0,0,0,0]
[340.1,"Computer & Software",0,0,0,{"$f":"'WP 1'!G36","v":0},{"$f":"'WP 1'!H36","v":0},null,0,0,0,0]
[341,"Transportation Equipment",0,0,0,{"$f":"'WP 1'!G37","v":0},{"$f":"'WP 1'!H37","v":0},null,0,0,0,0]
[342,"Stores Equipment",0,0,0,{"$f":"'WP 1'!G38","v":0},{"$f":"'WP 1'!H38","v":0},null,0,0,0,0]
[343,"Tools, Shop and Garage Equipment",0,0,0,{"$f":"'WP 1'!G39","v":0},{"$f":"'WP 1'!H39","v":0},null,0,0,0,0]
[344,"Laboratory Equipment",0,0,0,{"$f":"'WP 1'!G40","v":0},{"$f":"'WP 1'!H40","v":0},null,0,0,0,0]
[345,"Power Operated Equipment",0,0,0,{"$f":"'WP 1'!G41","v":0},{"$f":"'WP 1'!H41","v":0},null,0,0,0,0]
[346,"Communication Equipment",0,0,0,{"$f":"'WP 1'!G42","v":0},{"$f":"'WP 1'!H42","v":0},null,0,0,0,0]
[347,"Miscellaneous Equipment",0,0,0,{"$f":"'WP 1'!G43","v":0},{"$f":"'WP 1'!H43","v":0},null,0,0,0,0]
[348,"Other Tangible Plant",0,0,0,{"$f":"'WP 1'!G44","v":0},{"$f":"'WP 1'!H44","v":0},null,0,0,0,0]
[]
[null,null,{"$f":"SUM(C109:C142)","v":0},null,{"$f":"SUM(E109:E142)","v":0},0,0,0,0,0,0,0]
[]
[{"$f":"'AR1'!$B$12","v":0},null,null,null,null,null,null,null,null,null,null,{"$f":"$L$1","v":"Work Paper 2"}]
[{"$f":"'Sch Title'!$A$2","v":"Short Form Rate Application"}]
[{"$f":"'Sch Title'!$B$50","v":"PLANT ACCUMULATED DEPRECIATION"}]
[{"$f":"'Sch Title'!$A$4","v":"Test Year Ended 12/31/20"}]
[]
[null,null,null,null,{"$f":"Year4","v":"Enter Year Here"}]
[null,null,"ACCUMULATED",null,"PLANT"]
[null,null,"DEPRECIATION",null,"BALANCE"]
[null,null,"PER ","DEPREC.","PER","PLANT","PLANT",null,"FULLY","CALCULATED","PLANT","ACCUMMULATED"]
[null,null,{"$f":"Year3","v":"Enter Year Here"},"RATE",{"$f":"C155","v":"Enter Year Here"},"ADDITION","RETIREMENT","SALVAGE","DEPRECIATED","DEPRECIATION","BALANCE","DEPRECIATION"]
[{"$f":"+A109","v":301},"Organization",{"$f":"+L109","v":0},{"$f":"+D109","v":0},{"$f":"+K109","v":0},{"$f":"'WP 1'!I11","v":0},{"$f":"'WP 1'!J11","v":0},null,{"$f":"I109","v":0},{"$f":"IF($E$151=\"Enter Year Here\",0,((E156-I156+(F156-G156)/2))*D156)","v":0},{"$f":"+E156+F156-G156","v":0},{"$f":"+C156+J156-G156+H156","v":0}]
[302,"Franchises",0,0,0,{"$f":"'WP 1'!I12","v":0},{"$f":"'WP 1'!J12","v":0},null,0,{"$f":"IF($E$151=\"Enter Year Here\",0,((E157-I157+(F157-G157)/2))*D157)","v":0},0,0]
[303,"Land and Land Rights",0,0,0,{"$f":"'WP 1'!I13","v":0},{"$f":"'WP 1'!J13","v":0},null,0,{"$f":"IF($E$151=\"Enter Year Here\",0,((E158-I158+(F158-G158)/2))*D158)","v":0},0,0]
[304,"Structures and Improvements",0,0,0,{"$f":"'WP 1'!I14","v":0},{"$f":"'WP 1'!J14","v":0},null,0,0,0,0]
[305,"Collecting & Improving Reservoirs",0,0,0,{"$f":"'WP 1'!I15","v":0},{"$f":"'WP 1'!J15","v":0},null,0,0,0,0]
[306,"Lake, River, Canal Intakes",0,0,0,{"$f":"'WP 1'!I16","v":0},{"$f":"'WP 1'!J16","v":0},null,0,0,0,0]
[307,"Wells and Springs",0,0,0,{"$f":"'WP 1'!I17","v":0},{"$f":"'WP 1'!J17","v":0},null,0,0,0,0]
[308,"Infiltration Galleries",0,0,0,{"$f":"'WP 1'!I18","v":0},{"$f":"'WP 1'!J18","v":0},null,0,0,0,0]
[309,"Supply Mains",0,0,0,{"$f":"'WP 1'!I19","v":0},{"$f":"'WP 1'!J19","v":0},null,0,0,{"$f":"+E164+F164-G164","v":0},{"$f":"+C164+J164-G164+H164","v":0}]
[310,"Power Generation Equipment",0,0,0,{"$f":"'WP 1'!I20","v":0},{"$f":"'WP 1'!J20","v":0},null,0,0,0,0]
[311,"Pumping Equipment",0,0,0,{"$f":"'WP 1'!I21","v":0},{"$f":"'WP 1'!J21","v":0},null,0,0,0,0]
[320,"Water Treatment Equipment",0,0,0,{"$f":"'WP 1'!I22","v":0},{"$f":"'WP 1'!J22","v":0},null,0,0,0,0]
[320.10000000000002,"Water Treatment Plants",0,0,0,{"$f":"'WP 1'!I23","v":0},{"$f":"'WP 1'!J23","v":0},null,0,0,0,0]
[320.2,"Solution Chemical Feeders",0,0,0,{"$f":"'WP 1'!I24","v":0},{"$f":"'WP 1'!J24","v":0},null,0,0,0,0]
[320.3,"Point-of-Use Treatment Devices",0,0,0,{"$f":"'WP 1'!I25","v":0},{"$f":"'WP 1'!J25","v":0},null,0,0,0,0]
[330,"Distribution Reservoirs and Standpipes",0,0,0,{"$f":"'WP 1'!I26","v":0},{"$f":"'WP 1'!J26","v":0},null,0,0,0,0]
[330.1,"Storage Tanks",0,0,0,{"$f":"'WP 1'!I27","v":0},{"$f":"'WP 1'!J27","v":0},null,0,0,0,0]
[330.2,"Pressure Tanks",0,0,0,{"$f":"'WP 1'!I28","v":0},{"$f":"'WP 1'!J28","v":0},null,0,0,0,0]
[331,"Transmission and Distribution Mains",0,0,0,{"$f":"'WP 1'!I29","v":0},{"$f":"'WP 1'!J29","v":0},null,0,0,0,0]
[333,"Services",0,0,0,{"$f":"'WP 1'!I30","v":0},{"$f":"'WP 1'!J30","v":0},null,0,0,0,0]
[{"$f":"+A129","v":334},"Meters and Meter Installations",0,0,0,{"$f":"'WP 1'!I31","v":0},{"$f":"'WP 1'!J31","v":0},null,0,0,0,0]
[335,"Hydrants",0,0,0,{"$f":"'WP 1'!I32","v":0},{"$f":"'WP 1'!J32","v":0},null,0,0,0,0]
[336,"Backflow Prevention Devices",0,0,0,{"$f":"'WP 1'!I33","v":0},{"$f":"'WP 1'!J33","v":0},null,0,0,0,0]
[339,"Other Plant and Misc. Equipment",0,0,0,{"$f":"'WP 1'!I34","v":0},{"$f":"'WP 1'!J34","v":0},null,0,0,0,0]
[340,"Office Furniture and Equipment",0,0,0,{"$f":"'WP 1'!I35","v":0},{"$f":"'WP 1'!J35","v":0},null,0,0,0,0]
[340.1,"Computer & Software",0,0,0,{"$f":"'WP 1'!I36","v":0},{"$f":"'WP 1'!J36","v":0},null,0,0,0,0]
[341,"Transportation Equipment",0,0,0,{"$f":"'WP 1'!I37","v":0},{"$f":"'WP 1'!J37","v":0},null,0,0,0,0]
[342,"Stores Equipment",0,0,0,{"$f":"'WP 1'!I38","v":0},{"$f":"'WP 1'!J38","v":0},null,0,0,0,0]
[343,"Tools, Shop and Garage Equipment",0,0,0,{"$f":"'WP 1'!I39","v":0},{"$f":"'WP 1'!J39","v":0},null,0,0,0,0]
[344,"Laboratory Equipment",0,0,0,{"$f":"'WP 1'!I40","v":0},{"$f":"'WP 1'!J40","v":0},null,0,0,0,0]
[345,"Power Operated Equipment",0,0,0,{"$f":"'WP 1'!I41","v":0},{"$f":"'WP 1'!J41","v":0},null,0,0,0,0]
[346,"Communication Equipment",0,0,0,{"$f":"'WP 1'!I42","v":0},{"$f":"'WP 1'!J42","v":0},null,0,0,0,0]
[347,"Miscellaneous Equipment",0,0,0,{"$f":"'WP 1'!I43","v":0},{"$f":"'WP 1'!J43","v":0},null,0,0,0,0]
[348,"Other Tangible Plant",0,0,0,{"$f":"'WP 1'!I44","v":0},{"$f":"'WP 1'!J44","v":0},null,0,0,0,0]
[]
[null,null,{"$f":"SUM(C155:C189)","v":0},null,{"$f":"SUM(E156:E190)","v":0},0,0,0,0,0,0,{"$f":"SUM(L156:L189)","v":0}]
[]
[{"$f":"'AR1'!$B$12","v":0}]
[{"$f":"'Sch Title'!$A$2","v":"Short Form Rate Application"},null,null,null,null,null,null,null,null,null,null,{"$f":"$L$1","v":"Work Paper 2"}]
[{"$f":"'Sch Title'!$B$50","v":"PLANT ACCUMULATED DEPRECIATION"}]
[{"$f":"'Sch Title'!$A$4","v":"Test Year Ended 12/31/20"}]
[]
[]
[]
[null,null,null,null,{"$f":"Year5","v":"Enter Year Here"}]
[null,null,"ACCUMULATED",null,"PLANT"]
[null,null,"DEPRECIATION",null,"BALANCE"]
[null,null,"PER","DEPREC.","PER ","PLANT","PLANT",null,"FULLY","CALCULATED","PLANT","ACCUMMULATED"]
[null,null,{"$f":"Year4","v":"Enter Year Here"},"RATE",{"$f":"C204","v":"Enter Year Here"},"ADDITION","RETIREMENT","SALVAGE","DEPRECIATED","DEPRECIATION","BALANCE","DEPRECIATION"]
[{"$f":"+A156","v":301},"Organization",{"$f":"+L156","v":0},{"$f":"+D156","v":0},{"$f":"+K156","v":0},{"$f":"'WP 1'!K11","v":0},{"$f":"'WP 1'!L11","v":0},null,{"$f":"I156","v":0},{"$f":"IF($E$200=\"Enter Year Here\",0,((E205-I205+(F205-G205)/2))*D205)","v":0},{"$f":"+E205+F205-G205","v":0},{"$f":"+C205+J205-G205+H205","v":0}]
[302,"Franchises",0,0,0,{"$f":"'WP 1'!K12","v":0},{"$f":"'WP 1'!L12","v":0},null,0,{"$f":"IF($E$200=\"Enter Year Here\",0,((E206-I206+(F206-G206)/2))*D206)","v":0},{"$f":"+E206+F206-G206","v":0},{"$f":"+C206+J206-G206+H206","v":0}]
[303,"Land and Land Rights",0,0,0,{"$f":"'WP 1'!K13","v":0},{"$f":"'WP 1'!L13","v":0},null,0,{"$f":"IF($E$200=\"Enter Year Here\",0,((E207-I207+(F207-G207)/2))*D207)","v":0},{"$f":"+E207+F207-G207","v":0},{"$f":"+C207+J207-G207+H207","v":0}]
[304,"Structures and Improvements",0,0,0,{"$f":"'WP 1'!K14","v":0},{"$f":"'WP 1'!L14","v":0},null,0,0,0,0]
[305,"Collecting & Improving Reservoirs",0,0,0,{"$f":"'WP 1'!K15","v":0},{"$f":"'WP 1'!L15","v":0},null,0,0,0,0]
[306,"Lake, River, Canal Intakes",0,0,0,{"$f":"'WP 1'!K16","v":0},{"$f":"'WP 1'!L16","v":0},null,0,0,0,0]
[307,"Wells and Springs",0,0,0,{"$f":"'WP 1'!K17","v":0},{"$f":"'WP 1'!L17","v":0},null,0,0,0,0]
[308,"Infiltration Galleries",0,0,0,{"$f":"'WP 1'!K18","v":0},{"$f":"'WP 1'!L18","v":0},null,0,0,0,0]
[309,"Supply Mains",0,0,0,{"$f":"'WP 1'!K19","v":0},{"$f":"'WP 1'!L19","v":0},null,0,0,0,0]
[310,"Power Generation Equipment",0,0,0,{"$f":"'WP 1'!K20","v":0},{"$f":"'WP 1'!L20","v":0},null,0,0,0,0]
[311,"Pumping Equipment",0,0,0,{"$f":"'WP 1'!K21","v":0},{"$f":"'WP 1'!L21","v":0},null,0,0,0,0]
[320,"Water Treatment Equipment",0,0,0,{"$f":"'WP 1'!K22","v":0},{"$f":"'WP 1'!L22","v":0},null,0,0,0,0]
[320.10000000000002,"Water Treatment Plants",0,0,0,{"$f":"'WP 1'!K23","v":0},{"$f":"'WP 1'!L23","v":0},null,0,0,0,0]
[320.2,"Solution Chemical Feeders",0,0,0,{"$f":"'WP 1'!K24","v":0},{"$f":"'WP 1'!L24","v":0},null,0,0,0,0]
[320.3,"Point-of-Use Treatment Devices",0,0,0,{"$f":"'WP 1'!K25","v":0},{"$f":"'WP 1'!L25","v":0},null,0,0,0,0]
[330,"Distribution Reservoirs and Standpipes",0,0,0,{"$f":"'WP 1'!K26","v":0},{"$f":"'WP 1'!L26","v":0},null,0,0,0,0]
[330.1,"Storage Tanks",0,0,0,{"$f":"'WP 1'!K27","v":0},{"$f":"'WP 1'!L27","v":0},null,0,0,0,0]
[330.2,"Pressure Tanks",0,0,0,{"$f":"'WP 1'!K28","v":0},{"$f":"'WP 1'!L28","v":0},null,0,0,0,0]
[331,"Transmission and Distribution Mains",0,0,0,{"$f":"'WP 1'!K29","v":0},{"$f":"'WP 1'!L29","v":0},null,0,0,0,0]
[333,"Services",0,0,0,{"$f":"'WP 1'!K30","v":0},{"$f":"'WP 1'!L30","v":0},null,0,0,0,0]
[{"$f":"+A176","v":334},"Meters and Meter Installations",0,0,0,{"$f":"'WP 1'!K31","v":0},{"$f":"'WP 1'!L31","v":0},null,0,0,0,0]
[335,"Hydrants",0,0,0,{"$f":"'WP 1'!K32","v":0},{"$f":"'WP 1'!L32","v":0},null,0,0,0,0]
[336,"Backflow Prevention Devices",0,0,0,{"$f":"'WP 1'!K33","v":0},{"$f":"'WP 1'!L33","v":0},null,0,0,0,0]
[339,"Other Plant and Misc. Equipment",0,0,0,{"$f":"'WP 1'!K34","v":0},{"$f":"'WP 1'!L34","v":0},null,0,0,0,0]
[340,"Office Furniture and Equipment",0,0,0,{"$f":"'WP 1'!K35","v":0},{"$f":"'WP 1'!L35","v":0},null,0,0,0,0]
[340.1,"Computer & Software",0,0,0,{"$f":"'WP 1'!K36","v":0},{"$f":"'WP 1'!L36","v":0},null,0,0,0,0]
[341,"Transportation Equipment",0,0,0,{"$f":"'WP 1'!K37","v":0},{"$f":"'WP 1'!L37","v":0},null,0,0,0,0]
[342,"Stores Equipment",0,0,0,{"$f":"'WP 1'!K38","v":0},{"$f":"'WP 1'!L38","v":0},null,0,0,0,0]
[343,"Tools, Shop and Garage Equipment",0,0,0,{"$f":"'WP 1'!K39","v":0},{"$f":"'WP 1'!L39","v":0},null,0,0,0,0]
[344,"Laboratory Equipment",0,0,0,{"$f":"'WP 1'!K40","v":0},{"$f":"'WP 1'!L40","v":0},null,0,0,0,0]
[345,"Power Operated Equipment",0,0,0,{"$f":"'WP 1'!K41","v":0},{"$f":"'WP 1'!L41","v":0},null,0,0,0,0]
[346,"Communication Equipment",0,0,0,{"$f":"'WP 1'!K42","v":0},{"$f":"'WP 1'!L42","v":0},null,0,0,0,0]
[347,"Miscellaneous Equipment",0,0,0,{"$f":"'WP 1'!K43","v":0},{"$f":"'WP 1'!L43","v":0},null,0,0,0,0]
[348,"Other Tangible Plant",0,0,0,{"$f":"'WP 1'!K44","v":0},{"$f":"'WP 1'!L44","v":0},null,0,0,0,0]
[]
[null,null,{"$f":"SUM(C207:C238)","v":0},null,{"$f":"SUM(E205:E238)","v":0},0,0,0,0,0,0,0]
[]
[{"$f":"'AR1'!$B$12","v":0}]
[{"$f":"'Sch Title'!$A$2","v":"Short Form Rate Application"},null,null,null,null,null,null,null,null,null,null,{"$f":"$L$1","v":"Work Paper 2"}]
[{"$f":"'Sch Title'!$B$50","v":"PLANT ACCUMULATED DEPRECIATION"}]
[{"$f":"'Sch Title'!$A$4","v":"Test Year Ended 12/31/20"}]
[]
[]
[null,null,null,null,{"$f":"Year6","v":"Enter Year Here"}]
[null,null,"ACCUMULATED",null,"PLANT"]
[null,null,"DEPRECIATION",null,"BALANCE"]
[null,null,"PER","DEPREC.","PER","PLANT","PLANT",null,"FULLY","CALCULATED","PLANT","ACCUMMULATED"]
[null,null,{"$f":"Year5","v":"Enter Year Here"},"RATE",{"$f":"C252","v":"Enter Year Here"},"ADDITION","RETIREMENT","SALVAGE","DEPRECIATED","DEPRECIATION","BALANCE","DEPRECIATION"]
[{"$f":"+A205","v":301},"Organization",{"$f":"+L205","v":0},{"$f":"+D205","v":0},{"$f":"+K205","v":0},{"$f":"'WP 1'!M11","v":0},{"$f":"'WP 1'!N11","v":0},null,{"$f":"I205","v":0},{"$f":"IF($E$248=\"Enter Year Here\",0,((E253-I253+(F253-G253)/2))*D253)","v":0},{"$f":"+E253+F253-G253","v":0},{"$f":"+C253+J253-G253+H253","v":0}]
[302,"Franchises",0,0,0,{"$f":"'WP 1'!M12","v":0},{"$f":"'WP 1'!N12","v":0},null,0,{"$f":"IF($E$248=\"Enter Year Here\",0,((E254-I254+(F254-G254)/2))*D254)","v":0},{"$f":"+E254+F254-G254","v":0},{"$f":"+C254+J254-G254+H254","v":0}]
[303,"Land and Land Rights",0,0,0,{"$f":"'WP 1'!M13","v":0},{"$f":"'WP 1'!N13","v":0},null,0,{"$f":"IF($E$248=\"Enter Year Here\",0,((E255-I255+(F255-G255)/2))*D255)","v":0},{"$f":"+E255+F255-G255","v":0},{"$f":"+C255+J255-G255+H255","v":0}]
[304,"Structures and Improvements",0,0,0,{"$f":"'WP 1'!M14","v":0},{"$f":"'WP 1'!N14","v":0},null,0,0,0,0]
[305,"Collecting & Improving Reservoirs",0,0,0,{"$f":"'WP 1'!M15","v":0},{"$f":"'WP 1'!N15","v":0},null,0,0,0,0]
[306,"Lake, River, Canal Intakes",0,0,0,{"$f":"'WP 1'!M16","v":0},{"$f":"'WP 1'!N16","v":0},null,0,0,0,0]
[307,"Wells and Springs",0,0,0,{"$f":"'WP 1'!M17","v":0},{"$f":"'WP 1'!N17","v":0},null,0,0,0,0]
[308,"Infiltration Galleries",0,0,0,{"$f":"'WP 1'!M18","v":0},{"$f":"'WP 1'!N18","v":0},null,0,0,0,0]
[309,"Supply Mains",0,0,0,{"$f":"'WP 1'!M19","v":0},{"$f":"'WP 1'!N19","v":0},null,0,0,0,0]
[310,"Power Generation Equipment",0,0,0,{"$f":"'WP 1'!M20","v":0},{"$f":"'WP 1'!N20","v":0},null,0,0,0,0]
[311,"Pumping Equipment",0,0,0,{"$f":"'WP 1'!M21","v":0},{"$f":"'WP 1'!N21","v":0},null,0,0,0,0]
[320,"Water Treatment Equipment",0,0,0,{"$f":"'WP 1'!M22","v":0},{"$f":"'WP 1'!N22","v":0},null,0,0,0,0]
[320.10000000000002,"Water Treatment Plants",0,0,0,{"$f":"'WP 1'!M23","v":0},{"$f":"'WP 1'!N23","v":0},null,0,0,0,0]
[320.2,"Solution Chemical Feeders",0,0,0,{"$f":"'WP 1'!M24","v":0},{"$f":"'WP 1'!N24","v":0},null,0,0,0,0]
[320.3,"Point-of-Use Treatment Devices",0,0,0,{"$f":"'WP 1'!M25","v":0},{"$f":"'WP 1'!N25","v":0},null,0,0,0,0]
[330,"Distribution Reservoirs and Standpipes",0,0,0,{"$f":"'WP 1'!M26","v":0},{"$f":"'WP 1'!N26","v":0},null,0,0,0,0]
[330.1,"Storage Tanks",0,0,0,{"$f":"'WP 1'!M27","v":0},{"$f":"'WP 1'!N27","v":0},null,0,0,0,0]
[330.2,"Pressure Tanks",0,0,0,{"$f":"'WP 1'!M28","v":0},{"$f":"'WP 1'!N28","v":0},null,0,0,0,0]
[331,"Transmission and Distribution Mains",0,0,0,{"$f":"'WP 1'!M29","v":0},{"$f":"'WP 1'!N29","v":0},null,0,0,0,0]
[333,"Services",0,0,0,{"$f":"'WP 1'!M30","v":0},{"$f":"'WP 1'!N30","v":0},null,0,0,0,0]
[{"$f":"+A225","v":334},"Meters and Meter Installations",0,0,0,{"$f":"'WP 1'!M31","v":0},{"$f":"'WP 1'!N31","v":0},null,0,0,0,0]
[335,"Hydrants",0,0,0,{"$f":"'WP 1'!M32","v":0},{"$f":"'WP 1'!N32","v":0},null,0,0,0,0]
[336,"Backflow Prevention Devices",0,0,0,{"$f":"'WP 1'!M33","v":0},{"$f":"'WP 1'!N33","v":0},null,0,0,0,0]
[339,"Other Plant and Misc. Equipment",0,0,0,{"$f":"'WP 1'!M34","v":0},{"$f":"'WP 1'!N34","v":0},null,0,0,0,0]
[340,"Office Furniture and Equipment",0,0,0,{"$f":"'WP 1'!M35","v":0},{"$f":"'WP 1'!N35","v":0},null,0,0,0,0]
[340.1,"Computer & Software",0,0,0,{"$f":"'WP 1'!M36","v":0},{"$f":"'WP 1'!N36","v":0},null,0,0,0,0]
[341,"Transportation Equipment",0,0,0,{"$f":"'WP 1'!M37","v":0},{"$f":"'WP 1'!N37","v":0},null,0,0,0,0]
[342,"Stores Equipment",0,0,0,{"$f":"'WP 1'!M38","v":0},{"$f":"'WP 1'!N38","v":0},null,0,0,0,0]
[343,"Tools, Shop and Garage Equipment",0,0,0,{"$f":"'WP 1'!M39","v":0},{"$f":"'WP 1'!N39","v":0},null,0,0,0,0]
[344,"Laboratory Equipment",0,0,0,{"$f":"'WP 1'!M40","v":0},{"$f":"'WP 1'!N40","v":0},null,0,0,0,0]
[345,"Power Operated Equipment",0,0,0,{"$f":"'WP 1'!M41","v":0},{"$f":"'WP 1'!N41","v":0},null,0,0,0,0]
[346,"Communication Equipment",0,0,0,{"$f":"'WP 1'!M42","v":0},{"$f":"'WP 1'!N42","v":0},null,0,0,0,0]
[347,"Miscellaneous Equipment",0,0,0,{"$f":"'WP 1'!M43","v":0},{"$f":"'WP 1'!N43","v":0},null,0,0,0,0]
[348,"Other Tangible Plant",0,0,0,{"$f":"'WP 1'!M44","v":0},{"$f":"'WP 1'!N44","v":0},null,0,0,0,0]
[]
[null,null,{"$f":"SUM(C252:C286)","v":0},null,{"$f":"SUM(E252:E286)","v":0},{"$f":"SUM(F252:F286)","v":0},{"$f":"SUM(G253:G286)","v":0},0,0,0,0,0]
[]
[{"$f":"'AR1'!$B$12","v":0}]
[{"$f":"'Sch Title'!$A$2","v":"Short Form Rate Application"}]
[{"$f":"'Sch Title'!$B$50","v":"PLANT ACCUMULATED DEPRECIATION"},null,null,null,null,null,null,null,null,null,null,{"$f":"$L$1","v":"Work Paper 2"}]
[{"$f":"'Sch Title'!$A$4","v":"Test Year Ended 12/31/20"}]
[]
[]
[null,null,null,null,{"$f":"Year7","v":"Enter Year Here"}]
[null,null,"ACCUMULATED",null,"PLANT"]
[null,null,"DEPRECIATION",null,"BALANCE"]
[null,null,"PER","DEPREC.","PER","PLANT","PLANT",null,"FULLY","CALCULATED","PLANT","ACCUMMULATED"]
[null,null,{"$f":"Year6","v":"Enter Year Here"},"RATE",{"$f":"C300","v":"Enter Year Here"},"ADDITION","RETIREMENT","SALVAGE","DEPRECIATED","DEPRECIATION","BALANCE","DEPRECIATION"]
[{"$f":"+A253","v":301},"Organization",{"$f":"+L253","v":0},{"$f":"+D253","v":0},{"$f":"+K253","v":0},{"$f":"'WP 1'!O11","v":0},{"$f":"'WP 1'!P11","v":0},null,{"$f":"I253","v":0},{"$f":"IF($E$296=\"Enter Year Here\",0,((E301-I301+(F301-G301)/2))*D301)","v":0},{"$f":"+E301+F301-G301","v":0},{"$f":"+C301+J301-G301+H301","v":0}]
[302,"Franchises",0,0,0,{"$f":"'WP 1'!O12","v":0},{"$f":"'WP 1'!P12","v":0},null,0,{"$f":"IF($E$296=\"Enter Year Here\",0,((E302-I302+(F302-G302)/2))*D302)","v":0},{"$f":"+E302+F302-G302","v":0},{"$f":"+C302+J302-G302+H302","v":0}]
[303,"Land and Land Rights",0,0,0,{"$f":"'WP 1'!O13","v":0},{"$f":"'WP 1'!P13","v":0},null,0,{"$f":"IF($E$296=\"Enter Year Here\",0,((E303-I303+(F303-G303)/2))*D303)","v":0},{"$f":"+E303+F303-G303","v":0},{"$f":"+C303+J303-G303+H303","v":0}]
[304,"Structures and Improvements",0,0,0,{"$f":"'WP 1'!O14","v":0},{"$f":"'WP 1'!P14","v":0},null,0,0,0,0]
[305,"Collecting & Improving Reservoirs",0,0,0,{"$f":"'WP 1'!O15","v":0},{"$f":"'WP 1'!P15","v":0},null,0,0,0,0]
[306,"Lake, River, Canal Intakes",0,0,0,{"$f":"'WP 1'!O16","v":0},{"$f":"'WP 1'!P16","v":0},null,0,0,0,0]
[307,"Wells and Springs",0,0,0,{"$f":"'WP 1'!O17","v":0},{"$f":"'WP 1'!P17","v":0},null,0,0,0,0]
[308,"Infiltration Galleries",0,0,0,{"$f":"'WP 1'!O18","v":0},{"$f":"'WP 1'!P18","v":0},null,0,0,0,0]
[309,"Supply Mains",0,0,0,{"$f":"'WP 1'!O19","v":0},{"$f":"'WP 1'!P19","v":0},null,0,0,0,0]
[310,"Power Generation Equipment",0,0,0,{"$f":"'WP 1'!O20","v":0},{"$f":"'WP 1'!P20","v":0},null,0,0,0,0]
[311,"Pumping Equipment",0,0,0,{"$f":"'WP 1'!O21","v":0},{"$f":"'WP 1'!P21","v":0},null,0,0,0,0]
[320,"Water Treatment Equipment",0,0,0,{"$f":"'WP 1'!O22","v":0},{"$f":"'WP 1'!P22","v":0},null,0,0,0,0]
[320.10000000000002,"Water Treatment Plants",0,0,0,{"$f":"'WP 1'!O23","v":0},{"$f":"'WP 1'!P23","v":0},null,0,0,0,0]
[320.2,"Solution Chemical Feeders",0,0,0,{"$f":"'WP 1'!O24","v":0},{"$f":"'WP 1'!P24","v":0},null,0,0,0,0]
[320.3,"Point-of-Use Treatment Devices",0,0,0,{"$f":"'WP 1'!O25","v":0},{"$f":"'WP 1'!P25","v":0},null,0,0,0,0]
[330,"Distribution Reservoirs and Standpipes",0,0,0,{"$f":"'WP 1'!O26","v":0},{"$f":"'WP 1'!P26","v":0},null,0,0,0,0]
[330.1,"Storage Tanks",0,0,0,{"$f":"'WP 1'!O27","v":0},{"$f":"'WP 1'!P27","v":0},null,0,0,0,0]
[330.2,"Pressure Tanks",0,0,0,{"$f":"'WP 1'!O28","v":0},{"$f":"'WP 1'!P28","v":0},null,0,0,0,0]
[331,"Transmission and Distribution Mains",0,0,0,{"$f":"'WP 1'!O29","v":0},{"$f":"'WP 1'!P29","v":0},null,0,0,0,0]
[333,"Services",0,0,0,{"$f":"'WP 1'!O30","v":0},{"$f":"'WP 1'!P30","v":0},null,0,0,0,0]
[{"$f":"+A273","v":334},"Meters and Meter Installations",0,0,0,{"$f":"'WP 1'!O31","v":0},{"$f":"'WP 1'!P31","v":0},null,0,0,0,0]
[335,"Hydrants",0,0,0,{"$f":"'WP 1'!O32","v":0},{"$f":"'WP 1'!P32","v":0},null,0,0,0,0]
[336,"Backflow Prevention Devices",0,0,0,{"$f":"'WP 1'!O33","v":0},{"$f":"'WP 1'!P33","v":0},null,0,0,0,0]
[339,"Other Plant and Misc. Equipment",0,0,0,{"$f":"'WP 1'!O34","v":0},{"$f":"'WP 1'!P34","v":0},null,0,0,0,0]
[340,"Office Furniture and Equipment",0,0,0,{"$f":"'WP 1'!O35","v":0},{"$f":"'WP 1'!P35","v":0},null,0,0,0,0]
[340.1,"Computer & Software",0,0,0,{"$f":"'WP 1'!O36","v":0},{"$f":"'WP 1'!P36","v":0},null,0,0,0,0]
[341,"Transportation Equipment",0,0,0,{"$f":"'WP 1'!O37","v":0},{"$f":"'WP 1'!P37","v":0},null,0,0,0,0]
[342,"Stores Equipment",0,0,0,{"$f":"'WP 1'!O38","v":0},{"$f":"'WP 1'!P38","v":0},null,0,0,0,0]
[343,"Tools, Shop and Garage Equipment",0,0,0,{"$f":"'WP 1'!O39","v":0},{"$f":"'WP 1'!P39","v":0},null,0,0,0,0]
[344,"Laboratory Equipment",0,0,0,{"$f":"'WP 1'!O40","v":0},{"$f":"'WP 1'!P40","v":0},null,0,0,0,0]
[345,"Power Operated Equipment",0,0,0,{"$f":"'WP 1'!O41","v":0},{"$f":"'WP 1'!P41","v":0},null,0,0,0,0]
[346,"Communication Equipment",0,0,0,{"$f":"'WP 1'!O42","v":0},{"$f":"'WP 1'!P42","v":0},null,0,0,0,0]
[347,"Miscellaneous Equipment",0,0,0,{"$f":"'WP 1'!O43","v":0},{"$f":"'WP 1'!P43","v":0},null,0,0,0,0]
[348,"Other Tangible Plant",0,0,0,{"$f":"'WP 1'!O44","v":0},{"$f":"'WP 1'!P44","v":0},null,0,0,0,0]
[]
[null,null,{"$f":"SUM(C301:C334)","v":0},null,{"$f":"SUM(E301:E334)","v":0},0,0,0,0,0,0,0]
[]
[{"$f":"'AR1'!$B$12","v":0}]
[{"$f":"'Sch Title'!$A$2","v":"Short Form Rate Application"},null,null,null,null,null,null,null,null,null,null,{"$f":"$L$1","v":"Work Paper 2"}]
[{"$f":"'Sch Title'!$B$50","v":"PLANT ACCUMULATED DEPRECIATION"}]
[{"$f":"'Sch Title'!$A$4","v":"Test Year Ended 12/31/20"}]
[]
[]
[null,null,null,null,{"$f":"Year8","v":"Enter Year Here"}]
[null,null,"ACCUMULATED",null,"PLANT"]
[null,null,"DEPRECIATION",null,"BALANCE"]
[null,null,"PER","DEPREC.","PER","PLANT","PLANT",null,"FULLY","CALCULATED","PLANT","ACCUMMULATED"]
[null,null,{"$f":"Year7","v":"Enter Year Here"},"RATE",{"$f":"C348","v":"Enter Year Here"},"ADDITION","RETIREMENT","SALVAGE","DEPRECIATED","DEPRECIATION","BALANCE","DEPRECIATION"]
[{"$f":"A301","v":301},"Organization",{"$f":"L301","v":0},{"$f":"D301","v":0},{"$f":"K301","v":0},{"$f":"'WP 1'!Q11","v":0},{"$f":"'WP 1'!R11","v":0},null,{"$f":"I301","v":0},{"$f":"IF($E$344=\"Enter Year Here\",0,((E349-I349+(F349-G349)/2))*D349)","v":0},{"$f":"+E349+F349-G349","v":0},{"$f":"+C349+J349-G349+H349","v":0}]
[302,"Franchises",0,0,0,{"$f":"'WP 1'!Q12","v":0},{"$f":"'WP 1'!R12","v":0},null,0,{"$f":"IF($E$344=\"Enter Year Here\",0,((E350-I350+(F350-G350)/2))*D350)","v":0},{"$f":"+E350+F350-G350","v":0},{"$f":"+C350+J350-G350+H350","v":0}]
[303,"Land and Land Rights",0,0,0,{"$f":"'WP 1'!Q13","v":0},{"$f":"'WP 1'!R13","v":0},null,0,{"$f":"IF($E$344=\"Enter Year Here\",0,((E351-I351+(F351-G351)/2))*D351)","v":0},{"$f":"+E351+F351-G351","v":0},{"$f":"+C351+J351-G351+H351","v":0}]
[304,"Structures and Improvements",0,0,0,{"$f":"'WP 1'!Q14","v":0},{"$f":"'WP 1'!R14","v":0},null,0,0,0,0]
[305,"Collecting & Improving Reservoirs",0,0,0,{"$f":"'WP 1'!Q15","v":0},{"$f":"'WP 1'!R15","v":0},null,0,0,0,0]
[306,"Lake, River, Canal Intakes",0,0,0,{"$f":"'WP 1'!Q16","v":0},{"$f":"'WP 1'!R16","v":0},null,0,0,0,0]
[307,"Wells and Springs",0,0,0,{"$f":"'WP 1'!Q17","v":0},{"$f":"'WP 1'!R17","v":0},null,0,0,0,0]
[308,"Infiltration Galleries",0,0,0,{"$f":"'WP 1'!Q18","v":0},{"$f":"'WP 1'!R18","v":0},null,0,0,0,0]
[309,"Supply Mains",0,0,0,{"$f":"'WP 1'!Q19","v":0},{"$f":"'WP 1'!R19","v":0},null,0,0,0,0]
[310,"Power Generation Equipment",0,0,0,{"$f":"'WP 1'!Q20","v":0},{"$f":"'WP 1'!R20","v":0},null,0,0,0,0]
[311,"Pumping Equipment",0,0,0,{"$f":"'WP 1'!Q21","v":0},{"$f":"'WP 1'!R21","v":0},null,0,0,0,0]
[320,"Water Treatment Equipment",0,0,0,{"$f":"'WP 1'!Q22","v":0},{"$f":"'WP 1'!R22","v":0},null,0,0,0,0]
[320.10000000000002,"Water Treatment Plants",0,0,0,{"$f":"'WP 1'!Q23","v":0},{"$f":"'WP 1'!R23","v":0},null,0,0,0,0]
[320.2,"Solution Chemical Feeders",0,0,0,{"$f":"'WP 1'!Q24","v":0},{"$f":"'WP 1'!R24","v":0},null,0,0,0,0]
[320.3,"Point-of-Use Treatment Devices",0,0,0,{"$f":"'WP 1'!Q25","v":0},{"$f":"'WP 1'!R25","v":0},null,0,0,0,0]
[330,"Distribution Reservoirs and Standpipes",0,0,0,{"$f":"'WP 1'!Q26","v":0},{"$f":"'WP 1'!R26","v":0},null,0,0,0,0]
[330.1,"Storage Tanks",0,0,0,{"$f":"'WP 1'!Q27","v":0},{"$f":"'WP 1'!R27","v":0},null,0,0,0,0]
[330.2,"Pressure Tanks",0,0,0,{"$f":"'WP 1'!Q28","v":0},{"$f":"'WP 1'!R28","v":0},null,0,0,0,0]
[331,"Transmission and Distribution Mains",0,0,0,{"$f":"'WP 1'!Q29","v":0},{"$f":"'WP 1'!R29","v":0},null,0,0,0,0]
[333,"Services",0,0,0,{"$f":"'WP 1'!Q30","v":0},{"$f":"'WP 1'!R30","v":0},null,0,0,0,0]
[{"$f":"A321","v":334},"Meters and Meter Installations",0,0,0,{"$f":"'WP 1'!Q31","v":0},{"$f":"'WP 1'!R31","v":0},null,0,0,0,0]
[335,"Hydrants",0,0,0,{"$f":"'WP 1'!Q32","v":0},{"$f":"'WP 1'!R32","v":0},null,0,0,0,0]
[336,"Backflow Prevention Devices",0,0,0,{"$f":"'WP 1'!Q33","v":0},{"$f":"'WP 1'!R33","v":0},null,0,0,0,0]
[339,"Other Plant and Misc. Equipment",0,0,0,{"$f":"'WP 1'!Q34","v":0},{"$f":"'WP 1'!R34","v":0},null,0,0,0,0]
[340,"Office Furniture and Equipment",0,0,0,{"$f":"'WP 1'!Q35","v":0},{"$f":"'WP 1'!R35","v":0},null,0,0,0,0]
[340.1,"Computer & Software",0,0,0,{"$f":"'WP 1'!Q36","v":0},{"$f":"'WP 1'!R36","v":0},null,0,0,0,0]
[341,"Transportation Equipment",0,0,0,{"$f":"'WP 1'!Q37","v":0},{"$f":"'WP 1'!R37","v":0},null,0,0,0,0]
[342,"Stores Equipment",0,0,0,{"$f":"'WP 1'!Q38","v":0},{"$f":"'WP 1'!R38","v":0},null,0,0,0,0]
[343,"Tools, Shop and Garage Equipment",0,0,0,{"$f":"'WP 1'!Q39","v":0},{"$f":"'WP 1'!R39","v":0},null,0,0,0,0]
[344,"Laboratory Equipment",0,0,0,{"$f":"'WP 1'!Q40","v":0},{"$f":"'WP 1'!R40","v":0},null,0,0,0,0]
[345,"Power Operated Equipment",0,0,0,{"$f":"'WP 1'!Q41","v":0},{"$f":"'WP 1'!R41","v":0},null,0,0,0,0]
[346,"Communication Equipment",0,0,0,{"$f":"'WP 1'!Q42","v":0},{"$f":"'WP 1'!R42","v":0},null,0,0,0,0]
[347,"Miscellaneous Equipment",0,0,0,{"$f":"'WP 1'!Q43","v":0},{"$f":"'WP 1'!R43","v":0},null,0,0,0,0]
[348,"Other Tangible Plant",0,0,0,{"$f":"'WP 1'!Q44","v":0},{"$f":"'WP 1'!R44","v":0},null,0,0,0,0]
[]
[null,null,{"$f":"SUM(C349:C382)","v":0},null,{"$f":"SUM(E349:E382)","v":0},0,0,0,0,0,0,0]
[]
[{"$f":"'AR1'!$B$12","v":0}]
[{"$f":"'Sch Title'!$A$2","v":"Short Form Rate Application"},null,null,null,null,null,null,null,null,null,null,{"$f":"$L$1","v":"Work Paper 2"}]
[{"$f":"'Sch Title'!$B$50","v":"PLANT ACCUMULATED DEPRECIATION"}]
[{"$f":"'Sch Title'!$A$4","v":"Test Year Ended 12/31/20"}]
[]
[]
[null,null,null,null,{"$f":"Year9","v":"Enter Year Here"}]
[null,null,"ACCUMULATED",null,"PLANT"]
[null,null,"DEPRECIATION",null,"BALANCE"]
[null,null,"PER","DEPREC.","PER","PLANT","PLANT",null,"FULLY","CALCULATED","PLANT","ACCUMMULATED"]
[null,null,{"$f":"Year8","v":"Enter Year Here"},"RATE",{"$f":"C396","v":"Enter Year Here"},"ADDITION","RETIREMENT","SALVAGE","DEPRECIATED","DEPRECIATION","BALANCE","DEPRECIATION"]
[{"$f":"A349","v":301},"Organization",{"$f":"L349","v":0},{"$f":"D349","v":0},{"$f":"K349","v":0},{"$f":"'WP 1'!S11","v":0},{"$f":"'WP 1'!T11","v":0},null,{"$f":"I349","v":0},{"$f":"IF($E$392=\"Enter Year Here\",0,((E397-I397+(F397-G397)/2))*D397)","v":0},{"$f":"+E397+F397-G397","v":0},{"$f":"+C397+J397-G397+H397","v":0}]
[302,"Franchises",0,0,0,{"$f":"'WP 1'!S12","v":0},{"$f":"'WP 1'!T12","v":0},null,0,{"$f":"IF($E$392=\"Enter Year Here\",0,((E398-I398+(F398-G398)/2))*D398)","v":0},{"$f":"+E398+F398-G398","v":0},{"$f":"+C398+J398-G398+H398","v":0}]
[303,"Land and Land Rights",0,0,0,{"$f":"'WP 1'!S13","v":0},{"$f":"'WP 1'!T13","v":0},null,0,{"$f":"IF($E$392=\"Enter Year Here\",0,((E399-I399+(F399-G399)/2))*D399)","v":0},{"$f":"+E399+F399-G399","v":0},{"$f":"+C399+J399-G399+H399","v":0}]
[304,"Structures and Improvements",0,0,0,{"$f":"'WP 1'!S14","v":0},{"$f":"'WP 1'!T14","v":0},null,0,0,0,0]
[305,"Collecting & Improving Reservoirs",0,0,0,{"$f":"'WP 1'!S15","v":0},{"$f":"'WP 1'!T15","v":0},null,0,0,0,0]
[306,"Lake, River, Canal Intakes",0,0,0,{"$f":"'WP 1'!S16","v":0},{"$f":"'WP 1'!T16","v":0},null,0,0,0,0]
[307,"Wells and Springs",0,0,0,{"$f":"'WP 1'!S17","v":0},{"$f":"'WP 1'!T17","v":0},null,0,0,0,0]
[308,"Infiltration Galleries",0,0,0,{"$f":"'WP 1'!S18","v":0},{"$f":"'WP 1'!T18","v":0},null,0,0,0,0]
[309,"Supply Mains",0,0,0,{"$f":"'WP 1'!S19","v":0},{"$f":"'WP 1'!T19","v":0},null,0,0,0,0]
[310,"Power Generation Equipment",0,0,0,{"$f":"'WP 1'!S20","v":0},{"$f":"'WP 1'!T20","v":0},null,0,0,0,0]
[311,"Pumping Equipment",0,0,0,{"$f":"'WP 1'!S21","v":0},{"$f":"'WP 1'!T21","v":0},null,0,0,0,0]
[320,"Water Treatment Equipment",0,0,0,{"$f":"'WP 1'!S22","v":0},{"$f":"'WP 1'!T22","v":0},null,0,0,0,0]
[320.10000000000002,"Water Treatment Plants",0,0,0,{"$f":"'WP 1'!S23","v":0},{"$f":"'WP 1'!T23","v":0},null,0,0,0,0]
[320.2,"Solution Chemical Feeders",0,0,0,{"$f":"'WP 1'!S24","v":0},{"$f":"'WP 1'!T24","v":0},null,0,0,0,0]
[320.3,"Point-of-Use Treatment Devices",0,0,0,{"$f":"'WP 1'!S25","v":0},{"$f":"'WP 1'!T25","v":0},null,0,0,0,0]
[330,"Distribution Reservoirs and Standpipes",0,0,0,{"$f":"'WP 1'!S26","v":0},{"$f":"'WP 1'!T26","v":0},null,0,0,0,0]
[330.1,"Storage Tanks",0,0,0,{"$f":"'WP 1'!S27","v":0},{"$f":"'WP 1'!T27","v":0},null,0,0,0,0]
[330.2,"Pressure Tanks",0,0,0,{"$f":"'WP 1'!S28","v":0},{"$f":"'WP 1'!T28","v":0},null,0,0,0,0]
[331,"Transmission and Distribution Mains",0,0,0,{"$f":"'WP 1'!S29","v":0},{"$f":"'WP 1'!T29","v":0},null,0,0,0,0]
[333,"Services",0,0,0,{"$f":"'WP 1'!S30","v":0},{"$f":"'WP 1'!T30","v":0},null,0,0,0,0]
[{"$f":"A369","v":334},"Meters and Meter Installations",0,0,0,{"$f":"'WP 1'!S31","v":0},{"$f":"'WP 1'!T31","v":0},null,0,0,0,0]
[335,"Hydrants",0,0,0,{"$f":"'WP 1'!S32","v":0},{"$f":"'WP 1'!T32","v":0},null,0,0,0,0]
[336,"Backflow Prevention Devices",0,0,0,{"$f":"'WP 1'!S33","v":0},{"$f":"'WP 1'!T33","v":0},null,0,0,0,0]
[339,"Other Plant and Misc. Equipment",0,0,0,{"$f":"'WP 1'!S34","v":0},{"$f":"'WP 1'!T34","v":0},null,0,0,0,0]
[340,"Office Furniture and Equipment",0,0,0,{"$f":"'WP 1'!S35","v":0},{"$f":"'WP 1'!T35","v":0},null,0,0,0,0]
[340.1,"Computer & Software",0,0,0,{"$f":"'WP 1'!S36","v":0},{"$f":"'WP 1'!T36","v":0},null,0,0,0,0]
[341,"Transportation Equipment",0,0,0,{"$f":"'WP 1'!S37","v":0},{"$f":"'WP 1'!T37","v":0},null,0,0,0,0]
[342,"Stores Equipment",0,0,0,{"$f":"'WP 1'!S38","v":0},{"$f":"'WP 1'!T38","v":0},null,0,0,0,0]
[343,"Tools, Shop and Garage Equipment",0,0,0,{"$f":"'WP 1'!S39","v":0},{"$f":"'WP 1'!T39","v":0},null,0,0,0,0]
[344,"Laboratory Equipment",0,0,0,{"$f":"'WP 1'!S40","v":0},{"$f":"'WP 1'!T40","v":0},null,0,0,0,0]
[345,"Power Operated Equipment",0,0,0,{"$f":"'WP 1'!S41","v":0},{"$f":"'WP 1'!T41","v":0},null,0,0,0,0]
[346,"Communication Equipment",0,0,0,{"$f":"'WP 1'!S42","v":0},{"$f":"'WP 1'!T42","v":0},null,0,0,0,0]
[347,"Miscellaneous Equipment",0,0,0,{"$f":"'WP 1'!S43","v":0},{"$f":"'WP 1'!T43","v":0},null,0,0,0,0]
[348,"Other Tangible Plant",0,0,0,{"$f":"'WP 1'!S44","v":0},{"$f":"'WP 1'!T44","v":0},null,0,0,0,0]
[]
[null,null,{"$f":"SUM(C397:C430)","v":0},null,{"$f":"SUM(E397:E430)","v":0},0,0,0,0,0,0,0]
[]
[{"$f":"'AR1'!$B$12","v":0}]
[{"$f":"'Sch Title'!$A$2","v":"Short Form Rate Application"},null,null,null,null,null,null,null,null,null,null,{"$f":"$L$1","v":"Work Paper 2"}]
[{"$f":"'Sch Title'!$B$50","v":"PLANT ACCUMULATED DEPRECIATION"}]
[{"$f":"'Sch Title'!$A$4","v":"Test Year Ended 12/31/20"}]
[]
[]
[]
[null,null,null,null,{"$f":"Year10","v":"Enter Year Here"}]
[null,null,"ACCUMULATED",null,"PLANT"]
[null,null,"DEPRECIATION",null,"BALANCE"]
[null,null,"PER","DEPREC.","PER","PLANT","PLANT",null,"FULLY","CALCULATED","PLANT","ACCUMMULATED"]
[null,null,{"$f":"Year9","v":"Enter Year Here"},"RATE",{"$f":"C445","v":"Enter Year Here"},"ADDITION","RETIREMENT","SALVAGE","DEPRECIATED","DEPRECIATION","BALANCE","DEPRECIATION"]
[{"$f":"A397","v":301},"Organization",{"$f":"L397","v":0},{"$f":"D397","v":0},{"$f":"K397","v":0},{"$f":"'WP 1'!U11","v":0},{"$f":"'WP 1'!V11","v":0},null,{"$f":"I397","v":0},{"$f":"IF($E$441=\"Enter Year Here\",0,((E446-I446+(F446-G446)/2))*D446)","v":0},{"$f":"+E446+F446-G446","v":0},{"$f":"+C446+J446-G446+H446","v":0}]
[302,"Franchises",0,0,0,{"$f":"'WP 1'!U12","v":0},{"$f":"'WP 1'!V12","v":0},null,0,{"$f":"IF($E$441=\"Enter Year Here\",0,((E447-I447+(F447-G447)/2))*D447)","v":0},{"$f":"+E447+F447-G447","v":0},{"$f":"+C447+J447-G447+H447","v":0}]
[303,"Land and Land Rights",0,0,0,{"$f":"'WP 1'!U13","v":0},{"$f":"'WP 1'!V13","v":0},null,0,{"$f":"IF($E$441=\"Year\",0,((E448-I448+(F448-G448)/2))*D448)","v":0},{"$f":"+E448+F448-G448","v":0},{"$f":"+C448+J448-G448+H448","v":0}]
[304,"Structures and Improvements",0,0,0,{"$f":"'WP 1'!U14","v":0},{"$f":"'WP 1'!V14","v":0},null,0,0,0,0]
[305,"Collecting & Improving Reservoirs",0,0,0,{"$f":"'WP 1'!U15","v":0},{"$f":"'WP 1'!V15","v":0},null,0,0,0,0]
[306,"Lake, River, Canal Intakes",0,0,0,{"$f":"'WP 1'!U16","v":0},{"$f":"'WP 1'!V16","v":0},null,0,0,0,0]
[307,"Wells and Springs",0,0,0,{"$f":"'WP 1'!U17","v":0},{"$f":"'WP 1'!V17","v":0},null,0,0,0,0]
[308,"Infiltration Galleries",0,0,0,{"$f":"'WP 1'!U18","v":0},{"$f":"'WP 1'!V18","v":0},null,0,0,0,0]
[309,"Supply Mains",0,0,0,{"$f":"'WP 1'!U19","v":0},{"$f":"'WP 1'!V19","v":0},null,0,0,0,0]
[310,"Power Generation Equipment",0,0,0,{"$f":"'WP 1'!U20","v":0},{"$f":"'WP 1'!V20","v":0},null,0,0,0,0]
[311,"Pumping Equipment",0,0,0,{"$f":"'WP 1'!U21","v":0},{"$f":"'WP 1'!V21","v":0},null,0,0,0,0]
[320,"Water Treatment Equipment",0,0,0,{"$f":"'WP 1'!U22","v":0},{"$f":"'WP 1'!V22","v":0},null,0,0,0,0]
[320.10000000000002,"Water Treatment Plants",0,0,0,{"$f":"'WP 1'!U23","v":0},{"$f":"'WP 1'!V23","v":0},null,0,0,0,0]
[320.2,"Solution Chemical Feeders",0,0,0,{"$f":"'WP 1'!U24","v":0},{"$f":"'WP 1'!V24","v":0},null,0,0,0,0]
[320.3,"Point-of-Use Treatment Devices",0,0,0,{"$f":"'WP 1'!U25","v":0},{"$f":"'WP 1'!V25","v":0},null,0,0,0,0]
[330,"Distribution Reservoirs and Standpipes",0,0,0,{"$f":"'WP 1'!U26","v":0},{"$f":"'WP 1'!V26","v":0},null,0,0,0,0]
[330.1,"Storage Tanks",0,0,0,{"$f":"'WP 1'!U27","v":0},{"$f":"'WP 1'!V27","v":0},null,0,0,0,0]
[330.2,"Pressure Tanks",0,0,0,{"$f":"'WP 1'!U28","v":0},{"$f":"'WP 1'!V28","v":0},null,0,0,0,0]
[331,"Transmission and Distribution Mains",0,0,0,{"$f":"'WP 1'!U29","v":0},{"$f":"'WP 1'!V29","v":0},null,0,0,0,0]
[333,"Services",0,0,0,{"$f":"'WP 1'!U30","v":0},{"$f":"'WP 1'!V30","v":0},null,0,0,0,0]
[{"$f":"A417","v":334},"Meters and Meter Installations",0,0,0,{"$f":"'WP 1'!U31","v":0},{"$f":"'WP 1'!V31","v":0},null,0,0,0,0]
[335,"Hydrants",0,0,0,{"$f":"'WP 1'!U32","v":0},{"$f":"'WP 1'!V32","v":0},null,0,0,0,0]
[336,"Backflow Prevention Devices",0,0,0,{"$f":"'WP 1'!U33","v":0},{"$f":"'WP 1'!V33","v":0},null,0,0,0,0]
[339,"Other Plant and Misc. Equipment",0,0,0,{"$f":"'WP 1'!U34","v":0},{"$f":"'WP 1'!V34","v":0},null,0,0,0,0]
[340,"Office Furniture and Equipment",0,0,0,{"$f":"'WP 1'!U35","v":0},{"$f":"'WP 1'!V35","v":0},null,0,0,0,0]
[340.1,"Computer & Software",0,0,0,{"$f":"'WP 1'!U36","v":0},{"$f":"'WP 1'!V36","v":0},null,0,0,0,0]
[341,"Transportation Equipment",0,0,0,{"$f":"'WP 1'!U37","v":0},{"$f":"'WP 1'!V37","v":0},null,0,0,0,0]
[342,"Stores Equipment",0,0,0,{"$f":"'WP 1'!U38","v":0},{"$f":"'WP 1'!V38","v":0},null,0,0,0,0]
[343,"Tools, Shop and Garage Equipment",0,0,0,{"$f":"'WP 1'!U39","v":0},{"$f":"'WP 1'!V39","v":0},null,0,0,0,0]
[344,"Laboratory Equipment",0,0,0,{"$f":"'WP 1'!U40","v":0},{"$f":"'WP 1'!V40","v":0},null,0,0,0,0]
[345,"Power Operated Equipment",0,0,0,{"$f":"'WP 1'!U41","v":0},{"$f":"'WP 1'!V41","v":0},null,0,0,0,0]
[346,"Communication Equipment",0,0,0,{"$f":"'WP 1'!U42","v":0},{"$f":"'WP 1'!V42","v":0},null,0,0,0,0]
[347,"Miscellaneous Equipment",0,0,0,{"$f":"'WP 1'!U43","v":0},{"$f":"'WP 1'!V43","v":0},null,0,0,0,0]
[348,"Other Tangible Plant",0,0,0,{"$f":"'WP 1'!U44","v":0},{"$f":"'WP 1'!V44","v":0},null,0,0,0,0]
[]
[null,null,{"$f":"SUM(C446:C479)","v":0},null,{"$f":"SUM(E446:E479)","v":0},0,0,0,0,0,0,0]
[]
[{"$f":"'AR1'!$B$12","v":0}]
[{"$f":"'Sch Title'!$A$2","v":"Short Form Rate Application"},null,null,null,null,null,null,null,null,null,null,{"$f":"$L$1","v":"Work Paper 2"}]
[{"$f":"'Sch Title'!$B$50","v":"PLANT ACCUMULATED DEPRECIATION"}]
[{"$f":"'Sch Title'!$A$4","v":"Test Year Ended 12/31/20"}]
[]
[]
[]
[null,null,null,null,{"$f":"Year11","v":"Enter Year Here"}]
[null,null,"ACCUMULATED",null,"PLANT"]
[null,null,"DEPRECIATION",null,"BALANCE"]
[null,null,"PER","DEPREC.","PER","PLANT","PLANT",null,"FULLY","CALCULATED","PLANT","ACCUMMULATED"]
[null,null,{"$f":"Year10","v":"Enter Year Here"},"RATE",{"$f":"C494","v":"Enter Year Here"},"ADDITION","RETIREMENT","SALVAGE","DEPRECIATED","DEPRECIATION","BALANCE","DEPRECIATION"]
[{"$f":"A446","v":301},"Organization",{"$f":"L446","v":0},{"$f":"D446","v":0},{"$f":"K446","v":0},{"$f":"'WP 1'!W11","v":0},{"$f":"'WP 1'!X11","v":0},null,{"$f":"I446","v":0},{"$f":"IF($E$490=\"Enter Year Here\",0,((E495-I495+(F495-G495)/2))*D495)","v":0},{"$f":"+E495+F495-G495","v":0},{"$f":"+C495+J495-G495+H495","v":0}]
[302,"Franchises",0,0,0,{"$f":"'WP 1'!W12","v":0},{"$f":"'WP 1'!X12","v":0},null,0,{"$f":"IF($E$490=\"Enter Year Here\",0,((E496-I496+(F496-G496)/2))*D496)","v":0},{"$f":"+E496+F496-G496","v":0},{"$f":"+C496+J496-G496+H496","v":0}]
[303,"Land and Land Rights",0,0,0,{"$f":"'WP 1'!W13","v":0},{"$f":"'WP 1'!X13","v":0},null,0,{"$f":"IF($E$490=\"Enter Year Here\",0,((E497-I497+(F497-G497)/2))*D497)","v":0},{"$f":"+E497+F497-G497","v":0},{"$f":"+C497+J497-G497+H497","v":0}]
[304,"Structures and Improvements",0,0,0,{"$f":"'WP 1'!W14","v":0},{"$f":"'WP 1'!X14","v":0},null,0,0,0,0]
[305,"Collecting & Improving Reservoirs",0,0,0,{"$f":"'WP 1'!W15","v":0},{"$f":"'WP 1'!X15","v":0},null,0,0,0,0]
[306,"Lake, River, Canal Intakes",0,0,0,{"$f":"'WP 1'!W16","v":0},{"$f":"'WP 1'!X16","v":0},null,0,0,0,0]
[307,"Wells and Springs",0,0,0,{"$f":"'WP 1'!W17","v":0},{"$f":"'WP 1'!X17","v":0},null,0,0,0,0]
[308,"Infiltration Galleries",0,0,0,{"$f":"'WP 1'!W18","v":0},{"$f":"'WP 1'!X18","v":0},null,0,0,0,0]
[309,"Supply Mains",0,0,0,{"$f":"'WP 1'!W19","v":0},{"$f":"'WP 1'!X19","v":0},null,0,0,0,0]
[310,"Power Generation Equipment",0,0,0,{"$f":"'WP 1'!W20","v":0},{"$f":"'WP 1'!X20","v":0},null,0,0,0,0]
[311,"Pumping Equipment",0,0,0,{"$f":"'WP 1'!W21","v":0},{"$f":"'WP 1'!X21","v":0},null,0,0,0,0]
[320,"Water Treatment Equipment",0,0,0,{"$f":"'WP 1'!W22","v":0},{"$f":"'WP 1'!X22","v":0},null,0,0,0,0]
[320.10000000000002,"Water Treatment Plants",0,0,0,{"$f":"'WP 1'!W23","v":0},{"$f":"'WP 1'!X23","v":0},null,0,0,0,0]
[320.2,"Solution Chemical Feeders",0,0,0,{"$f":"'WP 1'!W24","v":0},{"$f":"'WP 1'!X24","v":0},null,0,0,0,0]
[320.3,"Point-of-Use Treatment Devices",0,0,0,{"$f":"'WP 1'!W25","v":0},{"$f":"'WP 1'!X25","v":0},null,0,0,0,0]
[330,"Distribution Reservoirs and Standpipes",0,0,0,{"$f":"'WP 1'!W26","v":0},{"$f":"'WP 1'!X26","v":0},null,0,0,0,0]
[330.1,"Storage Tanks",0,0,0,{"$f":"'WP 1'!W27","v":0},{"$f":"'WP 1'!X27","v":0},null,0,0,0,0]
[330.2,"Pressure Tanks",0,0,0,{"$f":"'WP 1'!W28","v":0},{"$f":"'WP 1'!X28","v":0},null,0,0,0,0]
[331,"Transmission and Distribution Mains",0,0,0,{"$f":"'WP 1'!W29","v":0},{"$f":"'WP 1'!X29","v":0},null,0,0,0,0]
[333,"Services",0,0,0,{"$f":"'WP 1'!W30","v":0},{"$f":"'WP 1'!X30","v":0},null,0,0,0,0]
[{"$f":"A466","v":334},"Meters and Meter Installations",0,0,0,{"$f":"'WP 1'!W31","v":0},{"$f":"'WP 1'!X31","v":0},null,0,0,0,0]
[335,"Hydrants",0,0,0,{"$f":"'WP 1'!W32","v":0},{"$f":"'WP 1'!X32","v":0},null,0,0,0,0]
[336,"Backflow Prevention Devices",0,0,0,{"$f":"'WP 1'!W33","v":0},{"$f":"'WP 1'!X33","v":0},null,0,0,0,0]
[339,"Other Plant and Misc. Equipment",0,0,0,{"$f":"'WP 1'!W34","v":0},{"$f":"'WP 1'!X34","v":0},null,0,0,0,0]
[340,"Office Furniture and Equipment",0,0,0,{"$f":"'WP 1'!W35","v":0},{"$f":"'WP 1'!X35","v":0},null,0,0,0,0]
[340.1,"Computer & Software",0,0,0,{"$f":"'WP 1'!W36","v":0},{"$f":"'WP 1'!X36","v":0},null,0,0,0,0]
[341,"Transportation Equipment",0,0,0,{"$f":"'WP 1'!W37","v":0},{"$f":"'WP 1'!X37","v":0},null,0,0,0,0]
[342,"Stores Equipment",0,0,0,{"$f":"'WP 1'!W38","v":0},{"$f":"'WP 1'!X38","v":0},null,0,0,0,0]
[343,"Tools, Shop and Garage Equipment",0,0,0,{"$f":"'WP 1'!W39","v":0},{"$f":"'WP 1'!X39","v":0},null,0,0,0,0]
[344,"Laboratory Equipment",0,0,0,{"$f":"'WP 1'!W40","v":0},{"$f":"'WP 1'!X40","v":0},null,0,0,0,0]
[345,"Power Operated Equipment",0,0,0,{"$f":"'WP 1'!W41","v":0},{"$f":"'WP 1'!X41","v":0},null,0,0,0,0]
[346,"Communication Equipment",0,0,0,{"$f":"'WP 1'!W42","v":0},{"$f":"'WP 1'!X42","v":0},null,0,0,0,0]
[347,"Miscellaneous Equipment",0,0,0,{"$f":"'WP 1'!W43","v":0},{"$f":"'WP 1'!X43","v":0},null,0,0,0,0]
[348,"Other Tangible Plant",0,0,0,{"$f":"'WP 1'!W44","v":0},{"$f":"'WP 1'!X44","v":0},null,0,0,0,0]
[]
[null,null,{"$f":"SUM(C495:C528)","v":0},null,{"$f":"SUM(E495:E528)","v":0},0,0,0,0,0,0,0]
[]
[{"$f":"'AR1'!$B$12","v":0},null,null,null,null,null,null,null,null,null,null,{"$f":"$L$1","v":"Work Paper 2"}]
[{"$f":"'Sch Title'!$A$2","v":"Short Form Rate Application"}]
[{"$f":"'Sch Title'!$B$50","v":"PLANT ACCUMULATED DEPRECIATION"}]
[{"$f":"'Sch Title'!$A$4","v":"Test Year Ended 12/31/20"}]
[]
[]
[null,null,null,null,{"$f":"Year12","v":"Enter Year Here"}]
[null,null,"ACCUMULATED",null,"PLANT"]
[null,null,"DEPRECIATION",null,"BALANCE"]
[null,null,"PER","DEPREC.","PER","PLANT","PLANT",null,"FULLY","CALCULATED","PLANT","ACCUMMULATED"]
[null,null,{"$f":"Year11","v":"Enter Year Here"},"RATE",{"$f":"C542","v":"Enter Year Here"},"ADDITION","RETIREMENT","SALVAGE","DEPRECIATED","DEPRECIATION","BALANCE","DEPRECIATION"]
[{"$f":"A495","v":301},"Organization",{"$f":"L495","v":0},{"$f":"D495","v":0},{"$f":"K495","v":0},{"$f":"'WP 1'!Y11","v":0},{"$f":"'WP 1'!Z11","v":0},null,{"$f":"I495","v":0},{"$f":"IF($E$538=\"Enter Year Here\",0,((E543-I543+(F543-G543)/2))*D543)","v":0},{"$f":"+E543+F543-G543","v":0},{"$f":"+C543+J543-G543+H543","v":0}]
[302,"Franchises",0,0,0,{"$f":"'WP 1'!Y12","v":0},{"$f":"'WP 1'!Z12","v":0},null,0,{"$f":"IF($E$538=\"Enter Year Here\",0,((E544-I544+(F544-G544)/2))*D544)","v":0},{"$f":"+E544+F544-G544","v":0},{"$f":"+C544+J544-G544+H544","v":0}]
[303,"Land and Land Rights",0,0,0,{"$f":"'WP 1'!Y13","v":0},{"$f":"'WP 1'!Z13","v":0},null,0,{"$f":"IF($E$538=\"Enter Year Here\",0,((E545-I545+(F545-G545)/2))*D545)","v":0},{"$f":"+E545+F545-G545","v":0},{"$f":"+C545+J545-G545+H545","v":0}]
[304,"Structures and Improvements",0,0,0,{"$f":"'WP 1'!Y14","v":0},{"$f":"'WP 1'!Z14","v":0},null,0,0,0,0]
[305,"Collecting & Improving Reservoirs",0,0,0,{"$f":"'WP 1'!Y15","v":0},{"$f":"'WP 1'!Z15","v":0},null,0,0,0,0]
[306,"Lake, River, Canal Intakes",0,0,0,{"$f":"'WP 1'!Y16","v":0},{"$f":"'WP 1'!Z16","v":0},null,0,0,0,0]
[307,"Wells and Springs",0,0,0,{"$f":"'WP 1'!Y17","v":0},{"$f":"'WP 1'!Z17","v":0},null,0,0,0,0]
[308,"Infiltration Galleries",0,0,0,{"$f":"'WP 1'!Y18","v":0},{"$f":"'WP 1'!Z18","v":0},null,0,0,0,0]
[309,"Supply Mains",0,0,0,{"$f":"'WP 1'!Y19","v":0},{"$f":"'WP 1'!Z19","v":0},null,0,0,0,0]
[310,"Power Generation Equipment",0,0,0,{"$f":"'WP 1'!Y20","v":0},{"$f":"'WP 1'!Z20","v":0},null,0,0,0,0]
[311,"Pumping Equipment",0,0,0,{"$f":"'WP 1'!Y21","v":0},{"$f":"'WP 1'!Z21","v":0},null,0,0,0,0]
[320,"Water Treatment Equipment",0,0,0,{"$f":"'WP 1'!Y22","v":0},{"$f":"'WP 1'!Z22","v":0},null,0,0,0,0]
[320.10000000000002,"Water Treatment Plants",0,0,0,{"$f":"'WP 1'!Y23","v":0},{"$f":"'WP 1'!Z23","v":0},null,0,0,0,0]
[320.2,"Solution Chemical Feeders",0,0,0,{"$f":"'WP 1'!Y24","v":0},{"$f":"'WP 1'!Z24","v":0},null,0,0,0,0]
[320.3,"Point-of-Use Treatment Devices",0,0,0,{"$f":"'WP 1'!Y25","v":0},{"$f":"'WP 1'!Z25","v":0},null,0,0,0,0]
[330,"Distribution Reservoirs and Standpipes",0,0,0,{"$f":"'WP 1'!Y26","v":0},{"$f":"'WP 1'!Z26","v":0},null,0,0,0,0]
[330.1,"Storage Tanks",0,0,0,{"$f":"'WP 1'!Y27","v":0},{"$f":"'WP 1'!Z27","v":0},null,0,0,0,0]
[330.2,"Pressure Tanks",0,0,0,{"$f":"'WP 1'!Y28","v":0},{"$f":"'WP 1'!Z28","v":0},null,0,0,0,0]
[331,"Transmission and Distribution Mains",0,0,0,{"$f":"'WP 1'!Y29","v":0},{"$f":"'WP 1'!Z29","v":0},null,0,0,0,0]
[333,"Services",0,0,0,{"$f":"'WP 1'!Y30","v":0},{"$f":"'WP 1'!Z30","v":0},null,0,0,0,0]
[{"$f":"A515","v":334},"Meters and Meter Installations",0,0,0,{"$f":"'WP 1'!Y31","v":0},{"$f":"'WP 1'!Z31","v":0},null,0,0,0,0]
[335,"Hydrants",0,0,0,{"$f":"'WP 1'!Y32","v":0},{"$f":"'WP 1'!Z32","v":0},null,0,0,0,0]
[336,"Backflow Prevention Devices",0,0,0,{"$f":"'WP 1'!Y33","v":0},{"$f":"'WP 1'!Z33","v":0},null,0,0,0,0]
[339,"Other Plant and Misc. Equipment",0,0,0,{"$f":"'WP 1'!Y34","v":0},{"$f":"'WP 1'!Z34","v":0},null,0,0,0,0]
[340,"Office Furniture and Equipment",0,0,0,{"$f":"'WP 1'!Y35","v":0},{"$f":"'WP 1'!Z35","v":0},null,0,0,0,0]
[340.1,"Computer & Software",0,0,0,{"$f":"'WP 1'!Y36","v":0},{"$f":"'WP 1'!Z36","v":0},null,0,0,0,0]
[341,"Transportation Equipment",0,0,0,{"$f":"'WP 1'!Y37","v":0},{"$f":"'WP 1'!Z37","v":0},null,0,0,0,0]
[342,"Stores Equipment",0,0,0,{"$f":"'WP 1'!Y38","v":0},{"$f":"'WP 1'!Z38","v":0},null,0,0,0,0]
[343,"Tools, Shop and Garage Equipment",0,0,0,{"$f":"'WP 1'!Y39","v":0},{"$f":"'WP 1'!Z39","v":0},null,0,0,0,0]
[344,"Laboratory Equipment",0,0,0,{"$f":"'WP 1'!Y40","v":0},{"$f":"'WP 1'!Z40","v":0},null,0,0,0,0]
[345,"Power Operated Equipment",0,0,0,{"$f":"'WP 1'!Y41","v":0},{"$f":"'WP 1'!Z41","v":0},null,0,0,0,0]
[346,"Communication Equipment",0,0,0,{"$f":"'WP 1'!Y42","v":0},{"$f":"'WP 1'!Z42","v":0},null,0,0,0,0]
[347,"Miscellaneous Equipment",0,0,0,{"$f":"'WP 1'!Y43","v":0},{"$f":"'WP 1'!Z43","v":0},null,0,0,0,0]
[348,"Other Tangible Plant",0,0,0,{"$f":"'WP 1'!Y44","v":0},{"$f":"'WP 1'!Z44","v":0},null,0,0,0,0]
[]
[null,null,{"$f":"SUM(C543:C576)","v":0},null,{"$f":"SUM(E543:E576)","v":0},0,0,0,0,0,0,0]
[]
[{"$f":"'AR1'!$B$12","v":0}]
[{"$f":"'Sch Title'!$A$2","v":"Short Form Rate Application"},null,null,null,null,null,null,null,null,null,null,{"$f":"$L$1","v":"Work Paper 2"}]
[{"$f":"'Sch Title'!$B$50","v":"PLANT ACCUMULATED DEPRECIATION"}]
[{"$f":"'Sch Title'!$A$4","v":"Test Year Ended 12/31/20"}]
[]
[]
[null,null,null,null,{"$f":"Year13","v":"Enter Year Here"}]
[null,null,"ACCUMULATED",null,"PLANT"]
[null,null,"DEPRECIATION",null,"BALANCE"]
[null,null,"PER","DEPREC.","PER","PLANT","PLANT",null,"FULLY","CALCULATED","PLANT","ACCUMMULATED"]
[null,null,{"$f":"Year12","v":"Enter Year Here"},"RATE",{"$f":"C590","v":"Enter Year Here"},"ADDITION","RETIREMENT","SALVAGE","DEPRECIATED","DEPRECIATION","BALANCE","DEPRECIATION"]
[{"$f":"A543","v":301},"Organization",{"$f":"L543","v":0},{"$f":"D543","v":0},{"$f":"K543","v":0},{"$f":"'WP 1'!AA11","v":0},{"$f":"'WP 1'!AB11","v":0},null,{"$f":"I543","v":0},{"$f":"IF($E$586=\"Enter Year Here\",0,((E591-I591+(F591-G591)/2))*D591)","v":0},{"$f":"+E591+F591-G591","v":0},{"$f":"+C591+J591-G591+H591","v":0}]
[302,"Franchises",0,0,0,{"$f":"'WP 1'!AA12","v":0},{"$f":"'WP 1'!AB12","v":0},null,0,{"$f":"IF($E$586=\"Enter Year Here\",0,((E592-I592+(F592-G592)/2))*D592)","v":0},{"$f":"+E592+F592-G592","v":0},{"$f":"+C592+J592-G592+H592","v":0}]
[303,"Land and Land Rights",0,0,0,{"$f":"'WP 1'!AA13","v":0},{"$f":"'WP 1'!AB13","v":0},null,0,{"$f":"IF($E$586=\"Enter Year Here\",0,((E593-I593+(F593-G593)/2))*D593)","v":0},{"$f":"+E593+F593-G593","v":0},{"$f":"+C593+J593-G593+H593","v":0}]
[304,"Structures and Improvements",0,0,0,{"$f":"'WP 1'!AA14","v":0},{"$f":"'WP 1'!AB14","v":0},null,0,0,0,0]
[305,"Collecting & Improving Reservoirs",0,0,0,{"$f":"'WP 1'!AA15","v":0},{"$f":"'WP 1'!AB15","v":0},null,0,0,0,0]
[306,"Lake, River, Canal Intakes",0,0,0,{"$f":"'WP 1'!AA16","v":0},{"$f":"'WP 1'!AB16","v":0},null,0,0,0,0]
[307,"Wells and Springs",0,0,0,{"$f":"'WP 1'!AA17","v":0},{"$f":"'WP 1'!AB17","v":0},null,0,0,0,0]
[308,"Infiltration Galleries",0,0,0,{"$f":"'WP 1'!AA18","v":0},{"$f":"'WP 1'!AB18","v":0},null,0,0,0,0]
[309,"Supply Mains",0,0,0,{"$f":"'WP 1'!AA19","v":0},{"$f":"'WP 1'!AB19","v":0},null,0,0,0,0]
[310,"Power Generation Equipment",0,0,0,{"$f":"'WP 1'!AA20","v":0},{"$f":"'WP 1'!AB20","v":0},null,0,0,0,0]
[311,"Pumping Equipment",0,0,0,{"$f":"'WP 1'!AA21","v":0},{"$f":"'WP 1'!AB21","v":0},null,0,0,0,0]
[320,"Water Treatment Equipment",0,0,0,{"$f":"'WP 1'!AA22","v":0},{"$f":"'WP 1'!AB22","v":0},null,0,0,0,0]
[320.10000000000002,"Water Treatment Plants",0,0,0,{"$f":"'WP 1'!AA23","v":0},{"$f":"'WP 1'!AB23","v":0},null,0,0,0,0]
[320.2,"Solution Chemical Feeders",0,0,0,{"$f":"'WP 1'!AA24","v":0},{"$f":"'WP 1'!AB24","v":0},null,0,0,0,0]
[320.3,"Point-of-Use Treatment Devices",0,0,0,{"$f":"'WP 1'!AA25","v":0},{"$f":"'WP 1'!AB25","v":0},null,0,0,0,0]
[330,"Distribution Reservoirs and Standpipes",0,0,0,{"$f":"'WP 1'!AA26","v":0},{"$f":"'WP 1'!AB26","v":0},null,0,0,0,0]
[330.1,"Storage Tanks",0,0,0,{"$f":"'WP 1'!AA27","v":0},{"$f":"'WP 1'!AB27","v":0},null,0,0,0,0]
[330.2,"Pressure Tanks",0,0,0,{"$f":"'WP 1'!AA28","v":0},{"$f":"'WP 1'!AB28","v":0},null,0,0,0,0]
[331,"Transmission and Distribution Mains",0,0,0,{"$f":"'WP 1'!AA29","v":0},{"$f":"'WP 1'!AB29","v":0},null,0,0,0,0]
[333,"Services",0,0,0,{"$f":"'WP 1'!AA30","v":0},{"$f":"'WP 1'!AB30","v":0},null,0,0,0,0]
[{"$f":"A563","v":334},"Meters and Meter Installations",0,0,0,{"$f":"'WP 1'!AA31","v":0},{"$f":"'WP 1'!AB31","v":0},null,0,0,0,0]
[335,"Hydrants",0,0,0,{"$f":"'WP 1'!AA32","v":0},{"$f":"'WP 1'!AB32","v":0},null,0,0,0,0]
[336,"Backflow Prevention Devices",0,0,0,{"$f":"'WP 1'!AA33","v":0},{"$f":"'WP 1'!AB33","v":0},null,0,0,0,0]
[339,"Other Plant and Misc. Equipment",0,0,0,{"$f":"'WP 1'!AA34","v":0},{"$f":"'WP 1'!AB34","v":0},null,0,0,0,0]
[340,"Office Furniture and Equipment",0,0,0,{"$f":"'WP 1'!AA35","v":0},{"$f":"'WP 1'!AB35","v":0},null,0,0,0,0]
[340.1,"Computer & Software",0,0,0,{"$f":"'WP 1'!AA36","v":0},{"$f":"'WP 1'!AB36","v":0},null,0,0,0,0]
[341,"Transportation Equipment",0,0,0,{"$f":"'WP 1'!AA37","v":0},{"$f":"'WP 1'!AB37","v":0},null,0,0,0,0]
[342,"Stores Equipment",0,0,0,{"$f":"'WP 1'!AA38","v":0},{"$f":"'WP 1'!AB38","v":0},null,0,0,0,0]
[343,"Tools, Shop and Garage Equipment",0,0,0,{"$f":"'WP 1'!AA39","v":0},{"$f":"'WP 1'!AB39","v":0},null,0,0,0,0]
[344,"Laboratory Equipment",0,0,0,{"$f":"'WP 1'!AA40","v":0},{"$f":"'WP 1'!AB40","v":0},null,0,0,0,0]
[345,"Power Operated Equipment",0,0,0,{"$f":"'WP 1'!AA41","v":0},{"$f":"'WP 1'!AB41","v":0},null,0,0,0,0]
[346,"Communication Equipment",0,0,0,{"$f":"'WP 1'!AA42","v":0},{"$f":"'WP 1'!AB42","v":0},null,0,0,0,0]
[347,"Miscellaneous Equipment",0,0,0,{"$f":"'WP 1'!AA43","v":0},{"$f":"'WP 1'!AB43","v":0},null,0,0,0,0]
[348,"Other Tangible Plant",0,0,0,{"$f":"'WP 1'!AA44","v":0},{"$f":"'WP 1'!AB44","v":0},null,0,0,0,0]
[]
[null,null,{"$f":"SUM(C591:C624)","v":0},null,{"$f":"SUM(E591:E624)","v":0},0,0,0,0,0,0,0]
[]
[]
[{"$f":"'AR1'!$B$12","v":0}]
[{"$f":"'Sch Title'!$A$2","v":"Short Form Rate Application"},null,null,null,null,null,null,null,null,null,null,{"$f":"$L$1","v":"Work Paper 2"}]
[{"$f":"'Sch Title'!$B$50","v":"PLANT ACCUMULATED DEPRECIATION"}]
[{"$f":"'Sch Title'!$A$4","v":"Test Year Ended 12/31/20"}]
[]
[]
[null,null,null,null,{"$f":"Year14","v":"Enter Year Here"}]
[null,null,"ACCUMULATED",null,"PLANT"]
[null,null,"DEPRECIATION",null,"BALANCE"]
[null,null,"PER","DEPREC.","PER","PLANT","PLANT",null,"FULLY","CALCULATED","PLANT","ACCUMMULATED"]
[null,null,{"$f":"Year13","v":"Enter Year Here"},"RATE",{"$f":"C639","v":"Enter Year Here"},"ADDITION","RETIREMENT","SALVAGE","DEPRECIATED","DEPRECIATION","BALANCE","DEPRECIATION"]
[{"$f":"A591","v":301},"Organization",{"$f":"L591","v":0},{"$f":"D591","v":0},{"$f":"K591","v":0},{"$f":"'WP 1'!AC11","v":0},{"$f":"'WP 1'!AD11","v":0},null,{"$f":"I591","v":0},{"$f":"IF($E$635=\"Enter Year Here\",0,((E640-I640+(F640-G640)/2))*D640)","v":0},{"$f":"+E640+F640-G640","v":0},{"$f":"+C640+J640-G640+H640","v":0}]
[302,"Franchises",0,0,0,{"$f":"'WP 1'!AC12","v":0},{"$f":"'WP 1'!AD12","v":0},null,0,{"$f":"IF($E$635=\"Enter Year Here\",0,((E641-I641+(F641-G641)/2))*D641)","v":0},{"$f":"+E641+F641-G641","v":0},{"$f":"+C641+J641-G641+H641","v":0}]
[303,"Land and Land Rights",0,0,0,{"$f":"'WP 1'!AC13","v":0},{"$f":"'WP 1'!AD13","v":0},null,0,{"$f":"IF($E$635=\"Enter Year Here\",0,((E642-I642+(F642-G642)/2))*D642)","v":0},{"$f":"+E642+F642-G642","v":0},{"$f":"+C642+J642-G642+H642","v":0}]
[304,"Structures and Improvements",0,0,0,{"$f":"'WP 1'!AC14","v":0},{"$f":"'WP 1'!AD14","v":0},null,0,0,0,0]
[305,"Collecting & Improving Reservoirs",0,0,0,{"$f":"'WP 1'!AC15","v":0},{"$f":"'WP 1'!AD15","v":0},null,0,0,0,0]
[306,"Lake, River, Canal Intakes",0,0,0,{"$f":"'WP 1'!AC16","v":0},{"$f":"'WP 1'!AD16","v":0},null,0,0,0,0]
[307,"Wells and Springs",0,0,0,{"$f":"'WP 1'!AC17","v":0},{"$f":"'WP 1'!AD17","v":0},null,0,0,0,0]
[308,"Infiltration Galleries",0,0,0,{"$f":"'WP 1'!AC18","v":0},{"$f":"'WP 1'!AD18","v":0},null,0,0,0,0]
[309,"Supply Mains",0,0,0,{"$f":"'WP 1'!AC19","v":0},{"$f":"'WP 1'!AD19","v":0},null,0,0,0,0]
[310,"Power Generation Equipment",0,0,0,{"$f":"'WP 1'!AC20","v":0},{"$f":"'WP 1'!AD20","v":0},null,0,0,0,0]
[311,"Pumping Equipment",0,0,0,{"$f":"'WP 1'!AC21","v":0},{"$f":"'WP 1'!AD21","v":0},null,0,0,0,0]
[320,"Water Treatment Equipment",0,0,0,{"$f":"'WP 1'!AC22","v":0},{"$f":"'WP 1'!AD22","v":0},null,0,0,0,0]
[320.10000000000002,"Water Treatment Plants",0,0,0,{"$f":"'WP 1'!AC23","v":0},{"$f":"'WP 1'!AD23","v":0},null,0,0,0,0]
[320.2,"Solution Chemical Feeders",0,0,0,{"$f":"'WP 1'!AC24","v":0},{"$f":"'WP 1'!AD24","v":0},null,0,0,0,0]
[320.3,"Point-of-Use Treatment Devices",0,0,0,{"$f":"'WP 1'!AC25","v":0},{"$f":"'WP 1'!AD25","v":0},null,0,0,0,0]
[330,"Distribution Reservoirs and Standpipes",0,0,0,{"$f":"'WP 1'!AC26","v":0},{"$f":"'WP 1'!AD26","v":0},null,0,0,0,0]
[330.1,"Storage Tanks",0,0,0,{"$f":"'WP 1'!AC27","v":0},{"$f":"'WP 1'!AD27","v":0},null,0,0,0,0]
[330.2,"Pressure Tanks",0,0,0,{"$f":"'WP 1'!AC28","v":0},{"$f":"'WP 1'!AD28","v":0},null,0,0,0,0]
[331,"Transmission and Distribution Mains",0,0,0,{"$f":"'WP 1'!AC29","v":0},{"$f":"'WP 1'!AD29","v":0},null,0,0,0,0]
[333,"Services",0,0,0,{"$f":"'WP 1'!AC30","v":0},{"$f":"'WP 1'!AD30","v":0},null,0,0,0,0]
[{"$f":"A611","v":334},"Meters and Meter Installations",0,0,0,{"$f":"'WP 1'!AC31","v":0},{"$f":"'WP 1'!AD31","v":0},null,0,0,0,0]
[335,"Hydrants",0,0,0,{"$f":"'WP 1'!AC32","v":0},{"$f":"'WP 1'!AD32","v":0},null,0,0,0,0]
[336,"Backflow Prevention Devices",0,0,0,{"$f":"'WP 1'!AC33","v":0},{"$f":"'WP 1'!AD33","v":0},null,0,0,0,0]
[339,"Other Plant and Misc. Equipment",0,0,0,{"$f":"'WP 1'!AC34","v":0},{"$f":"'WP 1'!AD34","v":0},null,0,0,0,0]
[340,"Office Furniture and Equipment",0,0,0,{"$f":"'WP 1'!AC35","v":0},{"$f":"'WP 1'!AD35","v":0},null,0,0,0,0]
[340.1,"Computer & Software",0,0,0,{"$f":"'WP 1'!AC36","v":0},{"$f":"'WP 1'!AD36","v":0},null,0,0,0,0]
[341,"Transportation Equipment",0,0,0,{"$f":"'WP 1'!AC37","v":0},{"$f":"'WP 1'!AD37","v":0},null,0,0,0,0]
[342,"Stores Equipment",0,0,0,{"$f":"'WP 1'!AC38","v":0},{"$f":"'WP 1'!AD38","v":0},null,0,0,0,0]
[343,"Tools, Shop and Garage Equipment",0,0,0,{"$f":"'WP 1'!AC39","v":0},{"$f":"'WP 1'!AD39","v":0},null,0,0,0,0]
[344,"Laboratory Equipment",0,0,0,{"$f":"'WP 1'!AC40","v":0},{"$f":"'WP 1'!AD40","v":0},null,0,0,0,0]
[345,"Power Operated Equipment",0,0,0,{"$f":"'WP 1'!AC41","v":0},{"$f":"'WP 1'!AD41","v":0},null,0,0,0,0]
[346,"Communication Equipment",0,0,0,{"$f":"'WP 1'!AC42","v":0},{"$f":"'WP 1'!AD42","v":0},null,0,0,0,0]
[347,"Miscellaneous Equipment",0,0,0,{"$f":"'WP 1'!AC43","v":0},{"$f":"'WP 1'!AD43","v":0},null,0,0,0,0]
[348,"Other Tangible Plant",0,0,0,{"$f":"'WP 1'!AC44","v":0},{"$f":"'WP 1'!AD44","v":0},null,0,0,0,0]
[]
[null,null,{"$f":"SUM(C640:C673)","v":0},null,{"$f":"SUM(E640:E673)","v":0},0,0,0,0,0,0,0]
[]
[]
[{"$f":"'AR1'!$B$12","v":0},null,null,null,null,null,null,null,null,null,null,{"$f":"$L$1","v":"Work Paper 2"}]
[{"$f":"'Sch Title'!$A$2","v":"Short Form Rate Application"}]
[{"$f":"'Sch Title'!$B$50","v":"PLANT ACCUMULATED DEPRECIATION"}]
[{"$f":"'Sch Title'!$A$4","v":"Test Year Ended 12/31/20"}]
[]
[null,null,null,null,{"$f":"Year15","v":"Enter Year Here"}]
[null,null,"ACCUMULATED",null,"PLANT"]
[null,null,"DEPRECIATION",null,"BALANCE"]
[null,null,"PER","DEPREC.","PER","PLANT","PLANT",null,"FULLY","CALCULATED","PLANT","ACCUMMULATED"]
[null,null,{"$f":"Year13","v":"Enter Year Here"},"RATE",{"$f":"C687","v":"Enter Year Here"},"ADDITION","RETIREMENT","SALVAGE","DEPRECIATED","DEPRECIATION","BALANCE","DEPRECIATION"]
[{"$f":"A640","v":301},"Organization",{"$f":"L640","v":0},{"$f":"D640","v":0},{"$f":"K640","v":0},{"$f":"'WP 1'!AE11","v":0},{"$f":"'WP 1'!AF11","v":0},null,{"$f":"I640","v":0},{"$f":"IF($E$683=\"Enter Year Here\",0,((E688-I688+(F688-G688)/2))*D688)","v":0},{"$f":"+E688+F688-G688","v":0},{"$f":"+C688+J688-G688+H688","v":0}]
[302,"Franchises",0,0,0,{"$f":"'WP 1'!AE12","v":0},{"$f":"'WP 1'!AF12","v":0},null,0,{"$f":"IF($E$683=\"Enter Year Here\",0,((E689-I689+(F689-G689)/2))*D689)","v":0},{"$f":"+E689+F689-G689","v":0},{"$f":"+C689+J689-G689+H689","v":0}]
[303,"Land and Land Rights",0,0,0,{"$f":"'WP 1'!AE13","v":0},{"$f":"'WP 1'!AF13","v":0},null,0,{"$f":"IF($E$683=\"Enter Year Here\",0,((E690-I690+(F690-G690)/2))*D690)","v":0},{"$f":"+E690+F690-G690","v":0},0]
[304,"Structures and Improvements",0,0,0,{"$f":"'WP 1'!AE14","v":0},{"$f":"'WP 1'!AF14","v":0},null,0,0,0,0]
[305,"Collecting & Improving Reservoirs",0,0,0,{"$f":"'WP 1'!AE15","v":0},{"$f":"'WP 1'!AF15","v":0},null,0,0,0,0]
[306,"Lake, River, Canal Intakes",0,0,0,{"$f":"'WP 1'!AE16","v":0},{"$f":"'WP 1'!AF16","v":0},null,0,0,0,0]
[307,"Wells and Springs",0,0,0,{"$f":"'WP 1'!AE17","v":0},{"$f":"'WP 1'!AF17","v":0},null,0,0,0,0]
[308,"Infiltration Galleries",0,0,0,{"$f":"'WP 1'!AE18","v":0},{"$f":"'WP 1'!AF18","v":0},null,0,0,0,0]
[309,"Supply Mains",0,0,0,{"$f":"'WP 1'!AE19","v":0},{"$f":"'WP 1'!AF19","v":0},null,0,0,0,0]
[310,"Power Generation Equipment",0,0,0,{"$f":"'WP 1'!AE20","v":0},{"$f":"'WP 1'!AF20","v":0},null,0,0,0,0]
[311,"Pumping Equipment",0,0,0,{"$f":"'WP 1'!AE21","v":0},{"$f":"'WP 1'!AF21","v":0},null,0,0,0,0]
[320,"Water Treatment Equipment",0,0,0,{"$f":"'WP 1'!AE22","v":0},{"$f":"'WP 1'!AF22","v":0},null,0,0,0,0]
[320.10000000000002,"Water Treatment Plants",0,0,0,{"$f":"'WP 1'!AE23","v":0},{"$f":"'WP 1'!AF23","v":0},null,0,0,0,0]
[320.2,"Solution Chemical Feeders",0,0,0,{"$f":"'WP 1'!AE24","v":0},{"$f":"'WP 1'!AF24","v":0},null,0,0,0,0]
[320.3,"Point-of-Use Treatment Devices",0,0,0,{"$f":"'WP 1'!AE25","v":0},{"$f":"'WP 1'!AF25","v":0},null,0,0,0,0]
[330,"Distribution Reservoirs and Standpipes",0,0,0,{"$f":"'WP 1'!AE26","v":0},{"$f":"'WP 1'!AF26","v":0},null,0,0,0,0]
[330.1,"Storage Tanks",0,0,0,{"$f":"'WP 1'!AE27","v":0},{"$f":"'WP 1'!AF27","v":0},null,0,0,0,0]
[330.2,"Pressure Tanks",0,0,0,{"$f":"'WP 1'!AE28","v":0},{"$f":"'WP 1'!AF28","v":0},null,0,0,0,0]
[331,"Transmission and Distribution Mains",0,0,0,{"$f":"'WP 1'!AE29","v":0},{"$f":"'WP 1'!AF29","v":0},null,0,0,0,0]
[333,"Services",0,0,0,{"$f":"'WP 1'!AE30","v":0},{"$f":"'WP 1'!AF30","v":0},null,0,0,0,0]
[{"$f":"A660","v":334},"Meters and Meter Installations",0,0,0,{"$f":"'WP 1'!AE31","v":0},{"$f":"'WP 1'!AF31","v":0},null,0,0,0,0]
[335,"Hydrants",0,0,0,{"$f":"'WP 1'!AE32","v":0},{"$f":"'WP 1'!AF32","v":0},null,0,0,0,0]
[336,"Backflow Prevention Devices",0,0,0,{"$f":"'WP 1'!AE33","v":0},{"$f":"'WP 1'!AF33","v":0},null,0,0,0,0]
[339,"Other Plant and Misc. Equipment",0,0,0,{"$f":"'WP 1'!AE34","v":0},{"$f":"'WP 1'!AF34","v":0},null,0,0,0,0]
[340,"Office Furniture and Equipment",0,0,0,{"$f":"'WP 1'!AE35","v":0},{"$f":"'WP 1'!AF35","v":0},null,0,0,0,0]
[340.1,"Computer & Software",0,0,0,{"$f":"'WP 1'!AE36","v":0},{"$f":"'WP 1'!AF36","v":0},null,0,0,0,0]
[341,"Transportation Equipment",0,0,0,{"$f":"'WP 1'!AE37","v":0},{"$f":"'WP 1'!AF37","v":0},null,0,0,0,0]
[342,"Stores Equipment",0,0,0,{"$f":"'WP 1'!AE38","v":0},{"$f":"'WP 1'!AF38","v":0},null,0,0,0,0]
[343,"Tools, Shop and Garage Equipment",0,0,0,{"$f":"'WP 1'!AE39","v":0},{"$f":"'WP 1'!AF39","v":0},null,0,0,0,0]
[344,"Laboratory Equipment",0,0,0,{"$f":"'WP 1'!AE40","v":0},{"$f":"'WP 1'!AF40","v":0},null,0,0,0,0]
[345,"Power Operated Equipment",0,0,0,{"$f":"'WP 1'!AE41","v":0},{"$f":"'WP 1'!AF41","v":0},null,0,0,0,0]
[346,"Communication Equipment",0,0,0,{"$f":"'WP 1'!AE42","v":0},{"$f":"'WP 1'!AF42","v":0},null,0,0,0,0]
[347,"Miscellaneous Equipment",0,0,0,{"$f":"'WP 1'!AE43","v":0},{"$f":"'WP 1'!AF43","v":0},null,0,0,0,0]
[348,"Other Tangible Plant",0,0,0,{"$f":"'WP 1'!AE44","v":0},{"$f":"'WP 1'!AF44","v":0},null,0,0,0,0]
[]
[null,null,{"$f":"SUM(C688:C722)","v":0},null,{"$f":"SUM(E688:E722)","v":0},0,0,0,0,0,0,0]
[]
[]
[{"$f":"'AR1'!$B$12","v":0},null,null,null,null,null,null,null,null,null,null,{"$f":"$L$1","v":"Work Paper 2"}]
[{"$f":"'Sch Title'!$A$2","v":"Short Form Rate Application"}]
[{"$f":"'Sch Title'!$B$50","v":"PLANT ACCUMULATED DEPRECIATION"}]
[{"$f":"'Sch Title'!$A$4","v":"Test Year Ended 12/31/20"}]
[null,null,null,null,"TEST YEAR"]
[null,null,"ACCUMULATED",null,"PLANT"]
[null,null,"DEPRECIATION",null,"BALANCE"]
[null,null,"PER","DEPREC.","PER","PLANT","PLANT",null,"FULLY","CALCULATED","PLANT","ACCUMMULATED"]
[null,null,{"$f":"Year14","v":"Enter Year Here"},"RATE",{"$f":"C734","v":"Enter Year Here"},"ADDITION","RETIREMENT","SALVAGE","DEPRECIATED","DEPRECIATION","BALANCE","DEPRECIATION"]
[{"$f":"A640","v":301},"Organization",{"$f":"L688","v":0},{"$f":"D640","v":0},{"$f":"K688","v":0},{"$f":"'WP 1'!AG11","v":0},{"$f":"'WP 1'!AH11","v":0},null,{"$f":"I640","v":0},{"$f":"((E735-I735+(F735-G735)/2))*D735","v":0},{"$f":"+E735+F735-G735","v":0},{"$f":"+C735+J735-G735+H735","v":0}]
[302,"Franchises",0,0,{"$f":"K689","v":0},{"$f":"'WP 1'!AG12","v":0},{"$f":"'WP 1'!AH12","v":0},null,0,{"$f":"((E736-I736+(F736-G736)/2))*D736","v":0},{"$f":"+E736+F736-G736","v":0},{"$f":"+C736+J736-G736+H736","v":0}]
[303,"Land and Land Rights",0,0,{"$f":"K690","v":0},{"$f":"'WP 1'!AG13","v":0},{"$f":"'WP 1'!AH13","v":0},null,0,{"$f":"((E737-I737+(F737-G737)/2))*D737","v":0},{"$f":"+E737+F737-G737","v":0},{"$f":"+C737+J737-G737+H737","v":0}]
[304,"Structures and Improvements",0,0,0,{"$f":"'WP 1'!AG14","v":0},{"$f":"'WP 1'!AH14","v":0},null,0,0,0,0]
[305,"Collecting & Improving Reservoirs",0,0,0,{"$f":"'WP 1'!AG15","v":0},{"$f":"'WP 1'!AH15","v":0},null,0,0,0,0]
[306,"Lake, River, Canal Intakes",0,0,0,{"$f":"'WP 1'!AG16","v":0},{"$f":"'WP 1'!AH16","v":0},null,0,0,0,0]
[307,"Wells and Springs",0,0,0,{"$f":"'WP 1'!AG17","v":0},{"$f":"'WP 1'!AH17","v":0},null,0,0,0,0]
[308,"Infiltration Galleries",0,0,0,{"$f":"'WP 1'!AG18","v":0},{"$f":"'WP 1'!AH18","v":0},null,0,0,0,0]
[309,"Supply Mains",0,0,0,{"$f":"'WP 1'!AG19","v":0},{"$f":"'WP 1'!AH19","v":0},null,0,0,0,0]
[310,"Power Generation Equipment",0,0,0,{"$f":"'WP 1'!AG20","v":0},{"$f":"'WP 1'!AH20","v":0},null,0,0,0,0]
[311,"Pumping Equipment",0,0,0,{"$f":"'WP 1'!AG21","v":0},{"$f":"'WP 1'!AH21","v":0},null,0,0,0,0]
[320,"Water Treatment Equipment",0,0,0,{"$f":"'WP 1'!AG22","v":0},{"$f":"'WP 1'!AH22","v":0},null,0,0,0,0]
[320.10000000000002,"Water Treatment Plants",0,0,0,{"$f":"'WP 1'!AG23","v":0},{"$f":"'WP 1'!AH23","v":0},null,0,0,0,0]
[320.2,"Solution Chemical Feeders",0,0,0,{"$f":"'WP 1'!AG24","v":0},{"$f":"'WP 1'!AH24","v":0},null,0,0,0,0]
[320.3,"Point-of-Use Treatment Devices",0,0,0,{"$f":"'WP 1'!AG25","v":0},{"$f":"'WP 1'!AH25","v":0},null,0,0,0,0]
[330,"Distribution Reservoirs and Standpipes",0,0,0,{"$f":"'WP 1'!AG26","v":0},{"$f":"'WP 1'!AH26","v":0},null,0,0,0,0]
[330.1,"Storage Tanks",0,0,0,{"$f":"'WP 1'!AG27","v":0},{"$f":"'WP 1'!AH27","v":0},null,0,0,0,0]
[330.2,"Pressure Tanks",0,0,0,{"$f":"'WP 1'!AG28","v":0},{"$f":"'WP 1'!AH28","v":0},null,0,0,0,0]
[331,"Transmission and Distribution Mains",0,0,0,{"$f":"'WP 1'!AG29","v":0},{"$f":"'WP 1'!AH29","v":0},null,0,0,0,0]
[333,"Services",0,0,0,{"$f":"'WP 1'!AG30","v":0},{"$f":"'WP 1'!AH30","v":0},null,0,0,0,0]
[{"$f":"A660","v":334},"Meters and Meter Installations",0,0,0,{"$f":"'WP 1'!AG31","v":0},{"$f":"'WP 1'!AH31","v":0},null,0,0,0,0]
[335,"Hydrants",0,0,0,{"$f":"'WP 1'!AG32","v":0},{"$f":"'WP 1'!AH32","v":0},null,0,0,0,0]
[336,"Backflow Prevention Devices",0,0,0,{"$f":"'WP 1'!AG33","v":0},{"$f":"'WP 1'!AH33","v":0},null,0,0,0,0]
[339,"Other Plant and Misc. Equipment",0,0,0,{"$f":"'WP 1'!AG34","v":0},{"$f":"'WP 1'!AH34","v":0},null,0,0,0,0]
[340,"Office Furniture and Equipment",0,0,0,{"$f":"'WP 1'!AG35","v":0},{"$f":"'WP 1'!AH35","v":0},null,0,0,0,0]
[340.1,"Computer & Software",0,0,0,{"$f":"'WP 1'!AG36","v":0},{"$f":"'WP 1'!AH36","v":0},null,0,0,0,0]
[341,"Transportation Equipment",0,0,0,{"$f":"'WP 1'!AG37","v":0},{"$f":"'WP 1'!AH37","v":0},null,0,0,0,0]
[342,"Stores Equipment",0,0,0,{"$f":"'WP 1'!AG38","v":0},{"$f":"'WP 1'!AH38","v":0},null,0,0,0,0]
[343,"Tools, Shop and Garage Equipment",0,0,0,{"$f":"'WP 1'!AG39","v":0},{"$f":"'WP 1'!AH39","v":0},null,0,0,0,0]
[344,"Laboratory Equipment",0,0,0,{"$f":"'WP 1'!AG40","v":0},{"$f":"'WP 1'!AH40","v":0},null,0,0,0,0]
[345,"Power Operated Equipment",0,0,0,{"$f":"'WP 1'!AG41","v":0},{"$f":"'WP 1'!AH41","v":0},null,0,0,0,0]
[346,"Communication Equipment",0,0,0,{"$f":"'WP 1'!AG42","v":0},{"$f":"'WP 1'!AH42","v":0},null,0,0,0,0]
[347,"Miscellaneous Equipment",0,0,0,{"$f":"'WP 1'!AG43","v":0},{"$f":"'WP 1'!AH43","v":0},null,0,0,0,0]
[348,"Other Tangible Plant",0,0,0,{"$f":"'WP 1'!AG44","v":0},{"$f":"'WP 1'!AH44","v":0},null,0,0,0,0]
[]
[null,null,{"$f":"SUM(C735:C768)","v":0},null,{"$f":"SUM(E735:E768)","v":0},0,0,0,0,0,0,0]

{"sheet":"WP 3","index":94,"n_rows":59,"n_cols":15,"rows_kept":59,"cut":false,"hidden":true,"merged":[[58,0,59,5],[5,0,5,5],[48,0,48,5],[49,0,50,5],[51,0,53,5],[55,0,56,5],[45,0,45,3],[10,3,10,4],[10,1,10,2]]}
[{"$f":"'AR1'!$B$12","v":0},null,null,null,null,{"$f":"'Sch Title'!$A$51","v":"Work Paper 3"}]
[{"$f":"'Sch Title'!$A$2","v":"Short Form Rate Application"},null,null,null,null,"Table of contents"]
[{"$f":"Sch12_AIAC","v":"ADVANCES IN AID OF CONSTRUCTION "}]
[{"$f":"'Sch Title'!$A$4","v":"Test Year Ended 12/31/20"}]
[]
["ADVANCES IN AID OF CONSTRUCTION "]
[]
["Balance Per Prior Decision",null,null,null,null,null,null,null,null,null,null,{"$f":"ISBLANK(B8)","v":true},{"$f":"IF(I8=TRUE,\"Incomplete\",IF(J8=TRUE,\"Incomplete\",IF(K8=TRUE,\"Incomplete\",IF(L8=TRUE,\"Incomplete\",\"Complete\"))))","v":"Incomplete"}]
[]
[]
[null,"Line Extensions",null,"Meter Deposits"]
[null,"Additions During Year","Refunds Paid During Year","Additions During Year","Refunds Paid During Year"]
[{"$f":"Year1","v":"Enter Year Here"},null,null,null,null,null,null,null,{"$f":"ISBLANK(B13)","v":true},{"$f":"ISBLANK(C13)","v":true},{"$f":"ISBLANK(D13)","v":true},{"$f":"ISBLANK(E13)","v":true},{"$f":"IF(I13=TRUE,\"Incomplete\",IF(J13=TRUE,\"Incomplete\",IF(K13=TRUE,\"Incomplete\",IF(L13=TRUE,\"Incomplete\",\"Complete\"))))","v":"Incomplete"}]
[]
[{"$f":"Year2","v":"Enter Year Here"},null,null,null,null,null,null,null,{"$f":"ISBLANK(B15)","v":true},{"$f":"ISBLANK(C15)","v":true},{"$f":"ISBLANK(D15)","v":true},{"$f":"ISBLANK(E15)","v":true},{"$f":"IF(I15=TRUE,\"Incomplete\",IF(J15=TRUE,\"Incomplete\",IF(K15=TRUE,\"Incomplete\",IF(L15=TRUE,\"Incomplete\",\"Complete\"))))","v":"Incomplete"}]
[]
[{"$f":"Year3","v":"Enter Year Here"},null,null,null,null,null,null,null,{"$f":"ISBLANK(B17)","v":true},{"$f":"ISBLANK(C17)","v":true},{"$f":"ISBLANK(D17)","v":true},{"$f":"ISBLANK(E17)","v":true},{"$f":"IF(I17=TRUE,\"Incomplete\",IF(J17=TRUE,\"Incomplete\",IF(K17=TRUE,\"Incomplete\",IF(L17=TRUE,\"Incomplete\",\"Complete\"))))","v":"Incomplete"}]
[]
[{"$f":"Year4","v":"Enter Year Here"},null,null,null,null,null,null,null,{"$f":"ISBLANK(B19)","v":true},{"$f":"ISBLANK(C19)","v":true},{"$f":"ISBLANK(D19)","v":true},{"$f":"ISBLANK(E19)","v":true},{"$f":"IF(I19=TRUE,\"Incomplete\",IF(J19=TRUE,\"Incomplete\",IF(K19=TRUE,\"Incomplete\",IF(L19=TRUE,\"Incomplete\",\"Complete\"))))","v":"Incomplete"}]
[]
[{"$f":"Year5","v":"Enter Year Here"},null,null,null,null,null,null,null,{"$f":"ISBLANK(B21)","v":true},{"$f":"ISBLANK(C21)","v":true},{"$f":"ISBLANK(D21)","v":true},{"$f":"ISBLANK(E21)","v":true},{"$f":"IF(I21=TRUE,\"Incomplete\",IF(J21=TRUE,\"Incomplete\",IF(K21=TRUE,\"Incomplete\",IF(L21=TRUE,\"Incomplete\",\"Complete\"))))","v":"Incomplete"}]
[]
[{"$f":"Year6","v":"Enter Year Here"},null,null,null,null,null,null,null,{"$f":"ISBLANK(B23)","v":true},{"$f":"ISBLANK(C23)","v":true},{"$f":"ISBLANK(D23)","v":true},{"$f":"ISBLANK(E23)","v":true},{"$f":"IF(I23=TRUE,\"Incomplete\",IF(J23=TRUE,\"Incomplete\",IF(K23=TRUE,\"Incomplete\",IF(L23=TRUE,\"Incomplete\",\"Complete\"))))","v":"Incomplete"}]
[]
[{"$f":"Year7","v":"Enter Year Here"},null,null,null,null,null,null,null,{"$f":"ISBLANK(B25)","v":true},{"$f":"ISBLANK(C25)","v":true},{"$f":"ISBLANK(D25)","v":true},{"$f":"ISBLANK(E25)","v":true},{"$f":"IF(I25=TRUE,\"Incomplete\",IF(J25=TRUE,\"Incomplete\",IF(K25=TRUE,\"Incomplete\",IF(L25=TRUE,\"Incomplete\",\"Complete\"))))","v":"Incomplete"}]
[]
[{"$f":"Year8","v":"Enter Year Here"},null,null,null,null,null,null,null,{"$f":"ISBLANK(B27)","v":true},{"$f":"ISBLANK(C27)","v":true},{"$f":"ISBLANK(D27)","v":true},{"$f":"ISBLANK(E27)","v":true},{"$f":"IF(I27=TRUE,\"Incomplete\",IF(J27=TRUE,\"Incomplete\",IF(K27=TRUE,\"Incomplete\",IF(L27=TRUE,\"Incomplete\",\"Complete\"))))","v":"Incomplete"},{"$f":"IF(M13=\"Incomplete\",\"Incomplete\",IF(M15=\"Incomplete\",\"Incomplete\",IF(M17=\"Incomplete\",\"Incomplete\",IF(M19=\"Incomplete\",\"Incomplete\",IF(M21=\"Incomplete\",\"Incomplete\",IF(M23=\"Incomplete\",\"Incomplete\",IF(M25=\"Incomplete\",\"Incomplete\",IF(M27=\"Incomplete\",\"Incomplete\",\"Complete\"))))))))","v":"Incomplete"}]
[]
[{"$f":"Year9","v":"Enter Year Here"},null,null,null,null,null,null,null,{"$f":"ISBLANK(B29)","v":true},{"$f":"ISBLANK(C29)","v":true},{"$f":"ISBLANK(D29)","v":true},{"$f":"ISBLANK(E29)","v":true},{"$f":"IF(I29=TRUE,\"Incomplete\",IF(J29=TRUE,\"Incomplete\",IF(K29=TRUE,\"Incomplete\",IF(L29=TRUE,\"Incomplete\",\"Complete\"))))","v":"Incomplete"}]
[]
[{"$f":"Year10","v":"Enter Year Here"},null,null,null,null,null,null,null,{"$f":"ISBLANK(B31)","v":true},{"$f":"ISBLANK(C31)","v":true},{"$f":"ISBLANK(D31)","v":true},{"$f":"ISBLANK(E31)","v":true},{"$f":"IF(I31=TRUE,\"Incomplete\",IF(J31=TRUE,\"Incomplete\",IF(K31=TRUE,\"Incomplete\",IF(L31=TRUE,\"Incomplete\",\"Complete\"))))","v":"Incomplete"}]
[]
[{"$f":"Year11","v":"Enter Year Here"},null,null,null,null,null,null,null,{"$f":"ISBLANK(B33)","v":true},{"$f":"ISBLANK(C33)","v":true},{"$f":"ISBLANK(D33)","v":true},{"$f":"ISBLANK(E33)","v":true},{"$f":"IF(I33=TRUE,\"Incomplete\",IF(J33=TRUE,\"Incomplete\",IF(K33=TRUE,\"Incomplete\",IF(L33=TRUE,\"Incomplete\",\"Complete\"))))","v":"Incomplete"}]
[]
[{"$f":"Year12","v":"Enter Year Here"},null,null,null,null,null,null,null,{"$f":"ISBLANK(B35)","v":true},{"$f":"ISBLANK(C35)","v":true},{"$f":"ISBLANK(D35)","v":true},{"$f":"ISBLANK(E35)","v":true},{"$f":"IF(I35=TRUE,\"Incomplete\",IF(J35=TRUE,\"Incomplete\",IF(K35=TRUE,\"Incomplete\",IF(L35=TRUE,\"Incomplete\",\"Complete\"))))","v":"Incomplete"}]
[]
[{"$f":"Year13","v":"Enter Year Here"},null,null,null,null,null,null,null,{"$f":"ISBLANK(B37)","v":true},{"$f":"ISBLANK(C37)","v":true},{"$f":"ISBLANK(D37)","v":true},{"$f":"ISBLANK(E37)","v":true},{"$f":"IF(I37=TRUE,\"Incomplete\",IF(J37=TRUE,\"Incomplete\",IF(K37=TRUE,\"Incomplete\",IF(L37=TRUE,\"Incomplete\",\"Complete\"))))","v":"Incomplete"}]
[]
[{"$f":"Year14","v":"Enter Year Here"},null,null,null,null,null,null,null,{"$f":"ISBLANK(B39)","v":true},{"$f":"ISBLANK(C39)","v":true},{"$f":"ISBLANK(D39)","v":true},{"$f":"ISBLANK(E39)","v":true},{"$f":"IF(I39=TRUE,\"Incomplete\",IF(J39=TRUE,\"Incomplete\",IF(K39=TRUE,\"Incomplete\",IF(L39=TRUE,\"Incomplete\",\"Complete\"))))","v":"Incomplete"}]
[]
[{"$f":"Year15","v":"Enter Year Here"},null,null,null,null,null,null,null,{"$f":"ISBLANK(B41)","v":true},{"$f":"ISBLANK(C41)","v":true},{"$f":"ISBLANK(D41)","v":true},{"$f":"ISBLANK(E41)","v":true},{"$f":"IF(I41=TRUE,\"Incomplete\",IF(J41=TRUE,\"Incomplete\",IF(K41=TRUE,\"Incomplete\",IF(L41=TRUE,\"Incomplete\",\"Complete\"))))","v":"Incomplete"},{"$f":"IF(M8=\"Incomplete\",\"Incomplete\",IF(M29=\"Incomplete\",\"Incomplete\",IF(M31=\"Incomplete\",\"Incomplete\",IF(M33=\"Incomplete\",\"Incomplete\",IF(M35=\"Incomplete\",\"Incomplete\",IF(M37=\"Incomplete\",\"Incomplete\",IF(M39=\"Incomplete\",\"Incomplete\",IF(M41=\"Incomplete\",\"Incomplete\",\"Complete\"))))))))","v":"Incomplete"},{"$f":"IF(N27=\"Incomplete\",\"Incomplete\",IF(N41=\"Incomplete\",\"Incomplete\",\"Complete\"))","v":"Incomplete"}]
[]
["Total",{"$f":"SUM(B13:B42)","v":0},{"$f":"SUM(C13:C42)","v":0},{"$f":"SUM(D13:D42)","v":0},{"$f":"SUM(E13:E42)","v":0}]
[]
[]
["Total Advances in Aid of Construction",null,null,null,{"$f":"B8+B43-C43+D43-E43","v":0}]
[]
[]
["Advances in Aid of Construction (Acct. 252) refers to the following:"]
["(1)  Refundable amounts received from a new customer to cover the cost of a meter and piping from the building to the meter and the associated installation."]
[]
["(2)  Refundable amounts received from a customer or a developer for mains, valves, fittings, and additional facilities required to provide pressure, storage, or water supply pursuant to a main extension agreement."]
[]
[]
[]
["Instructions:  Update all of the information in the Grey highlighted cells.  This information should be consistent with the information reported on the Annual Report."]
[]
[]
["Note: Prior Decision refers to the balances per the prior Staff Report as adjusted per the final Commission Decision."]

{"sheet":"WP 4","index":95,"n_rows":63,"n_cols":13,"rows_kept":63,"cut":false,"hidden":true,"merged":[[6,0,6,4],[45,0,45,4],[46,0,48,4],[62,0,63,4],[57,0,59,4],[49,0,50,4]]}
[{"$f":"'AR1'!$B$12","v":0},null,null,null,{"$f":"'Sch Title'!$A$52","v":"Work Paper 4"}]
[{"$f":"'Sch Title'!$A$2","v":"Short Form Rate Application"},null,null,null,"Table of contents"]
[{"$f":"Sch13_CIAC","v":"GROSS CONTRIBUTIONS IN AID OF CONSTRUCTION "}]
[{"$f":"'Sch Title'!$A$4","v":"Test Year Ended 12/31/20"}]
[]
[]
["GROSS CONTRIBUTIONS IN AID OF CONSTRUCTION "]
[]
[null,null,"Additions of CIAC",null,"Amorization of CIAC"]
["Balance Per Prior Decision",null,null,null,null,null,null,null,{"$f":"ISBLANK(C10)","v":true},{"$f":"ISBLANK(E10)","v":true},{"$f":"IF(I10=TRUE,\"Incomplete\",IF(J10=TRUE,\"Incomplete\",\"Complete\"))","v":"Incomplete"}]
[]
[{"$f":"Year1","v":"Enter Year Here"},null,null,null,null,null,null,null,{"$f":"ISBLANK(C12)","v":true},{"$f":"ISBLANK(E12)","v":true},{"$f":"IF(I12=TRUE,\"Incomplete\",IF(J12=TRUE,\"Incomplete\",\"Complete\"))","v":"Incomplete"}]
[]
[{"$f":"Year2","v":"Enter Year Here"},null,null,null,null,null,null,null,{"$f":"ISBLANK(C14)","v":true},{"$f":"ISBLANK(E14)","v":true},{"$f":"IF(I14=TRUE,\"Incomplete\",IF(J14=TRUE,\"Incomplete\",\"Complete\"))","v":"Incomplete"}]
[]
[{"$f":"Year3","v":"Enter Year Here"},null,null,null,null,null,null,null,{"$f":"ISBLANK(C16)","v":true},{"$f":"ISBLANK(E16)","v":true},{"$f":"IF(I16=TRUE,\"Incomplete\",IF(J16=TRUE,\"Incomplete\",\"Complete\"))","v":"Incomplete"}]
[]
[{"$f":"Year4","v":"Enter Year Here"},null,null,null,null,null,null,null,{"$f":"ISBLANK(C18)","v":true},{"$f":"ISBLANK(E18)","v":true},{"$f":"IF(I18=TRUE,\"Incomplete\",IF(J18=TRUE,\"Incomplete\",\"Complete\"))","v":"Incomplete"}]
[]
[{"$f":"Year5","v":"Enter Year Here"},null,null,null,null,null,null,null,{"$f":"ISBLANK(C20)","v":true},{"$f":"ISBLANK(E20)","v":true},{"$f":"IF(I20=TRUE,\"Incomplete\",IF(J20=TRUE,\"Incomplete\",\"Complete\"))","v":"Incomplete"}]
[]
[{"$f":"Year6","v":"Enter Year Here"},null,null,null,null,null,null,null,{"$f":"ISBLANK(C22)","v":true},{"$f":"ISBLANK(E22)","v":true},{"$f":"IF(I22=TRUE,\"Incomplete\",IF(J22=TRUE,\"Incomplete\",\"Complete\"))","v":"Incomplete"}]
[]
[{"$f":"Year7","v":"Enter Year Here"},null,null,null,null,null,null,null,{"$f":"ISBLANK(C24)","v":true},{"$f":"ISBLANK(E24)","v":true},{"$f":"IF(I24=TRUE,\"Incomplete\",IF(J24=TRUE,\"Incomplete\",\"Complete\"))","v":"Incomplete"},{"$f":"IF(K10=\"Incomplete\",\"Incomplete\",IF(K12=\"Incomplete\",\"Incomplete\",IF(K14=\"Incomplete\",\"Incomplete\",IF(K16=\"Incomplete\",\"Incomplete\",IF(K18=\"Incomplete\",\"Incomplete\",IF(K20=\"Incomplete\",\"Incomplete\",IF(K22=\"Incomplete\",\"Incomplete\",IF(K24=\"Incomplete\",\"Incomplete\",\"Complete\"))))))))","v":"Incomplete"}]
[]
[{"$f":"Year8","v":"Enter Year Here"},null,null,null,null,null,null,null,{"$f":"ISBLANK(C26)","v":true},{"$f":"ISBLANK(E26)","v":true},{"$f":"IF(I26=TRUE,\"Incomplete\",IF(J26=TRUE,\"Incomplete\",\"Complete\"))","v":"Incomplete"}]
[]
[{"$f":"Year9","v":"Enter Year Here"},null,null,null,null,null,null,null,{"$f":"ISBLANK(C28)","v":true},{"$f":"ISBLANK(E28)","v":true},{"$f":"IF(I28=TRUE,\"Incomplete\",IF(J28=TRUE,\"Incomplete\",\"Complete\"))","v":"Incomplete"}]
[]
[{"$f":"Year10","v":"Enter Year Here"},null,null,null,null,null,null,null,{"$f":"ISBLANK(C30)","v":true},{"$f":"ISBLANK(E30)","v":true},{"$f":"IF(I30=TRUE,\"Incomplete\",IF(J30=TRUE,\"Incomplete\",\"Complete\"))","v":"Incomplete"}]
[]
[{"$f":"Year11","v":"Enter Year Here"},null,null,null,null,null,null,null,{"$f":"ISBLANK(C32)","v":true},{"$f":"ISBLANK(E32)","v":true},{"$f":"IF(I32=TRUE,\"Incomplete\",IF(J32=TRUE,\"Incomplete\",\"Complete\"))","v":"Incomplete"}]
[]
[{"$f":"Year12","v":"Enter Year Here"},null,null,null,null,null,null,null,{"$f":"ISBLANK(C34)","v":true},{"$f":"ISBLANK(E34)","v":true},{"$f":"IF(I34=TRUE,\"Incomplete\",IF(J34=TRUE,\"Incomplete\",\"Complete\"))","v":"Incomplete"}]
[]
[{"$f":"Year13","v":"Enter Year Here"},null,null,null,null,null,null,null,{"$f":"ISBLANK(C36)","v":true},{"$f":"ISBLANK(E36)","v":true},{"$f":"IF(I36=TRUE,\"Incomplete\",IF(J36=TRUE,\"Incomplete\",\"Complete\"))","v":"Incomplete"}]
[]
[{"$f":"Year14","v":"Enter Year Here"},null,null,null,null,null,null,null,{"$f":"ISBLANK(C38)","v":true},{"$f":"ISBLANK(E38)","v":true},{"$f":"IF(I38=TRUE,\"Incomplete\",IF(J38=TRUE,\"Incomplete\",\"Complete\"))","v":"Incomplete"}]
[]
[{"$f":"Year15","v":"Enter Year Here"},null,null,null,null,null,null,null,{"$f":"ISBLANK(C40)","v":true},{"$f":"ISBLANK(E40)","v":true},{"$f":"IF(I40=TRUE,\"Incomplete\",IF(J40=TRUE,\"Incomplete\",\"Complete\"))","v":"Incomplete"},{"$f":"IF(K26=\"Incomplete\",\"Incomplete\",IF(K28=\"Incomplete\",\"Incomplete\",IF(K30=\"Incomplete\",\"Incomplete\",IF(K32=\"Incomplete\",\"Incomplete\",IF(K34=\"Incomplete\",\"Incomplete\",IF(K36=\"Incomplete\",\"Incomplete\",IF(K38=\"Incomplete\",\"Incomplete\",IF(K40=\"Incomplete\",\"Incomplete\",\"Complete\"))))))))","v":"Incomplete"},{"$f":"IF(L24=\"Incomplete\",\"Incomplete\",IF(L40=\"Incomplete\",\"Incomplete\",\"Complete\"))","v":"Incomplete"}]
[]
["Total Additions",null,{"$f":"SUM(C12:C40)","v":0},null,{"$f":"SUM(E12:E40)","v":0}]
[]
["Balance at Test Year End",null,{"$f":"C10+C42","v":0},null,{"$f":"E10+E42","v":0}]
[]
["Contributions in Aid of Construction (Acct. 271) refers to the following:"]
["(1)   Non-refundable money, services, or property received for use in the provision of utility service from any source that is provided at no cost and interest free."]
[]
[]
["(2)  Unrefunded balances of expired advance contracts reclassified from Advances in Aid of Construction."]
[]
[]
[]
[]
[]
[]
[]
["Instructions:  Update all of the information in the yellow highlighted cells.  This information should be consistent with the information reported on the Annual Report."]
[]
[]
[]
[]
["Note: Prior Decision refers to the balances per the prior Staff Report as adjusted per the final Commission Decision."]

{"sheet":"WP 5","index":96,"n_rows":34,"n_cols":13,"rows_kept":34,"cut":false,"hidden":true,"merged":[[30,0,31,4],[33,0,35,4],[6,0,6,4],[27,0,28,4]]}
[{"$f":"'AR1'!$B$12","v":0},null,null,null,{"$f":"'Sch Title'!$A$53","v":"Work Paper 5"}]
[{"$f":"'Sch Title'!$A$2","v":"Short Form Rate Application"},null,null,null,"Table of contents"]
[{"$f":"Sch11_SuppFin","v":"SUPPLEMENTAL FINANCIAL INFORMATION (LONG TERM DEBT)"}]
[{"$f":"'Sch Title'!$A$4","v":"Test Year Ended 12/31/20"}]
[]
[]
["SUPPLEMENTAL FINANCIAL INFORMATION (LONG TERM DEBT)"]
[]
[null,"Loan #1 ","Loan #2","Loan #3","Loan #4"]
["Date Issued",{"$f":"IF('AR7'!B9=\"\",\"\",'AR7'!B9)","v":""},{"$f":"IF('AR7'!C9=\"\",\"\",'AR7'!C9)","v":""},{"$f":"IF('AR7'!D9=\"\",\"\",'AR7'!D9)","v":""},{"$f":"IF('AR7'!E9=\"\",\"\",'AR7'!E9)","v":""}]
["Source of Loan",{"$f":"IF('AR7'!B10=\"\",\"\",'AR7'!B10)","v":""},{"$f":"IF('AR7'!C10=\"\",\"\",'AR7'!C10)","v":""},{"$f":"IF('AR7'!D10=\"\",\"\",'AR7'!D10)","v":""},{"$f":"IF('AR7'!E10=\"\",\"\",'AR7'!E10)","v":""}]
["ACC Decision No.",{"$f":"IF('AR7'!B11=\"\",\"\",'AR7'!B11)","v":""},{"$f":"IF('AR7'!C11=\"\",\"\",'AR7'!C11)","v":""},{"$f":"IF('AR7'!D11=\"\",\"\",'AR7'!D11)","v":""},{"$f":"IF('AR7'!E11=\"\",\"\",'AR7'!E11)","v":""}]
["Reason for Loan",{"$f":"IF('AR7'!B12=\"\",\"\",'AR7'!B12)","v":""},{"$f":"IF('AR7'!C12=\"\",\"\",'AR7'!C12)","v":""},{"$f":"IF('AR7'!D12=\"\",\"\",'AR7'!D12)","v":""},{"$f":"IF('AR7'!E12=\"\",\"\",'AR7'!E12)","v":""}]
["Dollar Amt. Issued",{"$f":"IF('AR7'!B13=\"\",\"\",'AR7'!B13)","v":""},{"$f":"IF('AR7'!C13=\"\",\"\",'AR7'!C13)","v":""},{"$f":"IF('AR7'!D13=\"\",\"\",'AR7'!D13)","v":""},{"$f":"IF('AR7'!E13=\"\",\"\",'AR7'!E13)","v":""}]
["Amount Outstanding",{"$f":"IF('AR7'!B14=\"\",\"\",'AR7'!B14)","v":""},{"$f":"IF('AR7'!C14=\"\",\"\",'AR7'!C14)","v":""},{"$f":"IF('AR7'!D14=\"\",\"\",'AR7'!D14)","v":""},{"$f":"IF('AR7'!E14=\"\",\"\",'AR7'!E14)","v":""}]
["Date of Maturity",{"$f":"IF('AR7'!B15=\"\",\"\",'AR7'!B15)","v":""},{"$f":"IF('AR7'!C15=\"\",\"\",'AR7'!C15)","v":""},{"$f":"IF('AR7'!D15=\"\",\"\",'AR7'!D15)","v":""},{"$f":"IF('AR7'!E15=\"\",\"\",'AR7'!E15)","v":""}]
["Interest Rate",{"$f":"IF('AR7'!B16=\"\",\"\",'AR7'!B16)","v":""},{"$f":"IF('AR7'!C16=\"\",\"\",'AR7'!C16)","v":""},{"$f":"IF('AR7'!D16=\"\",\"\",'AR7'!D16)","v":""},{"$f":"IF('AR7'!E16=\"\",\"\",'AR7'!E16)","v":""}]
["Current Year Interest",{"$f":"IF('AR7'!B17=\"\",\"\",'AR7'!B17)","v":""},{"$f":"IF('AR7'!C17=\"\",\"\",'AR7'!C17)","v":""},{"$f":"IF('AR7'!D17=\"\",\"\",'AR7'!D17)","v":""},{"$f":"IF('AR7'!E17=\"\",\"\",'AR7'!E17)","v":""}]
["Current Year Principle",{"$f":"IF('AR7'!B18=\"\",\"\",'AR7'!B18)","v":""},{"$f":"IF('AR7'!C18=\"\",\"\",'AR7'!C18)","v":""},{"$f":"IF('AR7'!D18=\"\",\"\",'AR7'!D18)","v":""},{"$f":"IF('AR7'!E18=\"\",\"\",'AR7'!E18)","v":""}]
[]
[]
["Meter Deposit Balance at Test Year End:",null,null,null,{"$f":"'AR7'!C21","v":0}]
[]
["Meter Deposits Refunded During the Test Year:",null,null,null,{"$f":"'AR7'!D23","v":0}]
[]
["Authority Granted By ACC Decision No. **",null,null,null,null,null,null,null,{"$f":"ISBLANK(B26)","v":true},{"$f":"ISBLANK(C26)","v":true},{"$f":"ISBLANK(D26)","v":true},{"$f":"ISBLANK(E26)","v":true},{"$f":"IF(I26=TRUE,\"Incomplete\",IF(J26=TRUE,\"Incomplete\",IF(K26=TRUE,\"Incomplete\",IF(L26=TRUE,\"Incomplete\",\"Complete\"))))","v":"Incomplete"}]
[]
[{"$f":"\"* This item automatically populates with information from your annual report \"&'AR7'!E29","v":"* This item automatically populates with information from your annual report Page 10"}]
[]
[]
["**A.R.S. 40-301 requires ACC approval of long-term debt. If the Commission has not approved any of the above loans, then please submit an application requesting approval of the above loans."]
[]
[]
["Instructions: List all bonds, notes, loans, and other types of indebtedness in which the proceeds were used in the provision of public utility service.  Indebtedness incurred for personal uses by the owner of the utility should not be listed."]